{"text_format":"1","workbook":"xlsx","n_sheets":27,"sheets":["Wyniki ","Wybór powiązań","Zachorowania grypa","Odsetki grupy ryzyka","Lista województw","Wszystkie województwa","Dolnośląskie","Kujawsko-pomorskie","Lubelskie","Lubuskie","Łódzkie ","Małopolskie","Mazowieckie","Opolskie","Podkarpackie","Podlaskie","Pomorskie","Śląskie","Świętokrzyskie","Warmińsko-mazurskie","Wielkopolskie","Zachodniopomorskie","Czynniki Ryzyka 15-","Czynniki ryzyka dzieci ","Ludność","Ciąża","Ciąża wielorakie"],"not_rendered":{"charts":0,"images":0,"macros":1,"external_links":0,"defined_names":27,"comments":0,"pivot_tables":0},"unopened":[],"bounds":{"document_bytes":16777216,"sheet_cells":100000,"rows_first":2000,"rows_last":500,"rows_between":2000,"halvings":0,"cell_chars":16384,"cell_head_chars":4096},"cells_cut":0,"cells_raw":0,"read":"whole","date_system":"1900"}

{"sheet":"Wyniki ","index":0,"n_rows":444,"n_cols":5,"rows_kept":444,"cut":false,"hidden":false,"merged":[[3,2,4,2],[0,0,1,2],[35,0,38,0]]}
["Populacja docelowa do programu profilaktyki grypy za pomocą szczepień"]
[]
[]
[null,null,"Wybór czynnika ryzyka (nacisnij na pole poniżej)"]
[]
[null,null,"Dzieci poniżej 4 roku życia"]
[]
[]
[]
[]
[]
[]
[]
[]
[]
[]
[]
[]
[]
[]
[]
[]
[]
[]
[]
[]
[]
[]
[]
[]
[]
[]
[]
[]
[]
["Możliwość rozszerzenia widoku na powiaty poprzez kliknięcie na znak + w panelu bocznym. "]
[]
[]
[]
[null,null,{"$f":"INDEX('Odsetki grupy ryzyka'!$F$34:$T$34,MATCH('Wyniki '!$C$6,'Odsetki grupy ryzyka'!$F$19:$T$19,0))","v":5.0944348365459927E-2}]
["Województwo/powiat","Ludność[2]","Dzieci poniżej 4 roku życia[3]","Zachorowania i podejrzenia zachorowań na grypę w całej populacji[1]","Odsetek zachorowań/województwo"]
["Dolnośląskie",2903812,{"$f":"$B42*$C$40","v":147932.81011580292},192757,{"$f":"D42/B42","v":6.6380674781976248E-2}]
[" Jelenia Góra ",80889,{"$f":"$B43*$C$40","v":4120.8373949336883},{"$f":"$B43*$E$42","v":5369.4664024392769}]
[" Legnica ",100769,{"$f":"$B44*$C$40","v":5133.6110404390311},6689.1142171049642]
[" Wrocław ",637075,32455.370734925382,42289.468386727516]
[" Wałbrzych ",114930,5855.0339576423094,7629.1309526925306]
[" bolesławiecki ",90195,4594.9255008226583,5987.2049619603476]
[" dzierżoniowski ",102977,5246.0961616299664,6835.6827470235685]
[" głogowski ",90060,4588.0480137933209,5978.2435708647808]
[" górowski ",35847,1826.2020558566419,2379.5480489095025]
[" jaworski ",51324,2614.6677355088655,3406.921752510149]
[" jeleniogórski ",64430,3282.3443651865832,4276.90687620273]
[" kamiennogórski ",44280,2255.8157456225654,2939.3362793459082]
[" kłodzki ",161856,8245.6484490398816,10744.110497511547]
[" legnicki ",55115,2807.7977601623238,3658.5708906086211]
[" lubański ",55356,2820.0753481183997,3674.568633231077]
[" lubiński ",106267,5413.7030677523298,7054.0751670562704]
[" lwówecki ",46536,2370.7461955350432,3089.0910816540468]
[" milicki ",37170,1893.6014287441456,2467.369681646057]
[" oleśnicki ",106602,5430.7694244547592,7076.3126931082325]
[" oławski ",76201,3882.0102897964121,5058.2737990613723]
[" polkowicki ",63081,3213.6204392415775,4187.3593459218437]
[" strzeliński ",44075,2245.3721542076464,2925.7282410156031]
[" średzki ",52969,2698.4711885700467,3516.1179625264999]
[" świdnicki ",159259,8113.3459763347828,10571.719885102755]
[" trzebnicki ",83959,4277.2365444156503,5573.255074019944]
[" wałbrzyski ",56848,2896.0843158796661,3773.6086000057858]
[" wołowski ",47128,2400.9052497673956,3128.3884411249765]
[" wrocławski ",135837,6920.12744891898,9016.9517203593077]
[" ząbkowicki ",66758,3400.9428081813739,4431.4410870951706]
[" zgorzelecki ",91579,4665.4324789604543,6079.0758158586032]
[" złotoryjski ",44440,2263.9668413610393,2949.9571873110244]
["Lubelskie",2135715,108802.60896933825,99436,{"$f":"D73/B73","v":4.6558646635904137E-2}]
[" Biała Podlaska ",57389,2923.6452083453796,{"$f":"$B74*$E$73","v":2671.9541717879024}]
[" Chełm ",63949,3257.8401336227967,2977.3788937194336]
[" Lublin ",340745,17359.031983788642,15864.626047951155]
[" zamojski ",108038,5503.9255087075599,5030.1030652498112]
[" bialski ",112330,5722.5786518921132,5229.9327766111119]
[" biłgorajski ",102341,5213.6955560695342,4764.8584553650653]
[" chełmski ",79239,4036.7792201306793,3689.2606007824079]
[" hrubieszowski ",65562,3340.0133675362836,3052.4779907431471]
[" janowski ",46742,2381.2407312983278,2176.2442610554313]
[" krasnostawski ",65142,3318.6167412227906,3032.9233591560674]
[" kraśnicki ",97244,4954.0322124507848,4527.5490334618617]
[" lubartowski ",89332,4550.9605281832664,4159.1770212785887]
[" lubelski ",151679,7727.1878157245965,7061.9689630873036]
[" łęczyński ",57367,2922.5244326813395,2670.9298815619127]
[" łukowski ",108382,5521.4503645452778,5046.1192396925626]
[" opolski ",60764,3095.5823840788071,2829.0896041840788]
[" parczewski ",35500,1808.5243669738275,1652.8319555745968]
[" puławski ",114859,5851.4169089083616,5347.6795939533131]
[" radzyński ",60119,3062.7232793830854,2799.059277103921]
[" rycki ",57233,2915.6978900003678,2664.6910229127016]
[" świdnicki ",72509,3693.9237556311336,3375.9209089227729]
[" tomaszowski ",85356,4348.4057990821975,3974.0598422542334]
[" włodawski ",39148,1994.3693498110251,1822.6778985023752]
[" Zamość ",64746,3298.4427792700685,3014.4861350882493]
["Lubuskie",1017450,51833.327244437205,57933,{"$f":"D98/B98","v":5.6939407341884123E-2}]
[" Gorzów Wielkopolski ",123911,6312.5651503125046,{"$f":"$B99*$E$98","v":7055.4189031402038}]
[" Zielona Góra ",138898,7076.0680992656526,7908.7698009730211]
[" gorzowski ",70990,3616.5392904640003,4042.1285272003538]
[" krośnieński ",55855,2845.4965779527643,3180.3505970809379]
[" międzyrzecki ",58375,2973.8763358337233,3323.8379035824855]
[" nowosolski ",87213,4443.0094539968568,4965.8565325077398]
[" słubicki ",47247,2406.9676272228853,2690.2161786819993]
[" strzelecko-drezdenecki ",49936,2543.9569799776068,2843.3262450243255]
[" sulęciński ",35457,{"$f":"$B107*$C$40","v":1806.3337599941126},2018.9005661211854]
[" świebodziński ",56232,2864.7025972865426,3201.8167536488281]
[" zielonogórski ",75283,3835.2433779969197,4286.5694029190627]
[" żagański ",80834,4118.0354557735873,4602.6400530738611]
[" żarski ",97942,4989.5913676098762,5576.7594338788149]
[" wschowski ",39277,2000.9411707501695,2236.4091021671825]
["Łódzkie",2488417,126770.7825265327,238373,{"$f":"D113/B113","v":9.579302825852741E-2}]
[" Łódź ",698688,35594.204870766465,{"$f":"$B114*$E$113","v":66929.439327893997}]
[" Piotrków Trybunalski ",74905,3815.9864143147756,7175.3767817049957]
[" Skierniewice ",48304,2460.8158034451762,4627.1864369999084]
[" bełchatowski ",112853,5749.2225460872487,10810.530618059594]
[" kutnowski ",98825,5034.5752272165773,9466.7460176489712]
[" łaski ",50232,2559.0365070937833,4811.8753954823487]
[" łęczycki ",50888,2592.4559996215248,4874.7156220199431]
[" łowicki ",79426,4046.3058132750202,7608.4570624617982]
[" łódzki wschodni ",70619,3597.6389372204144,6764.8078625889475]
[" opoczyński ",77313,3938.6604051788031,7406.0463937515296]
[" pabianicki ",119484,6087.0345200986139,11445.734188441889]
[" pajęczański ",51908,2644.4192349542941,4972.4245108436407]
[" piotrkowski ",91275,4649.945397057355,8743.5086542970894]
[" poddębicki ",41555,2116.9923963266874,3980.6792892831063]
[" radomszczański ",114675,5842.0431488091172,10985.06551554663]
[" rawski ",49161,2504.4751099943755,4709.2810622174657]
[" sieradzki ",118993,6062.0208450511727,11398.699811566952]
[" skierniewicki ",38159,1943.9853892775852,3655.3661653171475]
[" tomaszowski ",118400,6031.8108464704555,11341.894545809646]
[" wieluński ",77189,3932.3433059814861,7394.1680582474719]
[" wieruszowski ",42169,2148.2722262230795,4039.4962086338423]
[" zduńskowolski ",67277,3427.3829249830474,6444.6675621489485]
[" zgierski ",165187,8415.3440734452288,15823.762958941368]
[" brzeziński ",30932,1575.8105836404065,2963.0699500927699]
["Małopolskie",3376329,172004.88077240495,425668,{"$f":"D138/B138","v":0.12607420663092964}]
[" Kraków ",762448,38842.416522548192,{"$f":"$B139*$E$138","v":96125.026697339039}]
[" Nowy Sącz ",83829,4270.6137791281399,10568.6746676642]
[" Tarnów ",110381,5623.2881169278326,13916.197002128643]
[" bocheński ",105577,5378.5514673801626,13310.536513473658]
[" brzeski ",92963,4735.9394570982513,11720.236471031112]
[" chrzanowski ",126222,6430.2975393850829,15913.338509369201]
[" dąbrowski ",59314,3021.7130789488901,7477.9654921069605]
[" gorlicki ",109072,5556.601964917445,13751.165865648758]
[" krakowski ",271529,13832.867967324968,34232.80325228969]
[" limanowski ",129936,6619.5048492144015,16381.578112796473]
[" miechowski ",49521,2522.8150754059411,6243.3207865702661]
[" myślenicki ",125315,6384.0910154176108,15798.989203954947]
[" nowosądecki ",213420,10872.542828156458,26906.757179173004]
[" nowotarski ",190592,9709.5852436697387,24028.73519020214]
[" olkuski ",113004,5756.9151426904336,14246.889646121572]
[" oświęcimski ",154715,7881.8548573621329,19505.57087890428]
[" proszowicki ",43696,2226.0642461771367,5508.9385329451015]
[" suski ",84142,4286.5593601665296,10608.135894339681]
[" tarnowski ",200677,10223.358996935402,25300.193564075067]
[" tatrzański ",67935,3460.9043062075202,8564.8512274722052]
[" wadowicki ",159593,8130.3613886888461,20120.560858849953]
[" wielicki ",122448,6238.0335686538374,15437.534453544073]
["Mazowieckie",5356838,272900.62120933365,808925,{"$f":"D161/B161","v":0.15100792669108157}]
[" Ostrołęka ",52408,2669.8914091370239,{"$f":"$B162*$E$161","v":7914.0234220262028}]
[" Płock ",121468,6188.1081072556863,18342.630839312296]
[" Radom ",215653,10986.30155805653,32565.312414711814]
[" Siedlce ",77072,3926.3828172227277,11638.482925935039]
[" Warszawa ",1748916,89097.385965926718,264100.17911685962]
[" białobrzeski ",33553,1709.335720706277,5066.7689642658597]
[" ciechanowski ",90256,4598.0331060729513,13629.371431430258]
[" garwoliński ",108765,5540.9620499692492,16424.377146555486]
[" gostyniński ",45869,{"$f":"$B170*$C$40","v":2336.7663151752813},6926.5825893932206]
[" grodziski ",91289,4650.6586179344713,13785.362619702146]
[" grójecki ",98551,5020.616475764441,14881.982183332779]
[" kozienicki ",61128,3114.1261268838343,9230.8125427724335]
[" legionowski ",113842,5799.6065066206893,17191.044390366107]
[" lipski ",34887,1777.2954814258005,5268.2135384717631]
[" łosicki ",31628,1611.2678501027665,4776.0787053855274]
[" makowski ",45845,2335.5436508145103,6922.9583991526342]
[" miński ",151847,7735.7464662499933,22930.100644260663]
[" mławski ",73703,3754.7513075794932,11129.737220912784]
[" nowodworski ",78843,4016.6052581779568,11905.917964104943]
[" ostrołęcki ",88522,4509.6956060072434,13367.523686547922]
[" ostrowski ",73747,3756.992858907573,11136.381569687192]
[" otwocki ",123294,6281.1324873710164,18618.37131345021]
[" piaseczyński ",178449,9090.9680214679593,26947.213510096815]
[" płocki ",111103,5660.0699364476941,16777.433679159236]
[" płoński ",88062,4486.2612057591323,13298.060040270026]
[" pruszkowski ",161319,8218.2913339676306,24360.447725878588]
[" przasnyski ",53030,2701.5787938203398,8007.9503524280553]
[" przysuski ",42395,2159.7856489536734,6401.9810520684032]
[" pułtuski ",51584,2627.913266083885,7789.592890432752]
[" radomski ",151453,7715.6743929940021,22870.603521144378]
[" siedlecki ",81449,4149.366230018346,12299.444621061903]
[" sierpecki ",52776,2688.6389293355132,7969.5943390485209]
[" sochaczewski ",85158,4338.3188181058367,12859.533021159124]
[" sokołowski ",54965,2800.156107907505,8300.1506905752976]
[" szydłowiecki ",40163,2046.0778634019671,6064.9313596939091]
[" warszawski zachodni ",113689,5791.812021320774,17167.940177582372]
[" węgrowski ",66907,3408.5335160878271,10103.487351120195]
[" wołomiński ",236912,12069.327459957842,35775.589928237518]
[" wyszkowski ",73972,3768.4553372898017,11170.358353192685]
[" zwoleński ",36704,1869.8613624058412,5542.5949412694581]
[" żuromiński ",39613,2018.0584718009641,5981.8770000138138]
[" żyrardowski ",76049,3874.2667488448619,11484.001816930062]
["Opolskie",994489,50663.594061617878,52098,{"$f":"D204/B204","v":5.2386703120899276E-2}]
[" Opole ",118938,6059.2189058910726,{"$f":"$B205*$E$204","v":6230.7696957935177}]
[" brzeski ",91044,4638.1772525849337,4769.4949989391534]
[" głubczycki ",46695,2378.8463469251515,2446.1971022303919]
[" kędzierzyńsko-kozielski ",95888,4884.9516760672213,5023.2561888567898]
[" kluczborski ",66503,3387.9519993481813,3483.8729176491647]
[" krapkowicki ",64463,3284.0255286826432,3377.0040432825299]
[" namysłowski ",42665,2173.5406230123476,2235.0786886531678]
[" nyski ",138548,7058.2375773377416,7258.0729439943525]
[" oleski ",65181,3320.6035708090435,3414.6176961233359]
[" opolski ",133197,6785.6343692341661,6977.7516955944211]
[" prudnicki ",56043,2855.0741154454709,2935.9080030045579]
[" strzelecki ",75324,3837.3320962799035,3945.9760258786173]
["Podkarpackie",2126824,108349.66276802095,70004,{"$f":"D217/B217","v":3.2914806302731206E-2}]
[" Krosno ",46695,2378.8463469251515,{"$f":"$B218*$E$217","v":1536.9568803060336}]
[" Przemyśl ",62485,3183.2576076157634,2056.6816718261593]
[" Rzeszów ",187027,9527.9686417468729,6155.9574783809094]
[" Tarnobrzeg ",47658,2427.9057544010893,1568.6538387755638]
[" bieszczadzki ",22032,1122.4058831878131,725.17901246177394]
[" brzozowski ",66004,3362.5307695138172,2172.5088752054703]
[" dębicki ",135242,6889.8155616415315,4451.4642339939737]
[" jarosławski ",121374,6183.3193385093327,3995.0017001876972]
[" jasielski ",114533,5834.8090513412217,3769.8315102707134]
[" kolbuszowski ",62412,3179.5386701850848,2054.2788909660599]
[" krośnieński ",112081,5709.8935091491139,3689.1244052164161]
[" leżajski ",69588,3545.1153140556253,2290.4755409944592]
[" lubaczowski ",56376,2872.038583451169,1855.6051201227745]
[" łańcucki ",80216,4086.5518484837335,2640.2941023798862]
[" mielecki ",136280,6942.6957952448784,4485.6298029362088]
[" niżański ",67068,3416.7355561746663,2207.5302291115763]
[" przemyski ",74215,{"$f":"$B234*$C$40","v":3780.8348139426084},2442.7723497571965]
[" przeworski ",78830,4015.9429816492061,2594.6741808443012]
[" ropczycko-sędziszowski ",73773,3758.3174119650753,2428.2240053713895]
[" rzeszowski ",167638,8540.2086712889704,5517.7722989772537]
[" sanocki ",95548,4867.6305976229651,3144.9439126133611]
[" stalowowolski ",107675,5485.4327102508978,3544.1017686465825]
[" strzyżowski ",61757,3146.1701220057089,2032.7196928377712]
[" tarnobrzeski ",53613,2731.2793489174032,1764.6615103083282]
[" leski ",26704,1360.4178787512419,878.95698750813415]
["Podlaskie",1187587,60500.845842291455,107992,{"$f":"D243/B243","v":9.0933969469184153E-2}]
[" Białystok ",296310,15095.319864169431,{"$f":"$B244*$E$243","v":26944.644493413958}]
[" Łomża ",62716,3195.0257520881846,5703.0148292293534]
[" Suwałki ",69543,3542.8228183791798,6323.8210387954732]
[" augustowski ",58998,3005.6146648654048,5364.9223307429265]
[" białostocki ",145874,7431.4558734631009,13264.90186234777]
[" bielski ",56259,2866.0780946924101,5115.8541883668313]
[" grajewski ",48228,2456.9440329694012,4385.5634795598135]
[" hajnowski ",44322,2257.9554082539148,4030.3753948131803]
[" kolneński ",39068,1990.2938019417884,3552.6083192220867]
[" łomżyński ",51363,2616.6545650951184,4670.6414738457061]
[" moniecki ",41439,2111.0828519162937,3768.2127608335222]
[" sejneński ",20531,1045.9384162912577,1866.9653271718198]
[" siemiatycki ",45817,2334.1172090602777,4166.3216791696104]
[" sokólski ",69002,3515.2619259134658,6274.6257613126445]
[" suwalski ",35870,1827.3737758690477,3261.8014848596354]
[" wysokomazowiecki ",57997,2954.6193721515792,5273.8974273042732]
[" zambrowski ",44250,2254.2874151716019,4023.8281490113986]
["Pomorskie",2311469,117756.28197196129,841702,{"$f":"D261/B261","v":0.36414159134299445}]
[" Gdańsk ",462996,23587.029515814484,{"$f":"$B262*$E$261","v":168596.10022544107}]
[" Gdynia ",247329,12600.014736880838,90062.775645271482]
[" Słupsk ",92170,4695.5405888444411,33562.930474083798]
[" Sopot ",37089,1889.4749365265432,13505.64748132032]
[" bytowski ",78805,4014.6693729400695,28696.178105784678]
[" chojnicki ",96697,4926.1656538948782,35211.399458093532]
[" człuchowski ",56807,2893.9955975966823,20685.791379421487]
[" gdański ",110666,5637.8072562119878,40298.093347563823]
[" kartuski ",129996,6622.5615101163285,47336.95030822391]
[" kościerski ",71738,3654.6456630413641,26122.789479763735]
[" kwidzyński ",83457,4251.6624815361893,30390.164788712289]
[" lęborski ",66163,3370.630920903925,24092.700108026544]
[" malborski ",64189,3270.0667772305073,23373.88460671547]
[" nowodworski ",36107,1839.4475864316616,13148.0604386215]
[" pucki ",83433,4250.4398171754183,30381.425390520057]
[" słupski ",98249,5005.2312825580721,35776.54720785786]
[" starogardzki ",127339,6487.2023765093018,46369.426100025572]
[" tczewski ",115581,5888.1987284282241,42087.849269014645]
[" wejherowski ",210374,10717.366343035266,76605.923137191116]
[" sztumski ",42284,2154.1308262851076,15397.363048347177]
["Śląskie",4564394,232530.0780132151,287108,{"$f":"D282/B282","v":6.2901668874334682E-2}]
[" Bielsko-Biała ",172407,8783.1622686438495,{"$f":"$B283*$E$282","v":10844.688025617419}]
[" Bytom ",170059,8663.544938681749,10696.994907100481]
[" Chorzów ",109541,5580.4948643008456,6890.3117101634953]
[" Częstochowa ",227270,11578.122053018078,14295.662285070042]
[" Dąbrowa Górnicza ",122451,6238.1864016989339,7702.3722553311563]
[" Gliwice ",182969,9321.2364760798373,11509.055452268143]
[" Jastrzębie-Zdrój ",90089,4589.5253998959197,5666.7484472199376]
[" Jaworzno ",92618,4718.3636569121672,5825.8267678031298]
[" Katowice ",299012,15232.971493452904,18808.353813452562]
[" Mysłowice ",74711,3806.1032107318765,4699.4465832704182]
[" Piekary Śląskie ",56126,2859.3024963598036,3530.4190672409081]
[" Ruda Śląska ",139412,7102.2534943254996,8769.2474611087473]
[" Rybnik ",139540,{"$f":"$B295*$C$40","v":7108.7743709162778},8777.2988747246618]
[" Siemianowice Śląskie ",68011,3464.7760766832953,4278.0054018123765]
[" Sosnowiec ",206516,10520.823047041322,12990.2010492521]
[" Świętochłowice ",50750,2585.4256795470915,3192.2596953724851]
[" Tychy ",128415,6542.0184953505368,8077.5178084976878]
[" Zabrze ",175882,8960.1938792138226,11063.271324955733]
[" Żory ",61942,3155.594826453319,3896.2551734140388]
[" będziński ",149955,7639.3597591425432,9432.4197560508564]
[" bielski ",162495,8278.2018876454113,10221.206683735014]
[" cieszyński ",177604,9047.9200470991454,11171.587998757337]
[" częstochowski ",135517,6903.825257442033,8524.2454608432126]
[" gliwicki ",115261,5871.8965369512762,7250.1092561246896]
[" kłobucki ",85137,4337.2489867901613,5355.259382954232]
[" lubliniecki ",76872,3916.1939475496356,4835.3770897078557]
[" mikołowski ",96727,4927.6939843458422,6084.289725207771]
[" myszkowski ",71705,3652.9644995453041,4510.3641666341682]
[" pszczyński ",109954,5601.5348801757809,6916.2900994085958]
[" raciborski ",109065,5556.2453544788868,6860.370515779312]
[" rybnicki ",77539,3950.1738279093975,4877.3325028470372]
[" tarnogórski ",138975,7079.9908140897933,8741.7594318106621]
[" bieruńsko-lędziński ",59044,3007.958104890216,3713.9661370162171]
[" wodzisławski ",157845,8041.3106677460219,9928.7139234693586]
[" zawierciański ",119952,6110.8764751336494,7545.1809848141938]
[" żywiecki ",153026,7795.8098529728704,9625.590781163939]
["Świętokrzyskie",1254505,63909.939746211305,88789,{"$f":"D319/B319","v":7.0776122853236936E-2}]
[" Kielce ",197724,10072.920336212199,{"$f":"$B320*$E$319","v":13994.13811503342}]
[" buski ",72921,3714.9128271577033,5161.0656545808906]
[" jędrzejowski ",86945,4429.3563686349135,6153.6300014746857]
[" kazimierski ",34322,1748.5119245993155,2429.1780885687981]
[" kielecki ",208798,10637.078050011301,14777.912899510166]
[" konecki ",82092,4182.1234460173364,5810.153477267927]
[" opatowski ",53581,2729.6491297697085,3792.2554385992885]
[" ostrowiecki ",112036,5707.6010134726685,7929.473699985253]
[" pińczowski ",39922,2033.8002754458912,2825.5243765469249]
[" sandomierski ",79082,4028.7809574373018,5597.1173474796833]
[" skarżyski ",76664,3905.5975230896197,5425.9806824205561]
[" starachowicki ",91780,4675.6722929819125,6495.8325554700859]
[" staszowski ",72857,3711.6523888623137,5156.5359827182838]
[" włoszczowski ",45781,2332.2832125191208,3240.2016803440401]
["Warmińsko-Mazurskie",1437812,73248.395412038662,77627,{"$f":"D334/B334","v":5.3989673197886792E-2}]
[" Elbląg ",121412,6185.255223747221,{"$f":"$B335*$E$334","v":6554.9942023018311}]
[" Olsztyn ",173599,8843.8879318954787,9372.5532774799485]
[" bartoszycki ",59132,3012.4412075463765,3192.5173555374417]
[" braniewski ",42026,2140.9871844068189,2268.9700058143903]
[" działdowski ",65965,3360.5439399275642,3561.4287924986024]
[" elbląski ",58136,2961.7006365743782,3138.7436410323467]
[" ełcki ",90160,4593.1424486298674,4867.708935521473]
[" giżycki ",57200,2914.0167265043078,3088.2093069191246]
[" iławski ",92735,4724.3241456709266,5006.7323440060318]
[" kętrzyński ",64197,3270.4743320174307,3465.9750502847382]
[" lidzbarski ",42171,2148.3741149198104,2276.798508428084]
[" mrągowski ",50623,2578.955747304678,2733.1192262966229]
[" nidzicki ",33558,1709.5904424481041,1811.785453174685]
[" nowomiejski ",44237,2253.6251386428507,2388.341173254918]
[" olecki ",34694,1767.4632221912666,1873.1177219274844]
[" olsztyński ",123775,6305.636718934802,6682.5718000684374]
[" ostródzki ",105768,5388.2818379179653,5710.3797547940903]
[" piski ",57445,2926.4980918538454,3101.4367768526067]
[" szczycieński ",70459,3589.4878414819409,3804.0583838499056]
[" gołdapski ",27191,1385.2277764052208,1468.0332039237398]
[" węgorzewski ",23329,1188.4807030178147,1259.5250860335009]
["Wielkopolskie",3477755,177171.96224972009,605382,{"$f":"D356/B356","v":0.17407264168982575}]
[" Kalisz ",102575,5225.6165335870519,{"$f":"$B357*$E$356","v":17855.501221333878}]
[" Konin ",75607,3851.7493468673288,13161.110220242655]
[" Leszno ",64468,{"$f":"$B359*$C$40","v":3284.2802504244705},11222.115064459687]
[" Poznań ",541561,27589.472245146844,94270.953906183728]
[" chodzieski ",47444,2417.0036638508809,8258.7024123320934]
[" czarnkowsko-trzcianecki ",87755,4470.6212908109355,15275.744671490658]
[" gnieźnieński ",145104,7392.2287252216975,25258.636599760477]
[" gostyński ",76105,3877.1196323533277,13247.79839580419]
[" grodziski ",51500,2623.6339408211861,8964.7410470260256]
[" jarociński ",71761,3655.8173830537698,12491.626840303587]
[" kaliski ",82925,4224.5600882057643,14434.973812128801]
[" kępiński ",56412,2873.8725799923254,9819.7858630064511]
[" kolski ",88218,4494.2085241041441,15356.340304593048]
[" koniński ",129330,6588.6325741049322,22512.814749745165]
[" kościański ",79046,4026.9469608961454,13759.746035013966]
[" krotoszyński ",77618,3954.1984314302686,13511.170302680895]
[" leszczyński ",55006,2802.2448261904888,9575.0397287905562]
[" międzychodzki ",37068,1888.4051052108687,6452.5246821584606]
[" nowotomyski ",74787,3809.9749812076516,13018.370654056998]
[" obornicki ",59525,3032.4623364540021,10361.673996586878]
[" ostrowski ",161445,8224.7103218616776,28103.15763761392]
[" ostrzeszowski ",55404,2822.5206768399416,9644.3206401831067]
[" pilski ",137463,7002.9629593612181,23928.547544608518]
[" pleszewski ",63147,3216.9827662336979,10992.165104787427]
[" poznański ",369868,18842.684241235933,64383.899836532473]
[" rawicki ",60255,3069.6517107607879,10488.747025020451]
[" słupecki ",59536,3033.0227242860224,10363.588795645466]
[" szamotulski ",90254,4597.93121737622,15710.752203073533]
[" średzki ",57560,2932.3566919158734,10019.62125566637]
[" śremski ",60974,3106.2806972355534,10613.905254395435]
[" turecki ",84263,4292.7236263187497,14667.883006709788]
[" wągrowiecki ",69900,3561.0099507456489,12167.677654118819]
[" wolsztyński ",57105,2909.1770134095891,9940.4182036974998]
[" wrzesiński ",76965,3920.9317719476235,13397.50086765744]
[" złotowski ",69801,3555.9664602574685,12150.444462591528]
["Zachodniopomorskie",1708889,87058.236533902455,76012,{"$f":"D392/B392","v":4.4480361217141662E-2}]
[" Koszalin ",107981,5501.0216808507284,{"$f":"$B393*$E$392","v":4803.0338845881734}]
[" Szczecin ",405413,20653.501103886207,18032.916682125051]
[" Świnoujście ",41134,2095.5448256648287,1829.6551783059051]
[" białogardzki ",48338,2462.5479112896019,2150.0917005141937]
[" choszczeński ",49315,2512.3205396426561,2193.549013423341]
[" drawski ",57987,2954.1099286679246,2579.2827058983935]
[" goleniowski ",82360,4195.7765313792797,3663.4025498437873]
[" gryficki ",61187,3117.1318434373966,2721.6198617932469]
[" gryfiński ",83303,4243.8170518879078,3705.3475304715516]
[" kamieński ",47367,2413.0809490267402,2106.9012697723492]
[" kołobrzeski ",79519,4051.0436376730081,3537.0338436258876]
[" koszaliński ",65809,3352.5966215825524,2927.2080913388754]
[" myśliborski ",67077,3417.1940553099553,2983.6091893622111]
[" policki ",76731,3909.0107944301058,3413.0225965524969]
[" pyrzycki ",40129,2044.3457555575415,1784.9524152826777]
[" sławieński ",57011,2904.388244663236,2535.8698733504634]
[" stargardzki ",120280,6127.5862213975197,5350.0978471977987]
[" szczecinecki ",78416,3994.8520214259056,3487.9720052033804]
[" świdwiński ",47860,2438.1965127709122,2128.8300878524001]
[" wałecki ",54059,2754.0005282883981,2404.5638470374611]
[" łobeski ",37613,1916.1697750700441,1673.0398264603493]
["Kujawsko-Pomorskie",2084524,106194.71683216198,280269,{"$f":"D414/B414","v":0.13445227783417221}]
[" Bydgoszcz ",354990,18084.734226254619,{"$f":"$B415*$E$414","v":47729.214108352797}]
[" Grudziądz ",96111,4896.3122657527192,12922.342874920125]
[" Toruń ",202591,10320.866479706892,27238.821418702784]
[" Włocławek ",112635,5738.1166781435786,15144.032313851987]
[" aleksandrowski ",55477,2826.2396142706202,7459.0090174063716]
[" brodnicki ",78411,3994.5972996840783,10542.537557255277]
[" bydgoski ",113680,5791.3535221854845,15284.534944188697]
[" chełmiński ",52345,2666.6819151899999,7037.9044832297441]
[" golubsko-dobrzyński ",45290,{"$f":"$B423*$C$40","v":2307.26953747168},6089.3436631096592]
[" grudziądzki ",40316,2053.8723487018824,5420.5780331624865]
[" inowrocławski ",162157,8260.9826978978854,21802.378016755865]
[" lipnowski ",66658,3395.8483733448279,8962.3199358702514]
[" mogileński ",46181,2352.6609518653049,6209.1406426599069]
[" nakielski ",86784,4421.1543285480739,11668.306479560801]
[" radziejowski ",41242,2101.0468152882981,5545.0808424369307]
[" rypiński ",44234,2253.4723055977543,5947.362057716774]
[" sępoleński ",41446,2111.4394623548519,5572.5091071151019]
[" świecki ",99699,5079.100587687989,13404.757647789136]
[" toruński ",103898,5293.0159064745558,13969.322762414824]
[" tucholski ",48384,2464.891351314413,6505.3390107285886]
[" wąbrzeski ",34823,1774.0350431304109,4682.0316710193792]
[" włocławski ",86624,4413.0032328096004,11646.794115107334]
[" żniński ",70548,3594.0218884864671,9485.3392966451811]
["* Dane o zachorowaniach w powiatach są oszacowane na podstawie wojewódzkich meldunków epidemiologicznych."]
[]
[]
["Bibliografia:"]
["1. Narodowy Instytut Zdrowia Publicznego - Państwowy Zakład Higieny, Meldunki o zachorowaniach i podejrzeniach zachorowań na grypę w Polsce w 2016 roku, Dostęp: http://wwwold.pzh.gov.pl/oldpage/epimeld/grypa/index.htm"]
["2. Główny Urząd Statystyczny, Baza Demografia, Dostęp: http://demografia.stat.gov.pl/bazademografia/Tables.aspx"]
["3. Główny Urząd Statystyczny, Stan zdrowia ludności Polski w 2014 roku, Dostęp: http://stat.gov.pl/obszary-tematyczne/zdrowie/zdrowie/stan-zdrowia-ludnosci-polski-w-2014-r-,6,6.html"]

{"sheet":"Wybór powiązań","index":1,"n_rows":90,"n_cols":8,"rows_kept":90,"cut":false,"hidden":true,"merged":[[4,2,4,3],[72,0,72,1]]}
[]
[]
[]
[]
[null,null,"Kujawsko-pomorskie",null," lipnowski ","Dzieci poniżej 4 roku życia"]
[]
[null,null,{"$f":"MATCH(woj,wyb_woj,0)","v":2},null,null,{"$f":"MATCH(cho,wyb_cho,0)","v":12}]
[]
[]
[]
[]
[]
[]
[]
[null,null,"Przedział wiekowy","Liczba osób w województwie","Liczba osób w powiecie","Odsetek ogółem","Liczba osób w danym województwie będących w danej grupie ryzyka","Liczba osób w danych województwie i powiecie będących w danej grupie ryzyka"]
[null,null," 0 - 4 ",{"$f":"SUMIFS('Wszystkie województwa'!D:D,'Wszystkie województwa'!$A:$A,woj,'Wszystkie województwa'!$B:$B,'Wszystkie województwa'!B4,'Wszystkie województwa'!$C:$C,'Wybór powiązań'!C16)","v":99362},{"$f":"SUMIFS('Wszystkie województwa'!D:D,'Wszystkie województwa'!$A:$A,woj,'Wszystkie województwa'!$B:$B,'Wybór powiązań'!$E$5,'Wszystkie województwa'!$C:$C,'Wybór powiązań'!C16)","v":3425},{"$f":"INDEX('Odsetki grupy ryzyka'!$F20:$T20,,MATCH(cho,'Odsetki grupy ryzyka'!$F$19:$T$19,0))","v":0},{"$f":"D16*F16","v":0},{"$f":"E16*F16","v":0}]
[null,null," 5 - 9 ",{"$f":"SUMIFS('Wszystkie województwa'!D:D,'Wszystkie województwa'!$A:$A,woj,'Wszystkie województwa'!$B:$B,'Wszystkie województwa'!B5,'Wszystkie województwa'!$C:$C,'Wybór powiązań'!C17)","v":113956},{"$f":"SUMIFS('Wszystkie województwa'!D:D,'Wszystkie województwa'!$A:$A,woj,'Wszystkie województwa'!$B:$B,'Wybór powiązań'!$E$5,'Wszystkie województwa'!$C:$C,'Wybór powiązań'!C17)","v":3944},{"$f":"INDEX('Odsetki grupy ryzyka'!$F21:$T21,,MATCH(cho,'Odsetki grupy ryzyka'!$F$19:$T$19,0))","v":0},{"$f":"D17*F17","v":0},{"$f":"E17*F17","v":0}]
[null,null," 10 - 14 ",{"$f":"SUMIFS('Wszystkie województwa'!D:D,'Wszystkie województwa'!$A:$A,woj,'Wszystkie województwa'!$B:$B,'Wszystkie województwa'!B6,'Wszystkie województwa'!$C:$C,'Wybór powiązań'!C18)","v":100283},{"$f":"SUMIFS('Wszystkie województwa'!D:D,'Wszystkie województwa'!$A:$A,woj,'Wszystkie województwa'!$B:$B,'Wybór powiązań'!$E$5,'Wszystkie województwa'!$C:$C,'Wybór powiązań'!C18)","v":3589},{"$f":"INDEX('Odsetki grupy ryzyka'!$F22:$T22,,MATCH(cho,'Odsetki grupy ryzyka'!$F$19:$T$19,0))","v":0},0,0]
[null,null," 15 - 19 ",{"$f":"SUMIFS('Wszystkie województwa'!D:D,'Wszystkie województwa'!$A:$A,woj,'Wszystkie województwa'!$B:$B,'Wszystkie województwa'!B7,'Wszystkie województwa'!$C:$C,'Wybór powiązań'!C19)","v":110268},{"$f":"SUMIFS('Wszystkie województwa'!D:D,'Wszystkie województwa'!$A:$A,woj,'Wszystkie województwa'!$B:$B,'Wybór powiązań'!$E$5,'Wszystkie województwa'!$C:$C,'Wybór powiązań'!C19)","v":4142},{"$f":"INDEX('Odsetki grupy ryzyka'!$F23:$T23,,MATCH(cho,'Odsetki grupy ryzyka'!$F$19:$T$19,0))","v":0},0,0]
[null,null," 20 - 24 ",{"$f":"SUMIFS('Wszystkie województwa'!D:D,'Wszystkie województwa'!$A:$A,woj,'Wszystkie województwa'!$B:$B,'Wszystkie województwa'!B8,'Wszystkie województwa'!$C:$C,'Wybór powiązań'!C20)","v":133515},{"$f":"SUMIFS('Wszystkie województwa'!D:D,'Wszystkie województwa'!$A:$A,woj,'Wszystkie województwa'!$B:$B,'Wybór powiązań'!$E$5,'Wszystkie województwa'!$C:$C,'Wybór powiązań'!C20)","v":5109},{"$f":"INDEX('Odsetki grupy ryzyka'!$F24:$T24,,MATCH(cho,'Odsetki grupy ryzyka'!$F$19:$T$19,0))","v":0},0,0]
[null,null," 25 - 29 ",{"$f":"SUMIFS('Wszystkie województwa'!D:D,'Wszystkie województwa'!$A:$A,woj,'Wszystkie województwa'!$B:$B,'Wszystkie województwa'!B9,'Wszystkie województwa'!$C:$C,'Wybór powiązań'!C21)","v":151784},{"$f":"SUMIFS('Wszystkie województwa'!D:D,'Wszystkie województwa'!$A:$A,woj,'Wszystkie województwa'!$B:$B,'Wybór powiązań'!$E$5,'Wszystkie województwa'!$C:$C,'Wybór powiązań'!C21)","v":5176},{"$f":"INDEX('Odsetki grupy ryzyka'!$F25:$T25,,MATCH(cho,'Odsetki grupy ryzyka'!$F$19:$T$19,0))","v":0},0,0]
[null,null," 30 - 34 ",{"$f":"SUMIFS('Wszystkie województwa'!D:D,'Wszystkie województwa'!$A:$A,woj,'Wszystkie województwa'!$B:$B,'Wszystkie województwa'!B10,'Wszystkie województwa'!$C:$C,'Wybór powiązań'!C22)","v":172960},{"$f":"SUMIFS('Wszystkie województwa'!D:D,'Wszystkie województwa'!$A:$A,woj,'Wszystkie województwa'!$B:$B,'Wybór powiązań'!$E$5,'Wszystkie województwa'!$C:$C,'Wybór powiązań'!C22)","v":5236},{"$f":"INDEX('Odsetki grupy ryzyka'!$F26:$T26,,MATCH(cho,'Odsetki grupy ryzyka'!$F$19:$T$19,0))","v":0},0,0]
[null,null," 35 - 39 ",{"$f":"SUMIFS('Wszystkie województwa'!D:D,'Wszystkie województwa'!$A:$A,woj,'Wszystkie województwa'!$B:$B,'Wszystkie województwa'!B11,'Wszystkie województwa'!$C:$C,'Wybór powiązań'!C23)","v":164228},{"$f":"SUMIFS('Wszystkie województwa'!D:D,'Wszystkie województwa'!$A:$A,woj,'Wszystkie województwa'!$B:$B,'Wybór powiązań'!$E$5,'Wszystkie województwa'!$C:$C,'Wybór powiązań'!C23)","v":4952},{"$f":"INDEX('Odsetki grupy ryzyka'!$F27:$T27,,MATCH(cho,'Odsetki grupy ryzyka'!$F$19:$T$19,0))","v":0},0,0]
[null,null," 40 - 44 ",{"$f":"SUMIFS('Wszystkie województwa'!D:D,'Wszystkie województwa'!$A:$A,woj,'Wszystkie województwa'!$B:$B,'Wszystkie województwa'!B12,'Wszystkie województwa'!$C:$C,'Wybór powiązań'!C24)","v":150711},{"$f":"SUMIFS('Wszystkie województwa'!D:D,'Wszystkie województwa'!$A:$A,woj,'Wszystkie województwa'!$B:$B,'Wybór powiązań'!$E$5,'Wszystkie województwa'!$C:$C,'Wybór powiązań'!C24)","v":4674},{"$f":"INDEX('Odsetki grupy ryzyka'!$F28:$T28,,MATCH(cho,'Odsetki grupy ryzyka'!$F$19:$T$19,0))","v":0},0,0]
[null,null," 45 - 49 ",{"$f":"SUMIFS('Wszystkie województwa'!D:D,'Wszystkie województwa'!$A:$A,woj,'Wszystkie województwa'!$B:$B,'Wszystkie województwa'!B13,'Wszystkie województwa'!$C:$C,'Wybór powiązań'!C25)","v":128755},{"$f":"SUMIFS('Wszystkie województwa'!D:D,'Wszystkie województwa'!$A:$A,woj,'Wszystkie województwa'!$B:$B,'Wybór powiązań'!$E$5,'Wszystkie województwa'!$C:$C,'Wybór powiązań'!C25)","v":4239},{"$f":"INDEX('Odsetki grupy ryzyka'!$F29:$T29,,MATCH(cho,'Odsetki grupy ryzyka'!$F$19:$T$19,0))","v":0},0,0]
[null,null," 50 - 54 ",{"$f":"SUMIFS('Wszystkie województwa'!D:D,'Wszystkie województwa'!$A:$A,woj,'Wszystkie województwa'!$B:$B,'Wszystkie województwa'!B14,'Wszystkie województwa'!$C:$C,'Wybór powiązań'!C26)","v":130323},{"$f":"SUMIFS('Wszystkie województwa'!D:D,'Wszystkie województwa'!$A:$A,woj,'Wszystkie województwa'!$B:$B,'Wybór powiązań'!$E$5,'Wszystkie województwa'!$C:$C,'Wybór powiązań'!C26)","v":4238},{"$f":"INDEX('Odsetki grupy ryzyka'!$F30:$T30,,MATCH(cho,'Odsetki grupy ryzyka'!$F$19:$T$19,0))","v":0},0,0]
[null,null," 55 - 59 ",{"$f":"SUMIFS('Wszystkie województwa'!D:D,'Wszystkie województwa'!$A:$A,woj,'Wszystkie województwa'!$B:$B,'Wszystkie województwa'!B15,'Wszystkie województwa'!$C:$C,'Wybór powiązań'!C27)","v":154119},{"$f":"SUMIFS('Wszystkie województwa'!D:D,'Wszystkie województwa'!$A:$A,woj,'Wszystkie województwa'!$B:$B,'Wybór powiązań'!$E$5,'Wszystkie województwa'!$C:$C,'Wybór powiązań'!C27)","v":4653},{"$f":"INDEX('Odsetki grupy ryzyka'!$F31:$T31,,MATCH(cho,'Odsetki grupy ryzyka'!$F$19:$T$19,0))","v":0},0,0]
[null,null," 60 - 64 ",{"$f":"SUMIFS('Wszystkie województwa'!D:D,'Wszystkie województwa'!$A:$A,woj,'Wszystkie województwa'!$B:$B,'Wszystkie województwa'!B16,'Wszystkie województwa'!$C:$C,'Wybór powiązań'!C28)","v":148542},{"$f":"SUMIFS('Wszystkie województwa'!D:D,'Wszystkie województwa'!$A:$A,woj,'Wszystkie województwa'!$B:$B,'Wybór powiązań'!$E$5,'Wszystkie województwa'!$C:$C,'Wybór powiązań'!C28)","v":4272},{"$f":"INDEX('Odsetki grupy ryzyka'!$F32:$T32,,MATCH(cho,'Odsetki grupy ryzyka'!$F$19:$T$19,0))","v":0},0,0]
[null,null,"65+",{"$f":"SUMIFS('Wszystkie województwa'!D:D,'Wszystkie województwa'!$A:$A,woj,'Wszystkie województwa'!$B:$B,'Wszystkie województwa'!B17,'Wszystkie województwa'!$C:$C,'Wybór powiązań'!C29)","v":325718},{"$f":"SUMIFS('Wszystkie województwa'!D:D,'Wszystkie województwa'!$A:$A,woj,'Wszystkie województwa'!$B:$B,'Wybór powiązań'!$E$5,'Wszystkie województwa'!$C:$C,'Wybór powiązań'!C29)","v":9009},{"$f":"INDEX('Odsetki grupy ryzyka'!$F33:$T33,,MATCH(cho,'Odsetki grupy ryzyka'!$F$19:$T$19,0))","v":0},0,0]
[null,null,"Ogółem",{"$f":"SUM(D16:D29)","v":2084524},{"$f":"SUM(E16:E29)","v":66658},{"$f":"INDEX('Odsetki grupy ryzyka'!$F34:$T34,,MATCH(cho,'Odsetki grupy ryzyka'!$F$19:$T$19,0))","v":5.0944348365459927E-2},106194.71683216198,3395.8483733448279]
[null,null,null,null,null,null,{"$f":"SUM(G16:G30)","v":106194.71683216198},{"$f":"SUM(H16:H30)","v":3395.8483733448279}]
[]
[]
["Dolnośląskie",{"$f":"'Wszystkie województwa'!D4","v":2903812},{"$f":"ROUNDUP(B34/1000000,0)-1","v":2}]
["Lubelskie",{"$f":"'Wszystkie województwa'!D939","v":2135715},2]
["Lubuskie",{"$f":"'Wszystkie województwa'!D1364","v":1017450},1]
["Łódzkie",{"$f":"'Wszystkie województwa'!D1619","v":2488417},2]
["Małopolskie",{"$f":"'Wszystkie województwa'!D2044","v":3376329},3]
["Mazowieckie",{"$f":"'Wszystkie województwa'!D2435","v":5356838},5]
["Opolskie",{"$f":"'Wszystkie województwa'!D3166","v":994489},0]
["Podkarpackie",{"$f":"'Wszystkie województwa'!D3387","v":2126824},2]
["Podlaskie",{"$f":"'Wszystkie województwa'!D3829","v":1187587},1]
["Pomorskie",{"$f":"'Wszystkie województwa'!D4135","v":2311469},2]
["Śląskie",{"$f":"'Wszystkie województwa'!D4492","v":4564394},4]
["Świętokrzyskie",{"$f":"'Wszystkie województwa'!D5121","v":1254505},1]
["Warmińsko-Mazurskie",{"$f":"'Wszystkie województwa'!D5376","v":1437812},1]
["Wielkopolskie",{"$f":"'Wszystkie województwa'!D5750","v":3477755},3]
["Zachodniopomorskie",{"$f":"'Wszystkie województwa'!D6362","v":1708889},1]
["Kujawsko-Pomorskie",{"$f":"'Wszystkie województwa'!D531","v":2084524},2]
[]
[{"$f":"MIN(B34:B49)","v":994489}]
[{"$f":"MAX(B34:B49)","v":5356838}]
[]
[]
[]
[]
[]
[]
[]
[]
[]
[]
[null,"R","G","B"]
[null,10,28,78,{"$f":"C39","v":5}]
[null,14,77,116,{"$f":"C44","v":4}]
[null,52,104,162,{"$f":"C38","v":3}]
[null,124,160,232,{"$f":"C37","v":2}]
[null,197,207,237,{"$f":"C36","v":1}]
[null,240,244,250,{"$f":"C40","v":0}]
[]
[]
["Województwo","l.mieszkańców","Osoby 65+","Zapadalność - Grypa"]
["Odsetek bedących w grupie ryzyka",null,{"$f":"INDEX('Odsetki grupy ryzyka'!$F$34:$T$34,MATCH('Wybór powiązań'!$C$72,'Odsetki grupy ryzyka'!$F$19:$T$19,0))","v":0.16260992866792476}]
["Dolnośląskie",2903812,{"$f":"C$73*$B74","v":472188.66218506393},192757]
["Lubelskie",2135715,{"$f":"C$73*$B75","v":347288.46380501695},99436]
["Lubuskie",1017450,165447.47192318004,57933]
["Łódzkie",2488417,404641.3108660513,238373]
["Małopolskie",3376329,549024.61784944579,425668]
["Mazowieckie",5356838,871075.04506562871,808925]
["Opolskie",994489,161713.78535103583,52098]
["Podkarpackie",2126824,345842.69892923039,70004]
["Podlaskie",1187587,193113.43735695476,107992]
["Pomorskie",2311469,375867.80920811935,841702]
["Śląskie",4564394,742215.78275230376,287108]
["Świętokrzyskie",1254505,203994.96856355495,88789]
["Warmińsko-Mazurskie",1437812,233802.50675788624,77627]
["Wielkopolskie",3477755,565517.49247451872,605382]
["Zachodniopomorskie",1708889,277882.31839140126,76012]
["Kujawsko-Pomorskie",2084524,338964.29894657718,280269]
["Polska",{"$f":"SUM(B74:B89)","v":38426809},{"$f":"B90*C73","v":6248580.6704259692},{"$f":"SUM(D74:D89)","v":4310075}]

{"sheet":"Zachorowania grypa","index":2,"n_rows":28,"n_cols":13,"rows_kept":28,"cut":false,"hidden":true,"merged":[]}
[]
["Meldunki Epidemiologiczne"]
["Zachorowania i podejrzenia zachorowań na grypę w Polsce"]
["Narodowy Instytut Zdrowia Publicznego - Państwowy Zakład Higieny • Zakład Epidemiologii oraz Zakład Badania Wirusów Grypy. Krajowy Ośrodek ds. Grypy"]
["Główny Inspektorat Sanitarny • Departament Zapobiegania oraz Zwalczania Zakażeń i Chorób Zakaźnych u Ludzi"]
[null,"Rok:  2016",null,null,"Miesiąc:  Grudzień",null,null,"Numer:  12D (48)",null,null,"Okres:  23 - 31 grudzień"]
[null,"Zachorowania i podejrzenia zachorowań na grypę w okresie od 23 do 31 grudnia 2016 r. wg wieku i województw"]
[null,null,null,"Ogółem",null,null,null,null,"Wiek (ukończone lata)"]
["Województwo",null,null,null,null,"0 - 4",null,"5 - 14",null,"15 - 64",null,"65+"]
[null,null,"liczba","zapadal-","wzrost/spa-","liczba","zapadal-","liczba","zapadal-","liczba","zapadal-","liczba","zapadal-"]
[null,null,null,"ność 1)","dek zap. 2,3)",null,"ność 1)",null,"ność 1)",null,"ność 1)",null,"ność 1)"]
["POLSKA",null,4310075,1483.07,17.900000000000002,1009082,6978.37,1026319,3534.7599999999998,1924427,838.68999999999994,313350.80999999994,37683.159999999996]
["Dolnośląskie",null,192757,876.92000000000007,8.64,40696,3939.24,42639,2082.2100000000005,90174,519.1,17210.080000000002,2584.1999999999998]
["Kujawsko-Pomorskie",null,280269,1778.56,9.4299999999999979,66339,8636.31,74120,4618.4800000000005,119026,940.33000000000015,18555.09,3122.8099999999995]
["Lubelskie",null,99436,610.42999999999995,19.939999999999998,19183,2488.2200000000003,20749,1271.4000000000001,47613,2267.9900000000007,9072.82,1318.0500000000004]
["Lubuskie",null,57933,754.13000000000022,4.8900000000000023,15174,3972.4300000000003,16144,2066.6299999999992,21070,2760.29,2985.17,492.00999999999993]
["Łódzkie",null,238373,1263.4299999999998,11.330000000000009,53224,6062.3999999999987,58296,3302.9900000000002,102475,706.34,22136.930000000004,2981.22]
["Małopolskie",null,425668,1669.6299999999999,32.83,95342,7094.2700000000013,103283,3879.4000000000005,191382,964.18000000000006,32437.489999999998,4152.2699999999995]
["Mazowieckie",null,808925,2003.5199999999991,34.53,190981,8766.57,191651,4618.1799999999994,365348,1144.67,53740.3,8186.16]
["Opolskie",null,52098,692.54,4.3400000000000061,11114,3431.1099999999992,10869,1631.1200000000003,21443,3514.28,5004.8600000000006,1010.91]
["Podkarpackie",null,70004,438.34999999999997,11.170000000000005,13271,1701.7900000000002,16495,991.09999999999991,30907,2146.67,6970.53,794.25]
["Podlaskie",null,107992,1201.7199999999998,30.369999999999997,25264,6065.0799999999981,25836,2952.2599999999993,43235,4196.130000000001,9435.23,1403.54]
["Pomorskie",null,841702,4814.170000000001,12.750000000000007,221649,23275.529999999995,192638,10150.629999999997,367963,2652.62,52989.419999999991,8879.0099999999984]
["Śląskie",null,287108,832.90999999999985,7.9200000000000026,62661,3800.3599999999997,66810,2089.0500000000002,134778,492.86000000000007,20397.590000000004,2881.6999999999994]
["Świętokrzyskie",null,88789,939.29,23.570000000000007,18151,4340.8499999999995,22225,2498.4800000000005,36090,4110.99,8116.1100000000015,1188.7099999999998]
["Warmińsko-Mazurskie",null,77627,717.36999999999978,5.8500000000000023,14605,2722.8599999999997,20514,1821.7800000000004,32769,2721.3499999999995,7003.0999999999995,925.99000000000012]
["Wielkopolskie",null,605382,2307.9,25.969999999999974,144399,10159.61,146277,5252.369999999999,266017,1281.1699999999996,43541.950000000004,6444.9800000000005]
["Zachodniopomorskie",null,76012,585.99000000000012,8.9799999999999969,17029,2823.62,17773,1401.7400000000002,31769,4099.99,5242.4800000000005,744.44]

{"sheet":"Odsetki grupy ryzyka","index":3,"n_rows":199,"n_cols":20,"rows_kept":199,"cut":false,"hidden":true,"merged":[]}
[]
["Czynnik Ryzyka","Odsetek",null,null,null,"Astma",null,"Astma[3]"]
["Astma",null,null,null,null,"Przewlekłe zapalenie oskrzeli, przewlekła zaporowa (obturacyjna) choroba płuc (POCHP), rozedma płuc",null,"Przewlekłe zapalenie oskrzeli, przewlekła zaporowa (obturacyjna) choroba płuc (POCHP), rozedma płuc[3]"]
["Ogółem",{"$f":"('Czynniki Ryzyka 15-'!B9+'Czynniki ryzyka dzieci '!B10)/Ludność!B7","v":4.0586216140918958E-2},null,null,null,"Choroba wieńcowa (choroba niedokrwienna serca) lub dusznica bolesna",null,"Choroba wieńcowa (choroba niedokrwienna serca) lub dusznica bolesna[3]"]
[" 0 - 4 ",{"$f":"('Czynniki ryzyka dzieci '!C10/Ludność!C7)","v":3.085177733065057E-2},null,null,null,"Wysokie ciśnienie krwii (nadciśnienie)",null,"Wysokie ciśnienie krwii (nadciśnienie)[3]"]
[" 5 - 9 ",{"$f":"'Czynniki ryzyka dzieci '!D10/Ludność!D7","v":4.3454777570460575E-2},null,null,null,"Udar mózgu (wylew krwi do mózgu, zator mózgowy) lub jego przewlekłe konsekwencje",null,"Udar mózgu (wylew krwi do mózgu, zator mózgowy) lub jego przewlekłe konsekwencje[3]"]
[" 10 - 14 ",{"$f":"'Czynniki ryzyka dzieci '!E10/Ludność!E7","v":5.0160445870629962E-2},null,null,null,"Cukrzyca",null,"Cukrzyca[3]"]
[" 15 - 19 ",{"$f":"'Czynniki Ryzyka 15-'!C9/Ludność!F7","v":3.914760024734814E-2},null,null,null,"Marskość wątroby",null,"Marskość wątroby[3]"]
["20-29",{"$f":"'Czynniki Ryzyka 15-'!D9/Ludność!G7","v":2.0762456501876008E-2},null,null,null,"Problemy z nerkami",null,"Problemy z nerkami[3]"]
["30-39",{"$f":"'Czynniki Ryzyka 15-'!E9/Ludność!H7","v":2.4561862839750617E-2},null,null,null,"HIV i AIDS",20.558,"HIV i AIDS[3]"]
["40-49",{"$f":"'Czynniki Ryzyka 15-'!F9/Ludność!I7","v":2.6095152074456601E-2},null,null,null,"Ciąża",373.22899999999998,"Ciąża[3]"]
["50-59",{"$f":"'Czynniki Ryzyka 15-'!G9/Ludność!J7","v":4.1362530413625302E-2},null,null,null,"Osoby 65+",6186.8850000000002,"Osoby 65+[3]"]
["60-69",{"$f":"'Czynniki Ryzyka 15-'!H9/Ludność!K7","v":6.4243448858833471E-2},null,null,null,"Dzieci poniżej 4 roku życia",{"$f":"Ludność!C7","v":1938.3},"Dzieci poniżej 4 roku życia[3]","asfgj h,j"]
["70-79",{"$f":"'Czynniki Ryzyka 15-'!I9/Ludność!L7","v":7.9244803792913682E-2},null,null,null,"Dzieci poniżej 2 roku życia",1124.9000000000001,"Dzieci poniżej 2 roku życia[3]"]
["80 lat i więcej",{"$f":"'Czynniki Ryzyka 15-'!J9/Ludność!M7","v":8.4434310240761867E-2},null,null,null,"BMI > 40",1500,"BMI > 40[3]"]
["Przewlekłe zapalenie oskrzeli, przewlekła zaporowa (obturacyjna) choroba płuc (POCHP), rozedma płuc",null,null,null,null,"Nowotwory",364.05200000000002,"Nowotwory[3]"]
["Ogółem",{"$f":"'Czynniki Ryzyka 15-'!B13/Ludność!B7","v":2.6656223552726337E-2}]
[" 0 - 4 "]
[" 5 - 9 ",null,null,null,null,"Astma","Przewlekłe zapalenie oskrzeli, przewlekła zaporowa (obturacyjna) choroba płuc (POCHP), rozedma płuc","Choroba wieńcowa (choroba niedokrwienna serca) lub dusznica bolesna","Wysokie ciśnienie krwii (nadciśnienie)","Udar mózgu (wylew krwi do mózgu, zator mózgowy) lub jego przewlekłe konsekwencje","Cukrzyca","Marskość wątroby","Problemy z nerkami","HIV i AIDS","Ciąża","Osoby 65+","Dzieci poniżej 4 roku życia","Dzieci poniżej 2 roku życia","BMI > 40","Nowotwory"]
[" 10 - 14 ",null,null,null," 0 - 4 ",{"$f":"B5","v":3.085177733065057E-2},{"$f":"B18","v":0}]
[" 15 - 19 ",{"$f":"'Czynniki Ryzyka 15-'!C13/Ludność!F7","v":6.2312705132473948E-3},null,null," 5 - 9 ",{"$f":"B6","v":4.3454777570460575E-2},{"$f":"B19","v":0}]
["20-29",{"$f":"'Czynniki Ryzyka 15-'!D13/Ludność!G7","v":7.2318668714399592E-3},null,null," 10 - 14 ",5.0160445870629962E-2,{"$f":"B20","v":0}]
["30-39",{"$f":"'Czynniki Ryzyka 15-'!E13/Ludność!H7","v":1.2927296231447692E-2},null,null," 15 - 19 ",3.914760024734814E-2,{"$f":"B21","v":6.2312705132473948E-3}]
["40-49",{"$f":"'Czynniki Ryzyka 15-'!F13/Ludność!I7","v":1.8869406428557403E-2},null,null," 20 - 24 ",{"$f":"B9","v":2.0762456501876008E-2},{"$f":"B22","v":7.2318668714399592E-3},{"$f":"B35","v":8.359416007309629E-4},{"$f":"B48","v":1.9576585858978597E-2},{"$f":"B61","v":1.2830731546103152E-3},{"$f":"B74","v":7.9511654581154376E-3},{"$f":"B87","v":1.8079667178599898E-3},{"$f":"B100","v":1.5085829817842494E-2}]
["50-59",{"$f":"'Czynniki Ryzyka 15-'!G13/Ludność!J7","v":3.7940997566909974E-2},null,null," 25 - 29 ",{"$f":"B9","v":2.0762456501876008E-2},{"$f":"B22","v":7.2318668714399592E-3},{"$f":"B35","v":8.359416007309629E-4},{"$f":"B48","v":1.9576585858978597E-2},{"$f":"B61","v":1.2830731546103152E-3},{"$f":"B74","v":7.9511654581154376E-3},{"$f":"B87","v":1.8079667178599898E-3},{"$f":"B100","v":1.5085829817842494E-2}]
["60-69",{"$f":"'Czynniki Ryzyka 15-'!H13/Ludność!K7","v":5.9065934065934064E-2},null,null," 30 - 34 ",{"$f":"B10","v":2.4561862839750617E-2},{"$f":"B23","v":1.2927296231447692E-2},{"$f":"B36","v":7.3636497520904575E-3},{"$f":"B49","v":5.0760092291076885E-2},{"$f":"B62","v":1.0309109652926641E-3},{"$f":"B75","v":1.1683657606650194E-2},{"$f":"B88","v":2.3727315867847032E-3},{"$f":"B101","v":2.2287313249660452E-2}]
["70-79",{"$f":"'Czynniki Ryzyka 15-'!I13/Ludność!L7","v":7.6069931846082198E-2},null,null," 35 - 39 ",{"$f":"B10","v":2.4561862839750617E-2},{"$f":"B23","v":1.2927296231447692E-2},{"$f":"B36","v":7.3636497520904575E-3},{"$f":"B49","v":5.0760092291076885E-2},{"$f":"B62","v":1.0309109652926641E-3},{"$f":"B75","v":1.1683657606650194E-2},{"$f":"B88","v":2.3727315867847032E-3},{"$f":"B101","v":2.2287313249660452E-2}]
["80 lat i więcej",{"$f":"'Czynniki Ryzyka 15-'!J13/Ludność!M7","v":8.7116893568506479E-2},null,null," 40 - 44 ",{"$f":"B11","v":2.6095152074456601E-2},{"$f":"B24","v":1.8869406428557403E-2},{"$f":"B37","v":1.9497732136896463E-2},{"$f":"B50","v":0.15038583125527696},{"$f":"B63","v":3.5736024661784053E-3},{"$f":"B76","v":2.4445797090066564E-2},{"$f":"B89","v":2.9649119362249407E-3},{"$f":"B102","v":2.6959099923422807E-2}]
["Choroba wieńcowa (choroba niedokrwienna serca) lub dusznica bolesna",null,null,null," 45 - 49 ",{"$f":"B11","v":2.6095152074456601E-2},{"$f":"B24","v":1.8869406428557403E-2},{"$f":"B37","v":1.9497732136896463E-2},{"$f":"B50","v":0.15038583125527696},{"$f":"B63","v":3.5736024661784053E-3},{"$f":"B76","v":2.4445797090066564E-2},{"$f":"B89","v":2.9649119362249407E-3},{"$f":"B102","v":2.6959099923422807E-2}]
["Ogółem",{"$f":"'Czynniki Ryzyka 15-'!B21/Ludność!B7","v":7.5910574704184774E-2},null,null," 50 - 54 ",{"$f":"B12","v":4.1362530413625302E-2},{"$f":"B25","v":3.7940997566909974E-2},{"$f":"B38","v":8.5082116788321172E-2},{"$f":"B51","v":0.33012089416058393},{"$f":"B64","v":1.8875456204379561E-2},{"$f":"B77","v":7.1871198296836983E-2},{"$f":"B90","v":7.0331508515815086E-3},{"$f":"B103","v":4.7521289537712896E-2}]
[" 0 - 4 ",null,null,null," 55 - 59 ",{"$f":"B12","v":4.1362530413625302E-2},{"$f":"B25","v":3.7940997566909974E-2},{"$f":"B38","v":8.5082116788321172E-2},{"$f":"B51","v":0.33012089416058393},{"$f":"B64","v":1.8875456204379561E-2},{"$f":"B77","v":7.1871198296836983E-2},{"$f":"B90","v":7.0331508515815086E-3},{"$f":"B103","v":4.7521289537712896E-2}]
[" 5 - 9 ",null,null,null," 60 - 64 ",{"$f":"B13","v":6.4243448858833471E-2},{"$f":"B26","v":5.9065934065934064E-2},{"$f":"B39","v":0.18174133558748942},{"$f":"B52","v":0.47428148774302625},{"$f":"B65","v":4.4484361792054103E-2},{"$f":"B78","v":0.14513947590870666},{"$f":"B91","v":9.8478444632290781E-3},{"$f":"B104","v":6.4180050718512252E-2}]
[" 10 - 14 ",null,null,null,"65+",{"$f":"((Ludność!$K$7*'Odsetki grupy ryzyka'!B13)+(Ludność!$K$8*'Odsetki grupy ryzyka'!B14)+(Ludność!$K$9*'Odsetki grupy ryzyka'!B15))/(Ludność!$K$7+Ludność!$K$8+Ludność!$K$9)","v":7.2618332415614856E-2},{"$f":"((Ludność!$K$7*B26)+(Ludność!$K$8*B27)+(Ludność!$K$9*B28))/(Ludność!$K$7+Ludność!$K$8+Ludność!$K$9)","v":6.9428944332960998E-2},{"$f":"((Ludność!$K$7*B39)+(Ludność!$K$8*B40)+(Ludność!$K$9*B41))/(Ludność!$K$7+Ludność!$K$8+Ludność!$K$9)","v":0.27468097865113034},{"$f":"((Ludność!$K$7*B52)+(Ludność!$K$8*B53)+(Ludność!$K$9*B54))/(Ludność!$K$7+Ludność!$K$8+Ludność!$K$9)","v":0.53067266077800934},{"$f":"((Ludność!$K$7*B65)+(Ludność!$K$8*B66)+(Ludność!$K$9*B67))/(Ludność!$K$7+Ludność!$K$8+Ludność!$K$9)","v":6.2716325871833775E-2},{"$f":"((Ludność!$K$7*B78)+(Ludność!$K$8*B79)+(Ludność!$K$9*B80))/(Ludność!$K$7+Ludność!$K$8+Ludność!$K$9)","v":0.18031844866438429},{"$f":"((Ludność!$K$7*B91)+(Ludność!$K$8*B92)+(Ludność!$K$9*B93))/(Ludność!$K$7+Ludność!$K$8+Ludność!$K$9)","v":1.2184261917871005E-2},{"$f":"((Ludność!$K$7*B104)+(Ludność!$K$8*B105)+(Ludność!$K$9*B106))/(Ludność!$K$7+Ludność!$K$8+Ludność!$K$9)","v":8.3025719757992444E-2}]
[" 15 - 19 ",null,null,null,"Ogółem",{"$f":"B4","v":4.0586216140918958E-2},{"$f":"B17","v":2.6656223552726337E-2},{"$f":"B30","v":7.5910574704184774E-2},{"$f":"B43","v":0.19543779601234249},{"$f":"B56","v":1.7273190809358852E-2},{"$f":"B69","v":5.6227232347019776E-2},{"$f":"B82","v":4.751967282915521E-3},{"$f":"B95","v":3.4425479796254141E-2},{"$f":"B108","v":5.4032601439257344E-4},{"$f":"B121","v":9.809579629619895E-3},{"$f":"B134","v":0.16260992866792476},{"$f":"B147","v":5.0944348365459927E-2},{"$f":"B160","v":2.9565752193316759E-2},{"$f":"B174","v":3.9424507325073459E-2},{"$f":"B188","v":9.5683804938050954E-3}]
["20-29",{"$f":"'Czynniki Ryzyka 15-'!D21/Ludność!G7","v":8.359416007309629E-4}]
["30-39",{"$f":"'Czynniki Ryzyka 15-'!E21/Ludność!H7","v":7.3636497520904575E-3}]
["40-49",{"$f":"'Czynniki Ryzyka 15-'!F21/Ludność!I7","v":1.9497732136896463E-2}]
["50-59",{"$f":"'Czynniki Ryzyka 15-'!G21/Ludność!J7","v":8.5082116788321172E-2}]
["60-69",{"$f":"'Czynniki Ryzyka 15-'!H21/Ludność!K7","v":0.18174133558748942}]
["70-79",{"$f":"'Czynniki Ryzyka 15-'!I21/Ludność!L7","v":0.34051559920416541}]
["80 lat i więcej",{"$f":"'Czynniki Ryzyka 15-'!J21/Ludność!M7","v":0.42096438870632424}]
["Wysokie ciśnienie krwii (nadciśnienie)"]
["Ogółem",{"$f":"'Czynniki Ryzyka 15-'!B25/Ludność!B7","v":0.19543779601234249}]
[" 0 - 4 "]
[" 5 - 9 "]
[" 10 - 14 "]
[" 15 - 19 ",{"$f":"'Czynniki Ryzyka 15-'!C25/Ludność!F7","v":6.7545069685582444E-3}]
["20-29",{"$f":"'Czynniki Ryzyka 15-'!D25/Ludność!G7","v":1.9576585858978597E-2}]
["30-39",{"$f":"'Czynniki Ryzyka 15-'!E25/Ludność!H7","v":5.0760092291076885E-2}]
["40-49",{"$f":"'Czynniki Ryzyka 15-'!F25/Ludność!I7","v":0.15038583125527696}]
["50-59",{"$f":"'Czynniki Ryzyka 15-'!G25/Ludność!J7","v":0.33012089416058393}]
["60-69",{"$f":"'Czynniki Ryzyka 15-'!H25/Ludność!K7","v":0.47428148774302625}]
["70-79",{"$f":"'Czynniki Ryzyka 15-'!I25/Ludność!L7","v":0.58426110146890742}]
["80 lat i więcej",{"$f":"'Czynniki Ryzyka 15-'!J25/Ludność!M7","v":0.59258265709878621}]
["Udar mózgu (wylew krwi do mózgu, zator mózgowy) lub jego przewlekłe konsekwencje"]
["Ogółem",{"$f":"'Czynniki Ryzyka 15-'!B29/Ludność!B7","v":1.7273190809358852E-2}]
[" 0 - 4 "]
[" 5 - 9 "]
[" 10 - 14 "]
[" 15 - 19 ",{"$f":"'Czynniki Ryzyka 15-'!C29/Ludność!F7","v":8.5620510869048182E-4}]
["20-29",{"$f":"'Czynniki Ryzyka 15-'!D29/Ludność!G7","v":1.2830731546103152E-3}]
["30-39",{"$f":"'Czynniki Ryzyka 15-'!E29/Ludność!H7","v":1.0309109652926641E-3}]
["40-49",{"$f":"'Czynniki Ryzyka 15-'!F29/Ludność!I7","v":3.5736024661784053E-3}]
["50-59",{"$f":"'Czynniki Ryzyka 15-'!G29/Ludność!J7","v":1.8875456204379561E-2}]
["60-69",{"$f":"'Czynniki Ryzyka 15-'!H29/Ludność!K7","v":4.4484361792054103E-2}]
["70-79",{"$f":"'Czynniki Ryzyka 15-'!I29/Ludność!L7","v":7.645091647970198E-2}]
["80 lat i więcej",{"$f":"'Czynniki Ryzyka 15-'!J29/Ludność!M7","v":8.9799476896251104E-2}]
["Cukrzyca"]
["Ogółem",{"$f":"'Czynniki Ryzyka 15-'!B49/Ludność!B7","v":5.6227232347019776E-2}]
[" 0 - 4 "]
[" 5 - 9 "]
[" 10 - 14 "]
[" 15 - 19 ",{"$f":"'Czynniki Ryzyka 15-'!C49/Ludność!F7","v":3.4723873852447315E-3}]
["20-29",{"$f":"'Czynniki Ryzyka 15-'!D49/Ludność!G7","v":7.9511654581154376E-3}]
["30-39",{"$f":"'Czynniki Ryzyka 15-'!E49/Ludność!H7","v":1.1683657606650194E-2}]
["40-49",{"$f":"'Czynniki Ryzyka 15-'!F49/Ludność!I7","v":2.4445797090066564E-2}]
["50-59",{"$f":"'Czynniki Ryzyka 15-'!G49/Ludność!J7","v":7.1871198296836983E-2}]
["60-69",{"$f":"'Czynniki Ryzyka 15-'!H49/Ludność!K7","v":0.14513947590870666}]
["70-79",{"$f":"'Czynniki Ryzyka 15-'!I49/Ludność!L7","v":0.2158489607585827}]
["80 lat i więcej",{"$f":"'Czynniki Ryzyka 15-'!J49/Ludność!M7","v":0.21480785996915031}]
["Marskość wątroby"]
["Ogółem",{"$f":"'Czynniki Ryzyka 15-'!B57/Ludność!B7","v":4.751967282915521E-3}]
[" 0 - 4 "]
[" 5 - 9 "]
[" 10 - 14 "]
[" 15 - 19 ",{"$f":"'Czynniki Ryzyka 15-'!C57/Ludność!F7","v":1.0464729106217001E-3}]
["20-29",{"$f":"'Czynniki Ryzyka 15-'!D57/Ludność!G7","v":1.8079667178599898E-3}]
["30-39",{"$f":"'Czynniki Ryzyka 15-'!E57/Ludność!H7","v":2.3727315867847032E-3}]
["40-49",{"$f":"'Czynniki Ryzyka 15-'!F57/Ludność!I7","v":2.9649119362249407E-3}]
["50-59",{"$f":"'Czynniki Ryzyka 15-'!G57/Ludność!J7","v":7.0331508515815086E-3}]
["60-69",{"$f":"'Czynniki Ryzyka 15-'!H57/Ludność!K7","v":9.8478444632290781E-3}]
["70-79",{"$f":"'Czynniki Ryzyka 15-'!I57/Ludność!L7","v":1.4265757947762773E-2}]
["80 lat i więcej",{"$f":"'Czynniki Ryzyka 15-'!J57/Ludność!M7","v":1.5022466635369861E-2}]
["Problemy z nerkami"]
["Ogółem",{"$f":"'Czynniki Ryzyka 15-'!B69/Ludność!B7","v":3.4425479796254141E-2}]
[" 0 - 4 "]
[" 5 - 9 "]
[" 10 - 14 "]
[" 15 - 19 ",{"$f":"'Czynniki Ryzyka 15-'!C69/Ludność!F7","v":5.4226323550397183E-3}]
["20-29",{"$f":"'Czynniki Ryzyka 15-'!D69/Ludność!G7","v":1.5085829817842494E-2}]
["30-39",{"$f":"'Czynniki Ryzyka 15-'!E69/Ludność!H7","v":2.2287313249660452E-2}]
["40-49",{"$f":"'Czynniki Ryzyka 15-'!F69/Ludność!I7","v":2.6959099923422807E-2}]
["50-59",{"$f":"'Czynniki Ryzyka 15-'!G69/Ludność!J7","v":4.7521289537712896E-2}]
["60-69",{"$f":"'Czynniki Ryzyka 15-'!H69/Ludność!K7","v":6.4180050718512252E-2}]
["70-79",{"$f":"'Czynniki Ryzyka 15-'!I69/Ludność!L7","v":9.9690979130508395E-2}]
["80 lat i więcej",{"$f":"'Czynniki Ryzyka 15-'!J69/Ludność!M7","v":0.10616323519549327}]
["HIV i AIDS"]
["Ogółem",{"$f":"G10/Ludność!B7","v":5.4032601439257344E-4}]
[" 0 - 4 "]
[" 5 - 9 "]
[" 10 - 14 "]
[" 15 - 19 "]
["20-29"]
["30-39"]
["40-49"]
["50-59"]
["60-69"]
["70-79"]
["80 lat i więcej"]
["Ciąża"]
["Ogółem",{"$f":"G11/Ludność!B7","v":9.809579629619895E-3}]
[" 0 - 4 "]
[" 5 - 9 "]
[" 10 - 14 "]
[" 15 - 19 "]
["20-29"]
["30-39"]
["40-49"]
["50-59"]
["60-69"]
["70-79"]
["80 lat i więcej"]
["Osoby 65+"]
["Ogółem",{"$f":"G12/Ludność!B7","v":0.16260992866792476}]
[" 0 - 4 "]
[" 5 - 9 "]
[" 10 - 14 "]
[" 15 - 19 "]
["20-29"]
["30-39"]
["40-49"]
["50-59"]
["60-69"]
["70-79"]
["80 lat i więcej"]
["Dzieci poniżej 4 roku życia"]
["Ogółem",{"$f":"G13/Ludność!B7","v":5.0944348365459927E-2}]
[" 0 - 4 "]
[" 5 - 9 "]
[" 10 - 14 "]
[" 15 - 19 "]
["20-29"]
["30-39"]
["40-49"]
["50-59"]
["60-69"]
["70-79"]
["80 lat i więcej"]
["Dzieci poniżej 2 roku życia"]
["Ogółem",{"$f":"G14/Ludność!B7","v":2.9565752193316759E-2}]
[" 0 - 4 "]
[" 5 - 9 "]
[" 10 - 14 "]
[" 15 - 19 "]
["20-29"]
["30-39"]
["40-49"]
["50-59"]
["60-69"]
["70-79"]
["80 lat i więcej"]
["70-79"]
["80 lat i więcej"]
["BMI > 40",{"$f":"G15/Ludność!B7","v":3.9424507325073459E-2}]
["Ogółem"]
[" 0 - 4 "]
[" 5 - 9 "]
[" 10 - 14 "]
[" 15 - 19 "]
["20-29"]
["30-39"]
["40-49"]
["50-59"]
["60-69"]
["70-79"]
["80 lat i więcej"]
["Nowotwory"]
["Ogółem",{"$f":"G16/Ludność!B7","v":9.5683804938050954E-3}]
[" 0 - 4 "]
[" 5 - 9 "]
[" 10 - 14 "]
[" 15 - 19 "]
["20-29"]
["30-39"]
["40-49"]
["50-59"]
["60-69"]
["70-79"]
["80 lat i więcej"]

{"sheet":"Lista województw","index":4,"n_rows":46,"n_cols":18,"rows_kept":46,"cut":false,"hidden":true,"merged":[]}
[]
[]
[null,"Dolnośląskie","Kujawsko-pomorskie","Lubelskie","Lubuskie","Łódzkie","Małopolskie","Mazowieckie","Opolskie","Podkarpackie","Podlaskie","Pomorskie","Śląskie","Świętokrzyskie","Warmińsko-mazurskie","Wielkopolskie","Zachodniopomorskie","Wszystkie"]
[null," Jelenia Góra "," Bydgoszcz "," Biała Podlaska "," Gorzów Wielkopolski "," Łódź "," Kraków "," Ostrołęka "," Opole "," Krosno "," Białystok "," Gdańsk "," Bielsko-Biała "," Kielce "," Elbląg "," Kalisz "," Koszalin "]
[null," Legnica "," Grudziądz "," Chełm "," Zielona Góra "," Piotrków Trybunalski "," Nowy Sącz "," Płock "," brzeski "," Przemyśl "," Łomża "," Gdynia "," Bytom "," buski "," Olsztyn "," Konin "," Szczecin "]
[null," Wrocław "," Toruń "," Lublin "," gorzowski "," Skierniewice "," Tarnów "," Radom "," głubczycki "," Rzeszów "," Suwałki "," Słupsk "," Chorzów "," jędrzejowski "," bartoszycki "," Leszno "," Świnoujście "]
[null," Wałbrzych "," Włocławek "," Zamość "," krośnieński "," bełchatowski "," bocheński "," Siedlce "," kędzierzyńsko-kozielski "," Tarnobrzeg "," augustowski "," Sopot "," Częstochowa "," kazimierski "," braniewski "," Poznań "," białogardzki "]
[null," bolesławiecki "," aleksandrowski "," bialski "," międzyrzecki "," kutnowski "," brzeski "," Warszawa "," kluczborski "," bieszczadzki "," białostocki "," bytowski "," Dąbrowa Górnicza "," kielecki "," działdowski "," chodzieski "," choszczeński "]
[null," dzierżoniowski "," brodnicki "," biłgorajski "," nowosolski "," łaski "," chrzanowski "," białobrzeski "," krapkowicki "," brzozowski "," bielski "," chojnicki "," Gliwice "," konecki "," elbląski "," czarnkowsko-trzcianecki "," drawski "]
[null," głogowski "," bydgoski "," chełmski "," słubicki "," łęczycki "," dąbrowski "," ciechanowski "," namysłowski "," dębicki "," grajewski "," człuchowski "," Jastrzębie-Zdrój "," opatowski "," ełcki "," gnieźnieński "," goleniowski "]
[null," górowski "," chełmiński "," hrubieszowski "," strzelecko-drezdenecki "," łowicki "," gorlicki "," garwoliński "," nyski "," jarosławski "," hajnowski "," gdański "," Jaworzno "," ostrowiecki "," giżycki "," gostyński "," gryficki "]
[null," jaworski "," golubsko-dobrzyński "," janowski "," sulęciński "," łódzki wschodni "," krakowski "," gostyniński "," oleski "," jasielski "," kolneński "," kartuski "," Katowice "," pińczowski "," iławski "," grodziski "," gryfiński "]
[null," jeleniogórski "," grudziądzki "," krasnostawski "," świebodziński "," opoczyński "," limanowski "," grodziski "," opolski "," kolbuszowski "," łomżyński "," kościerski "," Mysłowice "," sandomierski "," kętrzyński "," jarociński "," kamieński "]
[null," kamiennogórski "," inowrocławski "," kraśnicki "," zielonogórski "," pabianicki "," miechowski "," grójecki "," prudnicki "," krośnieński "," moniecki "," kwidzyński "," Piekary Śląskie "," skarżyski "," lidzbarski "," kaliski "," kołobrzeski "]
[null," kłodzki "," lipnowski "," lubartowski "," żagański "," pajęczański "," myślenicki "," kozienicki "," strzelecki "," leżajski "," sejneński "," lęborski "," Ruda Śląska "," starachowicki "," mrągowski "," kępiński "," koszaliński "]
[null," legnicki "," mogileński "," lubelski "," żarski "," piotrkowski "," nowosądecki "," legionowski ","Wszystkie"," lubaczowski "," siemiatycki "," malborski "," Rybnik "," staszowski "," nidzicki "," kolski "," myśliborski "]
[null," lubański "," nakielski "," łęczyński "," wschowski "," poddębicki "," nowotarski "," lipski ",null," łańcucki "," sokólski "," nowodworski "," Siemianowice Śląskie "," włoszczowski "," nowomiejski "," koniński "," policki "]
[null," lubiński "," radziejowski "," łukowski ","Wszystkie"," radomszczański "," olkuski "," łosicki ",null," mielecki "," suwalski "," pucki "," Sosnowiec ","Wszystkie"," olecki "," kościański "," pyrzycki "]
[null," lwówecki "," rypiński "," opolski ",null," rawski "," oświęcimski "," makowski ",null," niżański "," wysokomazowiecki "," słupski "," Świętochłowice ",null," olsztyński "," krotoszyński "," sławieński "]
[null," milicki "," sępoleński "," parczewski ",null," sieradzki "," proszowicki "," miński ",null," przemyski "," zambrowski "," starogardzki "," Tychy ",null," ostródzki "," leszczyński "," stargardzki "]
[null," oleśnicki "," świecki "," puławski ",null," skierniewicki "," suski "," mławski ",null," przeworski ","Wszystkie"," tczewski "," Zabrze ",null," piski "," międzychodzki "," szczecinecki "]
[null," oławski "," toruński "," radzyński ",null," tomaszowski "," tarnowski "," nowodworski ",null," ropczycko-sędziszowski ",null," wejherowski "," Żory ",null," szczycieński "," nowotomyski "," świdwiński "]
[null," polkowicki "," tucholski "," rycki ",null," wieluński "," tatrzański "," ostrołęcki ",null," rzeszowski ",null," sztumski "," będziński ",null," gołdapski "," obornicki "," wałecki "]
[null," strzeliński "," wąbrzeski "," świdnicki ",null," wieruszowski "," wadowicki "," ostrowski ",null," sanocki ",null,"Wszystkie"," bielski ",null," węgorzewski "," ostrowski "," łobeski "]
[null," średzki "," włocławski "," tomaszowski ",null," zduńskowolski "," wielicki "," otwocki ",null," stalowowolski ",null,null," cieszyński ",null,"Wszystkie"," ostrzeszowski ","Wszystkie"]
[null," świdnicki "," żniński "," włodawski ",null," zgierski ","Wszystkie"," piaseczyński ",null," strzyżowski ",null,null," częstochowski ",null,null," pilski "]
[null," trzebnicki ","Wszystkie"," zamojski ",null," brzeziński ",null," płocki ",null," tarnobrzeski ",null,null," gliwicki ",null,null," pleszewski "]
[null," wałbrzyski ",null,"Wszystkie",null,"Wszystkie",null," płoński ",null," leski ",null,null," kłobucki ",null,null," poznański "]
[null," wołowski ",null,null,null,null,null," pruszkowski ",null,"Wszystkie",null,null," lubliniecki ",null,null," rawicki "]
[null," wrocławski ",null,null,null,null,null," przasnyski ",null,null,null,null," mikołowski ",null,null," słupecki "]
[null," ząbkowicki ",null,null,null,null,null," przysuski ",null,null,null,null," myszkowski ",null,null," szamotulski "]
[null," zgorzelecki ",null,null,null,null,null," pułtuski ",null,null,null,null," pszczyński ",null,null," średzki "]
[null," złotoryjski ",null,null,null,null,null," radomski ",null,null,null,null," raciborski ",null,null," śremski "]
[null,"Wszystkie",null,null,null,null,null," siedlecki ",null,null,null,null," rybnicki ",null,null," turecki "]
[null,null,null,null,null,null,null," sierpecki ",null,null,null,null," tarnogórski ",null,null," wągrowiecki "]
[null,null,null,null,null,null,null," sochaczewski ",null,null,null,null," bieruńsko-lędziński ",null,null," wolsztyński "]
[null,null,null,null,null,null,null," sokołowski ",null,null,null,null," wodzisławski ",null,null," wrzesiński "]
[null,null,null,null,null,null,null," szydłowiecki ",null,null,null,null," zawierciański ",null,null," złotowski "]
[null,null,null,null,null,null,null," warszawski zachodni ",null,null,null,null," żywiecki ",null,null,"Wszystkie"]
[null,null,null,null,null,null,null," węgrowski ",null,null,null,null,"Wszystkie"]
[null,null,null,null,null,null,null," wołomiński "]
[null,null,null,null,null,null,null," wyszkowski "]
[null,null,null,null,null,null,null," zwoleński "]
[null,null,null,null,null,null,null," żuromiński "]
[null,null,null,null,null,null,null," żyrardowski "]
[null,null,null,null,null,null,null,"Wszystkie"]

{"sheet":"Wszystkie województwa","index":5,"n_rows":6735,"n_cols":10,"rows_kept":6735,"cut":false,"hidden":true,"merged":[]}
[null,null,"Województwa\nPowiaty\nGrupy wieku ","Ogółem","Mężczyźni","Kobiety "]
[]
["woj.","pow"]
["Dolnośląskie","Wszystkie","Dolnośląskie ",2903812,1396008,1507804,{"$f":"IFERROR(IF(SEARCH(\" - \",C4)>0,FALSE,TRUE),TRUE)","v":true},{"$f":"IFERROR(IF(SEARCH(\"70\",C4)>0,FALSE,TRUE),TRUE)","v":true},{"$f":"IFERROR(IF(SEARCH(\"65+\",C4)>0,FALSE,TRUE),TRUE)","v":true},{"$f":"AND(G4:I4)","v":true}]
["Dolnośląskie","Wszystkie"," 0 - 4 ",134844,69399,65445,{"$f":"IFERROR(IF(SEARCH(\" - \",C5)>0,FALSE,TRUE),TRUE)","v":false},{"$f":"IFERROR(IF(SEARCH(\"70\",C5)>0,FALSE,TRUE),TRUE)","v":true},{"$f":"IFERROR(IF(SEARCH(\"65+\",C5)>0,FALSE,TRUE),TRUE)","v":true},{"$f":"AND(G5:I5)","v":false}]
["Dolnośląskie","Wszystkie"," 5 - 9 ",149467,76437,73030,false,true,true,false]
["Dolnośląskie","Wszystkie"," 10 - 14 ",125044,64220,60824,false,true,true,false]
["Dolnośląskie","Wszystkie"," 15 - 19 ",134228,68615,65613,false,true,true,false]
["Dolnośląskie","Wszystkie"," 20 - 24 ",165968,84367,81601,false,true,true,false]
["Dolnośląskie","Wszystkie"," 25 - 29 ",206978,104098,102880,false,true,true,false]
["Dolnośląskie","Wszystkie"," 30 - 34 ",255384,128986,126398,false,true,true,false]
["Dolnośląskie","Wszystkie"," 35 - 39 ",244691,124016,120675,false,true,true,false]
["Dolnośląskie","Wszystkie"," 40 - 44 ",212062,107643,104419,false,true,true,false]
["Dolnośląskie","Wszystkie"," 45 - 49 ",168041,84678,83363,false,true,true,false]
["Dolnośląskie","Wszystkie"," 50 - 54 ",173873,85461,88412,false,true,true,false]
["Dolnośląskie","Wszystkie"," 55 - 59 ",221686,106311,115375,false,true,true,false]
["Dolnośląskie","Wszystkie"," 60 - 64 ",229985,106679,123306,false,true,true,false]
["Dolnośląskie","Wszystkie"," 65 - 69 ",185548,82887,102661,false,true,true,false]
["Dolnośląskie","Wszystkie"," 70 i więcej",296013,102211,193802,true,false,true,false]
["Dolnośląskie","Wszystkie","65+",{"$f":"SUM(D18:D19)","v":481561},{"$f":"SUM(E18:E19)","v":185098},{"$f":"SUM(F18:F19)","v":296463},true,true,false,false]
["Dolnośląskie"," Jelenia Góra "," Jelenia Góra ",80889,37678,43211,true,true,true,true]
["Dolnośląskie"," Jelenia Góra "," 0 - 4 ",3183,1618,1565,false,true,true,false]
["Dolnośląskie"," Jelenia Góra "," 5 - 9 ",3523,1806,1717,false,true,true,false]
["Dolnośląskie"," Jelenia Góra "," 10 - 14 ",3023,1562,1461,false,true,true,false]
["Dolnośląskie"," Jelenia Góra "," 15 - 19 ",3241,1581,1660,false,true,true,false]
["Dolnośląskie"," Jelenia Góra "," 20 - 24 ",3983,2014,1969,false,true,true,false]
["Dolnośląskie"," Jelenia Góra "," 25 - 29 ",4920,2453,2467,false,true,true,false]
["Dolnośląskie"," Jelenia Góra "," 30 - 34 ",6508,3347,3161,false,true,true,false]
["Dolnośląskie"," Jelenia Góra "," 35 - 39 ",6547,3285,3262,false,true,true,false]
["Dolnośląskie"," Jelenia Góra "," 40 - 44 ",5591,2767,2824,false,true,true,false]
["Dolnośląskie"," Jelenia Góra "," 45 - 49 ",4561,2289,2272,false,true,true,false]
["Dolnośląskie"," Jelenia Góra "," 50 - 54 ",4840,2282,2558,false,true,true,false]
["Dolnośląskie"," Jelenia Góra "," 55 - 59 ",6747,3064,3683,false,true,true,false]
["Dolnośląskie"," Jelenia Góra "," 60 - 64 ",7669,3408,4261,false,true,true,false]
["Dolnośląskie"," Jelenia Góra "," 65 - 69 ",6113,2551,3562,false,true,true,false]
["Dolnośląskie"," Jelenia Góra "," 70 i więcej",10440,3651,6789,true,false,true,false]
["Dolnośląskie"," Jelenia Góra ","65+",{"$f":"SUM(D35:D36)","v":16553},{"$f":"SUM(E35:E36)","v":6202},{"$f":"SUM(F35:F36)","v":10351},true,true,false,false]
["Dolnośląskie"," Legnica "," Legnica ",100769,47653,53116,true,true,true,true]
["Dolnośląskie"," Legnica "," 0 - 4 ",4552,2329,2223,false,true,true,false]
["Dolnośląskie"," Legnica "," 5 - 9 ",4981,2589,2392,false,true,true,false]
["Dolnośląskie"," Legnica "," 10 - 14 ",4158,2147,2011,false,true,true,false]
["Dolnośląskie"," Legnica "," 15 - 19 ",4640,2401,2239,false,true,true,false]
["Dolnośląskie"," Legnica "," 20 - 24 ",5708,2954,2754,false,true,true,false]
["Dolnośląskie"," Legnica "," 25 - 29 ",6988,3511,3477,false,true,true,false]
["Dolnośląskie"," Legnica "," 30 - 34 ",8503,4301,4202,false,true,true,false]
["Dolnośląskie"," Legnica "," 35 - 39 ",8228,4102,4126,false,true,true,false]
["Dolnośląskie"," Legnica "," 40 - 44 ",7239,3585,3654,false,true,true,false]
["Dolnośląskie"," Legnica "," 45 - 49 ",5993,2928,3065,false,true,true,false]
["Dolnośląskie"," Legnica "," 50 - 54 ",6103,2924,3179,false,true,true,false]
["Dolnośląskie"," Legnica "," 55 - 59 ",7907,3599,4308,false,true,true,false]
["Dolnośląskie"," Legnica "," 60 - 64 ",8566,3786,4780,false,true,true,false]
["Dolnośląskie"," Legnica "," 65 - 69 ",6936,2981,3955,false,true,true,false]
["Dolnośląskie"," Legnica "," 70 i więcej",10267,3516,6751,true,false,true,false]
["Dolnośląskie"," Legnica ","65+",{"$f":"SUM(D52:D53)","v":17203},{"$f":"SUM(E52:E53)","v":6497},{"$f":"SUM(F52:F53)","v":10706},true,true,false,false]
["Dolnośląskie",{"$f":"IF(C54=\"65+\",C55,B54)","v":" Wrocław "}," Wrocław ",637075,297249,339826,true,true,true,true]
["Dolnośląskie",{"$f":"IF(C55=\"65+\",C56,B55)","v":" Wrocław "}," 0 - 4 ",33184,17229,15955,false,true,true,false]
["Dolnośląskie"," Wrocław "," 5 - 9 ",30861,15760,15101,false,true,true,false]
["Dolnośląskie"," Wrocław "," 10 - 14 ",22113,11256,10857,false,true,true,false]
["Dolnośląskie"," Wrocław "," 15 - 19 ",23032,11688,11344,false,true,true,false]
["Dolnośląskie"," Wrocław "," 20 - 24 ",29838,14972,14866,false,true,true,false]
["Dolnośląskie"," Wrocław "," 25 - 29 ",49126,23333,25793,false,true,true,false]
["Dolnośląskie"," Wrocław "," 30 - 34 ",67222,32808,34414,false,true,true,false]
["Dolnośląskie",{"$f":"IF(C62=\"65+\",C63,B62)","v":" Wrocław "}," 35 - 39 ",57696,28691,29005,false,true,true,false]
["Dolnośląskie"," Wrocław "," 40 - 44 ",45928,22714,23214,false,true,true,false]
["Dolnośląskie"," Wrocław "," 45 - 49 ",33605,16581,17024,false,true,true,false]
["Dolnośląskie"," Wrocław "," 50 - 54 ",33188,15757,17431,false,true,true,false]
["Dolnośląskie"," Wrocław "," 55 - 59 ",43122,19795,23327,false,true,true,false]
["Dolnośląskie"," Wrocław "," 60 - 64 ",49355,21666,27689,false,true,true,false]
["Dolnośląskie"," Wrocław "," 65 - 69 ",41922,17842,24080,{"$f":"IFERROR(IF(SEARCH(\" - \",C69)>0,FALSE,TRUE),TRUE)","v":false},{"$f":"IFERROR(IF(SEARCH(\"70\",C69)>0,FALSE,TRUE),TRUE)","v":true},{"$f":"IFERROR(IF(SEARCH(\"65+\",C69)>0,FALSE,TRUE),TRUE)","v":true},{"$f":"AND(G69:I69)","v":false}]
["Dolnośląskie"," Wrocław "," 70 i więcej",76883,27157,49726,true,false,true,false]
["Dolnośląskie"," Wrocław ","65+",{"$f":"SUM(D69:D70)","v":118805},{"$f":"SUM(E69:E70)","v":44999},{"$f":"SUM(F69:F70)","v":73806},true,true,false,false]
["Dolnośląskie"," Wałbrzych "," Wałbrzych ",114930,54112,60818,true,true,true,true]
["Dolnośląskie"," Wałbrzych "," 0 - 4 ",4390,2255,2135,false,true,true,false]
["Dolnośląskie"," Wałbrzych "," 5 - 9 ",5064,2551,2513,false,true,true,false]
["Dolnośląskie"," Wałbrzych "," 10 - 14 ",4536,2344,2192,false,true,true,false]
["Dolnośląskie"," Wałbrzych "," 15 - 19 ",4809,2422,2387,false,true,true,false]
["Dolnośląskie"," Wałbrzych "," 20 - 24 ",6043,3058,2985,false,true,true,false]
["Dolnośląskie"," Wałbrzych "," 25 - 29 ",7392,3820,3572,false,true,true,false]
["Dolnośląskie"," Wałbrzych "," 30 - 34 ",9377,4730,4647,false,true,true,false]
["Dolnośląskie"," Wałbrzych "," 35 - 39 ",9169,4750,4419,false,true,true,false]
["Dolnośląskie"," Wałbrzych "," 40 - 44 ",7514,3774,3740,false,true,true,false]
["Dolnośląskie"," Wałbrzych "," 45 - 49 ",6322,3148,3174,false,true,true,false]
["Dolnośląskie"," Wałbrzych "," 50 - 54 ",7339,3523,3816,false,true,true,false]
["Dolnośląskie"," Wałbrzych "," 55 - 59 ",10596,5005,5591,false,true,true,false]
["Dolnośląskie"," Wałbrzych "," 60 - 64 ",10467,4689,5778,false,true,true,false]
["Dolnośląskie"," Wałbrzych "," 65 - 69 ",7825,3310,4515,false,true,true,false]
["Dolnośląskie"," Wałbrzych "," 70 i więcej",14087,4733,9354,true,false,true,false]
["Dolnośląskie"," Wałbrzych ","65+",{"$f":"SUM(D86:D87)","v":21912},{"$f":"SUM(E86:E87)","v":8043},{"$f":"SUM(F86:F87)","v":13869},true,true,false,false]
["Dolnośląskie"," bolesławiecki "," bolesławiecki ",90195,43801,46394,true,true,true,true]
["Dolnośląskie"," bolesławiecki "," 0 - 4 ",4148,2089,2059,false,true,true,false]
["Dolnośląskie"," bolesławiecki "," 5 - 9 ",4876,2507,2369,false,true,true,false]
["Dolnośląskie"," bolesławiecki "," 10 - 14 ",4292,2179,2113,false,true,true,false]
["Dolnośląskie"," bolesławiecki "," 15 - 19 ",4686,2480,2206,false,true,true,false]
["Dolnośląskie"," bolesławiecki "," 20 - 24 ",5522,2776,2746,false,true,true,false]
["Dolnośląskie"," bolesławiecki "," 25 - 29 ",6716,3415,3301,false,true,true,false]
["Dolnośląskie"," bolesławiecki "," 30 - 34 ",7369,3828,3541,false,true,true,false]
["Dolnośląskie"," bolesławiecki "," 35 - 39 ",7319,3711,3608,false,true,true,false]
["Dolnośląskie"," bolesławiecki "," 40 - 44 ",6737,3433,3304,false,true,true,false]
["Dolnośląskie"," bolesławiecki "," 45 - 49 ",5317,2701,2616,false,true,true,false]
["Dolnośląskie"," bolesławiecki "," 50 - 54 ",5640,2820,2820,false,true,true,false]
["Dolnośląskie"," bolesławiecki "," 55 - 59 ",7048,3446,3602,false,true,true,false]
["Dolnośląskie"," bolesławiecki "," 60 - 64 ",6749,3145,3604,false,true,true,false]
["Dolnośląskie"," bolesławiecki "," 65 - 69 ",5285,2330,2955,false,true,true,false]
["Dolnośląskie"," bolesławiecki "," 70 i więcej",8491,2941,5550,true,false,true,false]
["Dolnośląskie"," bolesławiecki ","65+",{"$f":"SUM(D103:D104)","v":13776},{"$f":"SUM(E103:E104)","v":5271},{"$f":"SUM(F103:F104)","v":8505},true,true,false,false]
["Dolnośląskie"," dzierżoniowski "," dzierżoniowski ",102977,49060,53917,true,true,true,true]
["Dolnośląskie"," dzierżoniowski "," 0 - 4 ",4230,2181,2049,false,true,true,false]
["Dolnośląskie"," dzierżoniowski "," 5 - 9 ",4813,2415,2398,false,true,true,false]
["Dolnośląskie"," dzierżoniowski "," 10 - 14 ",4242,2178,2064,false,true,true,false]
["Dolnośląskie"," dzierżoniowski "," 15 - 19 ",4645,2378,2267,false,true,true,false]
["Dolnośląskie"," dzierżoniowski "," 20 - 24 ",5806,2974,2832,false,true,true,false]
["Dolnośląskie"," dzierżoniowski "," 25 - 29 ",6953,3494,3459,false,true,true,false]
["Dolnośląskie"," dzierżoniowski "," 30 - 34 ",8331,4268,4063,false,true,true,false]
["Dolnośląskie"," dzierżoniowski "," 35 - 39 ",8280,4230,4050,false,true,true,false]
["Dolnośląskie"," dzierżoniowski "," 40 - 44 ",7230,3683,3547,false,true,true,false]
["Dolnośląskie"," dzierżoniowski "," 45 - 49 ",6052,3070,2982,false,true,true,false]
["Dolnośląskie"," dzierżoniowski "," 50 - 54 ",6615,3266,3349,false,true,true,false]
["Dolnośląskie"," dzierżoniowski "," 55 - 59 ",8616,4146,4470,false,true,true,false]
["Dolnośląskie"," dzierżoniowski "," 60 - 64 ",8652,4005,4647,false,true,true,false]
["Dolnośląskie",{"$f":"IF(C119=\"65+\",C120,B119)","v":" dzierżoniowski "}," 65 - 69 ",6656,2979,3677,false,true,true,false]
["Dolnośląskie"," dzierżoniowski "," 70 i więcej",11856,3793,8063,true,false,true,false]
["Dolnośląskie"," dzierżoniowski ","65+",{"$f":"SUM(D120:D121)","v":18512},{"$f":"SUM(E120:E121)","v":6772},{"$f":"SUM(F120:F121)","v":11740},true,true,false,false]
["Dolnośląskie"," głogowski "," głogowski ",90060,43769,46291,true,true,true,true]
["Dolnośląskie"," głogowski "," 0 - 4 ",4349,2229,2120,false,true,true,false]
["Dolnośląskie"," głogowski "," 5 - 9 ",5179,2565,2614,false,true,true,false]
["Dolnośląskie"," głogowski "," 10 - 14 ",4323,2196,2127,false,true,true,false]
["Dolnośląskie"," głogowski "," 15 - 19 ",4530,2289,2241,false,true,true,false]
["Dolnośląskie"," głogowski "," 20 - 24 ",5028,2573,2455,false,true,true,false]
["Dolnośląskie"," głogowski "," 25 - 29 ",6255,3183,3072,false,true,true,false]
["Dolnośląskie"," głogowski "," 30 - 34 ",7526,3855,3671,false,true,true,false]
["Dolnośląskie"," głogowski "," 35 - 39 ",7979,4060,3919,false,true,true,false]
["Dolnośląskie"," głogowski "," 40 - 44 ",6791,3469,3322,false,true,true,false]
["Dolnośląskie"," głogowski "," 45 - 49 ",4995,2507,2488,{"$f":"IFERROR(IF(SEARCH(\" - \",C133)>0,FALSE,TRUE),TRUE)","v":false},{"$f":"IFERROR(IF(SEARCH(\"70\",C133)>0,FALSE,TRUE),TRUE)","v":true},{"$f":"IFERROR(IF(SEARCH(\"65+\",C133)>0,FALSE,TRUE),TRUE)","v":true},{"$f":"AND(G133:I133)","v":false}]
["Dolnośląskie"," głogowski "," 50 - 54 ",5063,2370,2693,false,true,true,false]
["Dolnośląskie"," głogowski "," 55 - 59 ",6781,3180,3601,false,true,true,false]
["Dolnośląskie"," głogowski "," 60 - 64 ",7697,3611,4086,false,true,true,false]
["Dolnośląskie"," głogowski "," 65 - 69 ",6430,2993,3437,false,true,true,false]
["Dolnośląskie"," głogowski "," 70 i więcej",7134,2689,4445,true,false,true,false]
["Dolnośląskie"," głogowski ","65+",{"$f":"SUM(D137:D138)","v":13564},{"$f":"SUM(E137:E138)","v":5682},{"$f":"SUM(F137:F138)","v":7882},true,true,false,false]
["Dolnośląskie"," górowski "," górowski ",35847,17735,18112,true,true,true,true]
["Dolnośląskie"," górowski "," 0 - 4 ",1702,868,834,false,true,true,false]
["Dolnośląskie"," górowski "," 5 - 9 ",1970,1025,945,false,true,true,false]
["Dolnośląskie"," górowski "," 10 - 14 ",1930,993,937,false,true,true,false]
["Dolnośląskie"," górowski "," 15 - 19 ",2062,1043,1019,false,true,true,false]
["Dolnośląskie"," górowski "," 20 - 24 ",2641,1311,1330,false,true,true,false]
["Dolnośląskie"," górowski "," 25 - 29 ",2662,1402,1260,false,true,true,false]
["Dolnośląskie"," górowski "," 30 - 34 ",2823,1484,1339,false,true,true,false]
["Dolnośląskie"," górowski "," 35 - 39 ",2643,1396,1247,false,true,true,false]
["Dolnośląskie"," górowski "," 40 - 44 ",2455,1236,1219,false,true,true,false]
["Dolnośląskie"," górowski "," 45 - 49 ",2134,1098,1036,false,true,true,false]
["Dolnośląskie"," górowski "," 50 - 54 ",2211,1101,1110,false,true,true,false]
["Dolnośląskie"," górowski "," 55 - 59 ",2707,1359,1348,false,true,true,false]
["Dolnośląskie"," górowski "," 60 - 64 ",2595,1296,1299,false,true,true,false]
["Dolnośląskie"," górowski "," 65 - 69 ",2059,999,1060,false,true,true,false]
["Dolnośląskie"," górowski "," 70 i więcej",3253,1124,2129,true,false,true,false]
["Dolnośląskie"," górowski ","65+",{"$f":"SUM(D154:D155)","v":5312},{"$f":"SUM(E154:E155)","v":2123},{"$f":"SUM(F154:F155)","v":3189},true,true,false,false]
["Dolnośląskie"," jaworski "," jaworski ",51324,25158,26166,true,true,true,true]
["Dolnośląskie"," jaworski "," 0 - 4 ",2190,1125,1065,false,true,true,false]
["Dolnośląskie"," jaworski "," 5 - 9 ",2612,1339,1273,false,true,true,false]
["Dolnośląskie"," jaworski "," 10 - 14 ",2298,1202,1096,false,true,true,false]
["Dolnośląskie"," jaworski "," 15 - 19 ",2600,1316,1284,false,true,true,false]
["Dolnośląskie"," jaworski "," 20 - 24 ",3155,1613,1542,false,true,true,false]
["Dolnośląskie"," jaworski "," 25 - 29 ",3746,1974,1772,false,true,true,false]
["Dolnośląskie"," jaworski "," 30 - 34 ",4286,2129,2157,false,true,true,false]
["Dolnośląskie"," jaworski "," 35 - 39 ",4080,2116,1964,false,true,true,false]
["Dolnośląskie"," jaworski "," 40 - 44 ",3511,1830,1681,false,true,true,false]
["Dolnośląskie"," jaworski "," 45 - 49 ",2989,1523,1466,false,true,true,false]
["Dolnośląskie"," jaworski "," 50 - 54 ",3320,1652,1668,false,true,true,false]
["Dolnośląskie"," jaworski "," 55 - 59 ",4237,2060,2177,false,true,true,false]
["Dolnośląskie"," jaworski "," 60 - 64 ",4210,2093,2117,false,true,true,false]
["Dolnośląskie"," jaworski "," 65 - 69 ",3235,1537,1698,false,true,true,false]
["Dolnośląskie"," jaworski "," 70 i więcej",4855,1649,3206,true,false,true,false]
["Dolnośląskie"," jaworski ","65+",{"$f":"SUM(D171:D172)","v":8090},{"$f":"SUM(E171:E172)","v":3186},{"$f":"SUM(F171:F172)","v":4904},true,true,false,false]
["Dolnośląskie"," jeleniogórski "," jeleniogórski ",64430,31104,33326,true,true,true,true]
["Dolnośląskie"," jeleniogórski "," 0 - 4 ",2496,1303,1193,false,true,true,false]
["Dolnośląskie"," jeleniogórski "," 5 - 9 ",3024,1540,1484,false,true,true,false]
["Dolnośląskie"," jeleniogórski "," 10 - 14 ",2886,1502,1384,false,true,true,false]
["Dolnośląskie"," jeleniogórski "," 15 - 19 ",3146,1613,1533,false,true,true,false]
["Dolnośląskie"," jeleniogórski "," 20 - 24 ",3748,1909,1839,false,true,true,false]
["Dolnośląskie"," jeleniogórski "," 25 - 29 ",4221,2137,2084,false,true,true,false]
["Dolnośląskie"," jeleniogórski "," 30 - 34 ",5117,2550,2567,false,true,true,false]
["Dolnośląskie"," jeleniogórski "," 35 - 39 ",5287,2720,2567,false,true,true,false]
["Dolnośląskie"," jeleniogórski "," 40 - 44 ",4886,2503,2383,false,true,true,false]
["Dolnośląskie",{"$f":"IF(C183=\"65+\",C184,B183)","v":" jeleniogórski "}," 45 - 49 ",3908,1933,1975,false,true,true,false]
["Dolnośląskie"," jeleniogórski "," 50 - 54 ",4124,2029,2095,false,true,true,false]
["Dolnośląskie"," jeleniogórski "," 55 - 59 ",5499,2645,2854,false,true,true,false]
["Dolnośląskie"," jeleniogórski "," 60 - 64 ",5891,2785,3106,false,true,true,false]
["Dolnośląskie"," jeleniogórski "," 65 - 69 ",4263,1967,2296,false,true,true,false]
["Dolnośląskie"," jeleniogórski "," 70 i więcej",5934,1968,3966,true,false,true,false]
["Dolnośląskie"," jeleniogórski ","65+",{"$f":"SUM(D188:D189)","v":10197},{"$f":"SUM(E188:E189)","v":3935},{"$f":"SUM(F188:F189)","v":6262},true,true,false,false]
["Dolnośląskie"," kamiennogórski "," kamiennogórski ",44280,21635,22645,true,true,true,true]
["Dolnośląskie"," kamiennogórski "," 0 - 4 ",1725,891,834,false,true,true,false]
["Dolnośląskie"," kamiennogórski "," 5 - 9 ",2204,1167,1037,false,true,true,false]
["Dolnośląskie"," kamiennogórski "," 10 - 14 ",2141,1121,1020,false,true,true,false]
["Dolnośląskie"," kamiennogórski "," 15 - 19 ",2291,1185,1106,false,true,true,false]
["Dolnośląskie"," kamiennogórski "," 20 - 24 ",2790,1462,1328,false,true,true,false]
["Dolnośląskie"," kamiennogórski "," 25 - 29 ",3007,1582,1425,{"$f":"IFERROR(IF(SEARCH(\" - \",C197)>0,FALSE,TRUE),TRUE)","v":false},{"$f":"IFERROR(IF(SEARCH(\"70\",C197)>0,FALSE,TRUE),TRUE)","v":true},{"$f":"IFERROR(IF(SEARCH(\"65+\",C197)>0,FALSE,TRUE),TRUE)","v":true},{"$f":"AND(G197:I197)","v":false}]
["Dolnośląskie"," kamiennogórski "," 30 - 34 ",3557,1869,1688,false,true,true,false]
["Dolnośląskie"," kamiennogórski "," 35 - 39 ",3510,1839,1671,false,true,true,false]
["Dolnośląskie"," kamiennogórski "," 40 - 44 ",3064,1564,1500,false,true,true,false]
["Dolnośląskie"," kamiennogórski "," 45 - 49 ",2582,1347,1235,false,true,true,false]
["Dolnośląskie"," kamiennogórski "," 50 - 54 ",2953,1501,1452,false,true,true,false]
["Dolnośląskie"," kamiennogórski "," 55 - 59 ",3597,1724,1873,false,true,true,false]
["Dolnośląskie"," kamiennogórski "," 60 - 64 ",3572,1741,1831,false,true,true,false]
["Dolnośląskie"," kamiennogórski "," 65 - 69 ",2806,1266,1540,false,true,true,false]
["Dolnośląskie"," kamiennogórski "," 70 i więcej",4481,1376,3105,true,false,true,false]
["Dolnośląskie"," kamiennogórski ","65+",{"$f":"SUM(D205:D206)","v":7287},{"$f":"SUM(E205:E206)","v":2642},{"$f":"SUM(F205:F206)","v":4645},true,true,false,false]
["Dolnośląskie"," kłodzki "," kłodzki ",161856,78131,83725,true,true,true,true]
["Dolnośląskie"," kłodzki "," 0 - 4 ",6318,3344,2974,false,true,true,false]
["Dolnośląskie"," kłodzki "," 5 - 9 ",7657,3954,3703,false,true,true,false]
["Dolnośląskie"," kłodzki "," 10 - 14 ",6722,3438,3284,false,true,true,false]
["Dolnośląskie"," kłodzki "," 15 - 19 ",7389,3844,3545,false,true,true,false]
["Dolnośląskie"," kłodzki "," 20 - 24 ",9573,4904,4669,false,true,true,false]
["Dolnośląskie"," kłodzki "," 25 - 29 ",10810,5471,5339,false,true,true,false]
["Dolnośląskie"," kłodzki "," 30 - 34 ",13085,6767,6318,false,true,true,false]
["Dolnośląskie"," kłodzki "," 35 - 39 ",13084,6772,6312,false,true,true,false]
["Dolnośląskie"," kłodzki "," 40 - 44 ",11192,5732,5460,false,true,true,false]
["Dolnośląskie"," kłodzki "," 45 - 49 ",9301,4659,4642,false,true,true,false]
["Dolnośląskie"," kłodzki "," 50 - 54 ",10427,5177,5250,false,true,true,false]
["Dolnośląskie"," kłodzki "," 55 - 59 ",13713,6577,7136,false,true,true,false]
["Dolnośląskie"," kłodzki "," 60 - 64 ",13558,6397,7161,false,true,true,false]
["Dolnośląskie"," kłodzki "," 65 - 69 ",11266,5047,6219,false,true,true,false]
["Dolnośląskie"," kłodzki "," 70 i więcej",17761,6048,11713,true,false,true,false]
["Dolnośląskie"," kłodzki ","65+",{"$f":"SUM(D222:D223)","v":29027},{"$f":"SUM(E222:E223)","v":11095},{"$f":"SUM(F222:F223)","v":17932},true,true,false,false]
["Dolnośląskie"," legnicki "," legnicki ",55115,26975,28140,true,true,true,true]
["Dolnośląskie"," legnicki "," 0 - 4 ",2595,1359,1236,false,true,true,false]
["Dolnośląskie"," legnicki "," 5 - 9 ",2983,1504,1479,false,true,true,false]
["Dolnośląskie"," legnicki "," 10 - 14 ",2675,1396,1279,false,true,true,false]
["Dolnośląskie"," legnicki "," 15 - 19 ",2828,1463,1365,false,true,true,false]
["Dolnośląskie"," legnicki "," 20 - 24 ",3630,1929,1701,false,true,true,false]
["Dolnośląskie"," legnicki "," 25 - 29 ",3940,2025,1915,false,true,true,false]
["Dolnośląskie"," legnicki "," 30 - 34 ",4593,2286,2307,false,true,true,false]
["Dolnośląskie"," legnicki "," 35 - 39 ",4408,2231,2177,false,true,true,false]
["Dolnośląskie"," legnicki "," 40 - 44 ",4016,2080,1936,false,true,true,false]
["Dolnośląskie"," legnicki "," 45 - 49 ",3324,1688,1636,false,true,true,false]
["Dolnośląskie"," legnicki "," 50 - 54 ",3530,1720,1810,false,true,true,false]
["Dolnośląskie"," legnicki "," 55 - 59 ",4438,2182,2256,false,true,true,false]
["Dolnośląskie"," legnicki "," 60 - 64 ",4156,2008,2148,false,true,true,false]
["Dolnośląskie"," legnicki "," 65 - 69 ",3169,1499,1670,false,true,true,false]
["Dolnośląskie"," legnicki "," 70 i więcej",4830,1605,3225,true,false,true,false]
["Dolnośląskie"," legnicki ","65+",{"$f":"SUM(D239:D240)","v":7999},{"$f":"SUM(E239:E240)","v":3104},{"$f":"SUM(F239:F240)","v":4895},true,true,false,false]
["Dolnośląskie"," lubański "," lubański ",55356,26996,28360,true,true,true,true]
["Dolnośląskie"," lubański "," 0 - 4 ",2224,1152,1072,false,true,true,false]
["Dolnośląskie"," lubański "," 5 - 9 ",2690,1381,1309,false,true,true,false]
["Dolnośląskie"," lubański "," 10 - 14 ",2538,1338,1200,false,true,true,false]
["Dolnośląskie"," lubański "," 15 - 19 ",2915,1532,1383,false,true,true,false]
["Dolnośląskie"," lubański "," 20 - 24 ",3527,1802,1725,false,true,true,false]
["Dolnośląskie",{"$f":"IF(C247=\"65+\",C248,B247)","v":" lubański "}," 25 - 29 ",3781,1954,1827,false,true,true,false]
["Dolnośląskie"," lubański "," 30 - 34 ",4451,2315,2136,false,true,true,false]
["Dolnośląskie"," lubański "," 35 - 39 ",4427,2261,2166,false,true,true,false]
["Dolnośląskie"," lubański "," 40 - 44 ",4232,2238,1994,false,true,true,false]
["Dolnośląskie"," lubański "," 45 - 49 ",3213,1650,1563,false,true,true,false]
["Dolnośląskie"," lubański "," 50 - 54 ",3365,1682,1683,false,true,true,false]
["Dolnośląskie"," lubański "," 55 - 59 ",4336,2104,2232,false,true,true,false]
["Dolnośląskie"," lubański "," 60 - 64 ",4663,2186,2477,false,true,true,false]
["Dolnośląskie"," lubański "," 65 - 69 ",3764,1700,2064,false,true,true,false]
["Dolnośląskie"," lubański "," 70 i więcej",5230,1701,3529,true,false,true,false]
["Dolnośląskie"," lubański ","65+",{"$f":"SUM(D256:D257)","v":8994},{"$f":"SUM(E256:E257)","v":3401},{"$f":"SUM(F256:F257)","v":5593},true,true,false,false]
["Dolnośląskie"," lubiński "," lubiński ",106267,51472,54795,true,true,true,true]
["Dolnośląskie"," lubiński "," 0 - 4 ",5032,2532,2500,false,true,true,false]
["Dolnośląskie"," lubiński "," 5 - 9 ",5569,2872,2697,{"$f":"IFERROR(IF(SEARCH(\" - \",C261)>0,FALSE,TRUE),TRUE)","v":false},{"$f":"IFERROR(IF(SEARCH(\"70\",C261)>0,FALSE,TRUE),TRUE)","v":true},{"$f":"IFERROR(IF(SEARCH(\"65+\",C261)>0,FALSE,TRUE),TRUE)","v":true},{"$f":"AND(G261:I261)","v":false}]
["Dolnośląskie"," lubiński "," 10 - 14 ",4825,2493,2332,false,true,true,false]
["Dolnośląskie"," lubiński "," 15 - 19 ",4973,2485,2488,false,true,true,false]
["Dolnośląskie"," lubiński "," 20 - 24 ",6042,3060,2982,false,true,true,false]
["Dolnośląskie"," lubiński "," 25 - 29 ",7055,3534,3521,false,true,true,false]
["Dolnośląskie"," lubiński "," 30 - 34 ",8426,4311,4115,false,true,true,false]
["Dolnośląskie"," lubiński "," 35 - 39 ",9181,4674,4507,false,true,true,false]
["Dolnośląskie"," lubiński "," 40 - 44 ",8311,4240,4071,false,true,true,false]
["Dolnośląskie"," lubiński "," 45 - 49 ",6221,3102,3119,false,true,true,false]
["Dolnośląskie"," lubiński "," 50 - 54 ",6192,3013,3179,false,true,true,false]
["Dolnośląskie"," lubiński "," 55 - 59 ",8075,3794,4281,false,true,true,false]
["Dolnośląskie"," lubiński "," 60 - 64 ",8737,4017,4720,false,true,true,false]
["Dolnośląskie"," lubiński "," 65 - 69 ",7668,3453,4215,false,true,true,false]
["Dolnośląskie"," lubiński "," 70 i więcej",9960,3892,6068,true,false,true,false]
["Dolnośląskie"," lubiński ","65+",{"$f":"SUM(D273:D274)","v":17628},{"$f":"SUM(E273:E274)","v":7345},{"$f":"SUM(F273:F274)","v":10283},true,true,false,false]
["Dolnośląskie"," lwówecki "," lwówecki ",46536,22719,23817,true,true,true,true]
["Dolnośląskie"," lwówecki "," 0 - 4 ",1966,1018,948,false,true,true,false]
["Dolnośląskie"," lwówecki "," 5 - 9 ",2192,1086,1106,false,true,true,false]
["Dolnośląskie"," lwówecki "," 10 - 14 ",2100,1063,1037,false,true,true,false]
["Dolnośląskie"," lwówecki "," 15 - 19 ",2448,1213,1235,false,true,true,false]
["Dolnośląskie"," lwówecki "," 20 - 24 ",3154,1627,1527,false,true,true,false]
["Dolnośląskie"," lwówecki "," 25 - 29 ",3445,1759,1686,false,true,true,false]
["Dolnośląskie"," lwówecki "," 30 - 34 ",3809,1992,1817,false,true,true,false]
["Dolnośląskie"," lwówecki "," 35 - 39 ",3619,1920,1699,false,true,true,false]
["Dolnośląskie"," lwówecki "," 40 - 44 ",3140,1587,1553,false,true,true,false]
["Dolnośląskie"," lwówecki "," 45 - 49 ",2698,1354,1344,false,true,true,false]
["Dolnośląskie"," lwówecki "," 50 - 54 ",2967,1522,1445,false,true,true,false]
["Dolnośląskie"," lwówecki "," 55 - 59 ",3924,1944,1980,false,true,true,false]
["Dolnośląskie"," lwówecki "," 60 - 64 ",3898,1878,2020,false,true,true,false]
["Dolnośląskie"," lwówecki "," 65 - 69 ",2922,1377,1545,false,true,true,false]
["Dolnośląskie"," lwówecki "," 70 i więcej",4254,1379,2875,true,false,true,false]
["Dolnośląskie"," lwówecki ","65+",{"$f":"SUM(D290:D291)","v":7176},{"$f":"SUM(E290:E291)","v":2756},{"$f":"SUM(F290:F291)","v":4420},true,true,false,false]
["Dolnośląskie"," milicki "," milicki ",37170,18404,18766,true,true,true,true]
["Dolnośląskie"," milicki "," 0 - 4 ",1932,962,970,false,true,true,false]
["Dolnośląskie"," milicki "," 5 - 9 ",2203,1137,1066,false,true,true,false]
["Dolnośląskie"," milicki "," 10 - 14 ",1960,1007,953,false,true,true,false]
["Dolnośląskie"," milicki "," 15 - 19 ",2202,1190,1012,false,true,true,false]
["Dolnośląskie"," milicki "," 20 - 24 ",2275,1125,1150,false,true,true,false]
["Dolnośląskie"," milicki "," 25 - 29 ",2691,1434,1257,false,true,true,false]
["Dolnośląskie"," milicki "," 30 - 34 ",3135,1643,1492,false,true,true,false]
["Dolnośląskie"," milicki "," 35 - 39 ",2951,1499,1452,false,true,true,false]
["Dolnośląskie"," milicki "," 40 - 44 ",2591,1370,1221,false,true,true,false]
["Dolnośląskie"," milicki "," 45 - 49 ",2079,1056,1023,false,true,true,false]
["Dolnośląskie"," milicki "," 50 - 54 ",2144,1110,1034,false,true,true,false]
["Dolnośląskie"," milicki "," 55 - 59 ",2682,1284,1398,false,true,true,false]
["Dolnośląskie"," milicki "," 60 - 64 ",2788,1379,1409,false,true,true,false]
["Dolnośląskie"," milicki "," 65 - 69 ",2280,1059,1221,false,true,true,false]
["Dolnośląskie"," milicki "," 70 i więcej",3257,1149,2108,true,false,true,false]
["Dolnośląskie"," milicki ","65+",{"$f":"SUM(D307:D308)","v":5537},{"$f":"SUM(E307:E308)","v":2208},{"$f":"SUM(F307:F308)","v":3329},true,true,false,false]
["Dolnośląskie"," oleśnicki "," oleśnicki ",106602,52105,54497,true,true,true,true]
["Dolnośląskie"," oleśnicki "," 0 - 4 ",5392,2762,2630,false,true,true,false]
["Dolnośląskie",{"$f":"IF(C311=\"65+\",C312,B311)","v":" oleśnicki "}," 5 - 9 ",5972,3088,2884,false,true,true,false]
["Dolnośląskie"," oleśnicki "," 10 - 14 ",5193,2674,2519,false,true,true,false]
["Dolnośląskie"," oleśnicki "," 15 - 19 ",5492,2769,2723,false,true,true,false]
["Dolnośląskie"," oleśnicki "," 20 - 24 ",6827,3436,3391,false,true,true,false]
["Dolnośląskie"," oleśnicki "," 25 - 29 ",7895,4039,3856,false,true,true,false]
["Dolnośląskie"," oleśnicki "," 30 - 34 ",9155,4653,4502,false,true,true,false]
["Dolnośląskie"," oleśnicki "," 35 - 39 ",8866,4563,4303,false,true,true,false]
["Dolnośląskie"," oleśnicki "," 40 - 44 ",7900,4076,3824,false,true,true,false]
["Dolnośląskie"," oleśnicki "," 45 - 49 ",6536,3305,3231,false,true,true,false]
["Dolnośląskie"," oleśnicki "," 50 - 54 ",6519,3266,3253,false,true,true,false]
["Dolnośląskie"," oleśnicki "," 55 - 59 ",7446,3683,3763,false,true,true,false]
["Dolnośląskie"," oleśnicki "," 60 - 64 ",7517,3562,3955,false,true,true,false]
["Dolnośląskie"," oleśnicki "," 65 - 69 ",6306,2835,3471,false,true,true,false]
["Dolnośląskie"," oleśnicki "," 70 i więcej",9586,3394,6192,{"$f":"IFERROR(IF(SEARCH(\" - \",C325)>0,FALSE,TRUE),TRUE)","v":true},{"$f":"IFERROR(IF(SEARCH(\"70\",C325)>0,FALSE,TRUE),TRUE)","v":false},{"$f":"IFERROR(IF(SEARCH(\"65+\",C325)>0,FALSE,TRUE),TRUE)","v":true},{"$f":"AND(G325:I325)","v":false}]
["Dolnośląskie"," oleśnicki ","65+",{"$f":"SUM(D324:D325)","v":15892},{"$f":"SUM(E324:E325)","v":6229},{"$f":"SUM(F324:F325)","v":9663},true,true,false,false]
["Dolnośląskie"," oławski "," oławski ",76201,37171,39030,true,true,true,true]
["Dolnośląskie"," oławski "," 0 - 4 ",3747,1897,1850,false,true,true,false]
["Dolnośląskie"," oławski "," 5 - 9 ",4443,2307,2136,false,true,true,false]
["Dolnośląskie"," oławski "," 10 - 14 ",3556,1807,1749,false,true,true,false]
["Dolnośląskie"," oławski "," 15 - 19 ",3824,1907,1917,false,true,true,false]
["Dolnośląskie"," oławski "," 20 - 24 ",4375,2240,2135,false,true,true,false]
["Dolnośląskie"," oławski "," 25 - 29 ",5263,2696,2567,false,true,true,false]
["Dolnośląskie"," oławski "," 30 - 34 ",6552,3297,3255,false,true,true,false]
["Dolnośląskie"," oławski "," 35 - 39 ",6847,3525,3322,false,true,true,false]
["Dolnośląskie"," oławski "," 40 - 44 ",5878,3043,2835,false,true,true,false]
["Dolnośląskie"," oławski "," 45 - 49 ",4467,2261,2206,false,true,true,false]
["Dolnośląskie"," oławski "," 50 - 54 ",4451,2220,2231,false,true,true,false]
["Dolnośląskie"," oławski "," 55 - 59 ",5414,2577,2837,false,true,true,false]
["Dolnośląskie"," oławski "," 60 - 64 ",5759,2652,3107,false,true,true,false]
["Dolnośląskie"," oławski "," 65 - 69 ",4948,2274,2674,false,true,true,false]
["Dolnośląskie"," oławski "," 70 i więcej",6677,2468,4209,true,false,true,false]
["Dolnośląskie"," oławski ","65+",{"$f":"SUM(D341:D342)","v":11625},{"$f":"SUM(E341:E342)","v":4742},{"$f":"SUM(F341:F342)","v":6883},true,true,false,false]
["Dolnośląskie"," polkowicki "," polkowicki ",63081,31207,31874,true,true,true,true]
["Dolnośląskie"," polkowicki "," 0 - 4 ",3202,1647,1555,false,true,true,false]
["Dolnośląskie"," polkowicki "," 5 - 9 ",3691,1903,1788,false,true,true,false]
["Dolnośląskie"," polkowicki "," 10 - 14 ",3195,1662,1533,false,true,true,false]
["Dolnośląskie"," polkowicki "," 15 - 19 ",3546,1787,1759,false,true,true,false]
["Dolnośląskie"," polkowicki "," 20 - 24 ",4621,2338,2283,false,true,true,false]
["Dolnośląskie"," polkowicki "," 25 - 29 ",4681,2406,2275,false,true,true,false]
["Dolnośląskie"," polkowicki "," 30 - 34 ",5097,2616,2481,false,true,true,false]
["Dolnośląskie"," polkowicki "," 35 - 39 ",4947,2496,2451,false,true,true,false]
["Dolnośląskie"," polkowicki "," 40 - 44 ",4743,2431,2312,false,true,true,false]
["Dolnośląskie"," polkowicki "," 45 - 49 ",4164,2148,2016,false,true,true,false]
["Dolnośląskie"," polkowicki "," 50 - 54 ",4076,2079,1997,false,true,true,false]
["Dolnośląskie"," polkowicki "," 55 - 59 ",4499,2302,2197,false,true,true,false]
["Dolnośląskie"," polkowicki "," 60 - 64 ",4134,2005,2129,false,true,true,false]
["Dolnośląskie"," polkowicki "," 65 - 69 ",3523,1597,1926,false,true,true,false]
["Dolnośląskie"," polkowicki "," 70 i więcej",4962,1790,3172,true,false,true,false]
["Dolnośląskie"," polkowicki ","65+",{"$f":"SUM(D358:D359)","v":8485},{"$f":"SUM(E358:E359)","v":3387},{"$f":"SUM(F358:F359)","v":5098},true,true,false,false]
["Dolnośląskie"," strzeliński "," strzeliński ",44075,21822,22253,true,true,true,true]
["Dolnośląskie"," strzeliński "," 0 - 4 ",2088,1076,1012,false,true,true,false]
["Dolnośląskie"," strzeliński "," 5 - 9 ",2258,1186,1072,false,true,true,false]
["Dolnośląskie"," strzeliński "," 10 - 14 ",2010,1044,966,false,true,true,false]
["Dolnośląskie"," strzeliński "," 15 - 19 ",2295,1219,1076,false,true,true,false]
["Dolnośląskie"," strzeliński "," 20 - 24 ",2799,1466,1333,false,true,true,false]
["Dolnośląskie"," strzeliński "," 25 - 29 ",3148,1636,1512,false,true,true,false]
["Dolnośląskie"," strzeliński "," 30 - 34 ",3653,1939,1714,false,true,true,false]
["Dolnośląskie"," strzeliński "," 35 - 39 ",3494,1792,1702,false,true,true,false]
["Dolnośląskie"," strzeliński "," 40 - 44 ",3189,1625,1564,false,true,true,false]
["Dolnośląskie"," strzeliński "," 45 - 49 ",2691,1391,1300,false,true,true,false]
["Dolnośląskie"," strzeliński "," 50 - 54 ",2783,1435,1348,false,true,true,false]
["Dolnośląskie"," strzeliński "," 55 - 59 ",3452,1751,1701,false,true,true,false]
["Dolnośląskie"," strzeliński "," 60 - 64 ",3333,1651,1682,false,true,true,false]
["Dolnośląskie"," strzeliński "," 65 - 69 ",2639,1218,1421,false,true,true,false]
["Dolnośląskie",{"$f":"IF(C375=\"65+\",C376,B375)","v":" strzeliński "}," 70 i więcej",4243,1393,2850,true,false,true,false]
["Dolnośląskie"," strzeliński ","65+",{"$f":"SUM(D375:D376)","v":6882},{"$f":"SUM(E375:E376)","v":2611},{"$f":"SUM(F375:F376)","v":4271},true,true,false,false]
["Dolnośląskie"," średzki "," średzki ",52969,26179,26790,true,true,true,true]
["Dolnośląskie"," średzki "," 0 - 4 ",2537,1324,1213,false,true,true,false]
["Dolnośląskie"," średzki "," 5 - 9 ",3104,1573,1531,false,true,true,false]
["Dolnośląskie"," średzki "," 10 - 14 ",2553,1338,1215,false,true,true,false]
["Dolnośląskie"," średzki "," 15 - 19 ",2734,1382,1352,false,true,true,false]
["Dolnośląskie"," średzki "," 20 - 24 ",3428,1742,1686,false,true,true,false]
["Dolnośląskie"," średzki "," 25 - 29 ",3869,2038,1831,false,true,true,false]
["Dolnośląskie"," średzki "," 30 - 34 ",4458,2336,2122,false,true,true,false]
["Dolnośląskie"," średzki "," 35 - 39 ",4602,2300,2302,false,true,true,false]
["Dolnośląskie"," średzki "," 40 - 44 ",4228,2208,2020,false,true,true,false]
["Dolnośląskie"," średzki "," 45 - 49 ",3353,1747,1606,false,true,true,false]
["Dolnośląskie"," średzki "," 50 - 54 ",3312,1668,1644,{"$f":"IFERROR(IF(SEARCH(\" - \",C389)>0,FALSE,TRUE),TRUE)","v":false},{"$f":"IFERROR(IF(SEARCH(\"70\",C389)>0,FALSE,TRUE),TRUE)","v":true},{"$f":"IFERROR(IF(SEARCH(\"65+\",C389)>0,FALSE,TRUE),TRUE)","v":true},{"$f":"AND(G389:I389)","v":false}]
["Dolnośląskie"," średzki "," 55 - 59 ",3982,1991,1991,false,true,true,false]
["Dolnośląskie"," średzki "," 60 - 64 ",3676,1812,1864,false,true,true,false]
["Dolnośląskie"," średzki "," 65 - 69 ",2781,1302,1479,false,true,true,false]
["Dolnośląskie"," średzki "," 70 i więcej",4352,1418,2934,true,false,true,false]
["Dolnośląskie"," średzki ","65+",{"$f":"SUM(D392:D393)","v":7133},{"$f":"SUM(E392:E393)","v":2720},{"$f":"SUM(F392:F393)","v":4413},true,true,false,false]
["Dolnośląskie"," świdnicki "," świdnicki ",159259,76831,82428,true,true,true,true]
["Dolnośląskie"," świdnicki "," 0 - 4 ",6924,3612,3312,false,true,true,false]
["Dolnośląskie"," świdnicki "," 5 - 9 ",8034,4089,3945,false,true,true,false]
["Dolnośląskie"," świdnicki "," 10 - 14 ",6894,3570,3324,false,true,true,false]
["Dolnośląskie"," świdnicki "," 15 - 19 ",7664,3940,3724,false,true,true,false]
["Dolnośląskie"," świdnicki "," 20 - 24 ",9266,4695,4571,false,true,true,false]
["Dolnośląskie"," świdnicki "," 25 - 29 ",11169,5754,5415,false,true,true,false]
["Dolnośląskie"," świdnicki "," 30 - 34 ",13361,6817,6544,false,true,true,false]
["Dolnośląskie"," świdnicki "," 35 - 39 ",12908,6602,6306,false,true,true,false]
["Dolnośląskie"," świdnicki "," 40 - 44 ",11489,5870,5619,false,true,true,false]
["Dolnośląskie"," świdnicki "," 45 - 49 ",9468,4797,4671,false,true,true,false]
["Dolnośląskie"," świdnicki "," 50 - 54 ",10061,5050,5011,false,true,true,false]
["Dolnośląskie"," świdnicki "," 55 - 59 ",12495,6000,6495,false,true,true,false]
["Dolnośląskie"," świdnicki "," 60 - 64 ",13137,6123,7014,false,true,true,false]
["Dolnośląskie"," świdnicki "," 65 - 69 ",10308,4550,5758,false,true,true,false]
["Dolnośląskie"," świdnicki "," 70 i więcej",16081,5362,10719,true,false,true,false]
["Dolnośląskie"," świdnicki ","65+",{"$f":"SUM(D409:D410)","v":26389},{"$f":"SUM(E409:E410)","v":9912},{"$f":"SUM(F409:F410)","v":16477},true,true,false,false]
["Dolnośląskie"," trzebnicki "," trzebnicki ",83959,41183,42776,true,true,true,true]
["Dolnośląskie"," trzebnicki "," 0 - 4 ",4056,2072,1984,false,true,true,false]
["Dolnośląskie"," trzebnicki "," 5 - 9 ",4920,2480,2440,false,true,true,false]
["Dolnośląskie"," trzebnicki "," 10 - 14 ",4255,2141,2114,false,true,true,false]
["Dolnośląskie"," trzebnicki "," 15 - 19 ",4378,2247,2131,false,true,true,false]
["Dolnośląskie"," trzebnicki "," 20 - 24 ",5334,2722,2612,false,true,true,false]
["Dolnośląskie"," trzebnicki "," 25 - 29 ",6055,3076,2979,false,true,true,false]
["Dolnośląskie"," trzebnicki "," 30 - 34 ",7144,3637,3507,false,true,true,false]
["Dolnośląskie"," trzebnicki "," 35 - 39 ",7086,3564,3522,false,true,true,false]
["Dolnośląskie"," trzebnicki "," 40 - 44 ",6438,3283,3155,false,true,true,false]
["Dolnośląskie"," trzebnicki "," 45 - 49 ",5091,2608,2483,false,true,true,false]
["Dolnośląskie"," trzebnicki "," 50 - 54 ",5059,2532,2527,false,true,true,false]
["Dolnośląskie"," trzebnicki "," 55 - 59 ",6233,3142,3091,false,true,true,false]
["Dolnośląskie"," trzebnicki "," 60 - 64 ",6123,2991,3132,false,true,true,false]
["Dolnośląskie"," trzebnicki "," 65 - 69 ",4932,2310,2622,false,true,true,false]
["Dolnośląskie"," trzebnicki "," 70 i więcej",6855,2378,4477,true,false,true,false]
["Dolnośląskie"," trzebnicki ","65+",{"$f":"SUM(D426:D427)","v":11787},{"$f":"SUM(E426:E427)","v":4688},{"$f":"SUM(F426:F427)","v":7099},true,true,false,false]
["Dolnośląskie"," wałbrzyski "," wałbrzyski ",56848,27416,29432,true,true,true,true]
["Dolnośląskie"," wałbrzyski "," 0 - 4 ",2220,1128,1092,false,true,true,false]
["Dolnośląskie"," wałbrzyski "," 5 - 9 ",2699,1381,1318,false,true,true,false]
["Dolnośląskie"," wałbrzyski "," 10 - 14 ",2497,1257,1240,false,true,true,false]
["Dolnośląskie"," wałbrzyski "," 15 - 19 ",2737,1334,1403,false,true,true,false]
["Dolnośląskie"," wałbrzyski "," 20 - 24 ",3451,1782,1669,false,true,true,false]
["Dolnośląskie"," wałbrzyski "," 25 - 29 ",3871,2022,1849,false,true,true,false]
["Dolnośląskie"," wałbrzyski "," 30 - 34 ",4633,2396,2237,false,true,true,false]
["Dolnośląskie"," wałbrzyski "," 35 - 39 ",4478,2267,2211,false,true,true,false]
["Dolnośląskie"," wałbrzyski "," 40 - 44 ",3934,2020,1914,false,true,true,false]
["Dolnośląskie"," wałbrzyski "," 45 - 49 ",3409,1736,1673,false,true,true,false]
["Dolnośląskie",{"$f":"IF(C439=\"65+\",C440,B439)","v":" wałbrzyski "}," 50 - 54 ",3659,1820,1839,false,true,true,false]
["Dolnośląskie"," wałbrzyski "," 55 - 59 ",4950,2440,2510,false,true,true,false]
["Dolnośląskie"," wałbrzyski "," 60 - 64 ",4605,2186,2419,false,true,true,false]
["Dolnośląskie"," wałbrzyski "," 65 - 69 ",3378,1586,1792,false,true,true,false]
["Dolnośląskie"," wałbrzyski "," 70 i więcej",6327,2061,4266,true,false,true,false]
["Dolnośląskie"," wałbrzyski ","65+",{"$f":"SUM(D443:D444)","v":9705},{"$f":"SUM(E443:E444)","v":3647},{"$f":"SUM(F443:F444)","v":6058},true,true,false,false]
["Dolnośląskie"," wołowski "," wołowski ",47128,23055,24073,true,true,true,true]
["Dolnośląskie"," wołowski "," 0 - 4 ",2215,1127,1088,false,true,true,false]
["Dolnośląskie"," wołowski "," 5 - 9 ",2354,1186,1168,false,true,true,false]
["Dolnośląskie"," wołowski "," 10 - 14 ",2079,1057,1022,false,true,true,false]
["Dolnośląskie"," wołowski "," 15 - 19 ",2213,1146,1067,false,true,true,false]
["Dolnośląskie"," wołowski "," 20 - 24 ",2998,1501,1497,false,true,true,false]
["Dolnośląskie"," wołowski "," 25 - 29 ",3555,1840,1715,false,true,true,false]
["Dolnośląskie"," wołowski "," 30 - 34 ",3827,1984,1843,{"$f":"IFERROR(IF(SEARCH(\" - \",C453)>0,FALSE,TRUE),TRUE)","v":false},{"$f":"IFERROR(IF(SEARCH(\"70\",C453)>0,FALSE,TRUE),TRUE)","v":true},{"$f":"IFERROR(IF(SEARCH(\"65+\",C453)>0,FALSE,TRUE),TRUE)","v":true},{"$f":"AND(G453:I453)","v":false}]
["Dolnośląskie"," wołowski "," 35 - 39 ",3796,1963,1833,false,true,true,false]
["Dolnośląskie"," wołowski "," 40 - 44 ",3453,1778,1675,false,true,true,false]
["Dolnośląskie"," wołowski "," 45 - 49 ",2959,1536,1423,false,true,true,false]
["Dolnośląskie"," wołowski "," 50 - 54 ",2998,1515,1483,false,true,true,false]
["Dolnośląskie"," wołowski "," 55 - 59 ",3694,1882,1812,false,true,true,false]
["Dolnośląskie"," wołowski "," 60 - 64 ",3543,1704,1839,false,true,true,false]
["Dolnośląskie"," wołowski "," 65 - 69 ",2765,1285,1480,false,true,true,false]
["Dolnośląskie"," wołowski "," 70 i więcej",4679,1551,3128,true,false,true,false]
["Dolnośląskie"," wołowski ","65+",{"$f":"SUM(D460:D461)","v":7444},{"$f":"SUM(E460:E461)","v":2836},{"$f":"SUM(F460:F461)","v":4608},true,true,false,false]
["Dolnośląskie"," wrocławski "," wrocławski ",135837,66531,69306,true,true,true,true]
["Dolnośląskie"," wrocławski "," 0 - 4 ",7883,3990,3893,false,true,true,false]
["Dolnośląskie"," wrocławski "," 5 - 9 ",9520,4902,4618,false,true,true,false]
["Dolnośląskie"," wrocławski "," 10 - 14 ",7128,3614,3514,false,true,true,false]
["Dolnośląskie"," wrocławski "," 15 - 19 ",6942,3591,3351,false,true,true,false]
["Dolnośląskie"," wrocławski "," 20 - 24 ",7593,3909,3684,false,true,true,false]
["Dolnośląskie"," wrocławski "," 25 - 29 ",9336,4602,4734,false,true,true,false]
["Dolnośląskie"," wrocławski "," 30 - 34 ",12750,6212,6538,false,true,true,false]
["Dolnośląskie"," wrocławski "," 35 - 39 ",13195,6518,6677,false,true,true,false]
["Dolnośląskie"," wrocławski "," 40 - 44 ",11718,5889,5829,false,true,true,false]
["Dolnośląskie"," wrocławski "," 45 - 49 ",8589,4384,4205,false,true,true,false]
["Dolnośląskie"," wrocławski "," 50 - 54 ",7662,3855,3807,false,true,true,false]
["Dolnośląskie"," wrocławski "," 55 - 59 ",8963,4515,4448,false,true,true,false]
["Dolnośląskie"," wrocławski "," 60 - 64 ",8524,4086,4438,false,true,true,false]
["Dolnośląskie"," wrocławski "," 65 - 69 ",6476,3075,3401,false,true,true,false]
["Dolnośląskie"," wrocławski "," 70 i więcej",9558,3389,6169,true,false,true,false]
["Dolnośląskie"," wrocławski ","65+",{"$f":"SUM(D477:D478)","v":16034},{"$f":"SUM(E477:E478)","v":6464},{"$f":"SUM(F477:F478)","v":9570},true,true,false,false]
["Dolnośląskie"," ząbkowicki "," ząbkowicki ",66758,32446,34312,true,true,true,true]
["Dolnośląskie"," ząbkowicki "," 0 - 4 ",2725,1410,1315,false,true,true,false]
["Dolnośląskie"," ząbkowicki "," 5 - 9 ",3208,1649,1559,false,true,true,false]
["Dolnośląskie"," ząbkowicki "," 10 - 14 ",2887,1483,1404,false,true,true,false]
["Dolnośląskie"," ząbkowicki "," 15 - 19 ",3341,1726,1615,false,true,true,false]
["Dolnośląskie"," ząbkowicki "," 20 - 24 ",4238,2146,2092,false,true,true,false]
["Dolnośląskie"," ząbkowicki "," 25 - 29 ",4818,2501,2317,false,true,true,false]
["Dolnośląskie"," ząbkowicki "," 30 - 34 ",5341,2750,2591,false,true,true,false]
["Dolnośląskie"," ząbkowicki "," 35 - 39 ",5060,2546,2514,false,true,true,false]
["Dolnośląskie"," ząbkowicki "," 40 - 44 ",4844,2511,2333,false,true,true,false]
["Dolnośląskie"," ząbkowicki "," 45 - 49 ",4008,2028,1980,false,true,true,false]
["Dolnośląskie"," ząbkowicki "," 50 - 54 ",4286,2136,2150,false,true,true,false]
["Dolnośląskie"," ząbkowicki "," 55 - 59 ",5336,2650,2686,false,true,true,false]
["Dolnośląskie"," ząbkowicki "," 60 - 64 ",5402,2578,2824,false,true,true,false]
["Dolnośląskie"," ząbkowicki "," 65 - 69 ",4427,2073,2354,false,true,true,false]
["Dolnośląskie"," ząbkowicki "," 70 i więcej",6837,2259,4578,true,false,true,false]
["Dolnośląskie"," ząbkowicki ","65+",{"$f":"SUM(D494:D495)","v":11264},{"$f":"SUM(E494:E495)","v":4332},{"$f":"SUM(F494:F495)","v":6932},true,true,false,false]
["Dolnośląskie"," zgorzelecki "," zgorzelecki ",91579,44635,46944,true,true,true,true]
["Dolnośląskie"," zgorzelecki "," 0 - 4 ",3727,1896,1831,false,true,true,false]
["Dolnośląskie"," zgorzelecki "," 5 - 9 ",4486,2289,2197,false,true,true,false]
["Dolnośląskie"," zgorzelecki "," 10 - 14 ",4074,2140,1934,false,true,true,false]
["Dolnośląskie"," zgorzelecki "," 15 - 19 ",4414,2326,2088,false,true,true,false]
["Dolnośląskie"," zgorzelecki "," 20 - 24 ",5712,2893,2819,false,true,true,false]
["Dolnośląskie"," zgorzelecki "," 25 - 29 ",6271,3280,2991,false,true,true,false]
["Dolnośląskie",{"$f":"IF(C503=\"65+\",C504,B503)","v":" zgorzelecki "}," 30 - 34 ",7434,3881,3553,false,true,true,false]
["Dolnośląskie"," zgorzelecki "," 35 - 39 ",7372,3758,3614,false,true,true,false]
["Dolnośląskie"," zgorzelecki "," 40 - 44 ",6658,3444,3214,false,true,true,false]
["Dolnośląskie"," zgorzelecki "," 45 - 49 ",5533,2842,2691,false,true,true,false]
["Dolnośląskie"," zgorzelecki "," 50 - 54 ",6084,3008,3076,false,true,true,false]
["Dolnośląskie"," zgorzelecki "," 55 - 59 ",7536,3704,3832,false,true,true,false]
["Dolnośląskie"," zgorzelecki "," 60 - 64 ",7344,3390,3954,false,true,true,false]
["Dolnośląskie"," zgorzelecki "," 65 - 69 ",5760,2623,3137,false,true,true,false]
["Dolnośląskie"," zgorzelecki "," 70 i więcej",9174,3161,6013,true,false,true,false]
["Dolnośląskie"," zgorzelecki ","65+",{"$f":"SUM(D511:D512)","v":14934},{"$f":"SUM(E511:E512)","v":5784},{"$f":"SUM(F511:F512)","v":9150},true,true,false,false]
["Dolnośląskie"," złotoryjski "," złotoryjski ",44440,21776,22664,true,true,true,true]
["Dolnośląskie"," złotoryjski "," 0 - 4 ",1912,974,938,false,true,true,false]
["Dolnośląskie"," złotoryjski "," 5 - 9 ",2377,1206,1171,false,true,true,false]
["Dolnośląskie"," złotoryjski "," 10 - 14 ",1961,1018,943,{"$f":"IFERROR(IF(SEARCH(\" - \",C517)>0,FALSE,TRUE),TRUE)","v":false},{"$f":"IFERROR(IF(SEARCH(\"70\",C517)>0,FALSE,TRUE),TRUE)","v":true},{"$f":"IFERROR(IF(SEARCH(\"65+\",C517)>0,FALSE,TRUE),TRUE)","v":true},{"$f":"AND(G517:I517)","v":false}]
["Dolnośląskie"," złotoryjski "," 15 - 19 ",2211,1118,1093,false,true,true,false]
["Dolnośląskie"," złotoryjski "," 20 - 24 ",2863,1434,1429,false,true,true,false]
["Dolnośląskie"," złotoryjski "," 25 - 29 ",3339,1727,1612,false,true,true,false]
["Dolnośląskie"," złotoryjski "," 30 - 34 ",3861,1985,1876,false,true,true,false]
["Dolnośląskie"," złotoryjski "," 35 - 39 ",3632,1865,1767,false,true,true,false]
["Dolnośląskie"," złotoryjski "," 40 - 44 ",3162,1660,1502,false,true,true,false]
["Dolnośląskie"," złotoryjski "," 45 - 49 ",2479,1261,1218,false,true,true,false]
["Dolnośląskie"," złotoryjski "," 50 - 54 ",2902,1428,1474,false,true,true,false]
["Dolnośląskie"," złotoryjski "," 55 - 59 ",3661,1766,1895,false,true,true,false]
["Dolnośląskie"," złotoryjski "," 60 - 64 ",3665,1849,1816,false,true,true,false]
["Dolnośląskie"," złotoryjski "," 65 - 69 ",2706,1269,1437,false,true,true,false]
["Dolnośląskie"," złotoryjski "," 70 i więcej",3709,1216,2493,true,false,true,false]
["Dolnośląskie"," złotoryjski ","65+",{"$f":"SUM(D528:D529)","v":6415},{"$f":"SUM(E528:E529)","v":2485},{"$f":"SUM(F528:F529)","v":3930},true,true,false,false]
["Kujawsko-pomorskie","Wszystkie","Kujawsko-pomorskie ",2084524,1010102,1074422,{"$f":"IFERROR(IF(SEARCH(\" - \",C531)>0,FALSE,TRUE),TRUE)","v":true},{"$f":"IFERROR(IF(SEARCH(\"70\",C531)>0,FALSE,TRUE),TRUE)","v":true},{"$f":"IFERROR(IF(SEARCH(\"65+\",C531)>0,FALSE,TRUE),TRUE)","v":true},{"$f":"AND(G531:I531)","v":true}]
["Kujawsko-pomorskie","Wszystkie"," 0 - 4 ",99362,51276,48086,{"$f":"IFERROR(IF(SEARCH(\" - \",C532)>0,FALSE,TRUE),TRUE)","v":false},{"$f":"IFERROR(IF(SEARCH(\"70\",C532)>0,FALSE,TRUE),TRUE)","v":true},{"$f":"IFERROR(IF(SEARCH(\"65+\",C532)>0,FALSE,TRUE),TRUE)","v":true},{"$f":"AND(G532:I532)","v":false}]
["Kujawsko-pomorskie","Wszystkie"," 5 - 9 ",113956,58353,55603,false,true,true,false]
["Kujawsko-pomorskie","Wszystkie"," 10 - 14 ",100283,51457,48826,false,true,true,false]
["Kujawsko-pomorskie","Wszystkie"," 15 - 19 ",110268,56611,53657,false,true,true,false]
["Kujawsko-pomorskie","Wszystkie"," 20 - 24 ",133515,67711,65804,false,true,true,false]
["Kujawsko-pomorskie","Wszystkie"," 25 - 29 ",151784,77181,74603,false,true,true,false]
["Kujawsko-pomorskie","Wszystkie"," 30 - 34 ",172960,88242,84718,false,true,true,false]
["Kujawsko-pomorskie","Wszystkie"," 35 - 39 ",164228,83407,80821,false,true,true,false]
["Kujawsko-pomorskie","Wszystkie"," 40 - 44 ",150711,76016,74695,false,true,true,false]
["Kujawsko-pomorskie","Wszystkie"," 45 - 49 ",128755,64072,64683,false,true,true,false]
["Kujawsko-pomorskie","Wszystkie"," 50 - 54 ",130323,64229,66094,false,true,true,false]
["Kujawsko-pomorskie","Wszystkie"," 55 - 59 ",154119,74357,79762,false,true,true,false]
["Kujawsko-pomorskie","Wszystkie"," 60 - 64 ",148542,69574,78968,false,true,true,false]
["Kujawsko-pomorskie","Wszystkie"," 65 - 69 ",123556,54761,68795,false,true,true,false]
["Kujawsko-pomorskie","Wszystkie"," 70 i więcej",202162,72855,129307,true,false,true,false]
["Kujawsko-pomorskie","Wszystkie","65+",{"$f":"SUM(D545:D546)","v":325718},{"$f":"SUM(E545:E546)","v":127616},{"$f":"SUM(F545:F546)","v":198102},true,true,false,false]
["Kujawsko-pomorskie"," Bydgoszcz "," Bydgoszcz ",354990,166985,188005,true,true,true,true]
["Kujawsko-pomorskie"," Bydgoszcz "," 0 - 4 ",15713,8106,7607,false,true,true,false]
["Kujawsko-pomorskie"," Bydgoszcz "," 5 - 9 ",17067,8780,8287,false,true,true,false]
["Kujawsko-pomorskie"," Bydgoszcz "," 10 - 14 ",13943,7175,6768,false,true,true,false]
["Kujawsko-pomorskie"," Bydgoszcz "," 15 - 19 ",15430,7888,7542,false,true,true,false]
["Kujawsko-pomorskie"," Bydgoszcz "," 20 - 24 ",19017,9481,9536,false,true,true,false]
["Kujawsko-pomorskie"," Bydgoszcz "," 25 - 29 ",24790,12190,12600,false,true,true,false]
["Kujawsko-pomorskie"," Bydgoszcz "," 30 - 34 ",31061,15475,15586,false,true,true,false]
["Kujawsko-pomorskie"," Bydgoszcz "," 35 - 39 ",28940,14486,14454,false,true,true,false]
["Kujawsko-pomorskie"," Bydgoszcz "," 40 - 44 ",25198,12434,12764,false,true,true,false]
["Kujawsko-pomorskie"," Bydgoszcz "," 45 - 49 ",20827,10058,10769,false,true,true,false]
["Kujawsko-pomorskie"," Bydgoszcz "," 50 - 54 ",20739,9963,10776,false,true,true,false]
["Kujawsko-pomorskie"," Bydgoszcz "," 55 - 59 ",26125,12124,14001,false,true,true,false]
["Kujawsko-pomorskie"," Bydgoszcz "," 60 - 64 ",28127,12527,15600,false,true,true,false]
["Kujawsko-pomorskie"," Bydgoszcz "," 65 - 69 ",24681,10427,14254,false,true,true,false]
["Kujawsko-pomorskie"," Bydgoszcz "," 70 i więcej",43332,15871,27461,true,false,true,false]
["Kujawsko-pomorskie"," Bydgoszcz ","65+",{"$f":"SUM(D562:D563)","v":68013},{"$f":"SUM(E562:E563)","v":26298},{"$f":"SUM(F562:F563)","v":41715},true,true,false,false]
["Kujawsko-pomorskie"," Grudziądz "," Grudziądz ",96111,45728,50383,true,true,true,true]
["Kujawsko-pomorskie"," Grudziądz "," 0 - 4 ",4388,2239,2149,false,true,true,false]
["Kujawsko-pomorskie"," Grudziądz "," 5 - 9 ",5162,2684,2478,false,true,true,false]
["Kujawsko-pomorskie",{"$f":"IF(C567=\"65+\",C568,B567)","v":" Grudziądz "}," 10 - 14 ",4287,2213,2074,false,true,true,false]
["Kujawsko-pomorskie"," Grudziądz "," 15 - 19 ",4775,2408,2367,false,true,true,false]
["Kujawsko-pomorskie"," Grudziądz "," 20 - 24 ",5168,2580,2588,false,true,true,false]
["Kujawsko-pomorskie"," Grudziądz "," 25 - 29 ",6710,3422,3288,false,true,true,false]
["Kujawsko-pomorskie"," Grudziądz "," 30 - 34 ",7864,4018,3846,false,true,true,false]
["Kujawsko-pomorskie"," Grudziądz "," 35 - 39 ",7414,3791,3623,false,true,true,false]
["Kujawsko-pomorskie"," Grudziądz "," 40 - 44 ",6511,3323,3188,false,true,true,false]
["Kujawsko-pomorskie"," Grudziądz "," 45 - 49 ",5606,2723,2883,false,true,true,false]
["Kujawsko-pomorskie"," Grudziądz "," 50 - 54 ",6315,2990,3325,false,true,true,false]
["Kujawsko-pomorskie"," Grudziądz "," 55 - 59 ",7746,3582,4164,false,true,true,false]
["Kujawsko-pomorskie"," Grudziądz "," 60 - 64 ",7621,3488,4133,false,true,true,false]
["Kujawsko-pomorskie"," Grudziądz "," 65 - 69 ",6080,2624,3456,false,true,true,false]
["Kujawsko-pomorskie"," Grudziądz "," 70 i więcej",10464,3643,6821,true,false,true,false]
["Kujawsko-pomorskie"," Grudziądz ","65+",{"$f":"SUM(D579:D580)","v":16544},{"$f":"SUM(E579:E580)","v":6267},{"$f":"SUM(F579:F580)","v":10277},true,true,false,false]
["Kujawsko-pomorskie"," Toruń "," Toruń ",202591,94223,108368,true,true,true,true]
["Kujawsko-pomorskie"," Toruń "," 0 - 4 ",9553,4873,4680,false,true,true,false]
["Kujawsko-pomorskie"," Toruń "," 5 - 9 ",9978,5048,4930,false,true,true,false]
["Kujawsko-pomorskie"," Toruń "," 10 - 14 ",8335,4238,4097,false,true,true,false]
["Kujawsko-pomorskie"," Toruń "," 15 - 19 ",9521,4805,4716,false,true,true,false]
["Kujawsko-pomorskie"," Toruń "," 20 - 24 ",11461,5629,5832,false,true,true,false]
["Kujawsko-pomorskie"," Toruń "," 25 - 29 ",14720,7186,7534,false,true,true,false]
["Kujawsko-pomorskie"," Toruń "," 30 - 34 ",18897,9320,9577,false,true,true,false]
["Kujawsko-pomorskie"," Toruń "," 35 - 39 ",17129,8485,8644,false,true,true,false]
["Kujawsko-pomorskie"," Toruń "," 40 - 44 ",14531,7090,7441,false,true,true,false]
["Kujawsko-pomorskie"," Toruń "," 45 - 49 ",11551,5486,6065,false,true,true,false]
["Kujawsko-pomorskie"," Toruń "," 50 - 54 ",11649,5392,6257,false,true,true,false]
["Kujawsko-pomorskie"," Toruń "," 55 - 59 ",14878,6627,8251,false,true,true,false]
["Kujawsko-pomorskie"," Toruń "," 60 - 64 ",15475,6692,8783,false,true,true,false]
["Kujawsko-pomorskie"," Toruń "," 65 - 69 ",13538,5733,7805,{"$f":"IFERROR(IF(SEARCH(\" - \",C596)>0,FALSE,TRUE),TRUE)","v":false},{"$f":"IFERROR(IF(SEARCH(\"70\",C596)>0,FALSE,TRUE),TRUE)","v":true},{"$f":"IFERROR(IF(SEARCH(\"65+\",C596)>0,FALSE,TRUE),TRUE)","v":true},{"$f":"AND(G596:I596)","v":false}]
["Kujawsko-pomorskie"," Toruń "," 70 i więcej",21375,7619,13756,true,false,true,false]
["Kujawsko-pomorskie"," Toruń ","65+",{"$f":"SUM(D596:D597)","v":34913},{"$f":"SUM(E596:E597)","v":13352},{"$f":"SUM(F596:F597)","v":21561},true,true,false,false]
["Kujawsko-pomorskie"," Włocławek "," Włocławek ",112635,53071,59564,true,true,true,true]
["Kujawsko-pomorskie"," Włocławek "," 0 - 4 ",4663,2399,2264,false,true,true,false]
["Kujawsko-pomorskie"," Włocławek "," 5 - 9 ",5345,2730,2615,false,true,true,false]
["Kujawsko-pomorskie"," Włocławek "," 10 - 14 ",4856,2458,2398,false,true,true,false]
["Kujawsko-pomorskie"," Włocławek "," 15 - 19 ",5475,2862,2613,false,true,true,false]
["Kujawsko-pomorskie"," Włocławek "," 20 - 24 ",6342,3250,3092,false,true,true,false]
["Kujawsko-pomorskie"," Włocławek "," 25 - 29 ",7228,3671,3557,false,true,true,false]
["Kujawsko-pomorskie"," Włocławek "," 30 - 34 ",8635,4451,4184,false,true,true,false]
["Kujawsko-pomorskie"," Włocławek "," 35 - 39 ",8952,4491,4461,false,true,true,false]
["Kujawsko-pomorskie"," Włocławek "," 40 - 44 ",8497,4268,4229,false,true,true,false]
["Kujawsko-pomorskie"," Włocławek "," 45 - 49 ",7210,3511,3699,false,true,true,false]
["Kujawsko-pomorskie"," Włocławek "," 50 - 54 ",6958,3220,3738,false,true,true,false]
["Kujawsko-pomorskie"," Włocławek "," 55 - 59 ",8865,4019,4846,false,true,true,false]
["Kujawsko-pomorskie"," Włocławek "," 60 - 64 ",9357,4051,5306,false,true,true,false]
["Kujawsko-pomorskie"," Włocławek "," 65 - 69 ",8189,3446,4743,false,true,true,false]
["Kujawsko-pomorskie"," Włocławek "," 70 i więcej",12063,4244,7819,true,false,true,false]
["Kujawsko-pomorskie"," Włocławek ","65+",{"$f":"SUM(D613:D614)","v":20252},{"$f":"SUM(E613:E614)","v":7690},{"$f":"SUM(F613:F614)","v":12562},true,true,false,false]
["Kujawsko-pomorskie"," aleksandrowski "," aleksandrowski ",55477,26898,28579,true,true,true,true]
["Kujawsko-pomorskie"," aleksandrowski "," 0 - 4 ",2455,1261,1194,false,true,true,false]
["Kujawsko-pomorskie"," aleksandrowski "," 5 - 9 ",2934,1468,1466,false,true,true,false]
["Kujawsko-pomorskie"," aleksandrowski "," 10 - 14 ",2682,1396,1286,false,true,true,false]
["Kujawsko-pomorskie"," aleksandrowski "," 15 - 19 ",2928,1556,1372,false,true,true,false]
["Kujawsko-pomorskie"," aleksandrowski "," 20 - 24 ",3513,1777,1736,false,true,true,false]
["Kujawsko-pomorskie"," aleksandrowski "," 25 - 29 ",4058,2072,1986,false,true,true,false]
["Kujawsko-pomorskie"," aleksandrowski "," 30 - 34 ",4492,2345,2147,false,true,true,false]
["Kujawsko-pomorskie"," aleksandrowski "," 35 - 39 ",4174,2110,2064,false,true,true,false]
["Kujawsko-pomorskie"," aleksandrowski "," 40 - 44 ",3992,2074,1918,false,true,true,false]
["Kujawsko-pomorskie"," aleksandrowski "," 45 - 49 ",3387,1695,1692,false,true,true,false]
["Kujawsko-pomorskie"," aleksandrowski "," 50 - 54 ",3483,1682,1801,false,true,true,false]
["Kujawsko-pomorskie"," aleksandrowski "," 55 - 59 ",4260,2068,2192,false,true,true,false]
["Kujawsko-pomorskie"," aleksandrowski "," 60 - 64 ",4008,1913,2095,false,true,true,false]
["Kujawsko-pomorskie"," aleksandrowski "," 65 - 69 ",3353,1450,1903,false,true,true,false]
["Kujawsko-pomorskie"," aleksandrowski "," 70 i więcej",5758,2031,3727,true,false,true,false]
["Kujawsko-pomorskie",{"$f":"IF(C631=\"65+\",C632,B631)","v":" aleksandrowski "},"65+",{"$f":"SUM(D630:D631)","v":9111},{"$f":"SUM(E630:E631)","v":3481},{"$f":"SUM(F630:F631)","v":5630},true,true,false,false]
["Kujawsko-pomorskie"," brodnicki "," brodnicki ",78411,38886,39525,true,true,true,true]
["Kujawsko-pomorskie"," brodnicki "," 0 - 4 ",4301,2215,2086,false,true,true,false]
["Kujawsko-pomorskie"," brodnicki "," 5 - 9 ",4858,2536,2322,false,true,true,false]
["Kujawsko-pomorskie"," brodnicki "," 10 - 14 ",4149,2166,1983,false,true,true,false]
["Kujawsko-pomorskie"," brodnicki "," 15 - 19 ",4587,2408,2179,false,true,true,false]
["Kujawsko-pomorskie"," brodnicki "," 20 - 24 ",5552,2815,2737,false,true,true,false]
["Kujawsko-pomorskie"," brodnicki "," 25 - 29 ",6218,3210,3008,false,true,true,false]
["Kujawsko-pomorskie"," brodnicki "," 30 - 34 ",6626,3458,3168,false,true,true,false]
["Kujawsko-pomorskie"," brodnicki "," 35 - 39 ",6054,3160,2894,false,true,true,false]
["Kujawsko-pomorskie"," brodnicki "," 40 - 44 ",5514,2788,2726,false,true,true,false]
["Kujawsko-pomorskie"," brodnicki "," 45 - 49 ",4695,2385,2310,false,true,true,false]
["Kujawsko-pomorskie"," brodnicki "," 50 - 54 ",4963,2509,2454,false,true,true,false]
["Kujawsko-pomorskie"," brodnicki "," 55 - 59 ",5448,2746,2702,false,true,true,false]
["Kujawsko-pomorskie"," brodnicki "," 60 - 64 ",4924,2391,2533,false,true,true,false]
["Kujawsko-pomorskie"," brodnicki "," 65 - 69 ",3928,1774,2154,false,true,true,false]
["Kujawsko-pomorskie"," brodnicki "," 70 i więcej",6594,2325,4269,true,false,true,false]
["Kujawsko-pomorskie"," brodnicki ","65+",{"$f":"SUM(D647:D648)","v":10522},{"$f":"SUM(E647:E648)","v":4099},{"$f":"SUM(F647:F648)","v":6423},true,true,false,false]
["Kujawsko-pomorskie"," bydgoski "," bydgoski ",113680,56262,57418,true,true,true,true]
["Kujawsko-pomorskie"," bydgoski "," 0 - 4 ",5604,2947,2657,false,true,true,false]
["Kujawsko-pomorskie"," bydgoski "," 5 - 9 ",7271,3715,3556,false,true,true,false]
["Kujawsko-pomorskie"," bydgoski "," 10 - 14 ",6571,3433,3138,false,true,true,false]
["Kujawsko-pomorskie"," bydgoski "," 15 - 19 ",6652,3384,3268,false,true,true,false]
["Kujawsko-pomorskie"," bydgoski "," 20 - 24 ",7674,3923,3751,false,true,true,false]
["Kujawsko-pomorskie"," bydgoski "," 25 - 29 ",7916,4021,3895,false,true,true,false]
["Kujawsko-pomorskie"," bydgoski "," 30 - 34 ",9191,4600,4591,false,true,true,false]
["Kujawsko-pomorskie"," bydgoski "," 35 - 39 ",9583,4711,4872,false,true,true,false]
["Kujawsko-pomorskie"," bydgoski "," 40 - 44 ",9399,4778,4621,false,true,true,false]
["Kujawsko-pomorskie"," bydgoski "," 45 - 49 ",7848,4010,3838,{"$f":"IFERROR(IF(SEARCH(\" - \",C660)>0,FALSE,TRUE),TRUE)","v":false},{"$f":"IFERROR(IF(SEARCH(\"70\",C660)>0,FALSE,TRUE),TRUE)","v":true},{"$f":"IFERROR(IF(SEARCH(\"65+\",C660)>0,FALSE,TRUE),TRUE)","v":true},{"$f":"AND(G660:I660)","v":false}]
["Kujawsko-pomorskie"," bydgoski "," 50 - 54 ",7189,3614,3575,false,true,true,false]
["Kujawsko-pomorskie"," bydgoski "," 55 - 59 ",7849,3952,3897,false,true,true,false]
["Kujawsko-pomorskie"," bydgoski "," 60 - 64 ",6985,3391,3594,false,true,true,false]
["Kujawsko-pomorskie"," bydgoski "," 65 - 69 ",5699,2664,3035,false,true,true,false]
["Kujawsko-pomorskie"," bydgoski "," 70 i więcej",8249,3119,5130,true,false,true,false]
["Kujawsko-pomorskie"," bydgoski ","65+",{"$f":"SUM(D664:D665)","v":13948},{"$f":"SUM(E664:E665)","v":5783},{"$f":"SUM(F664:F665)","v":8165},true,true,false,false]
["Kujawsko-pomorskie"," chełmiński "," chełmiński ",52345,25713,26632,true,true,true,true]
["Kujawsko-pomorskie"," chełmiński "," 0 - 4 ",2591,1343,1248,false,true,true,false]
["Kujawsko-pomorskie"," chełmiński "," 5 - 9 ",3057,1588,1469,false,true,true,false]
["Kujawsko-pomorskie"," chełmiński "," 10 - 14 ",2753,1400,1353,false,true,true,false]
["Kujawsko-pomorskie"," chełmiński "," 15 - 19 ",2929,1493,1436,false,true,true,false]
["Kujawsko-pomorskie"," chełmiński "," 20 - 24 ",3582,1832,1750,false,true,true,false]
["Kujawsko-pomorskie"," chełmiński "," 25 - 29 ",3915,2031,1884,false,true,true,false]
["Kujawsko-pomorskie"," chełmiński "," 30 - 34 ",4493,2295,2198,false,true,true,false]
["Kujawsko-pomorskie"," chełmiński "," 35 - 39 ",4034,2047,1987,false,true,true,false]
["Kujawsko-pomorskie"," chełmiński "," 40 - 44 ",3739,1903,1836,false,true,true,false]
["Kujawsko-pomorskie"," chełmiński "," 45 - 49 ",3263,1647,1616,false,true,true,false]
["Kujawsko-pomorskie"," chełmiński "," 50 - 54 ",3358,1668,1690,false,true,true,false]
["Kujawsko-pomorskie"," chełmiński "," 55 - 59 ",3847,1903,1944,false,true,true,false]
["Kujawsko-pomorskie"," chełmiński "," 60 - 64 ",3520,1686,1834,false,true,true,false]
["Kujawsko-pomorskie"," chełmiński "," 65 - 69 ",2746,1238,1508,false,true,true,false]
["Kujawsko-pomorskie"," chełmiński "," 70 i więcej",4518,1639,2879,true,false,true,false]
["Kujawsko-pomorskie"," chełmiński ","65+",{"$f":"SUM(D681:D682)","v":7264},{"$f":"SUM(E681:E682)","v":2877},{"$f":"SUM(F681:F682)","v":4387},true,true,false,false]
["Kujawsko-pomorskie"," golubsko-dobrzyński "," golubsko-dobrzyński ",45290,22408,22882,true,true,true,true]
["Kujawsko-pomorskie"," golubsko-dobrzyński "," 0 - 4 ",2336,1165,1171,false,true,true,false]
["Kujawsko-pomorskie"," golubsko-dobrzyński "," 5 - 9 ",2582,1350,1232,false,true,true,false]
["Kujawsko-pomorskie"," golubsko-dobrzyński "," 10 - 14 ",2431,1257,1174,false,true,true,false]
["Kujawsko-pomorskie"," golubsko-dobrzyński "," 15 - 19 ",2658,1366,1292,false,true,true,false]
["Kujawsko-pomorskie"," golubsko-dobrzyński "," 20 - 24 ",3343,1676,1667,false,true,true,false]
["Kujawsko-pomorskie"," golubsko-dobrzyński "," 25 - 29 ",3564,1785,1779,false,true,true,false]
["Kujawsko-pomorskie"," golubsko-dobrzyński "," 30 - 34 ",3674,1965,1709,false,true,true,false]
["Kujawsko-pomorskie"," golubsko-dobrzyński "," 35 - 39 ",3376,1762,1614,false,true,true,false]
["Kujawsko-pomorskie"," golubsko-dobrzyński "," 40 - 44 ",3048,1537,1511,false,true,true,false]
["Kujawsko-pomorskie"," golubsko-dobrzyński "," 45 - 49 ",2886,1463,1423,false,true,true,false]
["Kujawsko-pomorskie"," golubsko-dobrzyński "," 50 - 54 ",2954,1561,1393,false,true,true,false]
["Kujawsko-pomorskie",{"$f":"IF(C695=\"65+\",C696,B695)","v":" golubsko-dobrzyński "}," 55 - 59 ",3157,1589,1568,false,true,true,false]
["Kujawsko-pomorskie"," golubsko-dobrzyński "," 60 - 64 ",2912,1406,1506,false,true,true,false]
["Kujawsko-pomorskie"," golubsko-dobrzyński "," 65 - 69 ",2268,1055,1213,false,true,true,false]
["Kujawsko-pomorskie"," golubsko-dobrzyński "," 70 i więcej",4101,1471,2630,true,false,true,false]
["Kujawsko-pomorskie"," golubsko-dobrzyński ","65+",{"$f":"SUM(D698:D699)","v":6369},{"$f":"SUM(E698:E699)","v":2526},{"$f":"SUM(F698:F699)","v":3843},true,true,false,false]
["Kujawsko-pomorskie"," grudziądzki "," grudziądzki ",40316,20166,20150,true,true,true,true]
["Kujawsko-pomorskie"," grudziądzki "," 0 - 4 ",2113,1058,1055,false,true,true,false]
["Kujawsko-pomorskie"," grudziądzki "," 5 - 9 ",2552,1289,1263,false,true,true,false]
["Kujawsko-pomorskie"," grudziądzki "," 10 - 14 ",2302,1220,1082,false,true,true,false]
["Kujawsko-pomorskie"," grudziądzki "," 15 - 19 ",2403,1279,1124,false,true,true,false]
["Kujawsko-pomorskie"," grudziądzki "," 20 - 24 ",3053,1549,1504,false,true,true,false]
["Kujawsko-pomorskie"," grudziądzki "," 25 - 29 ",3026,1577,1449,false,true,true,false]
["Kujawsko-pomorskie"," grudziądzki "," 30 - 34 ",3048,1571,1477,false,true,true,false]
["Kujawsko-pomorskie"," grudziądzki "," 35 - 39 ",3028,1550,1478,false,true,true,false]
["Kujawsko-pomorskie"," grudziądzki "," 40 - 44 ",3002,1533,1469,false,true,true,false]
["Kujawsko-pomorskie"," grudziądzki "," 45 - 49 ",2632,1355,1277,false,true,true,false]
["Kujawsko-pomorskie"," grudziądzki "," 50 - 54 ",2660,1359,1301,false,true,true,false]
["Kujawsko-pomorskie"," grudziądzki "," 55 - 59 ",2828,1468,1360,false,true,true,false]
["Kujawsko-pomorskie"," grudziądzki "," 60 - 64 ",2477,1218,1259,false,true,true,false]
["Kujawsko-pomorskie"," grudziądzki "," 65 - 69 ",2024,979,1045,false,true,true,false]
["Kujawsko-pomorskie"," grudziądzki "," 70 i więcej",3168,1161,2007,true,false,true,false]
["Kujawsko-pomorskie"," grudziądzki ","65+",{"$f":"SUM(D715:D716)","v":5192},{"$f":"SUM(E715:E716)","v":2140},{"$f":"SUM(F715:F716)","v":3052},true,true,false,false]
["Kujawsko-pomorskie"," inowrocławski "," inowrocławski ",162157,78648,83509,true,true,true,true]
["Kujawsko-pomorskie"," inowrocławski "," 0 - 4 ",7075,3665,3410,false,true,true,false]
["Kujawsko-pomorskie"," inowrocławski "," 5 - 9 ",8204,4192,4012,false,true,true,false]
["Kujawsko-pomorskie"," inowrocławski "," 10 - 14 ",7344,3756,3588,false,true,true,false]
["Kujawsko-pomorskie"," inowrocławski "," 15 - 19 ",8307,4178,4129,false,true,true,false]
["Kujawsko-pomorskie"," inowrocławski "," 20 - 24 ",10417,5369,5048,false,true,true,false]
["Kujawsko-pomorskie"," inowrocławski "," 25 - 29 ",11762,6123,5639,{"$f":"IFERROR(IF(SEARCH(\" - \",C724)>0,FALSE,TRUE),TRUE)","v":false},{"$f":"IFERROR(IF(SEARCH(\"70\",C724)>0,FALSE,TRUE),TRUE)","v":true},{"$f":"IFERROR(IF(SEARCH(\"65+\",C724)>0,FALSE,TRUE),TRUE)","v":true},{"$f":"AND(G724:I724)","v":false}]
["Kujawsko-pomorskie"," inowrocławski "," 30 - 34 ",13295,6913,6382,false,true,true,false]
["Kujawsko-pomorskie"," inowrocławski "," 35 - 39 ",12598,6470,6128,false,true,true,false]
["Kujawsko-pomorskie"," inowrocławski "," 40 - 44 ",11722,5943,5779,false,true,true,false]
["Kujawsko-pomorskie"," inowrocławski "," 45 - 49 ",10370,5139,5231,false,true,true,false]
["Kujawsko-pomorskie"," inowrocławski "," 50 - 54 ",10949,5304,5645,false,true,true,false]
["Kujawsko-pomorskie"," inowrocławski "," 55 - 59 ",12805,6130,6675,false,true,true,false]
["Kujawsko-pomorskie"," inowrocławski "," 60 - 64 ",11767,5562,6205,false,true,true,false]
["Kujawsko-pomorskie"," inowrocławski "," 65 - 69 ",9986,4374,5612,false,true,true,false]
["Kujawsko-pomorskie"," inowrocławski "," 70 i więcej",15556,5530,10026,true,false,true,false]
["Kujawsko-pomorskie"," inowrocławski ","65+",{"$f":"SUM(D732:D733)","v":25542},{"$f":"SUM(E732:E733)","v":9904},{"$f":"SUM(F732:F733)","v":15638},true,true,false,false]
["Kujawsko-pomorskie"," lipnowski "," lipnowski ",66658,33179,33479,true,true,true,true]
["Kujawsko-pomorskie"," lipnowski "," 0 - 4 ",3425,1802,1623,false,true,true,false]
["Kujawsko-pomorskie"," lipnowski "," 5 - 9 ",3944,2026,1918,false,true,true,false]
["Kujawsko-pomorskie"," lipnowski "," 10 - 14 ",3589,1836,1753,false,true,true,false]
["Kujawsko-pomorskie"," lipnowski "," 15 - 19 ",4142,2143,1999,false,true,true,false]
["Kujawsko-pomorskie"," lipnowski "," 20 - 24 ",5109,2671,2438,false,true,true,false]
["Kujawsko-pomorskie"," lipnowski "," 25 - 29 ",5176,2739,2437,false,true,true,false]
["Kujawsko-pomorskie"," lipnowski "," 30 - 34 ",5236,2753,2483,false,true,true,false]
["Kujawsko-pomorskie"," lipnowski "," 35 - 39 ",4952,2559,2393,false,true,true,false]
["Kujawsko-pomorskie"," lipnowski "," 40 - 44 ",4674,2416,2258,false,true,true,false]
["Kujawsko-pomorskie"," lipnowski "," 45 - 49 ",4239,2163,2076,false,true,true,false]
["Kujawsko-pomorskie"," lipnowski "," 50 - 54 ",4238,2177,2061,false,true,true,false]
["Kujawsko-pomorskie"," lipnowski "," 55 - 59 ",4653,2323,2330,false,true,true,false]
["Kujawsko-pomorskie"," lipnowski "," 60 - 64 ",4272,2129,2143,false,true,true,false]
["Kujawsko-pomorskie"," lipnowski "," 65 - 69 ",3211,1455,1756,false,true,true,false]
["Kujawsko-pomorskie"," lipnowski "," 70 i więcej",5798,1987,3811,true,false,true,false]
["Kujawsko-pomorskie"," lipnowski ","65+",{"$f":"SUM(D749:D750)","v":9009},{"$f":"SUM(E749:E750)","v":3442},{"$f":"SUM(F749:F750)","v":5567},true,true,false,false]
["Kujawsko-pomorskie"," mogileński "," mogileński ",46181,22615,23566,true,true,true,true]
["Kujawsko-pomorskie"," mogileński "," 0 - 4 ",2156,1092,1064,false,true,true,false]
["Kujawsko-pomorskie"," mogileński "," 5 - 9 ",2483,1262,1221,false,true,true,false]
["Kujawsko-pomorskie"," mogileński "," 10 - 14 ",2200,1099,1101,false,true,true,false]
["Kujawsko-pomorskie"," mogileński "," 15 - 19 ",2729,1418,1311,false,true,true,false]
["Kujawsko-pomorskie"," mogileński "," 20 - 24 ",3114,1571,1543,false,true,true,false]
["Kujawsko-pomorskie"," mogileński "," 25 - 29 ",3523,1813,1710,false,true,true,false]
["Kujawsko-pomorskie"," mogileński "," 30 - 34 ",3735,1923,1812,false,true,true,false]
["Kujawsko-pomorskie",{"$f":"IF(C759=\"65+\",C760,B759)","v":" mogileński "}," 35 - 39 ",3497,1812,1685,false,true,true,false]
["Kujawsko-pomorskie"," mogileński "," 40 - 44 ",3252,1683,1569,false,true,true,false]
["Kujawsko-pomorskie"," mogileński "," 45 - 49 ",2849,1449,1400,false,true,true,false]
["Kujawsko-pomorskie"," mogileński "," 50 - 54 ",3059,1509,1550,false,true,true,false]
["Kujawsko-pomorskie"," mogileński "," 55 - 59 ",3503,1730,1773,false,true,true,false]
["Kujawsko-pomorskie"," mogileński "," 60 - 64 ",3167,1562,1605,false,true,true,false]
["Kujawsko-pomorskie"," mogileński "," 65 - 69 ",2668,1194,1474,false,true,true,false]
["Kujawsko-pomorskie"," mogileński "," 70 i więcej",4246,1498,2748,true,false,true,false]
["Kujawsko-pomorskie"," mogileński ","65+",{"$f":"SUM(D766:D767)","v":6914},{"$f":"SUM(E766:E767)","v":2692},{"$f":"SUM(F766:F767)","v":4222},true,true,false,false]
["Kujawsko-pomorskie"," nakielski "," nakielski ",86784,43020,43764,true,true,true,true]
["Kujawsko-pomorskie"," nakielski "," 0 - 4 ",4492,2345,2147,false,true,true,false]
["Kujawsko-pomorskie"," nakielski "," 5 - 9 ",5179,2715,2464,false,true,true,false]
["Kujawsko-pomorskie"," nakielski "," 10 - 14 ",4633,2352,2281,false,true,true,false]
["Kujawsko-pomorskie"," nakielski "," 15 - 19 ",5011,2566,2445,false,true,true,false]
["Kujawsko-pomorskie"," nakielski "," 20 - 24 ",6142,3168,2974,false,true,true,false]
["Kujawsko-pomorskie"," nakielski "," 25 - 29 ",6656,3453,3203,false,true,true,false]
["Kujawsko-pomorskie"," nakielski "," 30 - 34 ",7356,3783,3573,false,true,true,false]
["Kujawsko-pomorskie"," nakielski "," 35 - 39 ",6548,3400,3148,false,true,true,false]
["Kujawsko-pomorskie"," nakielski "," 40 - 44 ",6169,3102,3067,false,true,true,false]
["Kujawsko-pomorskie"," nakielski "," 45 - 49 ",5405,2717,2688,false,true,true,false]
["Kujawsko-pomorskie"," nakielski "," 50 - 54 ",5432,2786,2646,false,true,true,false]
["Kujawsko-pomorskie"," nakielski "," 55 - 59 ",6292,3129,3163,false,true,true,false]
["Kujawsko-pomorskie"," nakielski "," 60 - 64 ",5722,2781,2941,false,true,true,false]
["Kujawsko-pomorskie"," nakielski "," 65 - 69 ",4686,2163,2523,false,true,true,false]
["Kujawsko-pomorskie"," nakielski "," 70 i więcej",7061,2560,4501,true,false,true,false]
["Kujawsko-pomorskie"," nakielski ","65+",{"$f":"SUM(D783:D784)","v":11747},{"$f":"SUM(E783:E784)","v":4723},{"$f":"SUM(F783:F784)","v":7024},true,true,false,false]
["Kujawsko-pomorskie"," radziejowski "," radziejowski ",41242,20418,20824,true,true,true,true]
["Kujawsko-pomorskie"," radziejowski "," 0 - 4 ",1869,965,904,false,true,true,false]
["Kujawsko-pomorskie"," radziejowski "," 5 - 9 ",2063,1001,1062,{"$f":"IFERROR(IF(SEARCH(\" - \",C788)>0,FALSE,TRUE),TRUE)","v":false},{"$f":"IFERROR(IF(SEARCH(\"70\",C788)>0,FALSE,TRUE),TRUE)","v":true},{"$f":"IFERROR(IF(SEARCH(\"65+\",C788)>0,FALSE,TRUE),TRUE)","v":true},{"$f":"AND(G788:I788)","v":false}]
["Kujawsko-pomorskie"," radziejowski "," 10 - 14 ",1912,975,937,false,true,true,false]
["Kujawsko-pomorskie"," radziejowski "," 15 - 19 ",2195,1144,1051,false,true,true,false]
["Kujawsko-pomorskie"," radziejowski "," 20 - 24 ",3128,1590,1538,false,true,true,false]
["Kujawsko-pomorskie"," radziejowski "," 25 - 29 ",3098,1637,1461,false,true,true,false]
["Kujawsko-pomorskie"," radziejowski "," 30 - 34 ",3072,1639,1433,false,true,true,false]
["Kujawsko-pomorskie"," radziejowski "," 35 - 39 ",2864,1529,1335,false,true,true,false]
["Kujawsko-pomorskie"," radziejowski "," 40 - 44 ",2907,1479,1428,false,true,true,false]
["Kujawsko-pomorskie"," radziejowski "," 45 - 49 ",2705,1357,1348,false,true,true,false]
["Kujawsko-pomorskie"," radziejowski "," 50 - 54 ",2835,1461,1374,false,true,true,false]
["Kujawsko-pomorskie"," radziejowski "," 55 - 59 ",3140,1587,1553,false,true,true,false]
["Kujawsko-pomorskie"," radziejowski "," 60 - 64 ",2794,1412,1382,false,true,true,false]
["Kujawsko-pomorskie"," radziejowski "," 65 - 69 ",2286,1079,1207,false,true,true,false]
["Kujawsko-pomorskie"," radziejowski "," 70 i więcej",4374,1563,2811,true,false,true,false]
["Kujawsko-pomorskie"," radziejowski ","65+",{"$f":"SUM(D800:D801)","v":6660},{"$f":"SUM(E800:E801)","v":2642},{"$f":"SUM(F800:F801)","v":4018},true,true,false,false]
["Kujawsko-pomorskie"," rypiński "," rypiński ",44234,21873,22361,true,true,true,true]
["Kujawsko-pomorskie"," rypiński "," 0 - 4 ",2204,1167,1037,false,true,true,false]
["Kujawsko-pomorskie"," rypiński "," 5 - 9 ",2565,1315,1250,false,true,true,false]
["Kujawsko-pomorskie"," rypiński "," 10 - 14 ",2354,1217,1137,false,true,true,false]
["Kujawsko-pomorskie"," rypiński "," 15 - 19 ",2502,1296,1206,false,true,true,false]
["Kujawsko-pomorskie"," rypiński "," 20 - 24 ",3218,1666,1552,false,true,true,false]
["Kujawsko-pomorskie"," rypiński "," 25 - 29 ",3251,1677,1574,false,true,true,false]
["Kujawsko-pomorskie"," rypiński "," 30 - 34 ",3371,1751,1620,false,true,true,false]
["Kujawsko-pomorskie"," rypiński "," 35 - 39 ",3308,1696,1612,false,true,true,false]
["Kujawsko-pomorskie"," rypiński "," 40 - 44 ",2995,1525,1470,false,true,true,false]
["Kujawsko-pomorskie"," rypiński "," 45 - 49 ",2672,1350,1322,false,true,true,false]
["Kujawsko-pomorskie"," rypiński "," 50 - 54 ",2864,1496,1368,false,true,true,false]
["Kujawsko-pomorskie"," rypiński "," 55 - 59 ",3330,1669,1661,false,true,true,false]
["Kujawsko-pomorskie"," rypiński "," 60 - 64 ",2970,1434,1536,false,true,true,false]
["Kujawsko-pomorskie"," rypiński "," 65 - 69 ",2372,1094,1278,false,true,true,false]
["Kujawsko-pomorskie"," rypiński "," 70 i więcej",4258,1520,2738,true,false,true,false]
["Kujawsko-pomorskie"," rypiński ","65+",{"$f":"SUM(D817:D818)","v":6630},{"$f":"SUM(E817:E818)","v":2614},{"$f":"SUM(F817:F818)","v":4016},true,true,false,false]
["Kujawsko-pomorskie"," sępoleński "," sępoleński ",41446,20651,20795,true,true,true,true]
["Kujawsko-pomorskie"," sępoleński "," 0 - 4 ",2074,1099,975,false,true,true,false]
["Kujawsko-pomorskie"," sępoleński "," 5 - 9 ",2616,1374,1242,false,true,true,false]
["Kujawsko-pomorskie"," sępoleński "," 10 - 14 ",2179,1107,1072,false,true,true,false]
["Kujawsko-pomorskie",{"$f":"IF(C823=\"65+\",C824,B823)","v":" sępoleński "}," 15 - 19 ",2371,1216,1155,false,true,true,false]
["Kujawsko-pomorskie"," sępoleński "," 20 - 24 ",2923,1513,1410,false,true,true,false]
["Kujawsko-pomorskie"," sępoleński "," 25 - 29 ",3289,1716,1573,false,true,true,false]
["Kujawsko-pomorskie"," sępoleński "," 30 - 34 ",3318,1727,1591,false,true,true,false]
["Kujawsko-pomorskie"," sępoleński "," 35 - 39 ",3080,1570,1510,false,true,true,false]
["Kujawsko-pomorskie"," sępoleński "," 40 - 44 ",2842,1459,1383,false,true,true,false]
["Kujawsko-pomorskie"," sępoleński "," 45 - 49 ",2416,1227,1189,false,true,true,false]
["Kujawsko-pomorskie"," sępoleński "," 50 - 54 ",2596,1326,1270,false,true,true,false]
["Kujawsko-pomorskie"," sępoleński "," 55 - 59 ",3078,1563,1515,false,true,true,false]
["Kujawsko-pomorskie"," sępoleński "," 60 - 64 ",2722,1349,1373,false,true,true,false]
["Kujawsko-pomorskie"," sępoleński "," 65 - 69 ",2185,1018,1167,false,true,true,false]
["Kujawsko-pomorskie"," sępoleński "," 70 i więcej",3757,1387,2370,true,false,true,false]
["Kujawsko-pomorskie"," sępoleński ","65+",{"$f":"SUM(D834:D835)","v":5942},{"$f":"SUM(E834:E835)","v":2405},{"$f":"SUM(F834:F835)","v":3537},true,true,false,false]
["Kujawsko-pomorskie"," świecki "," świecki ",99699,49164,50535,true,true,true,true]
["Kujawsko-pomorskie"," świecki "," 0 - 4 ",5080,2614,2466,false,true,true,false]
["Kujawsko-pomorskie"," świecki "," 5 - 9 ",5860,3048,2812,false,true,true,false]
["Kujawsko-pomorskie"," świecki "," 10 - 14 ",5181,2595,2586,false,true,true,false]
["Kujawsko-pomorskie"," świecki "," 15 - 19 ",5415,2773,2642,false,true,true,false]
["Kujawsko-pomorskie"," świecki "," 20 - 24 ",6828,3470,3358,false,true,true,false]
["Kujawsko-pomorskie"," świecki "," 25 - 29 ",7319,3783,3536,false,true,true,false]
["Kujawsko-pomorskie"," świecki "," 30 - 34 ",8298,4207,4091,false,true,true,false]
["Kujawsko-pomorskie"," świecki "," 35 - 39 ",7771,3970,3801,false,true,true,false]
["Kujawsko-pomorskie"," świecki "," 40 - 44 ",7147,3678,3469,false,true,true,false]
["Kujawsko-pomorskie"," świecki "," 45 - 49 ",6246,3169,3077,false,true,true,false]
["Kujawsko-pomorskie"," świecki "," 50 - 54 ",6257,3129,3128,false,true,true,false]
["Kujawsko-pomorskie"," świecki "," 55 - 59 ",7429,3691,3738,false,true,true,false]
["Kujawsko-pomorskie"," świecki "," 60 - 64 ",6962,3361,3601,false,true,true,false]
["Kujawsko-pomorskie"," świecki "," 65 - 69 ",5624,2597,3027,false,true,true,false]
["Kujawsko-pomorskie"," świecki "," 70 i więcej",8282,3079,5203,{"$f":"IFERROR(IF(SEARCH(\" - \",C852)>0,FALSE,TRUE),TRUE)","v":true},{"$f":"IFERROR(IF(SEARCH(\"70\",C852)>0,FALSE,TRUE),TRUE)","v":false},{"$f":"IFERROR(IF(SEARCH(\"65+\",C852)>0,FALSE,TRUE),TRUE)","v":true},{"$f":"AND(G852:I852)","v":false}]
["Kujawsko-pomorskie"," świecki ","65+",{"$f":"SUM(D851:D852)","v":13906},{"$f":"SUM(E851:E852)","v":5676},{"$f":"SUM(F851:F852)","v":8230},true,true,false,false]
["Kujawsko-pomorskie"," toruński "," toruński ",103898,51206,52692,true,true,true,true]
["Kujawsko-pomorskie"," toruński "," 0 - 4 ",5622,2922,2700,false,true,true,false]
["Kujawsko-pomorskie"," toruński "," 5 - 9 ",6835,3465,3370,false,true,true,false]
["Kujawsko-pomorskie"," toruński "," 10 - 14 ",6290,3270,3020,false,true,true,false]
["Kujawsko-pomorskie"," toruński "," 15 - 19 ",6229,3150,3079,false,true,true,false]
["Kujawsko-pomorskie"," toruński "," 20 - 24 ",7108,3593,3515,false,true,true,false]
["Kujawsko-pomorskie"," toruński "," 25 - 29 ",7652,3796,3856,false,true,true,false]
["Kujawsko-pomorskie"," toruński "," 30 - 34 ",8679,4286,4393,false,true,true,false]
["Kujawsko-pomorskie"," toruński "," 35 - 39 ",8965,4542,4423,false,true,true,false]
["Kujawsko-pomorskie"," toruński "," 40 - 44 ",8427,4217,4210,false,true,true,false]
["Kujawsko-pomorskie"," toruński "," 45 - 49 ",6560,3341,3219,false,true,true,false]
["Kujawsko-pomorskie"," toruński "," 50 - 54 ",6305,3178,3127,false,true,true,false]
["Kujawsko-pomorskie"," toruński "," 55 - 59 ",6965,3484,3481,false,true,true,false]
["Kujawsko-pomorskie"," toruński "," 60 - 64 ",6322,3111,3211,false,true,true,false]
["Kujawsko-pomorskie"," toruński "," 65 - 69 ",4629,2181,2448,false,true,true,false]
["Kujawsko-pomorskie"," toruński "," 70 i więcej",7310,2670,4640,true,false,true,false]
["Kujawsko-pomorskie"," toruński ","65+",{"$f":"SUM(D868:D869)","v":11939},{"$f":"SUM(E868:E869)","v":4851},{"$f":"SUM(F868:F869)","v":7088},true,true,false,false]
["Kujawsko-pomorskie"," tucholski "," tucholski ",48384,24133,24251,true,true,true,true]
["Kujawsko-pomorskie"," tucholski "," 0 - 4 ",2562,1346,1216,false,true,true,false]
["Kujawsko-pomorskie"," tucholski "," 5 - 9 ",2919,1477,1442,false,true,true,false]
["Kujawsko-pomorskie"," tucholski "," 10 - 14 ",2591,1348,1243,false,true,true,false]
["Kujawsko-pomorskie"," tucholski "," 15 - 19 ",3119,1633,1486,false,true,true,false]
["Kujawsko-pomorskie"," tucholski "," 20 - 24 ",3258,1641,1617,false,true,true,false]
["Kujawsko-pomorskie"," tucholski "," 25 - 29 ",3786,1986,1800,false,true,true,false]
["Kujawsko-pomorskie"," tucholski "," 30 - 34 ",3913,2093,1820,false,true,true,false]
["Kujawsko-pomorskie"," tucholski "," 35 - 39 ",3517,1803,1714,false,true,true,false]
["Kujawsko-pomorskie"," tucholski "," 40 - 44 ",3175,1582,1593,false,true,true,false]
["Kujawsko-pomorskie"," tucholski "," 45 - 49 ",2949,1492,1457,false,true,true,false]
["Kujawsko-pomorskie"," tucholski "," 50 - 54 ",3100,1566,1534,false,true,true,false]
["Kujawsko-pomorskie"," tucholski "," 55 - 59 ",3687,1880,1807,false,true,true,false]
["Kujawsko-pomorskie"," tucholski "," 60 - 64 ",3185,1574,1611,false,true,true,false]
["Kujawsko-pomorskie"," tucholski "," 65 - 69 ",2569,1219,1350,false,true,true,false]
["Kujawsko-pomorskie"," tucholski "," 70 i więcej",4054,1493,2561,true,false,true,false]
["Kujawsko-pomorskie"," tucholski ","65+",{"$f":"SUM(D885:D886)","v":6623},{"$f":"SUM(E885:E886)","v":2712},{"$f":"SUM(F885:F886)","v":3911},true,true,false,false]
["Kujawsko-pomorskie",{"$f":"IF(C887=\"65+\",C888,B887)","v":" wąbrzeski "}," wąbrzeski ",34823,17095,17728,true,true,true,true]
["Kujawsko-pomorskie"," wąbrzeski "," 0 - 4 ",1757,888,869,false,true,true,false]
["Kujawsko-pomorskie"," wąbrzeski "," 5 - 9 ",1965,983,982,false,true,true,false]
["Kujawsko-pomorskie"," wąbrzeski "," 10 - 14 ",1780,896,884,false,true,true,false]
["Kujawsko-pomorskie"," wąbrzeski "," 15 - 19 ",1946,1002,944,false,true,true,false]
["Kujawsko-pomorskie"," wąbrzeski "," 20 - 24 ",2503,1256,1247,false,true,true,false]
["Kujawsko-pomorskie"," wąbrzeski "," 25 - 29 ",2571,1302,1269,false,true,true,false]
["Kujawsko-pomorskie"," wąbrzeski "," 30 - 34 ",2722,1401,1321,false,true,true,false]
["Kujawsko-pomorskie"," wąbrzeski "," 35 - 39 ",2609,1371,1238,false,true,true,false]
["Kujawsko-pomorskie"," wąbrzeski "," 40 - 44 ",2470,1296,1174,false,true,true,false]
["Kujawsko-pomorskie"," wąbrzeski "," 45 - 49 ",2221,1140,1081,false,true,true,false]
["Kujawsko-pomorskie"," wąbrzeski "," 50 - 54 ",2241,1153,1088,false,true,true,false]
["Kujawsko-pomorskie"," wąbrzeski "," 55 - 59 ",2467,1197,1270,false,true,true,false]
["Kujawsko-pomorskie"," wąbrzeski "," 60 - 64 ",2398,1203,1195,false,true,true,false]
["Kujawsko-pomorskie"," wąbrzeski "," 65 - 69 ",1917,876,1041,false,true,true,false]
["Kujawsko-pomorskie"," wąbrzeski "," 70 i więcej",3256,1131,2125,true,false,true,false]
["Kujawsko-pomorskie"," wąbrzeski ","65+",{"$f":"SUM(D902:D903)","v":5173},{"$f":"SUM(E902:E903)","v":2007},{"$f":"SUM(F902:F903)","v":3166},true,true,false,false]
["Kujawsko-pomorskie"," włocławski "," włocławski ",86624,42884,43740,true,true,true,true]
["Kujawsko-pomorskie"," włocławski "," 0 - 4 ",3836,1964,1872,false,true,true,false]
["Kujawsko-pomorskie"," włocławski "," 5 - 9 ",4510,2304,2206,false,true,true,false]
["Kujawsko-pomorskie"," włocławski "," 10 - 14 ",4364,2219,2145,false,true,true,false]
["Kujawsko-pomorskie"," włocławski "," 15 - 19 ",5064,2603,2461,false,true,true,false]
["Kujawsko-pomorskie"," włocławski "," 20 - 24 ",6255,3233,3022,false,true,true,false]
["Kujawsko-pomorskie"," włocławski "," 25 - 29 ",6383,3327,3056,false,true,true,false]
["Kujawsko-pomorskie"," włocławski "," 30 - 34 ",6302,3307,2995,false,true,true,false]
["Kujawsko-pomorskie"," włocławski "," 35 - 39 ",6352,3257,3095,false,true,true,false]
["Kujawsko-pomorskie"," włocławski "," 40 - 44 ",6404,3273,3131,false,true,true,false]
["Kujawsko-pomorskie"," włocławski "," 45 - 49 ",5997,3046,2951,false,true,true,false]
["Kujawsko-pomorskie"," włocławski "," 50 - 54 ",5802,2999,2803,{"$f":"IFERROR(IF(SEARCH(\" - \",C916)>0,FALSE,TRUE),TRUE)","v":false},{"$f":"IFERROR(IF(SEARCH(\"70\",C916)>0,FALSE,TRUE),TRUE)","v":true},{"$f":"IFERROR(IF(SEARCH(\"65+\",C916)>0,FALSE,TRUE),TRUE)","v":true},{"$f":"AND(G916:I916)","v":false}]
["Kujawsko-pomorskie"," włocławski "," 55 - 59 ",6557,3370,3187,false,true,true,false]
["Kujawsko-pomorskie"," włocławski "," 60 - 64 ",5727,2882,2845,false,true,true,false]
["Kujawsko-pomorskie"," włocławski "," 65 - 69 ",4692,2150,2542,false,true,true,false]
["Kujawsko-pomorskie"," włocławski "," 70 i więcej",8379,2950,5429,true,false,true,false]
["Kujawsko-pomorskie"," włocławski ","65+",{"$f":"SUM(D919:D920)","v":13071},{"$f":"SUM(E919:E920)","v":5100},{"$f":"SUM(F919:F920)","v":7971},true,true,false,false]
["Kujawsko-pomorskie"," żniński "," żniński ",70548,34876,35672,true,true,true,true]
["Kujawsko-pomorskie"," żniński "," 0 - 4 ",3493,1801,1692,false,true,true,false]
["Kujawsko-pomorskie"," żniński "," 5 - 9 ",4007,2003,2004,false,true,true,false]
["Kujawsko-pomorskie"," żniński "," 10 - 14 ",3557,1831,1726,false,true,true,false]
["Kujawsko-pomorskie"," żniński "," 15 - 19 ",3880,2040,1840,false,true,true,false]
["Kujawsko-pomorskie"," żniński "," 20 - 24 ",4807,2458,2349,false,true,true,false]
["Kujawsko-pomorskie"," żniński "," 25 - 29 ",5173,2664,2509,false,true,true,false]
["Kujawsko-pomorskie"," żniński "," 30 - 34 ",5682,2961,2721,false,true,true,false]
["Kujawsko-pomorskie"," żniński "," 35 - 39 ",5483,2835,2648,false,true,true,false]
["Kujawsko-pomorskie"," żniński "," 40 - 44 ",5096,2635,2461,false,true,true,false]
["Kujawsko-pomorskie"," żniński "," 45 - 49 ",4221,2149,2072,false,true,true,false]
["Kujawsko-pomorskie"," żniński "," 50 - 54 ",4377,2187,2190,false,true,true,false]
["Kujawsko-pomorskie"," żniński "," 55 - 59 ",5210,2526,2684,false,true,true,false]
["Kujawsko-pomorskie"," żniński "," 60 - 64 ",5128,2451,2677,false,true,true,false]
["Kujawsko-pomorskie"," żniński "," 65 - 69 ",4225,1971,2254,false,true,true,false]
["Kujawsko-pomorskie"," żniński "," 70 i więcej",6209,2364,3845,true,false,true,false]
["Kujawsko-pomorskie"," żniński ","65+",{"$f":"SUM(D936:D937)","v":10434},{"$f":"SUM(E936:E937)","v":4335},{"$f":"SUM(F936:F937)","v":6099},true,true,false,false]
["Lubelskie","Wszystkie","Lubelskie ",2135715,1034911,1100804,{"$f":"IFERROR(IF(SEARCH(\" - \",C939)>0,FALSE,TRUE),TRUE)","v":true},{"$f":"IFERROR(IF(SEARCH(\" 70 \",C939)>0,FALSE,TRUE),TRUE)","v":true},{"$f":"IFERROR(IF(SEARCH(\"65+\",C939)>0,FALSE,TRUE),TRUE)","v":true},{"$f":"AND(G939:I939)","v":true}]
["Lubelskie","Wszystkie"," 0 - 4 ",98952,50350,48602,{"$f":"IFERROR(IF(SEARCH(\" - \",C940)>0,FALSE,TRUE),TRUE)","v":false},{"$f":"IFERROR(IF(SEARCH(\" 70 \",C940)>0,FALSE,TRUE),TRUE)","v":true},{"$f":"IFERROR(IF(SEARCH(\" 65+ \",C940)>0,FALSE,TRUE),TRUE)","v":true},{"$f":"AND(G940:I940)","v":false}]
["Lubelskie","Wszystkie"," 5 - 9 ",111204,56772,54432,false,true,true,false]
["Lubelskie","Wszystkie"," 10 - 14 ",102783,52759,50024,false,true,true,false]
["Lubelskie","Wszystkie"," 15 - 19 ",116259,59596,56663,false,true,true,false]
["Lubelskie","Wszystkie"," 20 - 24 ",141054,72041,69013,false,true,true,false]
["Lubelskie","Wszystkie"," 25 - 29 ",159367,82407,76960,false,true,true,false]
["Lubelskie","Wszystkie"," 30 - 34 ",173253,89846,83407,false,true,true,false]
["Lubelskie","Wszystkie"," 35 - 39 ",163050,84003,79047,false,true,true,false]
["Lubelskie","Wszystkie"," 40 - 44 ",149100,76112,72988,false,true,true,false]
["Lubelskie","Wszystkie"," 45 - 49 ",131321,66235,65086,false,true,true,false]
["Lubelskie","Wszystkie"," 50 - 54 ",133476,66383,67093,false,true,true,false]
["Lubelskie","Wszystkie"," 55 - 59 ",152026,73801,78225,false,true,true,false]
["Lubelskie",{"$f":"IF(C951=\"65+\",C952,B951)","v":"Wszystkie"}," 60 - 64 ",148679,69529,79150,false,true,true,false]
["Lubelskie","Wszystkie"," 65 - 69 ",119104,51977,67127,false,true,true,false]
["Lubelskie","Wszystkie"," 70 i więcej",236087,83100,152987,true,false,true,false]
["Lubelskie","Wszystkie","65+",{"$f":"SUM(D953:D954)","v":355191},{"$f":"SUM(E953:E954)","v":135077},{"$f":"SUM(F953:F954)","v":220114},true,true,{"$f":"IFERROR(IF(SEARCH(\"65+\",C955)>0,FALSE,TRUE),TRUE)","v":false},false]
["Lubelskie"," Biała Podlaska "," Biała Podlaska ",57389,27527,29862,true,true,true,true]
["Lubelskie"," Biała Podlaska "," 0 - 4 ",2778,1401,1377,false,true,true,false]
["Lubelskie"," Biała Podlaska "," 5 - 9 ",3075,1574,1501,false,true,true,false]
["Lubelskie"," Biała Podlaska "," 10 - 14 ",2564,1318,1246,false,true,true,false]
["Lubelskie"," Biała Podlaska "," 15 - 19 ",3162,1558,1604,false,true,true,false]
["Lubelskie"," Biała Podlaska "," 20 - 24 ",3526,1783,1743,false,true,true,false]
["Lubelskie"," Biała Podlaska "," 25 - 29 ",4794,2584,2210,false,true,true,false]
["Lubelskie"," Biała Podlaska "," 30 - 34 ",4959,2599,2360,false,true,true,false]
["Lubelskie"," Biała Podlaska "," 35 - 39 ",4441,2236,2205,false,true,true,false]
["Lubelskie"," Biała Podlaska "," 40 - 44 ",4020,2017,2003,false,true,true,false]
["Lubelskie"," Biała Podlaska "," 45 - 49 ",3422,1637,1785,false,true,true,false]
["Lubelskie"," Biała Podlaska "," 50 - 54 ",3688,1691,1997,false,true,true,false]
["Lubelskie"," Biała Podlaska "," 55 - 59 ",4602,2081,2521,false,true,true,false]
["Lubelskie"," Biała Podlaska "," 60 - 64 ",4527,1930,2597,false,true,true,false]
["Lubelskie"," Biała Podlaska "," 65 - 69 ",3157,1402,1755,false,true,true,false]
["Lubelskie"," Biała Podlaska "," 70 i więcej",4674,1716,2958,true,false,true,false]
["Lubelskie"," Biała Podlaska ","65+",{"$f":"SUM(D970:D971)","v":7831},{"$f":"SUM(E970:E971)","v":3118},{"$f":"SUM(F970:F971)","v":4713},true,true,{"$f":"IFERROR(IF(SEARCH(\"65+\",C972)>0,FALSE,TRUE),TRUE)","v":false},false]
["Lubelskie"," Chełm "," Chełm ",63949,30070,33879,true,true,true,true]
["Lubelskie"," Chełm "," 0 - 4 ",2555,1278,1277,false,true,true,false]
["Lubelskie"," Chełm "," 5 - 9 ",3022,1530,1492,false,true,true,false]
["Lubelskie"," Chełm "," 10 - 14 ",2604,1371,1233,false,true,true,false]
["Lubelskie"," Chełm "," 15 - 19 ",2960,1512,1448,false,true,true,false]
["Lubelskie"," Chełm "," 20 - 24 ",3775,1974,1801,false,true,true,false]
["Lubelskie"," Chełm "," 25 - 29 ",4668,2408,2260,false,true,true,false]
["Lubelskie"," Chełm "," 30 - 34 ",5300,2737,2563,false,true,true,false]
["Lubelskie"," Chełm "," 35 - 39 ",5052,2546,2506,false,true,true,false]
["Lubelskie"," Chełm "," 40 - 44 ",4498,2233,2265,false,true,true,false]
["Lubelskie"," Chełm "," 45 - 49 ",3952,1876,2076,false,true,true,false]
["Lubelskie"," Chełm "," 50 - 54 ",4250,1970,2280,false,true,true,false]
["Lubelskie"," Chełm "," 55 - 59 ",5194,2274,2920,false,true,true,false]
["Lubelskie"," Chełm "," 60 - 64 ",5428,2316,3112,false,true,true,false]
["Lubelskie"," Chełm "," 65 - 69 ",4133,1715,2418,false,true,true,false]
["Lubelskie"," Chełm "," 70 i więcej",6558,2330,4228,true,false,true,false]
["Lubelskie"," Chełm ","65+",{"$f":"SUM(D987:D988)","v":10691},{"$f":"SUM(E987:E988)","v":4045},{"$f":"SUM(F987:F988)","v":6646},true,true,{"$f":"IFERROR(IF(SEARCH(\"65+\",C989)>0,FALSE,TRUE),TRUE)","v":false},false]
["Lubelskie"," Lublin "," Lublin ",340745,156905,183840,true,true,true,true]
["Lubelskie"," Lublin "," 0 - 4 ",16551,8388,8163,false,true,true,false]
["Lubelskie"," Lublin "," 5 - 9 ",16840,8510,8330,false,true,true,false]
["Lubelskie"," Lublin "," 10 - 14 ",14135,7165,6970,false,true,true,false]
["Lubelskie"," Lublin "," 15 - 19 ",14884,7357,7527,false,true,true,false]
["Lubelskie"," Lublin "," 20 - 24 ",16735,8388,8347,false,true,true,false]
["Lubelskie"," Lublin "," 25 - 29 ",26552,12667,13885,false,true,true,false]
["Lubelskie"," Lublin "," 30 - 34 ",31055,15215,15840,false,true,true,false]
["Lubelskie"," Lublin "," 35 - 39 ",27941,13780,14161,false,true,true,false]
["Lubelskie"," Lublin "," 40 - 44 ",24982,12127,12855,false,true,true,false]
["Lubelskie"," Lublin "," 45 - 49 ",20340,9787,10553,false,true,true,false]
["Lubelskie"," Lublin "," 50 - 54 ",20009,9323,10686,false,true,true,false]
["Lubelskie"," Lublin "," 55 - 59 ",23803,10617,13186,false,true,true,false]
["Lubelskie"," Lublin "," 60 - 64 ",25738,10944,14794,false,true,true,false]
["Lubelskie"," Lublin "," 65 - 69 ",21161,8638,12523,{"$f":"IFERROR(IF(SEARCH(\" - \",C1004)>0,FALSE,TRUE),TRUE)","v":false},{"$f":"IFERROR(IF(SEARCH(\" 70 \",C1004)>0,FALSE,TRUE),TRUE)","v":true},{"$f":"IFERROR(IF(SEARCH(\" 65+ \",C1004)>0,FALSE,TRUE),TRUE)","v":true},{"$f":"AND(G1004:I1004)","v":false}]
["Lubelskie"," Lublin "," 70 i więcej",40019,13999,26020,true,false,true,false]
["Lubelskie"," Lublin ","65+",{"$f":"SUM(D1004:D1005)","v":61180},{"$f":"SUM(E1004:E1005)","v":22637},{"$f":"SUM(F1004:F1005)","v":38543},true,true,{"$f":"IFERROR(IF(SEARCH(\"65+\",C1006)>0,FALSE,TRUE),TRUE)","v":false},false]
["Lubelskie",{"$f":"IF(C1006=\"65+\",C1007,B1006)","v":" zamojski "}," zamojski ",108038,53177,54861,{"$f":"IFERROR(IF(SEARCH(\" - \",C1007)>0,FALSE,TRUE),TRUE)","v":true},{"$f":"IFERROR(IF(SEARCH(\" 70 \",C1007)>0,FALSE,TRUE),TRUE)","v":true},{"$f":"IFERROR(IF(SEARCH(\"65+\",C1007)>0,FALSE,TRUE),TRUE)","v":true},{"$f":"AND(G1007:I1007)","v":true}]
["Lubelskie"," zamojski "," 0 - 4 ",4307,2190,2117,false,true,{"$f":"IFERROR(IF(SEARCH(\" 65+ \",C1008)>0,FALSE,TRUE),TRUE)","v":true},false]
["Lubelskie"," zamojski "," 5 - 9 ",5423,2781,2642,false,true,true,false]
["Lubelskie"," zamojski "," 10 - 14 ",5403,2759,2644,false,true,true,false]
["Lubelskie"," zamojski "," 15 - 19 ",6417,3269,3148,false,true,true,false]
["Lubelskie"," zamojski "," 20 - 24 ",8059,4129,3930,false,true,true,false]
["Lubelskie"," zamojski "," 25 - 29 ",7996,4181,3815,false,true,true,false]
["Lubelskie"," zamojski "," 30 - 34 ",8128,4256,3872,false,true,true,false]
["Lubelskie"," zamojski "," 35 - 39 ",7569,3959,3610,false,true,true,false]
["Lubelskie"," zamojski "," 40 - 44 ",7395,3852,3543,false,true,true,false]
["Lubelskie"," zamojski "," 45 - 49 ",6975,3595,3380,false,true,true,false]
["Lubelskie"," zamojski "," 50 - 54 ",7123,3659,3464,false,true,true,false]
["Lubelskie"," zamojski "," 55 - 59 ",7610,3986,3624,false,true,true,false]
["Lubelskie"," zamojski "," 60 - 64 ",6846,3454,3392,false,true,true,false]
["Lubelskie"," zamojski "," 65 - 69 ",5641,2511,3130,false,true,true,false]
["Lubelskie"," zamojski "," 70 i więcej",13146,4596,8550,true,false,true,false]
["Lubelskie"," zamojski ","65+",{"$f":"SUM(D1021:D1022)","v":18787},{"$f":"SUM(E1021:E1022)","v":7107},{"$f":"SUM(F1021:F1022)","v":11680},true,true,{"$f":"IFERROR(IF(SEARCH(\"65+\",C1023)>0,FALSE,TRUE),TRUE)","v":false},false]
["Lubelskie"," bialski "," bialski ",112330,55703,56627,true,true,{"$f":"IFERROR(IF(SEARCH(\"65+\",C1024)>0,FALSE,TRUE),TRUE)","v":true},true]
["Lubelskie"," bialski "," 0 - 4 ",5566,2882,2684,false,true,{"$f":"IFERROR(IF(SEARCH(\" 65+ \",C1025)>0,FALSE,TRUE),TRUE)","v":true},false]
["Lubelskie"," bialski "," 5 - 9 ",6217,3176,3041,false,true,true,false]
["Lubelskie"," bialski "," 10 - 14 ",5929,3044,2885,false,true,true,false]
["Lubelskie"," bialski "," 15 - 19 ",6946,3543,3403,false,true,true,false]
["Lubelskie"," bialski "," 20 - 24 ",8665,4381,4284,false,true,true,false]
["Lubelskie"," bialski "," 25 - 29 ",8535,4472,4063,false,true,true,false]
["Lubelskie"," bialski "," 30 - 34 ",8483,4591,3892,false,true,true,false]
["Lubelskie"," bialski "," 35 - 39 ",7933,4175,3758,false,true,true,false]
["Lubelskie"," bialski "," 40 - 44 ",7624,4023,3601,false,true,true,false]
["Lubelskie"," bialski "," 45 - 49 ",7151,3669,3482,false,true,true,false]
["Lubelskie"," bialski "," 50 - 54 ",7078,3701,3377,false,true,true,false]
["Lubelskie"," bialski "," 55 - 59 ",7578,3885,3693,false,true,true,false]
["Lubelskie"," bialski "," 60 - 64 ",6754,3360,3394,false,true,true,false]
["Lubelskie"," bialski "," 65 - 69 ",5502,2442,3060,false,true,true,false]
["Lubelskie"," bialski "," 70 i więcej",12369,4359,8010,true,false,true,false]
["Lubelskie"," bialski ","65+",{"$f":"SUM(D1038:D1039)","v":17871},{"$f":"SUM(E1038:E1039)","v":6801},{"$f":"SUM(F1038:F1039)","v":11070},true,true,{"$f":"IFERROR(IF(SEARCH(\"65+\",C1040)>0,FALSE,TRUE),TRUE)","v":false},false]
["Lubelskie"," biłgorajski "," biłgorajski ",102341,50440,51901,true,true,{"$f":"IFERROR(IF(SEARCH(\"65+\",C1041)>0,FALSE,TRUE),TRUE)","v":true},true]
["Lubelskie"," biłgorajski "," 0 - 4 ",4619,2424,2195,false,true,{"$f":"IFERROR(IF(SEARCH(\" 65+ \",C1042)>0,FALSE,TRUE),TRUE)","v":true},false]
["Lubelskie"," biłgorajski "," 5 - 9 ",5350,2729,2621,false,true,true,false]
["Lubelskie"," biłgorajski "," 10 - 14 ",5197,2652,2545,false,true,true,false]
["Lubelskie"," biłgorajski "," 15 - 19 ",5988,3162,2826,false,true,true,false]
["Lubelskie"," biłgorajski "," 20 - 24 ",6976,3521,3455,false,true,true,false]
["Lubelskie"," biłgorajski "," 25 - 29 ",7634,4048,3586,false,true,true,false]
["Lubelskie"," biłgorajski "," 30 - 34 ",8339,4421,3918,false,true,true,false]
["Lubelskie"," biłgorajski "," 35 - 39 ",7917,4058,3859,false,true,true,false]
["Lubelskie"," biłgorajski "," 40 - 44 ",7132,3742,3390,false,true,true,false]
["Lubelskie"," biłgorajski "," 45 - 49 ",6133,3189,2944,false,true,true,false]
["Lubelskie"," biłgorajski "," 50 - 54 ",6593,3369,3224,false,true,true,false]
["Lubelskie"," biłgorajski "," 55 - 59 ",7222,3614,3608,false,true,true,false]
["Lubelskie"," biłgorajski "," 60 - 64 ",6594,3127,3467,false,true,true,false]
["Lubelskie"," biłgorajski "," 65 - 69 ",5521,2519,3002,false,true,true,false]
["Lubelskie"," biłgorajski "," 70 i więcej",11126,3865,7261,true,false,true,false]
["Lubelskie"," biłgorajski ","65+",{"$f":"SUM(D1055:D1056)","v":16647},{"$f":"SUM(E1055:E1056)","v":6384},{"$f":"SUM(F1055:F1056)","v":10263},true,true,{"$f":"IFERROR(IF(SEARCH(\"65+\",C1057)>0,FALSE,TRUE),TRUE)","v":false},false]
["Lubelskie"," chełmski "," chełmski ",79239,39045,40194,true,true,{"$f":"IFERROR(IF(SEARCH(\"65+\",C1058)>0,FALSE,TRUE),TRUE)","v":true},true]
["Lubelskie"," chełmski "," 0 - 4 ",3627,1801,1826,false,true,{"$f":"IFERROR(IF(SEARCH(\" 65+ \",C1059)>0,FALSE,TRUE),TRUE)","v":true},false]
["Lubelskie"," chełmski "," 5 - 9 ",4300,2210,2090,false,true,true,false]
["Lubelskie"," chełmski "," 10 - 14 ",3933,2009,1924,false,true,true,false]
["Lubelskie"," chełmski "," 15 - 19 ",4620,2374,2246,false,true,true,false]
["Lubelskie"," chełmski "," 20 - 24 ",5902,3024,2878,false,true,true,false]
["Lubelskie"," chełmski "," 25 - 29 ",6128,3250,2878,false,true,true,false]
["Lubelskie"," chełmski "," 30 - 34 ",6351,3349,3002,false,true,true,false]
["Lubelskie"," chełmski "," 35 - 39 ",6006,3165,2841,false,true,true,false]
["Lubelskie"," chełmski "," 40 - 44 ",5504,2874,2630,false,true,true,false]
["Lubelskie"," chełmski "," 45 - 49 ",4876,2453,2423,false,true,true,false]
["Lubelskie"," chełmski "," 50 - 54 ",5012,2620,2392,false,true,true,false]
["Lubelskie"," chełmski "," 55 - 59 ",5664,2877,2787,false,true,true,false]
["Lubelskie",{"$f":"IF(C1070=\"65+\",C1071,B1070)","v":" chełmski "}," 60 - 64 ",5259,2662,2597,{"$f":"IFERROR(IF(SEARCH(\" - \",C1071)>0,FALSE,TRUE),TRUE)","v":false},{"$f":"IFERROR(IF(SEARCH(\" 70 \",C1071)>0,FALSE,TRUE),TRUE)","v":true},true,{"$f":"AND(G1071:I1071)","v":false}]
["Lubelskie"," chełmski "," 65 - 69 ",3993,1814,2179,false,true,true,false]
["Lubelskie"," chełmski "," 70 i więcej",8064,2563,5501,true,false,true,false]
["Lubelskie"," chełmski ","65+",{"$f":"SUM(D1072:D1073)","v":12057},{"$f":"SUM(E1072:E1073)","v":4377},{"$f":"SUM(F1072:F1073)","v":7680},true,true,{"$f":"IFERROR(IF(SEARCH(\"65+\",C1074)>0,FALSE,TRUE),TRUE)","v":false},false]
["Lubelskie"," hrubieszowski "," hrubieszowski ",65562,32140,33422,true,true,{"$f":"IFERROR(IF(SEARCH(\"65+\",C1075)>0,FALSE,TRUE),TRUE)","v":true},true]
["Lubelskie"," hrubieszowski "," 0 - 4 ",2692,1369,1323,false,true,{"$f":"IFERROR(IF(SEARCH(\" 65+ \",C1076)>0,FALSE,TRUE),TRUE)","v":true},false]
["Lubelskie"," hrubieszowski "," 5 - 9 ",3139,1617,1522,false,true,true,false]
["Lubelskie"," hrubieszowski "," 10 - 14 ",3038,1554,1484,false,true,true,false]
["Lubelskie"," hrubieszowski "," 15 - 19 ",3569,1809,1760,false,true,true,false]
["Lubelskie"," hrubieszowski "," 20 - 24 ",4616,2380,2236,false,true,true,false]
["Lubelskie"," hrubieszowski "," 25 - 29 ",4633,2444,2189,false,true,true,false]
["Lubelskie"," hrubieszowski "," 30 - 34 ",5060,2728,2332,false,true,true,false]
["Lubelskie"," hrubieszowski "," 35 - 39 ",4728,2529,2199,false,true,true,false]
["Lubelskie"," hrubieszowski "," 40 - 44 ",4370,2267,2103,false,true,true,false]
["Lubelskie"," hrubieszowski "," 45 - 49 ",4022,2086,1936,false,true,true,false]
["Lubelskie"," hrubieszowski "," 50 - 54 ",4228,2090,2138,false,true,true,false]
["Lubelskie"," hrubieszowski "," 55 - 59 ",4928,2477,2451,false,true,true,false]
["Lubelskie"," hrubieszowski "," 60 - 64 ",4702,2290,2412,false,true,true,false]
["Lubelskie"," hrubieszowski "," 65 - 69 ",3875,1711,2164,false,true,true,false]
["Lubelskie"," hrubieszowski "," 70 i więcej",7962,2789,5173,true,false,true,false]
["Lubelskie"," hrubieszowski ","65+",{"$f":"SUM(D1089:D1090)","v":11837},{"$f":"SUM(E1089:E1090)","v":4500},{"$f":"SUM(F1089:F1090)","v":7337},true,true,{"$f":"IFERROR(IF(SEARCH(\"65+\",C1091)>0,FALSE,TRUE),TRUE)","v":false},false]
["Lubelskie"," janowski "," janowski ",46742,23135,23607,true,true,{"$f":"IFERROR(IF(SEARCH(\"65+\",C1092)>0,FALSE,TRUE),TRUE)","v":true},true]
["Lubelskie"," janowski "," 0 - 4 ",2042,996,1046,false,true,{"$f":"IFERROR(IF(SEARCH(\" 65+ \",C1093)>0,FALSE,TRUE),TRUE)","v":true},false]
["Lubelskie"," janowski "," 5 - 9 ",2348,1211,1137,false,true,true,false]
["Lubelskie"," janowski "," 10 - 14 ",2407,1242,1165,false,true,true,false]
["Lubelskie"," janowski "," 15 - 19 ",2756,1416,1340,false,true,true,false]
["Lubelskie"," janowski "," 20 - 24 ",3529,1820,1709,false,true,true,false]
["Lubelskie"," janowski "," 25 - 29 ",3315,1743,1572,false,true,true,false]
["Lubelskie"," janowski "," 30 - 34 ",3414,1837,1577,false,true,true,false]
["Lubelskie"," janowski "," 35 - 39 ",3444,1762,1682,false,true,true,false]
["Lubelskie"," janowski "," 40 - 44 ",3322,1733,1589,false,true,true,false]
["Lubelskie"," janowski "," 45 - 49 ",3017,1608,1409,false,true,true,false]
["Lubelskie"," janowski "," 50 - 54 ",3065,1591,1474,false,true,true,false]
["Lubelskie"," janowski "," 55 - 59 ",3164,1617,1547,false,true,true,false]
["Lubelskie"," janowski "," 60 - 64 ",2874,1428,1446,false,true,true,false]
["Lubelskie"," janowski "," 65 - 69 ",2537,1159,1378,false,true,true,false]
["Lubelskie"," janowski "," 70 i więcej",5508,1972,3536,true,false,true,false]
["Lubelskie"," janowski ","65+",{"$f":"SUM(D1106:D1107)","v":8045},{"$f":"SUM(E1106:E1107)","v":3131},{"$f":"SUM(F1106:F1107)","v":4914},true,true,{"$f":"IFERROR(IF(SEARCH(\"65+\",C1108)>0,FALSE,TRUE),TRUE)","v":false},false]
["Lubelskie"," krasnostawski "," krasnostawski ",65142,31696,33446,true,true,{"$f":"IFERROR(IF(SEARCH(\"65+\",C1109)>0,FALSE,TRUE),TRUE)","v":true},true]
["Lubelskie"," krasnostawski "," 0 - 4 ",2572,1261,1311,false,true,{"$f":"IFERROR(IF(SEARCH(\" 65+ \",C1110)>0,FALSE,TRUE),TRUE)","v":true},false]
["Lubelskie"," krasnostawski "," 5 - 9 ",2903,1504,1399,false,true,true,false]
["Lubelskie"," krasnostawski "," 10 - 14 ",2939,1553,1386,false,true,true,false]
["Lubelskie"," krasnostawski "," 15 - 19 ",3369,1774,1595,false,true,true,false]
["Lubelskie"," krasnostawski "," 20 - 24 ",4372,2237,2135,false,true,true,false]
["Lubelskie"," krasnostawski "," 25 - 29 ",4416,2311,2105,false,true,true,false]
["Lubelskie"," krasnostawski "," 30 - 34 ",4930,2583,2347,false,true,true,false]
["Lubelskie"," krasnostawski "," 35 - 39 ",4938,2609,2329,false,true,true,false]
["Lubelskie"," krasnostawski "," 40 - 44 ",4395,2339,2056,false,true,true,false]
["Lubelskie"," krasnostawski "," 45 - 49 ",3782,1918,1864,false,true,true,false]
["Lubelskie"," krasnostawski "," 50 - 54 ",3944,1974,1970,false,true,true,false]
["Lubelskie"," krasnostawski "," 55 - 59 ",4901,2479,2422,false,true,true,false]
["Lubelskie"," krasnostawski "," 60 - 64 ",4979,2365,2614,false,true,true,false]
["Lubelskie"," krasnostawski "," 65 - 69 ",3967,1743,2224,false,true,true,false]
["Lubelskie"," krasnostawski "," 70 i więcej",8735,3046,5689,true,false,true,false]
["Lubelskie"," krasnostawski ","65+",{"$f":"SUM(D1123:D1124)","v":12702},{"$f":"SUM(E1123:E1124)","v":4789},{"$f":"SUM(F1123:F1124)","v":7913},true,true,{"$f":"IFERROR(IF(SEARCH(\"65+\",C1125)>0,FALSE,TRUE),TRUE)","v":false},false]
["Lubelskie"," kraśnicki "," kraśnicki ",97244,47321,49923,true,true,{"$f":"IFERROR(IF(SEARCH(\"65+\",C1126)>0,FALSE,TRUE),TRUE)","v":true},true]
["Lubelskie"," kraśnicki "," 0 - 4 ",3977,2038,1939,false,true,{"$f":"IFERROR(IF(SEARCH(\" 65+ \",C1127)>0,FALSE,TRUE),TRUE)","v":true},false]
["Lubelskie"," kraśnicki "," 5 - 9 ",4845,2453,2392,false,true,true,false]
["Lubelskie"," kraśnicki "," 10 - 14 ",4699,2425,2274,false,true,true,false]
["Lubelskie"," kraśnicki "," 15 - 19 ",5261,2731,2530,false,true,true,false]
["Lubelskie"," kraśnicki "," 20 - 24 ",6589,3443,3146,false,true,true,false]
["Lubelskie"," kraśnicki "," 25 - 29 ",6868,3557,3311,false,true,true,false]
["Lubelskie"," kraśnicki "," 30 - 34 ",7643,3920,3723,false,true,true,false]
["Lubelskie"," kraśnicki "," 35 - 39 ",7526,3893,3633,false,true,true,false]
["Lubelskie",{"$f":"IF(C1134=\"65+\",C1135,B1134)","v":" kraśnicki "}," 40 - 44 ",6693,3389,3304,{"$f":"IFERROR(IF(SEARCH(\" - \",C1135)>0,FALSE,TRUE),TRUE)","v":false},{"$f":"IFERROR(IF(SEARCH(\" 70 \",C1135)>0,FALSE,TRUE),TRUE)","v":true},true,{"$f":"AND(G1135:I1135)","v":false}]
["Lubelskie"," kraśnicki "," 45 - 49 ",5976,3041,2935,false,true,true,false]
["Lubelskie"," kraśnicki "," 50 - 54 ",6031,3040,2991,false,true,true,false]
["Lubelskie"," kraśnicki "," 55 - 59 ",6951,3451,3500,false,true,true,false]
["Lubelskie"," kraśnicki "," 60 - 64 ",6932,3321,3611,false,true,true,false]
["Lubelskie"," kraśnicki "," 65 - 69 ",5379,2396,2983,false,true,true,false]
["Lubelskie"," kraśnicki "," 70 i więcej",11874,4223,7651,true,false,true,false]
["Lubelskie"," kraśnicki ","65+",{"$f":"SUM(D1140:D1141)","v":17253},{"$f":"SUM(E1140:E1141)","v":6619},{"$f":"SUM(F1140:F1141)","v":10634},true,true,{"$f":"IFERROR(IF(SEARCH(\"65+\",C1142)>0,FALSE,TRUE),TRUE)","v":false},false]
["Lubelskie"," lubartowski "," lubartowski ",89332,43675,45657,true,true,{"$f":"IFERROR(IF(SEARCH(\"65+\",C1143)>0,FALSE,TRUE),TRUE)","v":true},true]
["Lubelskie"," lubartowski "," 0 - 4 ",4363,2223,2140,false,true,{"$f":"IFERROR(IF(SEARCH(\" 65+ \",C1144)>0,FALSE,TRUE),TRUE)","v":true},false]
["Lubelskie"," lubartowski "," 5 - 9 ",4989,2480,2509,false,true,true,false]
["Lubelskie"," lubartowski "," 10 - 14 ",4637,2403,2234,false,true,true,false]
["Lubelskie"," lubartowski "," 15 - 19 ",4901,2553,2348,false,true,true,false]
["Lubelskie"," lubartowski "," 20 - 24 ",6276,3201,3075,false,true,true,false]
["Lubelskie"," lubartowski "," 25 - 29 ",6618,3428,3190,false,true,true,false]
["Lubelskie"," lubartowski "," 30 - 34 ",7214,3769,3445,false,true,true,false]
["Lubelskie"," lubartowski "," 35 - 39 ",6901,3592,3309,false,true,true,false]
["Lubelskie"," lubartowski "," 40 - 44 ",6265,3269,2996,false,true,true,false]
["Lubelskie"," lubartowski "," 45 - 49 ",5576,2915,2661,false,true,true,false]
["Lubelskie"," lubartowski "," 50 - 54 ",5415,2741,2674,false,true,true,false]
["Lubelskie"," lubartowski "," 55 - 59 ",6024,2953,3071,false,true,true,false]
["Lubelskie"," lubartowski "," 60 - 64 ",5972,2891,3081,false,true,true,false]
["Lubelskie"," lubartowski "," 65 - 69 ",4747,2122,2625,false,true,true,false]
["Lubelskie"," lubartowski "," 70 i więcej",9434,3135,6299,true,false,true,false]
["Lubelskie"," lubartowski ","65+",{"$f":"SUM(D1157:D1158)","v":14181},{"$f":"SUM(E1157:E1158)","v":5257},{"$f":"SUM(F1157:F1158)","v":8924},true,true,{"$f":"IFERROR(IF(SEARCH(\"65+\",C1159)>0,FALSE,TRUE),TRUE)","v":false},false]
["Lubelskie"," lubelski "," lubelski ",151679,74250,77429,true,true,{"$f":"IFERROR(IF(SEARCH(\"65+\",C1160)>0,FALSE,TRUE),TRUE)","v":true},true]
["Lubelskie"," lubelski "," 0 - 4 ",7476,3821,3655,false,true,{"$f":"IFERROR(IF(SEARCH(\" 65+ \",C1161)>0,FALSE,TRUE),TRUE)","v":true},false]
["Lubelskie"," lubelski "," 5 - 9 ",9048,4668,4380,false,true,true,false]
["Lubelskie"," lubelski "," 10 - 14 ",8141,4213,3928,false,true,true,false]
["Lubelskie"," lubelski "," 15 - 19 ",9099,4720,4379,false,true,true,false]
["Lubelskie"," lubelski "," 20 - 24 ",10596,5340,5256,false,true,true,false]
["Lubelskie"," lubelski "," 25 - 29 ",10871,5541,5330,false,true,true,false]
["Lubelskie"," lubelski "," 30 - 34 ",11981,6119,5862,false,true,true,false]
["Lubelskie"," lubelski "," 35 - 39 ",12126,6170,5956,false,true,true,false]
["Lubelskie"," lubelski "," 40 - 44 ",11762,5903,5859,false,true,true,false]
["Lubelskie"," lubelski "," 45 - 49 ",10031,5188,4843,false,true,true,false]
["Lubelskie"," lubelski "," 50 - 54 ",9205,4649,4556,false,true,true,false]
["Lubelskie"," lubelski "," 55 - 59 ",9893,4933,4960,false,true,true,false]
["Lubelskie"," lubelski "," 60 - 64 ",9448,4563,4885,false,true,true,false]
["Lubelskie"," lubelski "," 65 - 69 ",7318,3277,4041,false,true,true,false]
["Lubelskie"," lubelski "," 70 i więcej",14684,5145,9539,true,false,true,false]
["Lubelskie"," lubelski ","65+",{"$f":"SUM(D1174:D1175)","v":22002},{"$f":"SUM(E1174:E1175)","v":8422},{"$f":"SUM(F1174:F1175)","v":13580},true,true,{"$f":"IFERROR(IF(SEARCH(\"65+\",C1176)>0,FALSE,TRUE),TRUE)","v":false},false]
["Lubelskie"," łęczyński "," łęczyński ",57367,28154,29213,true,true,{"$f":"IFERROR(IF(SEARCH(\"65+\",C1177)>0,FALSE,TRUE),TRUE)","v":true},true]
["Lubelskie"," łęczyński "," 0 - 4 ",3118,1565,1553,false,true,{"$f":"IFERROR(IF(SEARCH(\" 65+ \",C1178)>0,FALSE,TRUE),TRUE)","v":true},false]
["Lubelskie"," łęczyński "," 5 - 9 ",3188,1600,1588,false,true,true,false]
["Lubelskie"," łęczyński "," 10 - 14 ",2952,1463,1489,false,true,true,false]
["Lubelskie"," łęczyński "," 15 - 19 ",3094,1551,1543,false,true,true,false]
["Lubelskie"," łęczyński "," 20 - 24 ",4120,2147,1973,false,true,true,false]
["Lubelskie"," łęczyński "," 25 - 29 ",4904,2591,2313,false,true,true,false]
["Lubelskie"," łęczyński "," 30 - 34 ",5196,2713,2483,false,true,true,false]
["Lubelskie"," łęczyński "," 35 - 39 ",4477,2315,2162,false,true,true,false]
["Lubelskie"," łęczyński "," 40 - 44 ",3720,1907,1813,false,true,true,false]
["Lubelskie"," łęczyński "," 45 - 49 ",3388,1673,1715,false,true,true,false]
["Lubelskie"," łęczyński "," 50 - 54 ",3996,1911,2085,false,true,true,false]
["Lubelskie"," łęczyński "," 55 - 59 ",4414,2171,2243,false,true,true,false]
["Lubelskie"," łęczyński "," 60 - 64 ",3764,1830,1934,false,true,true,false]
["Lubelskie"," łęczyński "," 65 - 69 ",2610,1220,1390,false,true,true,false]
["Lubelskie"," łęczyński "," 70 i więcej",4426,1497,2929,true,false,true,false]
["Lubelskie"," łęczyński ","65+",{"$f":"SUM(D1191:D1192)","v":7036},{"$f":"SUM(E1191:E1192)","v":2717},{"$f":"SUM(F1191:F1192)","v":4319},true,true,{"$f":"IFERROR(IF(SEARCH(\"65+\",C1193)>0,FALSE,TRUE),TRUE)","v":false},false]
["Lubelskie"," łukowski "," łukowski ",108382,53924,54458,true,true,{"$f":"IFERROR(IF(SEARCH(\"65+\",C1194)>0,FALSE,TRUE),TRUE)","v":true},true]
["Lubelskie"," łukowski "," 0 - 4 ",6065,3109,2956,false,true,{"$f":"IFERROR(IF(SEARCH(\" 65+ \",C1195)>0,FALSE,TRUE),TRUE)","v":true},false]
["Lubelskie"," łukowski "," 5 - 9 ",6496,3310,3186,false,true,true,false]
["Lubelskie"," łukowski "," 10 - 14 ",6038,3115,2923,false,true,true,false]
["Lubelskie"," łukowski "," 15 - 19 ",6849,3509,3340,false,true,true,false]
["Lubelskie",{"$f":"IF(C1198=\"65+\",C1199,B1198)","v":" łukowski "}," 20 - 24 ",8171,4236,3935,{"$f":"IFERROR(IF(SEARCH(\" - \",C1199)>0,FALSE,TRUE),TRUE)","v":false},{"$f":"IFERROR(IF(SEARCH(\" 70 \",C1199)>0,FALSE,TRUE),TRUE)","v":true},true,{"$f":"AND(G1199:I1199)","v":false}]
["Lubelskie"," łukowski "," 25 - 29 ",8711,4590,4121,false,true,true,false]
["Lubelskie"," łukowski "," 30 - 34 ",8596,4596,4000,false,true,true,false]
["Lubelskie"," łukowski "," 35 - 39 ",7899,4201,3698,false,true,true,false]
["Lubelskie"," łukowski "," 40 - 44 ",7177,3730,3447,false,true,true,false]
["Lubelskie"," łukowski "," 45 - 49 ",6311,3283,3028,false,true,true,false]
["Lubelskie"," łukowski "," 50 - 54 ",6434,3353,3081,false,true,true,false]
["Lubelskie"," łukowski "," 55 - 59 ",6903,3472,3431,false,true,true,false]
["Lubelskie"," łukowski "," 60 - 64 ",6559,3118,3441,false,true,true,false]
["Lubelskie"," łukowski "," 65 - 69 ",5342,2373,2969,false,true,true,false]
["Lubelskie"," łukowski "," 70 i więcej",10831,3929,6902,true,false,true,false]
["Lubelskie"," łukowski ","65+",{"$f":"SUM(D1208:D1209)","v":16173},{"$f":"SUM(E1208:E1209)","v":6302},{"$f":"SUM(F1208:F1209)","v":9871},true,true,{"$f":"IFERROR(IF(SEARCH(\"65+\",C1210)>0,FALSE,TRUE),TRUE)","v":false},false]
["Lubelskie"," opolski "," opolski ",60764,29707,31057,true,true,{"$f":"IFERROR(IF(SEARCH(\"65+\",C1211)>0,FALSE,TRUE),TRUE)","v":true},true]
["Lubelskie"," opolski "," 0 - 4 ",2762,1412,1350,false,true,{"$f":"IFERROR(IF(SEARCH(\" 65+ \",C1212)>0,FALSE,TRUE),TRUE)","v":true},false]
["Lubelskie"," opolski "," 5 - 9 ",3195,1630,1565,false,true,true,false]
["Lubelskie"," opolski "," 10 - 14 ",2993,1494,1499,false,true,true,false]
["Lubelskie"," opolski "," 15 - 19 ",2990,1542,1448,false,true,true,false]
["Lubelskie"," opolski "," 20 - 24 ",4519,2314,2205,false,true,true,false]
["Lubelskie"," opolski "," 25 - 29 ",4518,2381,2137,false,true,true,false]
["Lubelskie"," opolski "," 30 - 34 ",4661,2419,2242,false,true,true,false]
["Lubelskie"," opolski "," 35 - 39 ",4572,2379,2193,false,true,true,false]
["Lubelskie"," opolski "," 40 - 44 ",4161,2135,2026,false,true,true,false]
["Lubelskie"," opolski "," 45 - 49 ",3655,1889,1766,false,true,true,false]
["Lubelskie"," opolski "," 50 - 54 ",3695,1877,1818,false,true,true,false]
["Lubelskie"," opolski "," 55 - 59 ",4348,2137,2211,false,true,true,false]
["Lubelskie"," opolski "," 60 - 64 ",4381,2136,2245,false,true,true,false]
["Lubelskie"," opolski "," 65 - 69 ",3481,1567,1914,false,true,true,false]
["Lubelskie"," opolski "," 70 i więcej",6833,2395,4438,true,false,true,false]
["Lubelskie"," opolski ","65+",{"$f":"SUM(D1225:D1226)","v":10314},{"$f":"SUM(E1225:E1226)","v":3962},{"$f":"SUM(F1225:F1226)","v":6352},true,true,{"$f":"IFERROR(IF(SEARCH(\"65+\",C1227)>0,FALSE,TRUE),TRUE)","v":false},false]
["Lubelskie"," parczewski "," parczewski ",35500,17572,17928,true,true,{"$f":"IFERROR(IF(SEARCH(\"65+\",C1228)>0,FALSE,TRUE),TRUE)","v":true},true]
["Lubelskie"," parczewski "," 0 - 4 ",1757,889,868,false,true,{"$f":"IFERROR(IF(SEARCH(\" 65+ \",C1229)>0,FALSE,TRUE),TRUE)","v":true},false]
["Lubelskie"," parczewski "," 5 - 9 ",1781,910,871,false,true,true,false]
["Lubelskie"," parczewski "," 10 - 14 ",1738,886,852,false,true,true,false]
["Lubelskie"," parczewski "," 15 - 19 ",1945,1027,918,false,true,true,false]
["Lubelskie"," parczewski "," 20 - 24 ",2481,1264,1217,false,true,true,false]
["Lubelskie"," parczewski "," 25 - 29 ",2633,1385,1248,false,true,true,false]
["Lubelskie"," parczewski "," 30 - 34 ",2871,1592,1279,false,true,true,false]
["Lubelskie"," parczewski "," 35 - 39 ",2531,1359,1172,false,true,true,false]
["Lubelskie"," parczewski "," 40 - 44 ",2334,1249,1085,false,true,true,false]
["Lubelskie"," parczewski "," 45 - 49 ",2154,1070,1084,false,true,true,false]
["Lubelskie"," parczewski "," 50 - 54 ",2212,1161,1051,false,true,true,false]
["Lubelskie"," parczewski "," 55 - 59 ",2581,1277,1304,false,true,true,false]
["Lubelskie"," parczewski "," 60 - 64 ",2454,1202,1252,false,true,true,false]
["Lubelskie"," parczewski "," 65 - 69 ",1962,882,1080,false,true,true,false]
["Lubelskie"," parczewski "," 70 i więcej",4066,1419,2647,true,false,true,false]
["Lubelskie"," parczewski ","65+",{"$f":"SUM(D1242:D1243)","v":6028},{"$f":"SUM(E1242:E1243)","v":2301},{"$f":"SUM(F1242:F1243)","v":3727},true,true,{"$f":"IFERROR(IF(SEARCH(\"65+\",C1244)>0,FALSE,TRUE),TRUE)","v":false},false]
["Lubelskie"," puławski "," puławski ",114859,55112,59747,true,true,{"$f":"IFERROR(IF(SEARCH(\"65+\",C1245)>0,FALSE,TRUE),TRUE)","v":true},true]
["Lubelskie"," puławski "," 0 - 4 ",4833,2477,2356,false,true,{"$f":"IFERROR(IF(SEARCH(\" 65+ \",C1246)>0,FALSE,TRUE),TRUE)","v":true},false]
["Lubelskie"," puławski "," 5 - 9 ",5588,2893,2695,false,true,true,false]
["Lubelskie"," puławski "," 10 - 14 ",5341,2747,2594,false,true,true,false]
["Lubelskie"," puławski "," 15 - 19 ",6603,3379,3224,false,true,true,false]
["Lubelskie"," puławski "," 20 - 24 ",6944,3631,3313,false,true,true,false]
["Lubelskie"," puławski "," 25 - 29 ",7652,3959,3693,false,true,true,false]
["Lubelskie"," puławski "," 30 - 34 ",8384,4256,4128,false,true,true,false]
["Lubelskie"," puławski "," 35 - 39 ",8364,4282,4082,false,true,true,false]
["Lubelskie"," puławski "," 40 - 44 ",8072,4102,3970,false,true,true,false]
["Lubelskie"," puławski "," 45 - 49 ",7637,3844,3793,false,true,true,false]
["Lubelskie"," puławski "," 50 - 54 ",7367,3623,3744,false,true,true,false]
["Lubelskie"," puławski "," 55 - 59 ",8100,3841,4259,false,true,true,false]
["Lubelskie"," puławski "," 60 - 64 ",8224,3795,4429,false,true,true,false]
["Lubelskie"," puławski "," 65 - 69 ",7231,2974,4257,false,true,true,false]
["Lubelskie"," puławski "," 70 i więcej",14519,5309,9210,true,false,true,false]
["Lubelskie"," puławski ","65+",{"$f":"SUM(D1259:D1260)","v":21750},{"$f":"SUM(E1259:E1260)","v":8283},{"$f":"SUM(F1259:F1260)","v":13467},true,true,{"$f":"IFERROR(IF(SEARCH(\"65+\",C1261)>0,FALSE,TRUE),TRUE)","v":false},false]
["Lubelskie"," radzyński "," radzyński ",60119,30003,30116,true,true,{"$f":"IFERROR(IF(SEARCH(\"65+\",C1262)>0,FALSE,TRUE),TRUE)","v":true},true]
["Lubelskie",{"$f":"IF(C1262=\"65+\",C1263,B1262)","v":" radzyński "}," 0 - 4 ",2965,1531,1434,{"$f":"IFERROR(IF(SEARCH(\" - \",C1263)>0,FALSE,TRUE),TRUE)","v":false},{"$f":"IFERROR(IF(SEARCH(\" 70 \",C1263)>0,FALSE,TRUE),TRUE)","v":true},{"$f":"IFERROR(IF(SEARCH(\" 65+ \",C1263)>0,FALSE,TRUE),TRUE)","v":true},{"$f":"AND(G1263:I1263)","v":false}]
["Lubelskie"," radzyński "," 5 - 9 ",3354,1740,1614,false,true,true,false]
["Lubelskie"," radzyński "," 10 - 14 ",3304,1661,1643,false,true,true,false]
["Lubelskie"," radzyński "," 15 - 19 ",3586,1852,1734,false,true,true,false]
["Lubelskie"," radzyński "," 20 - 24 ",4457,2291,2166,false,true,true,false]
["Lubelskie"," radzyński "," 25 - 29 ",4418,2424,1994,false,true,true,false]
["Lubelskie"," radzyński "," 30 - 34 ",4696,2482,2214,false,true,true,false]
["Lubelskie"," radzyński "," 35 - 39 ",4433,2387,2046,false,true,true,false]
["Lubelskie"," radzyński "," 40 - 44 ",4017,2119,1898,false,true,true,false]
["Lubelskie"," radzyński "," 45 - 49 ",3603,1915,1688,false,true,true,false]
["Lubelskie"," radzyński "," 50 - 54 ",3853,1932,1921,false,true,true,false]
["Lubelskie"," radzyński "," 55 - 59 ",4197,2134,2063,false,true,true,false]
["Lubelskie"," radzyński "," 60 - 64 ",3844,1876,1968,false,true,true,false]
["Lubelskie"," radzyński "," 65 - 69 ",3064,1376,1688,false,true,true,false]
["Lubelskie"," radzyński "," 70 i więcej",6328,2283,4045,true,false,true,false]
["Lubelskie"," radzyński ","65+",{"$f":"SUM(D1276:D1277)","v":9392},{"$f":"SUM(E1276:E1277)","v":3659},{"$f":"SUM(F1276:F1277)","v":5733},true,true,{"$f":"IFERROR(IF(SEARCH(\"65+\",C1278)>0,FALSE,TRUE),TRUE)","v":false},false]
["Lubelskie"," rycki "," rycki ",57233,28552,28681,true,true,{"$f":"IFERROR(IF(SEARCH(\"65+\",C1279)>0,FALSE,TRUE),TRUE)","v":true},true]
["Lubelskie"," rycki "," 0 - 4 ",2739,1411,1328,false,true,{"$f":"IFERROR(IF(SEARCH(\" 65+ \",C1280)>0,FALSE,TRUE),TRUE)","v":true},false]
["Lubelskie"," rycki "," 5 - 9 ",2912,1495,1417,false,true,true,false]
["Lubelskie"," rycki "," 10 - 14 ",2762,1421,1341,false,true,true,false]
["Lubelskie"," rycki "," 15 - 19 ",3307,1852,1455,false,true,true,false]
["Lubelskie"," rycki "," 20 - 24 ",4039,2031,2008,false,true,true,false]
["Lubelskie"," rycki "," 25 - 29 ",4460,2492,1968,false,true,true,false]
["Lubelskie"," rycki "," 30 - 34 ",4453,2443,2010,false,true,true,false]
["Lubelskie"," rycki "," 35 - 39 ",4139,2226,1913,false,true,true,false]
["Lubelskie"," rycki "," 40 - 44 ",3666,1940,1726,false,true,true,false]
["Lubelskie"," rycki "," 45 - 49 ",3385,1730,1655,false,true,true,false]
["Lubelskie"," rycki "," 50 - 54 ",3521,1759,1762,false,true,true,false]
["Lubelskie"," rycki "," 55 - 59 ",4250,2050,2200,false,true,true,false]
["Lubelskie"," rycki "," 60 - 64 ",4116,1952,2164,false,true,true,false]
["Lubelskie"," rycki "," 65 - 69 ",3308,1522,1786,false,true,true,false]
["Lubelskie"," rycki "," 70 i więcej",6176,2228,3948,true,false,true,false]
["Lubelskie"," rycki ","65+",{"$f":"SUM(D1293:D1294)","v":9484},{"$f":"SUM(E1293:E1294)","v":3750},{"$f":"SUM(F1293:F1294)","v":5734},true,true,{"$f":"IFERROR(IF(SEARCH(\"65+\",C1295)>0,FALSE,TRUE),TRUE)","v":false},false]
["Lubelskie"," świdnicki "," świdnicki ",72509,34840,37669,true,true,{"$f":"IFERROR(IF(SEARCH(\"65+\",C1296)>0,FALSE,TRUE),TRUE)","v":true},true]
["Lubelskie"," świdnicki "," 0 - 4 ",3254,1652,1602,false,true,{"$f":"IFERROR(IF(SEARCH(\" 65+ \",C1297)>0,FALSE,TRUE),TRUE)","v":true},false]
["Lubelskie"," świdnicki "," 5 - 9 ",3749,1905,1844,false,true,true,false]
["Lubelskie"," świdnicki "," 10 - 14 ",3410,1794,1616,false,true,true,false]
["Lubelskie"," świdnicki "," 15 - 19 ",3595,1829,1766,false,true,true,false]
["Lubelskie"," świdnicki "," 20 - 24 ",4111,2053,2058,false,true,true,false]
["Lubelskie"," świdnicki "," 25 - 29 ",5045,2625,2420,false,true,true,false]
["Lubelskie"," świdnicki "," 30 - 34 ",5825,2943,2882,false,true,true,false]
["Lubelskie"," świdnicki "," 35 - 39 ",5933,2989,2944,false,true,true,false]
["Lubelskie"," świdnicki "," 40 - 44 ",5305,2695,2610,false,true,true,false]
["Lubelskie"," świdnicki "," 45 - 49 ",4508,2265,2243,false,true,true,false]
["Lubelskie"," świdnicki "," 50 - 54 ",4394,2191,2203,false,true,true,false]
["Lubelskie"," świdnicki "," 55 - 59 ",5140,2445,2695,false,true,true,false]
["Lubelskie"," świdnicki "," 60 - 64 ",5365,2436,2929,false,true,true,false]
["Lubelskie"," świdnicki "," 65 - 69 ",4445,1903,2542,false,true,true,false]
["Lubelskie"," świdnicki "," 70 i więcej",8430,3115,5315,true,false,true,false]
["Lubelskie"," świdnicki ","65+",{"$f":"SUM(D1310:D1311)","v":12875},{"$f":"SUM(E1310:E1311)","v":5018},{"$f":"SUM(F1310:F1311)","v":7857},true,true,{"$f":"IFERROR(IF(SEARCH(\"65+\",C1312)>0,FALSE,TRUE),TRUE)","v":false},false]
["Lubelskie"," tomaszowski "," tomaszowski ",85356,42075,43281,true,true,{"$f":"IFERROR(IF(SEARCH(\"65+\",C1313)>0,FALSE,TRUE),TRUE)","v":true},true]
["Lubelskie"," tomaszowski "," 0 - 4 ",3669,1831,1838,false,true,{"$f":"IFERROR(IF(SEARCH(\" 65+ \",C1314)>0,FALSE,TRUE),TRUE)","v":true},false]
["Lubelskie"," tomaszowski "," 5 - 9 ",4236,2179,2057,false,true,true,false]
["Lubelskie"," tomaszowski "," 10 - 14 ",4104,2119,1985,false,true,true,false]
["Lubelskie"," tomaszowski "," 15 - 19 ",4656,2380,2276,false,true,true,false]
["Lubelskie"," tomaszowski "," 20 - 24 ",6128,3166,2962,false,true,true,false]
["Lubelskie"," tomaszowski "," 25 - 29 ",6222,3324,2898,false,true,true,false]
["Lubelskie"," tomaszowski "," 30 - 34 ",6785,3607,3178,false,true,true,false]
["Lubelskie"," tomaszowski "," 35 - 39 ",6258,3296,2962,false,true,true,false]
["Lubelskie"," tomaszowski "," 40 - 44 ",5778,2993,2785,false,true,true,false]
["Lubelskie"," tomaszowski "," 45 - 49 ",5228,2640,2588,false,true,true,false]
["Lubelskie"," tomaszowski "," 50 - 54 ",5695,2979,2716,false,true,true,false]
["Lubelskie"," tomaszowski "," 55 - 59 ",6299,3226,3073,false,true,true,false]
["Lubelskie"," tomaszowski "," 60 - 64 ",5729,2785,2944,false,true,true,false]
["Lubelskie",{"$f":"IF(C1326=\"65+\",C1327,B1326)","v":" tomaszowski "}," 65 - 69 ",4653,2078,2575,{"$f":"IFERROR(IF(SEARCH(\" - \",C1327)>0,FALSE,TRUE),TRUE)","v":false},{"$f":"IFERROR(IF(SEARCH(\" 70 \",C1327)>0,FALSE,TRUE),TRUE)","v":true},true,{"$f":"AND(G1327:I1327)","v":false}]
["Lubelskie"," tomaszowski "," 70 i więcej",9916,3472,6444,true,false,true,false]
["Lubelskie"," tomaszowski ","65+",{"$f":"SUM(D1327:D1328)","v":14569},{"$f":"SUM(E1327:E1328)","v":5550},{"$f":"SUM(F1327:F1328)","v":9019},true,true,{"$f":"IFERROR(IF(SEARCH(\"65+\",C1329)>0,FALSE,TRUE),TRUE)","v":false},false]
["Lubelskie"," włodawski "," włodawski ",39148,19344,19804,true,true,{"$f":"IFERROR(IF(SEARCH(\"65+\",C1330)>0,FALSE,TRUE),TRUE)","v":true},true]
["Lubelskie"," włodawski "," 0 - 4 ",1817,975,842,false,true,{"$f":"IFERROR(IF(SEARCH(\" 65+ \",C1331)>0,FALSE,TRUE),TRUE)","v":true},false]
["Lubelskie"," włodawski "," 5 - 9 ",2036,1043,993,false,true,true,false]
["Lubelskie"," włodawski "," 10 - 14 ",1831,971,860,false,true,true,false]
["Lubelskie"," włodawski "," 15 - 19 ",2131,1082,1049,false,true,true,false]
["Lubelskie"," włodawski "," 20 - 24 ",2689,1366,1323,false,true,true,false]
["Lubelskie"," włodawski "," 25 - 29 ",2962,1583,1379,false,true,true,false]
["Lubelskie"," włodawski "," 30 - 34 ",3139,1689,1450,false,true,true,false]
["Lubelskie"," włodawski "," 35 - 39 ",2877,1515,1362,false,true,true,false]
["Lubelskie"," włodawski "," 40 - 44 ",2662,1385,1277,false,true,true,false]
["Lubelskie"," włodawski "," 45 - 49 ",2385,1211,1174,false,true,true,false]
["Lubelskie"," włodawski "," 50 - 54 ",2549,1317,1232,false,true,true,false]
["Lubelskie"," włodawski "," 55 - 59 ",2825,1403,1422,false,true,true,false]
["Lubelskie"," włodawski "," 60 - 64 ",2892,1377,1515,false,true,true,false]
["Lubelskie"," włodawski "," 65 - 69 ",2330,1040,1290,false,true,true,false]
["Lubelskie"," włodawski "," 70 i więcej",4023,1387,2636,true,false,true,false]
["Lubelskie"," włodawski ","65+",{"$f":"SUM(D1344:D1345)","v":6353},{"$f":"SUM(E1344:E1345)","v":2427},{"$f":"SUM(F1344:F1345)","v":3926},true,true,{"$f":"IFERROR(IF(SEARCH(\"65+\",C1346)>0,FALSE,TRUE),TRUE)","v":false},false]
["Lubelskie"," Zamość "," Zamość ",64746,30544,34202,true,true,{"$f":"IFERROR(IF(SEARCH(\"65+\",C1347)>0,FALSE,TRUE),TRUE)","v":true},true]
["Lubelskie"," Zamość "," 0 - 4 ",2848,1426,1422,false,true,{"$f":"IFERROR(IF(SEARCH(\" 65+ \",C1348)>0,FALSE,TRUE),TRUE)","v":true},false]
["Lubelskie"," Zamość "," 5 - 9 ",3170,1624,1546,false,true,true,false]
["Lubelskie"," Zamość "," 10 - 14 ",2684,1380,1304,false,true,true,false]
["Lubelskie"," Zamość "," 15 - 19 ",3571,1815,1756,false,true,true,false]
["Lubelskie"," Zamość "," 20 - 24 ",3779,1921,1858,false,true,true,false]
["Lubelskie"," Zamość "," 25 - 29 ",4814,2419,2395,false,true,true,false]
["Lubelskie"," Zamość "," 30 - 34 ",5790,2982,2808,false,true,true,false]
["Lubelskie"," Zamość "," 35 - 39 ",5045,2580,2465,false,true,true,false]
["Lubelskie"," Zamość "," 40 - 44 ",4246,2089,2157,false,true,true,false]
["Lubelskie"," Zamość "," 45 - 49 ",3814,1753,2061,false,true,true,false]
["Lubelskie"," Zamość "," 50 - 54 ",4119,1862,2257,false,true,true,false]
["Lubelskie"," Zamość "," 55 - 59 ",5435,2401,3034,false,true,true,false]
["Lubelskie"," Zamość "," 60 - 64 ",5298,2371,2927,false,true,true,false]
["Lubelskie"," Zamość "," 65 - 69 ",3747,1593,2154,false,true,true,false]
["Lubelskie"," Zamość "," 70 i więcej",6386,2328,4058,true,false,true,false]
["Lubelskie"," Zamość ","65+",{"$f":"SUM(D1361:D1362)","v":10133},{"$f":"SUM(E1361:E1362)","v":3921},{"$f":"SUM(F1361:F1362)","v":6212},true,true,{"$f":"IFERROR(IF(SEARCH(\"65+\",C1363)>0,FALSE,TRUE),TRUE)","v":false},false]
["Lubuskie","Wszystkie","Lubuskie ",1017450,495223,522227,true,{"$f":"IFERROR(IF(SEARCH(\"65+\",C1364)>0,FALSE,TRUE),TRUE)","v":true},{"$f":"IFERROR(IF(SEARCH(\"70\",C1364)>0,FALSE,TRUE),TRUE)","v":true},true]
["Lubuskie",{"$f":"IF(C1364=\"65+\",C1365,B1364)","v":"Wszystkie"}," 0 - 4 ",49362,25234,24128,{"$f":"IFERROR(IF(SEARCH(\" - \",C1365)>0,FALSE,TRUE),TRUE)","v":false},{"$f":"IFERROR(IF(SEARCH(\"65+\",C1365)>0,FALSE,TRUE),TRUE)","v":true},{"$f":"IFERROR(IF(SEARCH(\"70\",C1365)>0,FALSE,TRUE),TRUE)","v":true},{"$f":"AND(G1365:I1365)","v":false}]
["Lubuskie","Wszystkie"," 5 - 9 ",56462,28894,27568,false,true,true,false]
["Lubuskie","Wszystkie"," 10 - 14 ",48135,24658,23477,false,true,true,false]
["Lubuskie","Wszystkie"," 15 - 19 ",51974,26759,25215,false,true,true,false]
["Lubuskie","Wszystkie"," 20 - 24 ",62341,31657,30684,false,true,true,false]
["Lubuskie","Wszystkie"," 25 - 29 ",73181,37404,35777,false,true,true,false]
["Lubuskie","Wszystkie"," 30 - 34 ",87258,44488,42770,false,true,true,false]
["Lubuskie","Wszystkie"," 35 - 39 ",84314,43133,41181,false,true,true,false]
["Lubuskie","Wszystkie"," 40 - 44 ",74216,37941,36275,false,true,true,false]
["Lubuskie","Wszystkie"," 45 - 49 ",59644,30061,29583,false,true,true,false]
["Lubuskie","Wszystkie"," 50 - 54 ",62240,30941,31299,false,true,true,false]
["Lubuskie","Wszystkie"," 55 - 59 ",77542,37662,39880,false,true,true,false]
["Lubuskie","Wszystkie"," 60 - 64 ",76928,36130,40798,false,true,true,false]
["Lubuskie","Wszystkie"," 65 - 69 ",62251,28379,33872,false,true,true,false]
["Lubuskie","Wszystkie"," 70 i więcej",91602,31882,59720,true,true,false,false]
["Lubuskie","Wszystkie","65+",{"$f":"SUM(D1378:D1379)","v":153853},{"$f":"SUM(E1378:E1379)","v":60261},{"$f":"SUM(F1378:F1379)","v":93592},true,false,true,false]
["Lubuskie"," Gorzów Wielkopolski "," Gorzów Wielkopolski ",123911,58980,64931,true,true,true,true]
["Lubuskie"," Gorzów Wielkopolski "," 0 - 4 ",6038,3098,2940,false,true,true,false]
["Lubuskie"," Gorzów Wielkopolski "," 5 - 9 ",6601,3403,3198,false,true,true,false]
["Lubuskie"," Gorzów Wielkopolski "," 10 - 14 ",5272,2761,2511,false,true,true,false]
["Lubuskie"," Gorzów Wielkopolski "," 15 - 19 ",5609,2879,2730,false,true,true,false]
["Lubuskie"," Gorzów Wielkopolski "," 20 - 24 ",6033,3145,2888,false,true,true,false]
["Lubuskie"," Gorzów Wielkopolski "," 25 - 29 ",8483,4234,4249,false,true,true,false]
["Lubuskie"," Gorzów Wielkopolski "," 30 - 34 ",10929,5497,5432,false,true,true,false]
["Lubuskie"," Gorzów Wielkopolski "," 35 - 39 ",10859,5353,5506,false,true,true,false]
["Lubuskie"," Gorzów Wielkopolski "," 40 - 44 ",9042,4506,4536,false,true,true,false]
["Lubuskie"," Gorzów Wielkopolski "," 45 - 49 ",7250,3620,3630,false,true,true,false]
["Lubuskie"," Gorzów Wielkopolski "," 50 - 54 ",7091,3475,3616,false,true,true,false]
["Lubuskie"," Gorzów Wielkopolski "," 55 - 59 ",9274,4280,4994,false,true,true,false]
["Lubuskie"," Gorzów Wielkopolski "," 60 - 64 ",10366,4533,5833,false,true,true,false]
["Lubuskie"," Gorzów Wielkopolski "," 65 - 69 ",8611,3779,4832,false,true,true,false]
["Lubuskie"," Gorzów Wielkopolski "," 70 i więcej",12453,4417,8036,true,true,false,false]
["Lubuskie"," Gorzów Wielkopolski ","65+",{"$f":"SUM(D1395:D1396)","v":21064},{"$f":"SUM(E1395:E1396)","v":8196},{"$f":"SUM(F1395:F1396)","v":12868},true,false,true,false]
["Lubuskie"," Zielona Góra "," Zielona Góra ",138898,65952,72946,true,true,true,true]
["Lubuskie"," Zielona Góra "," 0 - 4 ",6960,3543,3417,false,true,true,false]
["Lubuskie",{"$f":"IF(C1399=\"65+\",C1400,B1399)","v":" Zielona Góra "}," 5 - 9 ",7398,3780,3618,false,true,true,false]
["Lubuskie"," Zielona Góra "," 10 - 14 ",5880,2960,2920,false,true,true,false]
["Lubuskie"," Zielona Góra "," 15 - 19 ",6435,3254,3181,false,true,true,false]
["Lubuskie"," Zielona Góra "," 20 - 24 ",6743,3464,3279,false,true,true,false]
["Lubuskie"," Zielona Góra "," 25 - 29 ",8896,4406,4490,false,true,true,false]
["Lubuskie"," Zielona Góra "," 30 - 34 ",12790,6280,6510,false,true,true,false]
["Lubuskie"," Zielona Góra "," 35 - 39 ",12710,6312,6398,false,true,true,false]
["Lubuskie"," Zielona Góra "," 40 - 44 ",10658,5334,5324,false,true,true,false]
["Lubuskie"," Zielona Góra "," 45 - 49 ",7758,3833,3925,false,true,true,false]
["Lubuskie"," Zielona Góra "," 50 - 54 ",7906,3836,4070,false,true,true,false]
["Lubuskie"," Zielona Góra "," 55 - 59 ",10202,4717,5485,false,true,true,false]
["Lubuskie"," Zielona Góra "," 60 - 64 ",10856,4844,6012,false,true,true,false]
["Lubuskie"," Zielona Góra "," 65 - 69 ",9220,4046,5174,false,true,true,false]
["Lubuskie"," Zielona Góra "," 70 i więcej",14486,5343,9143,true,true,false,false]
["Lubuskie"," Zielona Góra ","65+",{"$f":"SUM(D1412:D1413)","v":23706},{"$f":"SUM(E1412:E1413)","v":9389},{"$f":"SUM(F1412:F1413)","v":14317},true,false,true,false]
["Lubuskie"," gorzowski "," gorzowski ",70990,35193,35797,true,true,true,true]
["Lubuskie"," gorzowski "," 0 - 4 ",3485,1804,1681,false,true,true,false]
["Lubuskie"," gorzowski "," 5 - 9 ",4321,2219,2102,false,true,true,false]
["Lubuskie"," gorzowski "," 10 - 14 ",3857,1984,1873,false,true,true,false]
["Lubuskie"," gorzowski "," 15 - 19 ",3957,2024,1933,false,true,true,false]
["Lubuskie"," gorzowski "," 20 - 24 ",4796,2428,2368,false,true,true,false]
["Lubuskie"," gorzowski "," 25 - 29 ",5213,2682,2531,false,true,true,false]
["Lubuskie"," gorzowski "," 30 - 34 ",5758,2927,2831,false,true,true,false]
["Lubuskie"," gorzowski "," 35 - 39 ",5889,3012,2877,false,true,true,false]
["Lubuskie"," gorzowski "," 40 - 44 ",5410,2764,2646,false,true,true,false]
["Lubuskie"," gorzowski "," 45 - 49 ",4621,2368,2253,false,true,true,false]
["Lubuskie"," gorzowski "," 50 - 54 ",4583,2331,2252,false,true,true,false]
["Lubuskie"," gorzowski "," 55 - 59 ",5368,2700,2668,false,true,true,false]
["Lubuskie"," gorzowski "," 60 - 64 ",4802,2373,2429,false,true,true,false]
["Lubuskie"," gorzowski "," 65 - 69 ",3705,1751,1954,{"$f":"IFERROR(IF(SEARCH(\" - \",C1429)>0,FALSE,TRUE),TRUE)","v":false},{"$f":"IFERROR(IF(SEARCH(\"65+\",C1429)>0,FALSE,TRUE),TRUE)","v":true},{"$f":"IFERROR(IF(SEARCH(\"70\",C1429)>0,FALSE,TRUE),TRUE)","v":true},{"$f":"AND(G1429:I1429)","v":false}]
["Lubuskie"," gorzowski "," 70 i więcej",5225,1826,3399,true,true,false,false]
["Lubuskie"," gorzowski ","65+",{"$f":"SUM(D1429:D1430)","v":8930},{"$f":"SUM(E1429:E1430)","v":3577},{"$f":"SUM(F1429:F1430)","v":5353},true,false,true,false]
["Lubuskie"," krośnieński "," krośnieński ",55855,27403,28452,true,true,true,true]
["Lubuskie"," krośnieński "," 0 - 4 ",2593,1322,1271,false,true,true,false]
["Lubuskie"," krośnieński "," 5 - 9 ",2992,1529,1463,false,true,true,false]
["Lubuskie"," krośnieński "," 10 - 14 ",2565,1308,1257,false,true,true,false]
["Lubuskie"," krośnieński "," 15 - 19 ",2995,1544,1451,false,true,true,false]
["Lubuskie"," krośnieński "," 20 - 24 ",3704,1847,1857,false,true,true,false]
["Lubuskie"," krośnieński "," 25 - 29 ",4013,2100,1913,false,true,true,false]
["Lubuskie"," krośnieński "," 30 - 34 ",4743,2434,2309,false,true,true,false]
["Lubuskie"," krośnieński "," 35 - 39 ",4561,2355,2206,false,true,true,false]
["Lubuskie"," krośnieński "," 40 - 44 ",4081,2120,1961,false,true,true,false]
["Lubuskie"," krośnieński "," 45 - 49 ",3333,1700,1633,false,true,true,false]
["Lubuskie"," krośnieński "," 50 - 54 ",3505,1778,1727,false,true,true,false]
["Lubuskie"," krośnieński "," 55 - 59 ",4333,2102,2231,false,true,true,false]
["Lubuskie"," krośnieński "," 60 - 64 ",4369,2104,2265,false,true,true,false]
["Lubuskie"," krośnieński "," 65 - 69 ",3410,1594,1816,false,true,true,false]
["Lubuskie"," krośnieński "," 70 i więcej",4658,1566,3092,true,true,false,false]
["Lubuskie"," krośnieński ","65+",{"$f":"SUM(D1446:D1447)","v":8068},{"$f":"SUM(E1446:E1447)","v":3160},{"$f":"SUM(F1446:F1447)","v":4908},true,false,true,false]
["Lubuskie"," międzyrzecki "," międzyrzecki ",58375,28832,29543,true,true,true,true]
["Lubuskie"," międzyrzecki "," 0 - 4 ",2833,1441,1392,false,true,true,false]
["Lubuskie"," międzyrzecki "," 5 - 9 ",3209,1626,1583,false,true,true,false]
["Lubuskie"," międzyrzecki "," 10 - 14 ",2679,1431,1248,false,true,true,false]
["Lubuskie"," międzyrzecki "," 15 - 19 ",2812,1446,1366,false,true,true,false]
["Lubuskie"," międzyrzecki "," 20 - 24 ",3716,1905,1811,false,true,true,false]
["Lubuskie"," międzyrzecki "," 25 - 29 ",4480,2295,2185,false,true,true,false]
["Lubuskie"," międzyrzecki "," 30 - 34 ",5032,2569,2463,false,true,true,false]
["Lubuskie"," międzyrzecki "," 35 - 39 ",4636,2408,2228,false,true,true,false]
["Lubuskie"," międzyrzecki "," 40 - 44 ",4154,2191,1963,false,true,true,false]
["Lubuskie"," międzyrzecki "," 45 - 49 ",3443,1742,1701,false,true,true,false]
["Lubuskie"," międzyrzecki "," 50 - 54 ",3788,1917,1871,false,true,true,false]
["Lubuskie"," międzyrzecki "," 55 - 59 ",4552,2272,2280,false,true,true,false]
["Lubuskie"," międzyrzecki "," 60 - 64 ",4340,2086,2254,false,true,true,false]
["Lubuskie"," międzyrzecki "," 65 - 69 ",3603,1671,1932,false,true,true,false]
["Lubuskie",{"$f":"IF(C1463=\"65+\",C1464,B1463)","v":" międzyrzecki "}," 70 i więcej",5098,1832,3266,true,true,false,false]
["Lubuskie"," międzyrzecki ","65+",{"$f":"SUM(D1463:D1464)","v":8701},{"$f":"SUM(E1463:E1464)","v":3503},{"$f":"SUM(F1463:F1464)","v":5198},true,false,true,false]
["Lubuskie"," nowosolski "," nowosolski ",87213,42444,44769,true,true,true,true]
["Lubuskie"," nowosolski "," 0 - 4 ",4188,2182,2006,false,true,true,false]
["Lubuskie"," nowosolski "," 5 - 9 ",4971,2523,2448,false,true,true,false]
["Lubuskie"," nowosolski "," 10 - 14 ",4258,2173,2085,false,true,true,false]
["Lubuskie"," nowosolski "," 15 - 19 ",4520,2362,2158,false,true,true,false]
["Lubuskie"," nowosolski "," 20 - 24 ",5584,2807,2777,false,true,true,false]
["Lubuskie"," nowosolski "," 25 - 29 ",6077,3111,2966,false,true,true,false]
["Lubuskie"," nowosolski "," 30 - 34 ",7259,3715,3544,false,true,true,false]
["Lubuskie"," nowosolski "," 35 - 39 ",7069,3660,3409,false,true,true,false]
["Lubuskie"," nowosolski "," 40 - 44 ",6112,3172,2940,false,true,true,false]
["Lubuskie"," nowosolski "," 45 - 49 ",4992,2511,2481,false,true,true,false]
["Lubuskie"," nowosolski "," 50 - 54 ",5125,2580,2545,false,true,true,false]
["Lubuskie"," nowosolski "," 55 - 59 ",6557,3139,3418,false,true,true,false]
["Lubuskie"," nowosolski "," 60 - 64 ",6699,3090,3609,false,true,true,false]
["Lubuskie"," nowosolski "," 65 - 69 ",5587,2579,3008,false,true,true,false]
["Lubuskie"," nowosolski "," 70 i więcej",8215,2840,5375,true,true,false,false]
["Lubuskie"," nowosolski ","65+",{"$f":"SUM(D1480:D1481)","v":13802},{"$f":"SUM(E1480:E1481)","v":5419},{"$f":"SUM(F1480:F1481)","v":8383},true,false,true,false]
["Lubuskie"," słubicki "," słubicki ",47247,23202,24045,true,true,true,true]
["Lubuskie"," słubicki "," 0 - 4 ",2292,1158,1134,false,true,true,false]
["Lubuskie"," słubicki "," 5 - 9 ",2728,1342,1386,false,true,true,false]
["Lubuskie"," słubicki "," 10 - 14 ",2438,1280,1158,false,true,true,false]
["Lubuskie"," słubicki "," 15 - 19 ",2590,1347,1243,false,true,true,false]
["Lubuskie"," słubicki "," 20 - 24 ",3042,1606,1436,false,true,true,false]
["Lubuskie"," słubicki "," 25 - 29 ",3571,1823,1748,false,true,true,false]
["Lubuskie"," słubicki "," 30 - 34 ",4086,2081,2005,false,true,true,false]
["Lubuskie"," słubicki "," 35 - 39 ",3808,1956,1852,false,true,true,false]
["Lubuskie"," słubicki "," 40 - 44 ",3487,1768,1719,false,true,true,false]
["Lubuskie"," słubicki "," 45 - 49 ",2981,1515,1466,{"$f":"IFERROR(IF(SEARCH(\" - \",C1493)>0,FALSE,TRUE),TRUE)","v":false},{"$f":"IFERROR(IF(SEARCH(\"65+\",C1493)>0,FALSE,TRUE),TRUE)","v":true},{"$f":"IFERROR(IF(SEARCH(\"70\",C1493)>0,FALSE,TRUE),TRUE)","v":true},{"$f":"AND(G1493:I1493)","v":false}]
["Lubuskie"," słubicki "," 50 - 54 ",3114,1546,1568,false,true,true,false]
["Lubuskie"," słubicki "," 55 - 59 ",3700,1854,1846,false,true,true,false]
["Lubuskie"," słubicki "," 60 - 64 ",3176,1529,1647,false,true,true,false]
["Lubuskie"," słubicki "," 65 - 69 ",2475,1121,1354,false,true,true,false]
["Lubuskie"," słubicki "," 70 i więcej",3759,1276,2483,true,true,false,false]
["Lubuskie"," słubicki ","65+",{"$f":"SUM(D1497:D1498)","v":6234},{"$f":"SUM(E1497:E1498)","v":2397},{"$f":"SUM(F1497:F1498)","v":3837},true,false,true,false]
["Lubuskie"," strzelecko-drezdenecki "," strzelecko-drezdenecki ",49936,24589,25347,true,true,true,true]
["Lubuskie"," strzelecko-drezdenecki "," 0 - 4 ",2506,1287,1219,false,true,true,false]
["Lubuskie"," strzelecko-drezdenecki "," 5 - 9 ",2853,1428,1425,false,true,true,false]
["Lubuskie"," strzelecko-drezdenecki "," 10 - 14 ",2502,1264,1238,false,true,true,false]
["Lubuskie"," strzelecko-drezdenecki "," 15 - 19 ",2605,1343,1262,false,true,true,false]
["Lubuskie"," strzelecko-drezdenecki "," 20 - 24 ",3335,1628,1707,false,true,true,false]
["Lubuskie"," strzelecko-drezdenecki "," 25 - 29 ",3698,1905,1793,false,true,true,false]
["Lubuskie"," strzelecko-drezdenecki "," 30 - 34 ",4054,2136,1918,false,true,true,false]
["Lubuskie"," strzelecko-drezdenecki "," 35 - 39 ",3864,2028,1836,false,true,true,false]
["Lubuskie"," strzelecko-drezdenecki "," 40 - 44 ",3460,1760,1700,false,true,true,false]
["Lubuskie"," strzelecko-drezdenecki "," 45 - 49 ",2972,1514,1458,false,true,true,false]
["Lubuskie"," strzelecko-drezdenecki "," 50 - 54 ",3088,1569,1519,false,true,true,false]
["Lubuskie"," strzelecko-drezdenecki "," 55 - 59 ",3796,1940,1856,false,true,true,false]
["Lubuskie"," strzelecko-drezdenecki "," 60 - 64 ",3679,1790,1889,false,true,true,false]
["Lubuskie"," strzelecko-drezdenecki "," 65 - 69 ",3048,1457,1591,false,true,true,false]
["Lubuskie"," strzelecko-drezdenecki "," 70 i więcej",4476,1540,2936,true,true,false,false]
["Lubuskie"," strzelecko-drezdenecki ","65+",{"$f":"SUM(D1514:D1515)","v":7524},{"$f":"SUM(E1514:E1515)","v":2997},{"$f":"SUM(F1514:F1515)","v":4527},true,false,true,false]
["Lubuskie"," sulęciński "," sulęciński ",35457,17620,17837,true,true,true,true]
["Lubuskie"," sulęciński "," 0 - 4 ",1796,931,865,false,true,true,false]
["Lubuskie"," sulęciński "," 5 - 9 ",2116,1078,1038,false,true,true,false]
["Lubuskie"," sulęciński "," 10 - 14 ",1741,874,867,false,true,true,false]
["Lubuskie"," sulęciński "," 15 - 19 ",1758,896,862,false,true,true,false]
["Lubuskie"," sulęciński "," 20 - 24 ",2399,1248,1151,false,true,true,false]
["Lubuskie"," sulęciński "," 25 - 29 ",2834,1481,1353,false,true,true,false]
["Lubuskie"," sulęciński "," 30 - 34 ",3123,1669,1454,false,true,true,false]
["Lubuskie"," sulęciński "," 35 - 39 ",2706,1421,1285,false,true,true,false]
["Lubuskie"," sulęciński "," 40 - 44 ",2483,1311,1172,false,true,true,false]
["Lubuskie"," sulęciński "," 45 - 49 ",2027,1013,1014,false,true,true,false]
["Lubuskie",{"$f":"IF(C1527=\"65+\",C1528,B1527)","v":" sulęciński "}," 50 - 54 ",2255,1157,1098,false,true,true,false]
["Lubuskie"," sulęciński "," 55 - 59 ",2721,1362,1359,false,true,true,false]
["Lubuskie"," sulęciński "," 60 - 64 ",2553,1273,1280,false,true,true,false]
["Lubuskie"," sulęciński "," 65 - 69 ",1908,919,989,false,true,true,false]
["Lubuskie"," sulęciński "," 70 i więcej",3037,987,2050,true,true,false,false]
["Lubuskie"," sulęciński ","65+",{"$f":"SUM(D1531:D1532)","v":4945},{"$f":"SUM(E1531:E1532)","v":1906},{"$f":"SUM(F1531:F1532)","v":3039},true,false,true,false]
["Lubuskie"," świebodziński "," świebodziński ",56232,27533,28699,true,true,true,true]
["Lubuskie"," świebodziński "," 0 - 4 ",2909,1456,1453,false,true,true,false]
["Lubuskie"," świebodziński "," 5 - 9 ",3126,1640,1486,false,true,true,false]
["Lubuskie"," świebodziński "," 10 - 14 ",2715,1363,1352,false,true,true,false]
["Lubuskie"," świebodziński "," 15 - 19 ",3013,1542,1471,false,true,true,false]
["Lubuskie"," świebodziński "," 20 - 24 ",3650,1817,1833,false,true,true,false]
["Lubuskie"," świebodziński "," 25 - 29 ",4176,2159,2017,false,true,true,false]
["Lubuskie"," świebodziński "," 30 - 34 ",4817,2474,2343,false,true,true,false]
["Lubuskie"," świebodziński "," 35 - 39 ",4477,2353,2124,false,true,true,false]
["Lubuskie"," świebodziński "," 40 - 44 ",3943,2024,1919,false,true,true,false]
["Lubuskie"," świebodziński "," 45 - 49 ",3240,1662,1578,false,true,true,false]
["Lubuskie"," świebodziński "," 50 - 54 ",3568,1759,1809,false,true,true,false]
["Lubuskie"," świebodziński "," 55 - 59 ",4316,2154,2162,false,true,true,false]
["Lubuskie"," świebodziński "," 60 - 64 ",4073,1932,2141,false,true,true,false]
["Lubuskie"," świebodziński "," 65 - 69 ",3372,1530,1842,false,true,true,false]
["Lubuskie"," świebodziński "," 70 i więcej",4837,1668,3169,true,true,false,false]
["Lubuskie"," świebodziński ","65+",{"$f":"SUM(D1548:D1549)","v":8209},{"$f":"SUM(E1548:E1549)","v":3198},{"$f":"SUM(F1548:F1549)","v":5011},true,false,true,false]
["Lubuskie"," zielonogórski "," zielonogórski ",75283,37145,38138,true,true,true,true]
["Lubuskie"," zielonogórski "," 0 - 4 ",3710,1914,1796,false,true,true,false]
["Lubuskie"," zielonogórski "," 5 - 9 ",4169,2123,2046,false,true,true,false]
["Lubuskie"," zielonogórski "," 10 - 14 ",3571,1777,1794,false,true,true,false]
["Lubuskie"," zielonogórski "," 15 - 19 ",4110,2142,1968,false,true,true,false]
["Lubuskie"," zielonogórski "," 20 - 24 ",5061,2532,2529,false,true,true,false]
["Lubuskie"," zielonogórski "," 25 - 29 ",5844,3033,2811,{"$f":"IFERROR(IF(SEARCH(\" - \",C1557)>0,FALSE,TRUE),TRUE)","v":false},{"$f":"IFERROR(IF(SEARCH(\"65+\",C1557)>0,FALSE,TRUE),TRUE)","v":true},{"$f":"IFERROR(IF(SEARCH(\"70\",C1557)>0,FALSE,TRUE),TRUE)","v":true},{"$f":"AND(G1557:I1557)","v":false}]
["Lubuskie"," zielonogórski "," 30 - 34 ",6432,3301,3131,false,true,true,false]
["Lubuskie"," zielonogórski "," 35 - 39 ",6209,3249,2960,false,true,true,false]
["Lubuskie"," zielonogórski "," 40 - 44 ",5513,2806,2707,false,true,true,false]
["Lubuskie"," zielonogórski "," 45 - 49 ",4422,2244,2178,false,true,true,false]
["Lubuskie"," zielonogórski "," 50 - 54 ",4631,2298,2333,false,true,true,false]
["Lubuskie"," zielonogórski "," 55 - 59 ",5658,2818,2840,false,true,true,false]
["Lubuskie"," zielonogórski "," 60 - 64 ",5607,2727,2880,false,true,true,false]
["Lubuskie"," zielonogórski "," 65 - 69 ",4323,2051,2272,false,true,true,false]
["Lubuskie"," zielonogórski "," 70 i więcej",6023,2130,3893,true,true,false,false]
["Lubuskie"," zielonogórski ","65+",{"$f":"SUM(D1565:D1566)","v":10346},{"$f":"SUM(E1565:E1566)","v":4181},{"$f":"SUM(F1565:F1566)","v":6165},true,false,true,false]
["Lubuskie"," żagański "," żagański ",80834,39384,41450,true,true,true,true]
["Lubuskie"," żagański "," 0 - 4 ",3616,1832,1784,false,true,true,false]
["Lubuskie"," żagański "," 5 - 9 ",4368,2280,2088,false,true,true,false]
["Lubuskie"," żagański "," 10 - 14 ",3789,1959,1830,false,true,true,false]
["Lubuskie"," żagański "," 15 - 19 ",4240,2216,2024,false,true,true,false]
["Lubuskie"," żagański "," 20 - 24 ",5114,2547,2567,false,true,true,false]
["Lubuskie"," żagański "," 25 - 29 ",5736,2929,2807,false,true,true,false]
["Lubuskie"," żagański "," 30 - 34 ",6901,3548,3353,false,true,true,false]
["Lubuskie"," żagański "," 35 - 39 ",6466,3388,3078,false,true,true,false]
["Lubuskie"," żagański "," 40 - 44 ",5848,3026,2822,false,true,true,false]
["Lubuskie"," żagański "," 45 - 49 ",4694,2382,2312,false,true,true,false]
["Lubuskie"," żagański "," 50 - 54 ",5094,2555,2539,false,true,true,false]
["Lubuskie"," żagański "," 55 - 59 ",6452,3109,3343,false,true,true,false]
["Lubuskie"," żagański "," 60 - 64 ",6185,2960,3225,false,true,true,false]
["Lubuskie"," żagański "," 65 - 69 ",4910,2263,2647,false,true,true,false]
["Lubuskie"," żagański "," 70 i więcej",7421,2390,5031,true,true,false,false]
["Lubuskie"," żagański ","65+",{"$f":"SUM(D1582:D1583)","v":12331},{"$f":"SUM(E1582:E1583)","v":4653},{"$f":"SUM(F1582:F1583)","v":7678},true,false,true,false]
["Lubuskie"," żarski "," żarski ",97942,47542,50400,true,true,true,true]
["Lubuskie"," żarski "," 0 - 4 ",4432,2249,2183,false,true,true,false]
["Lubuskie"," żarski "," 5 - 9 ",5325,2729,2596,false,true,true,false]
["Lubuskie"," żarski "," 10 - 14 ",4727,2425,2302,false,true,true,false]
["Lubuskie"," żarski "," 15 - 19 ",5137,2623,2514,false,true,true,false]
["Lubuskie"," żarski "," 20 - 24 ",6437,3274,3163,false,true,true,false]
["Lubuskie"," żarski "," 25 - 29 ",7146,3715,3431,false,true,true,false]
["Lubuskie",{"$f":"IF(C1591=\"65+\",C1592,B1591)","v":" żarski "}," 30 - 34 ",8058,4164,3894,false,true,true,false]
["Lubuskie"," żarski "," 35 - 39 ",8010,4047,3963,false,true,true,false]
["Lubuskie"," żarski "," 40 - 44 ",7246,3725,3521,false,true,true,false]
["Lubuskie"," żarski "," 45 - 49 ",5635,2807,2828,false,true,true,false]
["Lubuskie"," żarski "," 50 - 54 ",6114,2960,3154,false,true,true,false]
["Lubuskie"," żarski "," 55 - 59 ",7684,3769,3915,false,true,true,false]
["Lubuskie"," żarski "," 60 - 64 ",7502,3588,3914,false,true,true,false]
["Lubuskie"," żarski "," 65 - 69 ",5787,2589,3198,false,true,true,false]
["Lubuskie"," żarski "," 70 i więcej",8702,2878,5824,true,true,false,false]
["Lubuskie"," żarski ","65+",{"$f":"SUM(D1599:D1600)","v":14489},{"$f":"SUM(E1599:E1600)","v":5467},{"$f":"SUM(F1599:F1600)","v":9022},true,false,true,false]
["Lubuskie"," wschowski "," wschowski ",39277,19404,19873,true,true,true,true]
["Lubuskie"," wschowski "," 0 - 4 ",2004,1017,987,false,true,true,false]
["Lubuskie"," wschowski "," 5 - 9 ",2285,1194,1091,false,true,true,false]
["Lubuskie"," wschowski "," 10 - 14 ",2141,1099,1042,false,true,true,false]
["Lubuskie"," wschowski "," 15 - 19 ",2193,1141,1052,false,true,true,false]
["Lubuskie"," wschowski "," 20 - 24 ",2727,1409,1318,false,true,true,false]
["Lubuskie"," wschowski "," 25 - 29 ",3014,1531,1483,false,true,true,false]
["Lubuskie"," wschowski "," 30 - 34 ",3276,1693,1583,false,true,true,false]
["Lubuskie"," wschowski "," 35 - 39 ",3050,1591,1459,false,true,true,false]
["Lubuskie"," wschowski "," 40 - 44 ",2779,1434,1345,false,true,true,false]
["Lubuskie"," wschowski "," 45 - 49 ",2276,1150,1126,false,true,true,false]
["Lubuskie"," wschowski "," 50 - 54 ",2378,1180,1198,false,true,true,false]
["Lubuskie"," wschowski "," 55 - 59 ",2929,1446,1483,false,true,true,false]
["Lubuskie"," wschowski "," 60 - 64 ",2721,1301,1420,false,true,true,false]
["Lubuskie"," wschowski "," 65 - 69 ",2292,1029,1263,false,true,true,false]
["Lubuskie"," wschowski "," 70 i więcej",3212,1189,2023,true,true,false,false]
["Lubuskie"," wschowski ","65+",{"$f":"SUM(D1616:D1617)","v":5504},{"$f":"SUM(E1616:E1617)","v":2218},{"$f":"SUM(F1616:F1617)","v":3286},true,false,true,false]
["Łódzkie","Wszystkie","Łódzkie ",2488417,1185645,1302772,{"$f":"IFERROR(IF(SEARCH(\" - \",C1619)>0,FALSE,TRUE),TRUE)","v":true},{"$f":"IFERROR(IF(SEARCH(\"65+\",C1619)>0,FALSE,TRUE),TRUE)","v":true},{"$f":"IFERROR(IF(SEARCH(\"70\",C1619)>0,FALSE,TRUE),TRUE)","v":true},{"$f":"AND(G1619:I1619)","v":true}]
["Łódzkie","Wszystkie"," 0 - 4 ",113494,58489,55005,{"$f":"IFERROR(IF(SEARCH(\" - \",C1620)>0,FALSE,TRUE),TRUE)","v":false},{"$f":"IFERROR(IF(SEARCH(\"65+\",C1620)>0,FALSE,TRUE),TRUE)","v":true},{"$f":"IFERROR(IF(SEARCH(\"70\",C1620)>0,FALSE,TRUE),TRUE)","v":true},{"$f":"AND(G1620:I1620)","v":false}]
["Łódzkie","Wszystkie"," 5 - 9 ",125557,64470,61087,false,true,true,false]
["Łódzkie","Wszystkie"," 10 - 14 ",110034,56539,53495,false,true,true,false]
["Łódzkie","Wszystkie"," 15 - 19 ",118793,61012,57781,false,true,true,false]
["Łódzkie","Wszystkie"," 20 - 24 ",147447,75192,72255,false,true,true,false]
["Łódzkie","Wszystkie"," 25 - 29 ",168890,86245,82645,false,true,true,false]
["Łódzkie","Wszystkie"," 30 - 34 ",197422,101148,96274,false,true,true,false]
["Łódzkie","Wszystkie"," 35 - 39 ",196029,99453,96576,false,true,true,false]
["Łódzkie","Wszystkie"," 40 - 44 ",178790,89935,88855,false,true,true,false]
["Łódzkie","Wszystkie"," 45 - 49 ",153358,76056,77302,false,true,true,false]
["Łódzkie","Wszystkie"," 50 - 54 ",152629,74259,78370,false,true,true,false]
["Łódzkie","Wszystkie"," 55 - 59 ",187082,88011,99071,false,true,true,false]
["Łódzkie","Wszystkie"," 60 - 64 ",191861,87592,104269,false,true,true,false]
["Łódzkie","Wszystkie"," 65 - 69 ",162273,69634,92639,false,true,true,false]
["Łódzkie","Wszystkie"," 70 i więcej",284758,97610,187148,true,true,false,false]
["Łódzkie","Wszystkie","65+",{"$f":"SUM(D1633:D1634)","v":447031},{"$f":"SUM(E1633:E1634)","v":167244},{"$f":"SUM(F1633:F1634)","v":279787},true,false,true,false]
["Łódzkie"," Łódź "," Łódź ",698688,318043,380645,true,true,true,true]
["Łódzkie"," Łódź "," 0 - 4 ",28973,14938,14035,false,true,true,false]
["Łódzkie"," Łódź "," 5 - 9 ",30589,15705,14884,false,true,true,false]
["Łódzkie"," Łódź "," 10 - 14 ",25652,13246,12406,false,true,true,false]
["Łódzkie"," Łódź "," 15 - 19 ",26216,13334,12882,false,true,true,false]
["Łódzkie"," Łódź "," 20 - 24 ",34262,17089,17173,false,true,true,false]
["Łódzkie"," Łódź "," 25 - 29 ",43930,21742,22188,false,true,true,false]
["Łódzkie"," Łódź "," 30 - 34 ",58085,28930,29155,false,true,true,false]
["Łódzkie"," Łódź "," 35 - 39 ",57607,28504,29103,false,true,true,false]
["Łódzkie"," Łódź "," 40 - 44 ",49965,24621,25344,false,true,true,false]
["Łódzkie"," Łódź "," 45 - 49 ",40062,19222,20840,false,true,true,false]
["Łódzkie"," Łódź "," 50 - 54 ",39976,18479,21497,false,true,true,false]
["Łódzkie"," Łódź "," 55 - 59 ",54098,23654,30444,false,true,true,false]
["Łódzkie"," Łódź "," 60 - 64 ",61735,26206,35529,false,true,true,false]
["Łódzkie"," Łódź "," 65 - 69 ",54048,22091,31957,false,true,true,false]
["Łódzkie"," Łódź "," 70 i więcej",93490,30282,63208,true,true,false,false]
["Łódzkie"," Łódź ","65+",{"$f":"SUM(D1650:D1651)","v":147538},{"$f":"SUM(E1650:E1651)","v":52373},{"$f":"SUM(F1650:F1651)","v":95165},true,false,true,false]
["Łódzkie"," Piotrków Trybunalski "," Piotrków Trybunalski ",74905,35171,39734,true,true,true,true]
["Łódzkie"," Piotrków Trybunalski "," 0 - 4 ",3518,1821,1697,false,true,true,false]
["Łódzkie"," Piotrków Trybunalski "," 5 - 9 ",3945,2020,1925,false,true,true,false]
["Łódzkie",{"$f":"IF(C1655=\"65+\",C1656,B1655)","v":" Piotrków Trybunalski "}," 10 - 14 ",3510,1734,1776,false,true,true,false]
["Łódzkie"," Piotrków Trybunalski "," 15 - 19 ",3586,1828,1758,false,true,true,false]
["Łódzkie"," Piotrków Trybunalski "," 20 - 24 ",4043,2093,1950,false,true,true,false]
["Łódzkie"," Piotrków Trybunalski "," 25 - 29 ",4875,2435,2440,false,true,true,false]
["Łódzkie"," Piotrków Trybunalski "," 30 - 34 ",5891,3000,2891,false,true,true,false]
["Łódzkie"," Piotrków Trybunalski "," 35 - 39 ",6220,3128,3092,false,true,true,false]
["Łódzkie"," Piotrków Trybunalski "," 40 - 44 ",5498,2788,2710,false,true,true,false]
["Łódzkie"," Piotrków Trybunalski "," 45 - 49 ",4548,2188,2360,false,true,true,false]
["Łódzkie"," Piotrków Trybunalski "," 50 - 54 ",4387,2092,2295,false,true,true,false]
["Łódzkie"," Piotrków Trybunalski "," 55 - 59 ",5459,2401,3058,false,true,true,false]
["Łódzkie"," Piotrków Trybunalski "," 60 - 64 ",6170,2653,3517,false,true,true,false]
["Łódzkie"," Piotrków Trybunalski "," 65 - 69 ",5114,2124,2990,false,true,true,false]
["Łódzkie"," Piotrków Trybunalski "," 70 i więcej",8141,2866,5275,true,true,false,false]
["Łódzkie"," Piotrków Trybunalski ","65+",{"$f":"SUM(D1667:D1668)","v":13255},{"$f":"SUM(E1667:E1668)","v":4990},{"$f":"SUM(F1667:F1668)","v":8265},true,false,true,false]
["Łódzkie"," Skierniewice "," Skierniewice ",48304,23073,25231,true,true,true,true]
["Łódzkie"," Skierniewice "," 0 - 4 ",2541,1336,1205,false,true,true,false]
["Łódzkie"," Skierniewice "," 5 - 9 ",2712,1392,1320,false,true,true,false]
["Łódzkie"," Skierniewice "," 10 - 14 ",2198,1141,1057,false,true,true,false]
["Łódzkie"," Skierniewice "," 15 - 19 ",2197,1192,1005,false,true,true,false]
["Łódzkie"," Skierniewice "," 20 - 24 ",2659,1378,1281,false,true,true,false]
["Łódzkie"," Skierniewice "," 25 - 29 ",3253,1647,1606,false,true,true,false]
["Łódzkie"," Skierniewice "," 30 - 34 ",4073,2060,2013,false,true,true,false]
["Łódzkie"," Skierniewice "," 35 - 39 ",3953,1965,1988,false,true,true,false]
["Łódzkie"," Skierniewice "," 40 - 44 ",3327,1677,1650,false,true,true,false]
["Łódzkie"," Skierniewice "," 45 - 49 ",2865,1378,1487,false,true,true,false]
["Łódzkie"," Skierniewice "," 50 - 54 ",2987,1386,1601,false,true,true,false]
["Łódzkie"," Skierniewice "," 55 - 59 ",3814,1734,2080,false,true,true,false]
["Łódzkie"," Skierniewice "," 60 - 64 ",3980,1766,2214,false,true,true,false]
["Łódzkie"," Skierniewice "," 65 - 69 ",3105,1350,1755,{"$f":"IFERROR(IF(SEARCH(\" - \",C1684)>0,FALSE,TRUE),TRUE)","v":false},{"$f":"IFERROR(IF(SEARCH(\"65+\",C1684)>0,FALSE,TRUE),TRUE)","v":true},{"$f":"IFERROR(IF(SEARCH(\"70\",C1684)>0,FALSE,TRUE),TRUE)","v":true},{"$f":"AND(G1684:I1684)","v":false}]
["Łódzkie"," Skierniewice "," 70 i więcej",4640,1671,2969,true,true,false,false]
["Łódzkie"," Skierniewice ","65+",{"$f":"SUM(D1684:D1685)","v":7745},{"$f":"SUM(E1684:E1685)","v":3021},{"$f":"SUM(F1684:F1685)","v":4724},true,false,true,false]
["Łódzkie"," bełchatowski "," bełchatowski ",112853,55410,57443,true,true,true,true]
["Łódzkie"," bełchatowski "," 0 - 4 ",5914,3076,2838,false,true,true,false]
["Łódzkie"," bełchatowski "," 5 - 9 ",6417,3310,3107,false,true,true,false]
["Łódzkie"," bełchatowski "," 10 - 14 ",5110,2610,2500,false,true,true,false]
["Łódzkie"," bełchatowski "," 15 - 19 ",5668,2899,2769,false,true,true,false]
["Łódzkie"," bełchatowski "," 20 - 24 ",7162,3642,3520,false,true,true,false]
["Łódzkie"," bełchatowski "," 25 - 29 ",8657,4445,4212,false,true,true,false]
["Łódzkie"," bełchatowski "," 30 - 34 ",10277,5334,4943,false,true,true,false]
["Łódzkie"," bełchatowski "," 35 - 39 ",9437,4811,4626,false,true,true,false]
["Łódzkie"," bełchatowski "," 40 - 44 ",7501,3793,3708,false,true,true,false]
["Łódzkie"," bełchatowski "," 45 - 49 ",6371,3093,3278,false,true,true,false]
["Łódzkie"," bełchatowski "," 50 - 54 ",7559,3547,4012,false,true,true,false]
["Łódzkie"," bełchatowski "," 55 - 59 ",9796,4748,5048,false,true,true,false]
["Łódzkie"," bełchatowski "," 60 - 64 ",8583,4211,4372,false,true,true,false]
["Łódzkie"," bełchatowski "," 65 - 69 ",5855,2801,3054,false,true,true,false]
["Łódzkie"," bełchatowski "," 70 i więcej",8546,3090,5456,true,true,false,false]
["Łódzkie"," bełchatowski ","65+",{"$f":"SUM(D1701:D1702)","v":14401},{"$f":"SUM(E1701:E1702)","v":5891},{"$f":"SUM(F1701:F1702)","v":8510},true,false,true,false]
["Łódzkie"," kutnowski "," kutnowski ",98825,47496,51329,true,true,true,true]
["Łódzkie"," kutnowski "," 0 - 4 ",4232,2123,2109,false,true,true,false]
["Łódzkie"," kutnowski "," 5 - 9 ",4545,2352,2193,false,true,true,false]
["Łódzkie"," kutnowski "," 10 - 14 ",4062,2108,1954,false,true,true,false]
["Łódzkie"," kutnowski "," 15 - 19 ",4702,2418,2284,false,true,true,false]
["Łódzkie"," kutnowski "," 20 - 24 ",6153,3171,2982,false,true,true,false]
["Łódzkie"," kutnowski "," 25 - 29 ",6731,3573,3158,false,true,true,false]
["Łódzkie"," kutnowski "," 30 - 34 ",7330,3847,3483,false,true,true,false]
["Łódzkie"," kutnowski "," 35 - 39 ",7385,3880,3505,false,true,true,false]
["Łódzkie"," kutnowski "," 40 - 44 ",6759,3461,3298,false,true,true,false]
["Łódzkie"," kutnowski "," 45 - 49 ",6432,3150,3282,false,true,true,false]
["Łódzkie"," kutnowski "," 50 - 54 ",6748,3279,3469,false,true,true,false]
["Łódzkie"," kutnowski "," 55 - 59 ",7957,3840,4117,false,true,true,false]
["Łódzkie"," kutnowski "," 60 - 64 ",7856,3581,4275,false,true,true,false]
["Łódzkie"," kutnowski "," 65 - 69 ",6528,2818,3710,false,true,true,false]
["Łódzkie"," kutnowski "," 70 i więcej",11405,3895,7510,true,true,false,false]
["Łódzkie",{"$f":"IF(C1719=\"65+\",C1720,B1719)","v":" kutnowski "},"65+",{"$f":"SUM(D1718:D1719)","v":17933},{"$f":"SUM(E1718:E1719)","v":6713},{"$f":"SUM(F1718:F1719)","v":11220},true,false,true,false]
["Łódzkie"," łaski "," łaski ",50232,24458,25774,true,true,true,true]
["Łódzkie"," łaski "," 0 - 4 ",2314,1232,1082,false,true,true,false]
["Łódzkie"," łaski "," 5 - 9 ",2500,1250,1250,false,true,true,false]
["Łódzkie"," łaski "," 10 - 14 ",2274,1188,1086,false,true,true,false]
["Łódzkie"," łaski "," 15 - 19 ",2555,1310,1245,false,true,true,false]
["Łódzkie"," łaski "," 20 - 24 ",3257,1679,1578,false,true,true,false]
["Łódzkie"," łaski "," 25 - 29 ",3559,1822,1737,false,true,true,false]
["Łódzkie"," łaski "," 30 - 34 ",4072,2148,1924,false,true,true,false]
["Łódzkie"," łaski "," 35 - 39 ",3822,1975,1847,false,true,true,false]
["Łódzkie"," łaski "," 40 - 44 ",3620,1897,1723,false,true,true,false]
["Łódzkie"," łaski "," 45 - 49 ",3215,1591,1624,false,true,true,false]
["Łódzkie"," łaski "," 50 - 54 ",3164,1577,1587,false,true,true,false]
["Łódzkie"," łaski "," 55 - 59 ",3766,1839,1927,false,true,true,false]
["Łódzkie"," łaski "," 60 - 64 ",3619,1710,1909,false,true,true,false]
["Łódzkie"," łaski "," 65 - 69 ",3059,1344,1715,false,true,true,false]
["Łódzkie"," łaski "," 70 i więcej",5436,1896,3540,true,true,false,false]
["Łódzkie"," łaski ","65+",{"$f":"SUM(D1735:D1736)","v":8495},{"$f":"SUM(E1735:E1736)","v":3240},{"$f":"SUM(F1735:F1736)","v":5255},true,false,true,false]
["Łódzkie"," łęczycki "," łęczycki ",50888,24783,26105,true,true,true,true]
["Łódzkie"," łęczycki "," 0 - 4 ",2304,1187,1117,false,true,true,false]
["Łódzkie"," łęczycki "," 5 - 9 ",2525,1301,1224,false,true,true,false]
["Łódzkie"," łęczycki "," 10 - 14 ",2309,1170,1139,false,true,true,false]
["Łódzkie"," łęczycki "," 15 - 19 ",2638,1423,1215,false,true,true,false]
["Łódzkie"," łęczycki "," 20 - 24 ",3390,1739,1651,false,true,true,false]
["Łódzkie"," łęczycki "," 25 - 29 ",3513,1839,1674,false,true,true,false]
["Łódzkie"," łęczycki "," 30 - 34 ",3881,2065,1816,false,true,true,false]
["Łódzkie"," łęczycki "," 35 - 39 ",3610,1880,1730,false,true,true,false]
["Łódzkie"," łęczycki "," 40 - 44 ",3456,1784,1672,false,true,true,false]
["Łódzkie"," łęczycki "," 45 - 49 ",3209,1597,1612,{"$f":"IFERROR(IF(SEARCH(\" - \",C1748)>0,FALSE,TRUE),TRUE)","v":false},{"$f":"IFERROR(IF(SEARCH(\"65+\",C1748)>0,FALSE,TRUE),TRUE)","v":true},{"$f":"IFERROR(IF(SEARCH(\"70\",C1748)>0,FALSE,TRUE),TRUE)","v":true},{"$f":"AND(G1748:I1748)","v":false}]
["Łódzkie"," łęczycki "," 50 - 54 ",3365,1692,1673,false,true,true,false]
["Łódzkie"," łęczycki "," 55 - 59 ",3892,1896,1996,false,true,true,false]
["Łódzkie"," łęczycki "," 60 - 64 ",3533,1715,1818,false,true,true,false]
["Łódzkie"," łęczycki "," 65 - 69 ",3096,1354,1742,false,true,true,false]
["Łódzkie"," łęczycki "," 70 i więcej",6167,2141,4026,true,true,false,false]
["Łódzkie"," łęczycki ","65+",{"$f":"SUM(D1752:D1753)","v":9263},{"$f":"SUM(E1752:E1753)","v":3495},{"$f":"SUM(F1752:F1753)","v":5768},true,false,true,false]
["Łódzkie"," łowicki "," łowicki ",79426,38512,40914,true,true,true,true]
["Łódzkie"," łowicki "," 0 - 4 ",3754,1906,1848,false,true,true,false]
["Łódzkie"," łowicki "," 5 - 9 ",4096,2103,1993,false,true,true,false]
["Łódzkie"," łowicki "," 10 - 14 ",3709,1856,1853,false,true,true,false]
["Łódzkie"," łowicki "," 15 - 19 ",4345,2258,2087,false,true,true,false]
["Łódzkie"," łowicki "," 20 - 24 ",5019,2520,2499,false,true,true,false]
["Łódzkie"," łowicki "," 25 - 29 ",5621,2925,2696,false,true,true,false]
["Łódzkie"," łowicki "," 30 - 34 ",6181,3216,2965,false,true,true,false]
["Łódzkie"," łowicki "," 35 - 39 ",5897,3063,2834,false,true,true,false]
["Łódzkie"," łowicki "," 40 - 44 ",5429,2765,2664,false,true,true,false]
["Łódzkie"," łowicki "," 45 - 49 ",4931,2465,2466,false,true,true,false]
["Łódzkie"," łowicki "," 50 - 54 ",5098,2521,2577,false,true,true,false]
["Łódzkie"," łowicki "," 55 - 59 ",5813,2875,2938,false,true,true,false]
["Łódzkie"," łowicki "," 60 - 64 ",5812,2764,3048,false,true,true,false]
["Łódzkie"," łowicki "," 65 - 69 ",4687,2090,2597,false,true,true,false]
["Łódzkie"," łowicki "," 70 i więcej",9034,3185,5849,true,true,false,false]
["Łódzkie"," łowicki ","65+",{"$f":"SUM(D1769:D1770)","v":13721},{"$f":"SUM(E1769:E1770)","v":5275},{"$f":"SUM(F1769:F1770)","v":8446},true,false,true,false]
["Łódzkie"," łódzki wschodni "," łódzki wschodni ",70619,33916,36703,true,true,true,true]
["Łódzkie"," łódzki wschodni "," 0 - 4 ",3439,1758,1681,false,true,true,false]
["Łódzkie"," łódzki wschodni "," 5 - 9 ",4047,2029,2018,false,true,true,false]
["Łódzkie"," łódzki wschodni "," 10 - 14 ",3566,1800,1766,false,true,true,false]
["Łódzkie"," łódzki wschodni "," 15 - 19 ",3510,1798,1712,false,true,true,false]
["Łódzkie"," łódzki wschodni "," 20 - 24 ",4225,2170,2055,false,true,true,false]
["Łódzkie"," łódzki wschodni "," 25 - 29 ",4662,2353,2309,false,true,true,false]
["Łódzkie"," łódzki wschodni "," 30 - 34 ",5427,2728,2699,false,true,true,false]
["Łódzkie"," łódzki wschodni "," 35 - 39 ",5729,2852,2877,false,true,true,false]
["Łódzkie"," łódzki wschodni "," 40 - 44 ",5521,2751,2770,false,true,true,false]
["Łódzkie"," łódzki wschodni "," 45 - 49 ",4768,2333,2435,false,true,true,false]
["Łódzkie"," łódzki wschodni "," 50 - 54 ",4582,2234,2348,false,true,true,false]
["Łódzkie",{"$f":"IF(C1783=\"65+\",C1784,B1783)","v":" łódzki wschodni "}," 55 - 59 ",5114,2419,2695,false,true,true,false]
["Łódzkie"," łódzki wschodni "," 60 - 64 ",5166,2464,2702,false,true,true,false]
["Łódzkie"," łódzki wschodni "," 65 - 69 ",4095,1828,2267,false,true,true,false]
["Łódzkie"," łódzki wschodni "," 70 i więcej",6768,2399,4369,true,true,false,false]
["Łódzkie"," łódzki wschodni ","65+",{"$f":"SUM(D1786:D1787)","v":10863},{"$f":"SUM(E1786:E1787)","v":4227},{"$f":"SUM(F1786:F1787)","v":6636},true,false,true,false]
["Łódzkie"," opoczyński "," opoczyński ",77313,38263,39050,true,true,true,true]
["Łódzkie"," opoczyński "," 0 - 4 ",3850,1968,1882,false,true,true,false]
["Łódzkie"," opoczyński "," 5 - 9 ",4483,2280,2203,false,true,true,false]
["Łódzkie"," opoczyński "," 10 - 14 ",4037,2016,2021,false,true,true,false]
["Łódzkie"," opoczyński "," 15 - 19 ",4516,2383,2133,false,true,true,false]
["Łódzkie"," opoczyński "," 20 - 24 ",5382,2763,2619,false,true,true,false]
["Łódzkie"," opoczyński "," 25 - 29 ",5825,3032,2793,false,true,true,false]
["Łódzkie"," opoczyński "," 30 - 34 ",6031,3206,2825,false,true,true,false]
["Łódzkie"," opoczyński "," 35 - 39 ",5600,2999,2601,false,true,true,false]
["Łódzkie"," opoczyński "," 40 - 44 ",5206,2712,2494,false,true,true,false]
["Łódzkie"," opoczyński "," 45 - 49 ",4674,2350,2324,false,true,true,false]
["Łódzkie"," opoczyński "," 50 - 54 ",4888,2525,2363,false,true,true,false]
["Łódzkie"," opoczyński "," 55 - 59 ",5541,2861,2680,false,true,true,false]
["Łódzkie"," opoczyński "," 60 - 64 ",5179,2584,2595,false,true,true,false]
["Łódzkie"," opoczyński "," 65 - 69 ",4025,1826,2199,false,true,true,false]
["Łódzkie"," opoczyński "," 70 i więcej",8076,2758,5318,true,true,false,false]
["Łódzkie"," opoczyński ","65+",{"$f":"SUM(D1803:D1804)","v":12101},{"$f":"SUM(E1803:E1804)","v":4584},{"$f":"SUM(F1803:F1804)","v":7517},true,false,true,false]
["Łódzkie"," pabianicki "," pabianicki ",119484,56056,63428,true,true,true,true]
["Łódzkie"," pabianicki "," 0 - 4 ",5397,2792,2605,false,true,true,false]
["Łódzkie"," pabianicki "," 5 - 9 ",5923,3015,2908,false,true,true,false]
["Łódzkie"," pabianicki "," 10 - 14 ",5029,2609,2420,false,true,true,false]
["Łódzkie"," pabianicki "," 15 - 19 ",5382,2789,2593,false,true,true,false]
["Łódzkie"," pabianicki "," 20 - 24 ",6559,3331,3228,false,true,true,false]
["Łódzkie"," pabianicki "," 25 - 29 ",7604,3905,3699,{"$f":"IFERROR(IF(SEARCH(\" - \",C1812)>0,FALSE,TRUE),TRUE)","v":false},{"$f":"IFERROR(IF(SEARCH(\"65+\",C1812)>0,FALSE,TRUE),TRUE)","v":true},{"$f":"IFERROR(IF(SEARCH(\"70\",C1812)>0,FALSE,TRUE),TRUE)","v":true},{"$f":"AND(G1812:I1812)","v":false}]
["Łódzkie"," pabianicki "," 30 - 34 ",9491,4783,4708,false,true,true,false]
["Łódzkie"," pabianicki "," 35 - 39 ",9867,4894,4973,false,true,true,false]
["Łódzkie"," pabianicki "," 40 - 44 ",9149,4470,4679,false,true,true,false]
["Łódzkie"," pabianicki "," 45 - 49 ",7573,3717,3856,false,true,true,false]
["Łódzkie"," pabianicki "," 50 - 54 ",7270,3460,3810,false,true,true,false]
["Łódzkie"," pabianicki "," 55 - 59 ",8905,4054,4851,false,true,true,false]
["Łódzkie"," pabianicki "," 60 - 64 ",9109,4069,5040,false,true,true,false]
["Łódzkie"," pabianicki "," 65 - 69 ",8038,3365,4673,false,true,true,false]
["Łódzkie"," pabianicki "," 70 i więcej",14188,4803,9385,true,true,false,false]
["Łódzkie"," pabianicki ","65+",{"$f":"SUM(D1820:D1821)","v":22226},{"$f":"SUM(E1820:E1821)","v":8168},{"$f":"SUM(F1820:F1821)","v":14058},true,false,true,false]
["Łódzkie"," pajęczański "," pajęczański ",51908,25784,26124,true,true,true,true]
["Łódzkie"," pajęczański "," 0 - 4 ",2386,1212,1174,false,true,true,false]
["Łódzkie"," pajęczański "," 5 - 9 ",2592,1320,1272,false,true,true,false]
["Łódzkie"," pajęczański "," 10 - 14 ",2499,1286,1213,false,true,true,false]
["Łódzkie"," pajęczański "," 15 - 19 ",2850,1433,1417,false,true,true,false]
["Łódzkie"," pajęczański "," 20 - 24 ",3629,1864,1765,false,true,true,false]
["Łódzkie"," pajęczański "," 25 - 29 ",3907,2065,1842,false,true,true,false]
["Łódzkie"," pajęczański "," 30 - 34 ",3841,2013,1828,false,true,true,false]
["Łódzkie"," pajęczański "," 35 - 39 ",3845,2004,1841,false,true,true,false]
["Łódzkie"," pajęczański "," 40 - 44 ",3687,1912,1775,false,true,true,false]
["Łódzkie"," pajęczański "," 45 - 49 ",3416,1782,1634,false,true,true,false]
["Łódzkie"," pajęczański "," 50 - 54 ",3264,1737,1527,false,true,true,false]
["Łódzkie"," pajęczański "," 55 - 59 ",3711,1902,1809,false,true,true,false]
["Łódzkie"," pajęczański "," 60 - 64 ",3508,1731,1777,false,true,true,false]
["Łódzkie"," pajęczański "," 65 - 69 ",2949,1395,1554,false,true,true,false]
["Łódzkie"," pajęczański "," 70 i więcej",5824,2128,3696,true,true,false,false]
["Łódzkie"," pajęczański ","65+",{"$f":"SUM(D1837:D1838)","v":8773},{"$f":"SUM(E1837:E1838)","v":3523},{"$f":"SUM(F1837:F1838)","v":5250},true,false,true,false]
["Łódzkie"," piotrkowski "," piotrkowski ",91275,45016,46259,true,true,true,true]
["Łódzkie"," piotrkowski "," 0 - 4 ",4578,2356,2222,false,true,true,false]
["Łódzkie"," piotrkowski "," 5 - 9 ",5198,2700,2498,false,true,true,false]
["Łódzkie"," piotrkowski "," 10 - 14 ",4899,2534,2365,false,true,true,false]
["Łódzkie"," piotrkowski "," 15 - 19 ",5411,2775,2636,false,true,true,false]
["Łódzkie"," piotrkowski "," 20 - 24 ",6267,3240,3027,false,true,true,false]
["Łódzkie"," piotrkowski "," 25 - 29 ",6511,3362,3149,false,true,true,false]
["Łódzkie"," piotrkowski "," 30 - 34 ",6957,3567,3390,false,true,true,false]
["Łódzkie",{"$f":"IF(C1847=\"65+\",C1848,B1847)","v":" piotrkowski "}," 35 - 39 ",7084,3634,3450,false,true,true,false]
["Łódzkie"," piotrkowski "," 40 - 44 ",6636,3422,3214,false,true,true,false]
["Łódzkie"," piotrkowski "," 45 - 49 ",5789,3010,2779,false,true,true,false]
["Łódzkie"," piotrkowski "," 50 - 54 ",5364,2812,2552,false,true,true,false]
["Łódzkie"," piotrkowski "," 55 - 59 ",6211,3084,3127,false,true,true,false]
["Łódzkie"," piotrkowski "," 60 - 64 ",6019,2990,3029,false,true,true,false]
["Łódzkie"," piotrkowski "," 65 - 69 ",4833,2184,2649,false,true,true,false]
["Łódzkie"," piotrkowski "," 70 i więcej",9518,3346,6172,true,true,false,false]
["Łódzkie"," piotrkowski ","65+",{"$f":"SUM(D1854:D1855)","v":14351},{"$f":"SUM(E1854:E1855)","v":5530},{"$f":"SUM(F1854:F1855)","v":8821},true,false,true,false]
["Łódzkie"," poddębicki "," poddębicki ",41555,20582,20973,true,true,true,true]
["Łódzkie"," poddębicki "," 0 - 4 ",1948,1072,876,false,true,true,false]
["Łódzkie"," poddębicki "," 5 - 9 ",2083,1084,999,false,true,true,false]
["Łódzkie"," poddębicki "," 10 - 14 ",1879,962,917,false,true,true,false]
["Łódzkie"," poddębicki "," 15 - 19 ",2038,1040,998,false,true,true,false]
["Łódzkie"," poddębicki "," 20 - 24 ",2850,1466,1384,false,true,true,false]
["Łódzkie"," poddębicki "," 25 - 29 ",2984,1537,1447,false,true,true,false]
["Łódzkie"," poddębicki "," 30 - 34 ",3066,1652,1414,false,true,true,false]
["Łódzkie"," poddębicki "," 35 - 39 ",3043,1572,1471,false,true,true,false]
["Łódzkie"," poddębicki "," 40 - 44 ",2926,1501,1425,false,true,true,false]
["Łódzkie"," poddębicki "," 45 - 49 ",2838,1480,1358,false,true,true,false]
["Łódzkie"," poddębicki "," 50 - 54 ",2631,1363,1268,false,true,true,false]
["Łódzkie"," poddębicki "," 55 - 59 ",3028,1553,1475,false,true,true,false]
["Łódzkie"," poddębicki "," 60 - 64 ",2870,1397,1473,false,true,true,false]
["Łódzkie"," poddębicki "," 65 - 69 ",2556,1150,1406,false,true,true,false]
["Łódzkie"," poddębicki "," 70 i więcej",4815,1753,3062,true,true,false,false]
["Łódzkie"," poddębicki ","65+",{"$f":"SUM(D1871:D1872)","v":7371},{"$f":"SUM(E1871:E1872)","v":2903},{"$f":"SUM(F1871:F1872)","v":4468},true,false,true,false]
["Łódzkie"," radomszczański "," radomszczański ",114675,56181,58494,true,true,true,true]
["Łódzkie"," radomszczański "," 0 - 4 ",4884,2517,2367,false,true,true,false]
["Łódzkie"," radomszczański "," 5 - 9 ",5822,2993,2829,{"$f":"IFERROR(IF(SEARCH(\" - \",C1876)>0,FALSE,TRUE),TRUE)","v":false},{"$f":"IFERROR(IF(SEARCH(\"65+\",C1876)>0,FALSE,TRUE),TRUE)","v":true},{"$f":"IFERROR(IF(SEARCH(\"70\",C1876)>0,FALSE,TRUE),TRUE)","v":true},{"$f":"AND(G1876:I1876)","v":false}]
["Łódzkie"," radomszczański "," 10 - 14 ",5361,2810,2551,false,true,true,false]
["Łódzkie"," radomszczański "," 15 - 19 ",6174,3184,2990,false,true,true,false]
["Łódzkie"," radomszczański "," 20 - 24 ",7753,3957,3796,false,true,true,false]
["Łódzkie"," radomszczański "," 25 - 29 ",7935,4156,3779,false,true,true,false]
["Łódzkie"," radomszczański "," 30 - 34 ",8349,4334,4015,false,true,true,false]
["Łódzkie"," radomszczański "," 35 - 39 ",8493,4390,4103,false,true,true,false]
["Łódzkie"," radomszczański "," 40 - 44 ",8444,4328,4116,false,true,true,false]
["Łódzkie"," radomszczański "," 45 - 49 ",7501,3823,3678,false,true,true,false]
["Łódzkie"," radomszczański "," 50 - 54 ",7272,3701,3571,false,true,true,false]
["Łódzkie"," radomszczański "," 55 - 59 ",8242,4134,4108,false,true,true,false]
["Łódzkie"," radomszczański "," 60 - 64 ",8301,3990,4311,false,true,true,false]
["Łódzkie"," radomszczański "," 65 - 69 ",7051,3104,3947,false,true,true,false]
["Łódzkie"," radomszczański "," 70 i więcej",13093,4760,8333,true,true,false,false]
["Łódzkie"," radomszczański ","65+",{"$f":"SUM(D1888:D1889)","v":20144},{"$f":"SUM(E1888:E1889)","v":7864},{"$f":"SUM(F1888:F1889)","v":12280},true,false,true,false]
["Łódzkie"," rawski "," rawski ",49161,24296,24865,true,true,true,true]
["Łódzkie"," rawski "," 0 - 4 ",2518,1326,1192,false,true,true,false]
["Łódzkie"," rawski "," 5 - 9 ",2680,1372,1308,false,true,true,false]
["Łódzkie"," rawski "," 10 - 14 ",2423,1228,1195,false,true,true,false]
["Łódzkie"," rawski "," 15 - 19 ",2638,1326,1312,false,true,true,false]
["Łódzkie"," rawski "," 20 - 24 ",3232,1670,1562,false,true,true,false]
["Łódzkie"," rawski "," 25 - 29 ",3635,1876,1759,false,true,true,false]
["Łódzkie"," rawski "," 30 - 34 ",3753,1991,1762,false,true,true,false]
["Łódzkie"," rawski "," 35 - 39 ",3704,1944,1760,false,true,true,false]
["Łódzkie"," rawski "," 40 - 44 ",3331,1700,1631,false,true,true,false]
["Łódzkie"," rawski "," 45 - 49 ",2968,1518,1450,false,true,true,false]
["Łódzkie"," rawski "," 50 - 54 ",3185,1637,1548,false,true,true,false]
["Łódzkie"," rawski "," 55 - 59 ",3705,1811,1894,false,true,true,false]
["Łódzkie"," rawski "," 60 - 64 ",3480,1721,1759,false,true,true,false]
["Łódzkie"," rawski "," 65 - 69 ",2864,1300,1564,false,true,true,false]
["Łódzkie"," rawski "," 70 i więcej",5045,1876,3169,true,true,false,false]
["Łódzkie"," rawski ","65+",{"$f":"SUM(D1905:D1906)","v":7909},{"$f":"SUM(E1905:E1906)","v":3176},{"$f":"SUM(F1905:F1906)","v":4733},true,false,true,false]
["Łódzkie"," sieradzki "," sieradzki ",118993,58141,60852,true,true,true,true]
["Łódzkie"," sieradzki "," 0 - 4 ",5602,2839,2763,false,true,true,false]
["Łódzkie"," sieradzki "," 5 - 9 ",6237,3223,3014,false,true,true,false]
["Łódzkie"," sieradzki "," 10 - 14 ",5653,2932,2721,false,true,true,false]
["Łódzkie",{"$f":"IF(C1911=\"65+\",C1912,B1911)","v":" sieradzki "}," 15 - 19 ",6533,3308,3225,false,true,true,false]
["Łódzkie"," sieradzki "," 20 - 24 ",8368,4275,4093,false,true,true,false]
["Łódzkie"," sieradzki "," 25 - 29 ",8851,4535,4316,false,true,true,false]
["Łódzkie"," sieradzki "," 30 - 34 ",9082,4798,4284,false,true,true,false]
["Łódzkie"," sieradzki "," 35 - 39 ",8601,4454,4147,false,true,true,false]
["Łódzkie"," sieradzki "," 40 - 44 ",8441,4275,4166,false,true,true,false]
["Łódzkie"," sieradzki "," 45 - 49 ",7655,3849,3806,false,true,true,false]
["Łódzkie"," sieradzki "," 50 - 54 ",7894,3969,3925,false,true,true,false]
["Łódzkie"," sieradzki "," 55 - 59 ",8465,4149,4316,false,true,true,false]
["Łódzkie"," sieradzki "," 60 - 64 ",7985,3865,4120,false,true,true,false]
["Łódzkie"," sieradzki "," 65 - 69 ",6986,3107,3879,false,true,true,false]
["Łódzkie"," sieradzki "," 70 i więcej",12640,4563,8077,true,true,false,false]
["Łódzkie"," sieradzki ","65+",{"$f":"SUM(D1922:D1923)","v":19626},{"$f":"SUM(E1922:E1923)","v":7670},{"$f":"SUM(F1922:F1923)","v":11956},true,false,true,false]
["Łódzkie"," skierniewicki "," skierniewicki ",38159,18888,19271,true,true,true,true]
["Łódzkie"," skierniewicki "," 0 - 4 ",1968,1013,955,false,true,true,false]
["Łódzkie"," skierniewicki "," 5 - 9 ",2198,1160,1038,false,true,true,false]
["Łódzkie"," skierniewicki "," 10 - 14 ",1964,992,972,false,true,true,false]
["Łódzkie"," skierniewicki "," 15 - 19 ",2114,1092,1022,false,true,true,false]
["Łódzkie"," skierniewicki "," 20 - 24 ",2658,1368,1290,false,true,true,false]
["Łódzkie"," skierniewicki "," 25 - 29 ",2896,1481,1415,false,true,true,false]
["Łódzkie"," skierniewicki "," 30 - 34 ",2921,1528,1393,false,true,true,false]
["Łódzkie"," skierniewicki "," 35 - 39 ",2716,1462,1254,false,true,true,false]
["Łódzkie"," skierniewicki "," 40 - 44 ",2558,1296,1262,false,true,true,false]
["Łódzkie"," skierniewicki "," 45 - 49 ",2352,1230,1122,false,true,true,false]
["Łódzkie"," skierniewicki "," 50 - 54 ",2402,1226,1176,false,true,true,false]
["Łódzkie"," skierniewicki "," 55 - 59 ",2628,1368,1260,false,true,true,false]
["Łódzkie"," skierniewicki "," 60 - 64 ",2413,1242,1171,false,true,true,false]
["Łódzkie"," skierniewicki "," 65 - 69 ",1965,896,1069,false,true,true,false]
["Łódzkie"," skierniewicki "," 70 i więcej",4406,1534,2872,{"$f":"IFERROR(IF(SEARCH(\" - \",C1940)>0,FALSE,TRUE),TRUE)","v":true},{"$f":"IFERROR(IF(SEARCH(\"65+\",C1940)>0,FALSE,TRUE),TRUE)","v":true},{"$f":"IFERROR(IF(SEARCH(\"70\",C1940)>0,FALSE,TRUE),TRUE)","v":false},{"$f":"AND(G1940:I1940)","v":false}]
["Łódzkie"," skierniewicki ","65+",{"$f":"SUM(D1939:D1940)","v":6371},{"$f":"SUM(E1939:E1940)","v":2430},{"$f":"SUM(F1939:F1940)","v":3941},true,false,true,false]
["Łódzkie"," tomaszowski "," tomaszowski ",118400,56868,61532,true,true,true,true]
["Łódzkie"," tomaszowski "," 0 - 4 ",5624,2931,2693,false,true,true,false]
["Łódzkie"," tomaszowski "," 5 - 9 ",6476,3340,3136,false,true,true,false]
["Łódzkie"," tomaszowski "," 10 - 14 ",5705,2927,2778,false,true,true,false]
["Łódzkie"," tomaszowski "," 15 - 19 ",5978,3049,2929,false,true,true,false]
["Łódzkie"," tomaszowski "," 20 - 24 ",7148,3766,3382,false,true,true,false]
["Łódzkie"," tomaszowski "," 25 - 29 ",7890,4062,3828,false,true,true,false]
["Łódzkie"," tomaszowski "," 30 - 34 ",9067,4671,4396,false,true,true,false]
["Łódzkie"," tomaszowski "," 35 - 39 ",9245,4764,4481,false,true,true,false]
["Łódzkie"," tomaszowski "," 40 - 44 ",8724,4428,4296,false,true,true,false]
["Łódzkie"," tomaszowski "," 45 - 49 ",7278,3685,3593,false,true,true,false]
["Łódzkie"," tomaszowski "," 50 - 54 ",6948,3352,3596,false,true,true,false]
["Łódzkie"," tomaszowski "," 55 - 59 ",8760,4143,4617,false,true,true,false]
["Łódzkie"," tomaszowski "," 60 - 64 ",8945,4083,4862,false,true,true,false]
["Łódzkie"," tomaszowski "," 65 - 69 ",7528,3247,4281,false,true,true,false]
["Łódzkie"," tomaszowski "," 70 i więcej",13084,4420,8664,true,true,false,false]
["Łódzkie"," tomaszowski ","65+",{"$f":"SUM(D1956:D1957)","v":20612},{"$f":"SUM(E1956:E1957)","v":7667},{"$f":"SUM(F1956:F1957)","v":12945},true,false,true,false]
["Łódzkie"," wieluński "," wieluński ",77189,37802,39387,true,true,true,true]
["Łódzkie"," wieluński "," 0 - 4 ",3645,1843,1802,false,true,true,false]
["Łódzkie"," wieluński "," 5 - 9 ",4110,2133,1977,false,true,true,false]
["Łódzkie"," wieluński "," 10 - 14 ",3743,1950,1793,false,true,true,false]
["Łódzkie"," wieluński "," 15 - 19 ",4378,2235,2143,false,true,true,false]
["Łódzkie"," wieluński "," 20 - 24 ",4989,2543,2446,false,true,true,false]
["Łódzkie"," wieluński "," 25 - 29 ",5492,2884,2608,false,true,true,false]
["Łódzkie"," wieluński "," 30 - 34 ",5856,3081,2775,false,true,true,false]
["Łódzkie"," wieluński "," 35 - 39 ",5874,2997,2877,false,true,true,false]
["Łódzkie"," wieluński "," 40 - 44 ",5491,2819,2672,false,true,true,false]
["Łódzkie"," wieluński "," 45 - 49 ",4848,2457,2391,false,true,true,false]
["Łódzkie"," wieluński "," 50 - 54 ",4940,2511,2429,false,true,true,false]
["Łódzkie"," wieluński "," 55 - 59 ",5726,2862,2864,false,true,true,false]
["Łódzkie"," wieluński "," 60 - 64 ",5332,2592,2740,false,true,true,false]
["Łódzkie"," wieluński "," 65 - 69 ",4554,2003,2551,false,true,true,false]
["Łódzkie"," wieluński "," 70 i więcej",8211,2892,5319,true,true,false,false]
["Łódzkie"," wieluński ","65+",{"$f":"SUM(D1973:D1974)","v":12765},{"$f":"SUM(E1973:E1974)","v":4895},{"$f":"SUM(F1973:F1974)","v":7870},true,false,true,false]
["Łódzkie",{"$f":"IF(C1975=\"65+\",C1976,B1975)","v":" wieruszowski "}," wieruszowski ",42169,20841,21328,true,true,true,true]
["Łódzkie"," wieruszowski "," 0 - 4 ",2004,1022,982,false,true,true,false]
["Łódzkie"," wieruszowski "," 5 - 9 ",2376,1208,1168,false,true,true,false]
["Łódzkie"," wieruszowski "," 10 - 14 ",2192,1130,1062,false,true,true,false]
["Łódzkie"," wieruszowski "," 15 - 19 ",2392,1216,1176,false,true,true,false]
["Łódzkie"," wieruszowski "," 20 - 24 ",2989,1505,1484,false,true,true,false]
["Łódzkie"," wieruszowski "," 25 - 29 ",2982,1607,1375,false,true,true,false]
["Łódzkie"," wieruszowski "," 30 - 34 ",3323,1751,1572,false,true,true,false]
["Łódzkie"," wieruszowski "," 35 - 39 ",3241,1680,1561,false,true,true,false]
["Łódzkie"," wieruszowski "," 40 - 44 ",3081,1575,1506,false,true,true,false]
["Łódzkie"," wieruszowski "," 45 - 49 ",2747,1447,1300,false,true,true,false]
["Łódzkie"," wieruszowski "," 50 - 54 ",2625,1361,1264,false,true,true,false]
["Łódzkie"," wieruszowski "," 55 - 59 ",2993,1493,1500,false,true,true,false]
["Łódzkie"," wieruszowski "," 60 - 64 ",2800,1360,1440,false,true,true,false]
["Łódzkie"," wieruszowski "," 65 - 69 ",2357,1064,1293,false,true,true,false]
["Łódzkie"," wieruszowski "," 70 i więcej",4067,1422,2645,true,true,false,false]
["Łódzkie"," wieruszowski ","65+",{"$f":"SUM(D1990:D1991)","v":6424},{"$f":"SUM(E1990:E1991)","v":2486},{"$f":"SUM(F1990:F1991)","v":3938},true,false,true,false]
["Łódzkie"," zduńskowolski "," zduńskowolski ",67277,32524,34753,true,true,true,true]
["Łódzkie"," zduńskowolski "," 0 - 4 ",3137,1588,1549,false,true,true,false]
["Łódzkie"," zduńskowolski "," 5 - 9 ",3615,1856,1759,false,true,true,false]
["Łódzkie"," zduńskowolski "," 10 - 14 ",3237,1659,1578,false,true,true,false]
["Łódzkie"," zduńskowolski "," 15 - 19 ",3522,1816,1706,false,true,true,false]
["Łódzkie"," zduńskowolski "," 20 - 24 ",4119,2124,1995,false,true,true,false]
["Łódzkie"," zduńskowolski "," 25 - 29 ",4879,2506,2373,false,true,true,false]
["Łódzkie"," zduńskowolski "," 30 - 34 ",5393,2837,2556,false,true,true,false]
["Łódzkie"," zduńskowolski "," 35 - 39 ",5253,2721,2532,false,true,true,false]
["Łódzkie"," zduńskowolski "," 40 - 44 ",4879,2444,2435,false,true,true,false]
["Łódzkie"," zduńskowolski "," 45 - 49 ",4264,2129,2135,false,true,true,false]
["Łódzkie"," zduńskowolski "," 50 - 54 ",4195,2009,2186,{"$f":"IFERROR(IF(SEARCH(\" - \",C2004)>0,FALSE,TRUE),TRUE)","v":false},{"$f":"IFERROR(IF(SEARCH(\"65+\",C2004)>0,FALSE,TRUE),TRUE)","v":true},{"$f":"IFERROR(IF(SEARCH(\"70\",C2004)>0,FALSE,TRUE),TRUE)","v":true},{"$f":"AND(G2004:I2004)","v":false}]
["Łódzkie"," zduńskowolski "," 55 - 59 ",4992,2424,2568,false,true,true,false]
["Łódzkie"," zduńskowolski "," 60 - 64 ",4748,2196,2552,false,true,true,false]
["Łódzkie"," zduńskowolski "," 65 - 69 ",4145,1755,2390,false,true,true,false]
["Łódzkie"," zduńskowolski "," 70 i więcej",6899,2460,4439,true,true,false,false]
["Łódzkie"," zduńskowolski ","65+",{"$f":"SUM(D2007:D2008)","v":11044},{"$f":"SUM(E2007:E2008)","v":4215},{"$f":"SUM(F2007:F2008)","v":6829},true,false,true,false]
["Łódzkie"," zgierski "," zgierski ",165187,78569,86618,true,true,true,true]
["Łódzkie"," zgierski "," 0 - 4 ",7475,3877,3598,false,true,true,false]
["Łódzkie"," zgierski "," 5 - 9 ",8748,4478,4270,false,true,true,false]
["Łódzkie"," zgierski "," 10 - 14 ",7589,3909,3680,false,true,true,false]
["Łódzkie"," zgierski "," 15 - 19 ",7895,4120,3775,false,true,true,false]
["Łódzkie"," zgierski "," 20 - 24 ",9399,4821,4578,false,true,true,false]
["Łódzkie"," zgierski "," 25 - 29 ",10568,5325,5243,false,true,true,false]
["Łódzkie"," zgierski "," 30 - 34 ",12715,6404,6311,false,true,true,false]
["Łódzkie"," zgierski "," 35 - 39 ",13353,6619,6734,false,true,true,false]
["Łódzkie"," zgierski "," 40 - 44 ",12875,6383,6492,false,true,true,false]
["Łódzkie"," zgierski "," 45 - 49 ",10979,5504,5475,false,true,true,false]
["Łódzkie"," zgierski "," 50 - 54 ",9990,4857,5133,false,true,true,false]
["Łódzkie"," zgierski "," 55 - 59 ",12233,5683,6550,false,true,true,false]
["Łódzkie"," zgierski "," 60 - 64 ",12419,5636,6783,false,true,true,false]
["Łódzkie"," zgierski "," 65 - 69 ",11027,4643,6384,false,true,true,false]
["Łódzkie"," zgierski "," 70 i więcej",17922,6310,11612,true,true,false,false]
["Łódzkie"," zgierski ","65+",{"$f":"SUM(D2024:D2025)","v":28949},{"$f":"SUM(E2024:E2025)","v":10953},{"$f":"SUM(F2024:F2025)","v":17996},true,false,true,false]
["Łódzkie"," brzeziński "," brzeziński ",30932,14972,15960,true,true,true,true]
["Łódzkie"," brzeziński "," 0 - 4 ",1489,756,733,false,true,true,false]
["Łódzkie"," brzeziński "," 5 - 9 ",1640,846,794,false,true,true,false]
["Łódzkie"," brzeziński "," 10 - 14 ",1434,742,692,false,true,true,false]
["Łódzkie"," brzeziński "," 15 - 19 ",1555,786,769,false,true,true,false]
["Łódzkie"," brzeziński "," 20 - 24 ",1935,1018,917,false,true,true,false]
["Łódzkie"," brzeziński "," 25 - 29 ",2130,1131,999,false,true,true,false]
["Łódzkie"," brzeziński "," 30 - 34 ",2360,1204,1156,false,true,true,false]
["Łódzkie"," brzeziński "," 35 - 39 ",2450,1261,1189,false,true,true,false]
["Łódzkie"," brzeziński "," 40 - 44 ",2286,1133,1153,false,true,true,false]
["Łódzkie"," brzeziński "," 45 - 49 ",2075,1058,1017,false,true,true,false]
["Łódzkie"," brzeziński "," 50 - 54 ",1895,932,963,false,true,true,false]
["Łódzkie"," brzeziński "," 55 - 59 ",2233,1084,1149,false,true,true,false]
["Łódzkie",{"$f":"IF(C2039=\"65+\",C2040,B2039)","v":" brzeziński "}," 60 - 64 ",2299,1066,1233,false,true,true,false]
["Łódzkie"," brzeziński "," 65 - 69 ",1808,795,1013,false,true,true,false]
["Łódzkie"," brzeziński "," 70 i więcej",3343,1160,2183,true,true,false,false]
["Łódzkie"," brzeziński ","65+",{"$f":"SUM(D2041:D2042)","v":5151},{"$f":"SUM(E2041:E2042)","v":1955},{"$f":"SUM(F2041:F2042)","v":3196},true,false,true,false]
["Małopolskie","Wszystkie","Małopolskie ",3376329,1638593,1737736,{"$f":"IFERROR(IF(SEARCH(\" - \",C2044)>0,FALSE,TRUE),TRUE)","v":true},{"$f":"IFERROR(IF(SEARCH(\"65+\",C2044)>0,FALSE,TRUE),TRUE)","v":true},{"$f":"IFERROR(IF(SEARCH(\"70\",C2044)>0,FALSE,TRUE),TRUE)","v":true},{"$f":"AND(G2044:I2044)","v":true}]
["Małopolskie","Wszystkie"," 0 - 4 ",175648,90482,85166,{"$f":"IFERROR(IF(SEARCH(\" - \",C2045)>0,FALSE,TRUE),TRUE)","v":false},{"$f":"IFERROR(IF(SEARCH(\"65+\",C2045)>0,FALSE,TRUE),TRUE)","v":true},{"$f":"IFERROR(IF(SEARCH(\"70\",C2045)>0,FALSE,TRUE),TRUE)","v":true},{"$f":"AND(G2045:I2045)","v":false}]
["Małopolskie","Wszystkie"," 5 - 9 ",188870,96829,92041,false,true,true,false]
["Małopolskie","Wszystkie"," 10 - 14 ",166431,85289,81142,false,true,true,false]
["Małopolskie","Wszystkie"," 15 - 19 ",182579,93301,89278,false,true,true,false]
["Małopolskie","Wszystkie"," 20 - 24 ",217178,110792,106386,false,true,true,false]
["Małopolskie","Wszystkie"," 25 - 29 ",258413,130356,128057,false,true,true,false]
["Małopolskie","Wszystkie"," 30 - 34 ",289451,145166,144285,false,true,true,false]
["Małopolskie","Wszystkie"," 35 - 39 ",272149,137197,134952,false,true,true,false]
["Małopolskie","Wszystkie"," 40 - 44 ",242357,121356,121001,false,true,true,false]
["Małopolskie","Wszystkie"," 45 - 49 ",210746,105862,104884,false,true,true,false]
["Małopolskie","Wszystkie"," 50 - 54 ",208580,103844,104736,false,true,true,false]
["Małopolskie","Wszystkie"," 55 - 59 ",226070,110267,115803,false,true,true,false]
["Małopolskie","Wszystkie"," 60 - 64 ",214540,101181,113359,false,true,true,false]
["Małopolskie","Wszystkie"," 65 - 69 ",173082,77344,95738,false,true,true,false]
["Małopolskie","Wszystkie"," 70 i więcej",350235,129327,220908,true,true,false,false]
["Małopolskie","Wszystkie","65+",{"$f":"SUM(D2058:D2059)","v":523317},{"$f":"SUM(E2058:E2059)","v":206671},{"$f":"SUM(F2058:F2059)","v":316646},true,false,true,false]
["Małopolskie"," Kraków "," Kraków ",762448,355687,406761,true,true,true,true]
["Małopolskie"," Kraków "," 0 - 4 ",38744,19893,18851,false,true,true,false]
["Małopolskie"," Kraków "," 5 - 9 ",36638,18868,17770,false,true,true,false]
["Małopolskie"," Kraków "," 10 - 14 ",28764,14784,13980,false,true,true,false]
["Małopolskie"," Kraków "," 15 - 19 ",30194,15291,14903,false,true,true,false]
["Małopolskie"," Kraków "," 20 - 24 ",37662,19113,18549,false,true,true,false]
["Małopolskie"," Kraków "," 25 - 29 ",59501,28256,31245,false,true,true,false]
["Małopolskie"," Kraków "," 30 - 34 ",76364,36630,39734,false,true,true,false]
["Małopolskie"," Kraków "," 35 - 39 ",67644,33301,34343,false,true,true,false]
["Małopolskie"," Kraków "," 40 - 44 ",56065,27353,28712,false,true,true,false]
["Małopolskie"," Kraków "," 45 - 49 ",44080,21486,22594,false,true,true,false]
["Małopolskie"," Kraków "," 50 - 54 ",41871,19891,21980,false,true,true,false]
["Małopolskie"," Kraków "," 55 - 59 ",50316,22806,27510,false,true,true,false]
["Małopolskie"," Kraków "," 60 - 64 ",54392,23811,30581,false,true,true,false]
["Małopolskie"," Kraków "," 65 - 69 ",46089,19388,26701,false,true,true,false]
["Małopolskie"," Kraków "," 70 i więcej",94124,34816,59308,true,true,false,false]
["Małopolskie"," Kraków ","65+",{"$f":"SUM(D2075:D2076)","v":140213},{"$f":"SUM(E2075:E2076)","v":54204},{"$f":"SUM(F2075:F2076)","v":86009},true,false,true,false]
["Małopolskie"," Nowy Sącz "," Nowy Sącz ",83829,40083,43746,true,true,true,true]
["Małopolskie"," Nowy Sącz "," 0 - 4 ",4180,2157,2023,false,true,true,false]
["Małopolskie"," Nowy Sącz "," 5 - 9 ",4597,2332,2265,false,true,true,false]
["Małopolskie"," Nowy Sącz "," 10 - 14 ",4120,2133,1987,false,true,true,false]
["Małopolskie"," Nowy Sącz "," 15 - 19 ",4670,2343,2327,false,true,true,false]
["Małopolskie"," Nowy Sącz "," 20 - 24 ",4970,2563,2407,false,true,true,false]
["Małopolskie"," Nowy Sącz "," 25 - 29 ",6313,3163,3150,false,true,true,false]
["Małopolskie"," Nowy Sącz "," 30 - 34 ",7277,3723,3554,false,true,true,false]
["Małopolskie"," Nowy Sącz "," 35 - 39 ",6779,3408,3371,false,true,true,false]
["Małopolskie"," Nowy Sącz "," 40 - 44 ",5751,2807,2944,false,true,true,false]
["Małopolskie"," Nowy Sącz "," 45 - 49 ",5052,2466,2586,false,true,true,false]
["Małopolskie"," Nowy Sącz "," 50 - 54 ",5382,2529,2853,false,true,true,false]
["Małopolskie"," Nowy Sącz "," 55 - 59 ",5873,2753,3120,false,true,true,false]
["Małopolskie"," Nowy Sącz "," 60 - 64 ",5569,2496,3073,false,true,true,false]
["Małopolskie"," Nowy Sącz "," 65 - 69 ",4778,2024,2754,false,true,true,false]
["Małopolskie"," Nowy Sącz "," 70 i więcej",8518,3186,5332,true,true,false,false]
["Małopolskie"," Nowy Sącz ","65+",{"$f":"SUM(D2092:D2093)","v":13296},{"$f":"SUM(E2092:E2093)","v":5210},{"$f":"SUM(F2092:F2093)","v":8086},true,false,true,false]
["Małopolskie"," Tarnów "," Tarnów ",110381,52173,58208,true,true,true,true]
["Małopolskie"," Tarnów "," 0 - 4 ",4455,2315,2140,false,true,true,false]
["Małopolskie"," Tarnów "," 5 - 9 ",4987,2573,2414,false,true,true,false]
["Małopolskie"," Tarnów "," 10 - 14 ",4570,2355,2215,false,true,true,false]
["Małopolskie"," Tarnów "," 15 - 19 ",5774,2874,2900,false,true,true,false]
["Małopolskie"," Tarnów "," 20 - 24 ",5916,3086,2830,false,true,true,false]
["Małopolskie"," Tarnów "," 25 - 29 ",7559,3761,3798,false,true,true,false]
["Małopolskie"," Tarnów "," 30 - 34 ",9256,4714,4542,false,true,true,false]
["Małopolskie"," Tarnów "," 35 - 39 ",8816,4505,4311,false,true,true,false]
["Małopolskie",{"$f":"IF(C2103=\"65+\",C2104,B2103)","v":" Tarnów "}," 40 - 44 ",7724,3849,3875,false,true,true,false]
["Małopolskie"," Tarnów "," 45 - 49 ",6888,3417,3471,false,true,true,false]
["Małopolskie"," Tarnów "," 50 - 54 ",7125,3412,3713,false,true,true,false]
["Małopolskie"," Tarnów "," 55 - 59 ",8359,3777,4582,false,true,true,false]
["Małopolskie"," Tarnów "," 60 - 64 ",8220,3535,4685,false,true,true,false]
["Małopolskie"," Tarnów "," 65 - 69 ",6915,2911,4004,{"$f":"IFERROR(IF(SEARCH(\" - \",C2109)>0,FALSE,TRUE),TRUE)","v":false},{"$f":"IFERROR(IF(SEARCH(\"65+\",C2109)>0,FALSE,TRUE),TRUE)","v":true},{"$f":"IFERROR(IF(SEARCH(\"70\",C2109)>0,FALSE,TRUE),TRUE)","v":true},{"$f":"AND(G2109:I2109)","v":false}]
["Małopolskie"," Tarnów "," 70 i więcej",13817,5089,8728,true,true,false,false]
["Małopolskie"," Tarnów ","65+",{"$f":"SUM(D2109:D2110)","v":20732},{"$f":"SUM(E2109:E2110)","v":8000},{"$f":"SUM(F2109:F2110)","v":12732},true,false,true,false]
["Małopolskie"," bocheński "," bocheński ",105577,52064,53513,true,true,true,true]
["Małopolskie"," bocheński "," 0 - 4 ",6149,3182,2967,false,true,true,false]
["Małopolskie"," bocheński "," 5 - 9 ",6531,3350,3181,false,true,true,false]
["Małopolskie"," bocheński "," 10 - 14 ",5730,2846,2884,false,true,true,false]
["Małopolskie"," bocheński "," 15 - 19 ",6236,3211,3025,false,true,true,false]
["Małopolskie"," bocheński "," 20 - 24 ",7498,3845,3653,false,true,true,false]
["Małopolskie"," bocheński "," 25 - 29 ",8559,4397,4162,false,true,true,false]
["Małopolskie"," bocheński "," 30 - 34 ",8789,4453,4336,false,true,true,false]
["Małopolskie"," bocheński "," 35 - 39 ",8275,4209,4066,false,true,true,false]
["Małopolskie"," bocheński "," 40 - 44 ",7378,3714,3664,false,true,true,false]
["Małopolskie"," bocheński "," 45 - 49 ",6441,3217,3224,false,true,true,false]
["Małopolskie"," bocheński "," 50 - 54 ",6433,3203,3230,false,true,true,false]
["Małopolskie"," bocheński "," 55 - 59 ",6730,3390,3340,false,true,true,false]
["Małopolskie"," bocheński "," 60 - 64 ",6337,3117,3220,false,true,true,false]
["Małopolskie"," bocheński "," 65 - 69 ",5040,2385,2655,false,true,true,false]
["Małopolskie"," bocheński "," 70 i więcej",9451,3545,5906,true,true,false,false]
["Małopolskie"," bocheński ","65+",{"$f":"SUM(D2126:D2127)","v":14491},{"$f":"SUM(E2126:E2127)","v":5930},{"$f":"SUM(F2126:F2127)","v":8561},true,false,true,false]
["Małopolskie"," brzeski "," brzeski ",92963,46003,46960,true,true,true,true]
["Małopolskie"," brzeski "," 0 - 4 ",4823,2498,2325,false,true,true,false]
["Małopolskie"," brzeski "," 5 - 9 ",5509,2793,2716,false,true,true,false]
["Małopolskie"," brzeski "," 10 - 14 ",4989,2529,2460,false,true,true,false]
["Małopolskie"," brzeski "," 15 - 19 ",5558,2964,2594,false,true,true,false]
["Małopolskie"," brzeski "," 20 - 24 ",6870,3453,3417,false,true,true,false]
["Małopolskie"," brzeski "," 25 - 29 ",7471,3983,3488,false,true,true,false]
["Małopolskie"," brzeski "," 30 - 34 ",7544,3856,3688,false,true,true,false]
["Małopolskie"," brzeski "," 35 - 39 ",7223,3671,3552,false,true,true,false]
["Małopolskie"," brzeski "," 40 - 44 ",6597,3330,3267,false,true,true,false]
["Małopolskie"," brzeski "," 45 - 49 ",5989,3012,2977,false,true,true,false]
["Małopolskie"," brzeski "," 50 - 54 ",5966,3055,2911,false,true,true,false]
["Małopolskie"," brzeski "," 55 - 59 ",5926,3010,2916,false,true,true,false]
["Małopolskie"," brzeski "," 60 - 64 ",5349,2641,2708,false,true,true,false]
["Małopolskie"," brzeski "," 65 - 69 ",4346,1971,2375,false,true,true,false]
["Małopolskie"," brzeski "," 70 i więcej",8803,3237,5566,true,true,false,false]
["Małopolskie"," brzeski ","65+",{"$f":"SUM(D2143:D2144)","v":13149},{"$f":"SUM(E2143:E2144)","v":5208},{"$f":"SUM(F2143:F2144)","v":7941},true,false,true,false]
["Małopolskie"," chrzanowski "," chrzanowski ",126222,61100,65122,true,true,true,true]
["Małopolskie"," chrzanowski "," 0 - 4 ",5688,2872,2816,false,true,true,false]
["Małopolskie"," chrzanowski "," 5 - 9 ",6172,3131,3041,false,true,true,false]
["Małopolskie"," chrzanowski "," 10 - 14 ",5403,2769,2634,false,true,true,false]
["Małopolskie"," chrzanowski "," 15 - 19 ",5666,2915,2751,false,true,true,false]
["Małopolskie"," chrzanowski "," 20 - 24 ",7256,3671,3585,false,true,true,false]
["Małopolskie"," chrzanowski "," 25 - 29 ",8750,4547,4203,false,true,true,false]
["Małopolskie"," chrzanowski "," 30 - 34 ",10551,5411,5140,false,true,true,false]
["Małopolskie"," chrzanowski "," 35 - 39 ",10139,5166,4973,false,true,true,false]
["Małopolskie"," chrzanowski "," 40 - 44 ",8666,4424,4242,false,true,true,false]
["Małopolskie"," chrzanowski "," 45 - 49 ",7798,3940,3858,false,true,true,false]
["Małopolskie"," chrzanowski "," 50 - 54 ",8644,4254,4390,false,true,true,false]
["Małopolskie"," chrzanowski "," 55 - 59 ",10215,4947,5268,false,true,true,false]
["Małopolskie"," chrzanowski "," 60 - 64 ",9486,4464,5022,false,true,true,false]
["Małopolskie"," chrzanowski "," 65 - 69 ",7361,3277,4084,false,true,true,false]
["Małopolskie"," chrzanowski "," 70 i więcej",14427,5312,9115,true,true,false,false]
["Małopolskie"," chrzanowski ","65+",{"$f":"SUM(D2160:D2161)","v":21788},{"$f":"SUM(E2160:E2161)","v":8589},{"$f":"SUM(F2160:F2161)","v":13199},true,false,true,false]
["Małopolskie"," dąbrowski "," dąbrowski ",59314,29561,29753,true,true,true,true]
["Małopolskie"," dąbrowski "," 0 - 4 ",2827,1501,1326,false,true,true,false]
["Małopolskie"," dąbrowski "," 5 - 9 ",3048,1615,1433,false,true,true,false]
["Małopolskie"," dąbrowski "," 10 - 14 ",2937,1502,1435,false,true,true,false]
["Małopolskie"," dąbrowski "," 15 - 19 ",3391,1722,1669,false,true,true,false]
["Małopolskie",{"$f":"IF(C2167=\"65+\",C2168,B2167)","v":" dąbrowski "}," 20 - 24 ",4483,2274,2209,false,true,true,false]
["Małopolskie"," dąbrowski "," 25 - 29 ",4728,2444,2284,false,true,true,false]
["Małopolskie"," dąbrowski "," 30 - 34 ",5053,2606,2447,false,true,true,false]
["Małopolskie"," dąbrowski "," 35 - 39 ",4651,2363,2288,false,true,true,false]
["Małopolskie"," dąbrowski "," 40 - 44 ",4351,2224,2127,false,true,true,false]
["Małopolskie"," dąbrowski "," 45 - 49 ",3990,2076,1914,{"$f":"IFERROR(IF(SEARCH(\" - \",C2173)>0,FALSE,TRUE),TRUE)","v":false},{"$f":"IFERROR(IF(SEARCH(\"65+\",C2173)>0,FALSE,TRUE),TRUE)","v":true},{"$f":"IFERROR(IF(SEARCH(\"70\",C2173)>0,FALSE,TRUE),TRUE)","v":true},{"$f":"AND(G2173:I2173)","v":false}]
["Małopolskie"," dąbrowski "," 50 - 54 ",3951,2042,1909,false,true,true,false]
["Małopolskie"," dąbrowski "," 55 - 59 ",3867,2015,1852,false,true,true,false]
["Małopolskie"," dąbrowski "," 60 - 64 ",3370,1709,1661,false,true,true,false]
["Małopolskie"," dąbrowski "," 65 - 69 ",2669,1240,1429,false,true,true,false]
["Małopolskie"," dąbrowski "," 70 i więcej",5998,2228,3770,true,true,false,false]
["Małopolskie"," dąbrowski ","65+",{"$f":"SUM(D2177:D2178)","v":8667},{"$f":"SUM(E2177:E2178)","v":3468},{"$f":"SUM(F2177:F2178)","v":5199},true,false,true,false]
["Małopolskie"," gorlicki "," gorlicki ",109072,53985,55087,true,true,true,true]
["Małopolskie"," gorlicki "," 0 - 4 ",5654,2878,2776,false,true,true,false]
["Małopolskie"," gorlicki "," 5 - 9 ",6419,3285,3134,false,true,true,false]
["Małopolskie"," gorlicki "," 10 - 14 ",5717,2984,2733,false,true,true,false]
["Małopolskie"," gorlicki "," 15 - 19 ",6358,3303,3055,false,true,true,false]
["Małopolskie"," gorlicki "," 20 - 24 ",7521,3900,3621,false,true,true,false]
["Małopolskie"," gorlicki "," 25 - 29 ",8506,4458,4048,false,true,true,false]
["Małopolskie"," gorlicki "," 30 - 34 ",8799,4556,4243,false,true,true,false]
["Małopolskie"," gorlicki "," 35 - 39 ",8093,4140,3953,false,true,true,false]
["Małopolskie"," gorlicki "," 40 - 44 ",7461,3890,3571,false,true,true,false]
["Małopolskie"," gorlicki "," 45 - 49 ",6841,3450,3391,false,true,true,false]
["Małopolskie"," gorlicki "," 50 - 54 ",7243,3720,3523,false,true,true,false]
["Małopolskie"," gorlicki "," 55 - 59 ",7495,3754,3741,false,true,true,false]
["Małopolskie"," gorlicki "," 60 - 64 ",6673,3238,3435,false,true,true,false]
["Małopolskie"," gorlicki "," 65 - 69 ",5235,2373,2862,false,true,true,false]
["Małopolskie"," gorlicki "," 70 i więcej",11057,4056,7001,true,true,false,false]
["Małopolskie"," gorlicki ","65+",{"$f":"SUM(D2194:D2195)","v":16292},{"$f":"SUM(E2194:E2195)","v":6429},{"$f":"SUM(F2194:F2195)","v":9863},true,false,true,false]
["Małopolskie"," krakowski "," krakowski ",271529,132986,138543,true,true,true,true]
["Małopolskie"," krakowski "," 0 - 4 ",14020,7340,6680,false,true,true,false]
["Małopolskie"," krakowski "," 5 - 9 ",16213,8343,7870,false,true,true,false]
["Małopolskie"," krakowski "," 10 - 14 ",14237,7329,6908,false,true,true,false]
["Małopolskie"," krakowski "," 15 - 19 ",15448,7752,7696,false,true,true,false]
["Małopolskie"," krakowski "," 20 - 24 ",16908,8628,8280,false,true,true,false]
["Małopolskie"," krakowski "," 25 - 29 ",19602,9835,9767,false,true,true,false]
["Małopolskie"," krakowski "," 30 - 34 ",22141,11180,10961,false,true,true,false]
["Małopolskie"," krakowski "," 35 - 39 ",22748,11304,11444,false,true,true,false]
["Małopolskie"," krakowski "," 40 - 44 ",20886,10508,10378,false,true,true,false]
["Małopolskie"," krakowski "," 45 - 49 ",17649,8969,8680,false,true,true,false]
["Małopolskie"," krakowski "," 50 - 54 ",16851,8361,8490,false,true,true,false]
["Małopolskie"," krakowski "," 55 - 59 ",18441,9121,9320,false,true,true,false]
["Małopolskie"," krakowski "," 60 - 64 ",17474,8494,8980,false,true,true,false]
["Małopolskie"," krakowski "," 65 - 69 ",13524,6332,7192,false,true,true,false]
["Małopolskie"," krakowski "," 70 i więcej",25387,9490,15897,true,true,false,false]
["Małopolskie"," krakowski ","65+",{"$f":"SUM(D2211:D2212)","v":38911},{"$f":"SUM(E2211:E2212)","v":15822},{"$f":"SUM(F2211:F2212)","v":23089},true,false,true,false]
["Małopolskie"," limanowski "," limanowski ",129936,64967,64969,true,true,true,true]
["Małopolskie"," limanowski "," 0 - 4 ",8168,4215,3953,false,true,true,false]
["Małopolskie"," limanowski "," 5 - 9 ",8825,4548,4277,false,true,true,false]
["Małopolskie"," limanowski "," 10 - 14 ",8258,4200,4058,false,true,true,false]
["Małopolskie"," limanowski "," 15 - 19 ",9191,4697,4494,false,true,true,false]
["Małopolskie"," limanowski "," 20 - 24 ",10185,5175,5010,false,true,true,false]
["Małopolskie"," limanowski "," 25 - 29 ",10281,5280,5001,false,true,true,false]
["Małopolskie"," limanowski "," 30 - 34 ",10349,5290,5059,false,true,true,false]
["Małopolskie"," limanowski "," 35 - 39 ",9434,4829,4605,false,true,true,false]
["Małopolskie"," limanowski "," 40 - 44 ",8921,4562,4359,false,true,true,false]
["Małopolskie"," limanowski "," 45 - 49 ",8163,4271,3892,false,true,true,false]
["Małopolskie"," limanowski "," 50 - 54 ",8121,4256,3865,false,true,true,false]
["Małopolskie"," limanowski "," 55 - 59 ",7667,4068,3599,false,true,true,false]
["Małopolskie"," limanowski "," 60 - 64 ",6258,3174,3084,false,true,true,false]
["Małopolskie"," limanowski "," 65 - 69 ",5093,2360,2733,false,true,true,false]
["Małopolskie"," limanowski "," 70 i więcej",11022,4042,6980,true,true,false,false]
["Małopolskie"," limanowski ","65+",{"$f":"SUM(D2228:D2229)","v":16115},{"$f":"SUM(E2228:E2229)","v":6402},{"$f":"SUM(F2228:F2229)","v":9713},true,false,true,false]
["Małopolskie"," miechowski "," miechowski ",49521,24360,25161,true,true,true,true]
["Małopolskie",{"$f":"IF(C2231=\"65+\",C2232,B2231)","v":" miechowski "}," 0 - 4 ",2296,1185,1111,false,true,true,false]
["Małopolskie"," miechowski "," 5 - 9 ",2450,1227,1223,false,true,true,false]
["Małopolskie"," miechowski "," 10 - 14 ",2314,1181,1133,false,true,true,false]
["Małopolskie"," miechowski "," 15 - 19 ",2444,1251,1193,false,true,true,false]
["Małopolskie"," miechowski "," 20 - 24 ",3314,1683,1631,false,true,true,false]
["Małopolskie"," miechowski "," 25 - 29 ",3474,1797,1677,{"$f":"IFERROR(IF(SEARCH(\" - \",C2237)>0,FALSE,TRUE),TRUE)","v":false},{"$f":"IFERROR(IF(SEARCH(\"65+\",C2237)>0,FALSE,TRUE),TRUE)","v":true},{"$f":"IFERROR(IF(SEARCH(\"70\",C2237)>0,FALSE,TRUE),TRUE)","v":true},{"$f":"AND(G2237:I2237)","v":false}]
["Małopolskie"," miechowski "," 30 - 34 ",3773,1985,1788,false,true,true,false]
["Małopolskie"," miechowski "," 35 - 39 ",3789,1952,1837,false,true,true,false]
["Małopolskie"," miechowski "," 40 - 44 ",3358,1777,1581,false,true,true,false]
["Małopolskie"," miechowski "," 45 - 49 ",2900,1504,1396,false,true,true,false]
["Małopolskie"," miechowski "," 50 - 54 ",3037,1476,1561,false,true,true,false]
["Małopolskie"," miechowski "," 55 - 59 ",3486,1757,1729,false,true,true,false]
["Małopolskie"," miechowski "," 60 - 64 ",3610,1781,1829,false,true,true,false]
["Małopolskie"," miechowski "," 65 - 69 ",3138,1471,1667,false,true,true,false]
["Małopolskie"," miechowski "," 70 i więcej",6138,2333,3805,true,true,false,false]
["Małopolskie"," miechowski ","65+",{"$f":"SUM(D2245:D2246)","v":9276},{"$f":"SUM(E2245:E2246)","v":3804},{"$f":"SUM(F2245:F2246)","v":5472},true,false,true,false]
["Małopolskie"," myślenicki "," myślenicki ",125315,62162,63153,true,true,true,true]
["Małopolskie"," myślenicki "," 0 - 4 ",7382,3777,3605,false,true,true,false]
["Małopolskie"," myślenicki "," 5 - 9 ",8015,4121,3894,false,true,true,false]
["Małopolskie"," myślenicki "," 10 - 14 ",7118,3572,3546,false,true,true,false]
["Małopolskie"," myślenicki "," 15 - 19 ",7692,3933,3759,false,true,true,false]
["Małopolskie"," myślenicki "," 20 - 24 ",9243,4692,4551,false,true,true,false]
["Małopolskie"," myślenicki "," 25 - 29 ",10021,5110,4911,false,true,true,false]
["Małopolskie"," myślenicki "," 30 - 34 ",10537,5379,5158,false,true,true,false]
["Małopolskie"," myślenicki "," 35 - 39 ",9724,5040,4684,false,true,true,false]
["Małopolskie"," myślenicki "," 40 - 44 ",8931,4503,4428,false,true,true,false]
["Małopolskie"," myślenicki "," 45 - 49 ",7774,3992,3782,false,true,true,false]
["Małopolskie"," myślenicki "," 50 - 54 ",7928,4046,3882,false,true,true,false]
["Małopolskie"," myślenicki "," 55 - 59 ",8165,4152,4013,false,true,true,false]
["Małopolskie"," myślenicki "," 60 - 64 ",7104,3574,3530,false,true,true,false]
["Małopolskie"," myślenicki "," 65 - 69 ",5204,2468,2736,false,true,true,false]
["Małopolskie"," myślenicki "," 70 i więcej",10477,3803,6674,true,true,false,false]
["Małopolskie"," myślenicki ","65+",{"$f":"SUM(D2262:D2263)","v":15681},{"$f":"SUM(E2262:E2263)","v":6271},{"$f":"SUM(F2262:F2263)","v":9410},true,false,true,false]
["Małopolskie"," nowosądecki "," nowosądecki ",213420,106408,107012,true,true,true,true]
["Małopolskie"," nowosądecki "," 0 - 4 ",13027,6684,6343,false,true,true,false]
["Małopolskie"," nowosądecki "," 5 - 9 ",14237,7329,6908,false,true,true,false]
["Małopolskie"," nowosądecki "," 10 - 14 ",13365,6880,6485,false,true,true,false]
["Małopolskie"," nowosądecki "," 15 - 19 ",14872,7639,7233,false,true,true,false]
["Małopolskie"," nowosądecki "," 20 - 24 ",16828,8668,8160,false,true,true,false]
["Małopolskie"," nowosądecki "," 25 - 29 ",17451,9033,8418,false,true,true,false]
["Małopolskie"," nowosądecki "," 30 - 34 ",16882,8593,8289,false,true,true,false]
["Małopolskie"," nowosądecki "," 35 - 39 ",15672,7893,7779,false,true,true,false]
["Małopolskie"," nowosądecki "," 40 - 44 ",14800,7471,7329,false,true,true,false]
["Małopolskie"," nowosądecki "," 45 - 49 ",13785,7018,6767,false,true,true,false]
["Małopolskie"," nowosądecki "," 50 - 54 ",13510,6996,6514,false,true,true,false]
["Małopolskie"," nowosądecki "," 55 - 59 ",12701,6605,6096,false,true,true,false]
["Małopolskie"," nowosądecki "," 60 - 64 ",10376,5192,5184,false,true,true,false]
["Małopolskie"," nowosądecki "," 65 - 69 ",8217,3831,4386,false,true,true,false]
["Małopolskie"," nowosądecki "," 70 i więcej",17697,6576,11121,true,true,false,false]
["Małopolskie"," nowosądecki ","65+",{"$f":"SUM(D2279:D2280)","v":25914},{"$f":"SUM(E2279:E2280)","v":10407},{"$f":"SUM(F2279:F2280)","v":15507},true,false,true,false]
["Małopolskie"," nowotarski "," nowotarski ",190592,93277,97315,true,true,true,true]
["Małopolskie"," nowotarski "," 0 - 4 ",9989,5044,4945,false,true,true,false]
["Małopolskie"," nowotarski "," 5 - 9 ",11605,5957,5648,false,true,true,false]
["Małopolskie"," nowotarski "," 10 - 14 ",10722,5440,5282,false,true,true,false]
["Małopolskie"," nowotarski "," 15 - 19 ",12029,6154,5875,false,true,true,false]
["Małopolskie"," nowotarski "," 20 - 24 ",14395,7310,7085,false,true,true,false]
["Małopolskie"," nowotarski "," 25 - 29 ",14940,7583,7357,false,true,true,false]
["Małopolskie"," nowotarski "," 30 - 34 ",15496,7726,7770,false,true,true,false]
["Małopolskie"," nowotarski "," 35 - 39 ",14441,7270,7171,false,true,true,false]
["Małopolskie"," nowotarski "," 40 - 44 ",13615,6787,6828,false,true,true,false]
["Małopolskie"," nowotarski "," 45 - 49 ",12741,6413,6328,false,true,true,false]
["Małopolskie"," nowotarski "," 50 - 54 ",12155,6169,5986,false,true,true,false]
["Małopolskie"," nowotarski "," 55 - 59 ",11729,5902,5827,false,true,true,false]
["Małopolskie"," nowotarski "," 60 - 64 ",10459,5075,5384,false,true,true,false]
["Małopolskie",{"$f":"IF(C2295=\"65+\",C2296,B2295)","v":" nowotarski "}," 65 - 69 ",8548,3866,4682,false,true,true,false]
["Małopolskie"," nowotarski "," 70 i więcej",17728,6581,11147,true,true,false,false]
["Małopolskie"," nowotarski ","65+",{"$f":"SUM(D2296:D2297)","v":26276},{"$f":"SUM(E2296:E2297)","v":10447},{"$f":"SUM(F2296:F2297)","v":15829},true,false,true,false]
["Małopolskie"," olkuski "," olkuski ",113004,54939,58065,true,true,true,true]
["Małopolskie"," olkuski "," 0 - 4 ",4936,2550,2386,false,true,true,false]
["Małopolskie"," olkuski "," 5 - 9 ",5702,2896,2806,{"$f":"IFERROR(IF(SEARCH(\" - \",C2301)>0,FALSE,TRUE),TRUE)","v":false},{"$f":"IFERROR(IF(SEARCH(\"65+\",C2301)>0,FALSE,TRUE),TRUE)","v":true},{"$f":"IFERROR(IF(SEARCH(\"70\",C2301)>0,FALSE,TRUE),TRUE)","v":true},{"$f":"AND(G2301:I2301)","v":false}]
["Małopolskie"," olkuski "," 10 - 14 ",4945,2496,2449,false,true,true,false]
["Małopolskie"," olkuski "," 15 - 19 ",5432,2778,2654,false,true,true,false]
["Małopolskie"," olkuski "," 20 - 24 ",6629,3367,3262,false,true,true,false]
["Małopolskie"," olkuski "," 25 - 29 ",7902,4093,3809,false,true,true,false]
["Małopolskie"," olkuski "," 30 - 34 ",9104,4715,4389,false,true,true,false]
["Małopolskie"," olkuski "," 35 - 39 ",9272,4789,4483,false,true,true,false]
["Małopolskie"," olkuski "," 40 - 44 ",8154,4137,4017,false,true,true,false]
["Małopolskie"," olkuski "," 45 - 49 ",6698,3320,3378,false,true,true,false]
["Małopolskie"," olkuski "," 50 - 54 ",7066,3393,3673,false,true,true,false]
["Małopolskie"," olkuski "," 55 - 59 ",8825,4210,4615,false,true,true,false]
["Małopolskie"," olkuski "," 60 - 64 ",8804,4187,4617,false,true,true,false]
["Małopolskie"," olkuski "," 65 - 69 ",6970,3292,3678,false,true,true,false]
["Małopolskie"," olkuski "," 70 i więcej",12565,4716,7849,true,true,false,false]
["Małopolskie"," olkuski ","65+",{"$f":"SUM(D2313:D2314)","v":19535},{"$f":"SUM(E2313:E2314)","v":8008},{"$f":"SUM(F2313:F2314)","v":11527},true,false,true,false]
["Małopolskie"," oświęcimski "," oświęcimski ",154715,75216,79499,true,true,true,true]
["Małopolskie"," oświęcimski "," 0 - 4 ",7431,3839,3592,false,true,true,false]
["Małopolskie"," oświęcimski "," 5 - 9 ",8207,4161,4046,false,true,true,false]
["Małopolskie"," oświęcimski "," 10 - 14 ",7088,3685,3403,false,true,true,false]
["Małopolskie"," oświęcimski "," 15 - 19 ",7717,4013,3704,false,true,true,false]
["Małopolskie"," oświęcimski "," 20 - 24 ",9522,4779,4743,false,true,true,false]
["Małopolskie"," oświęcimski "," 25 - 29 ",11223,5832,5391,false,true,true,false]
["Małopolskie"," oświęcimski "," 30 - 34 ",12357,6318,6039,false,true,true,false]
["Małopolskie"," oświęcimski "," 35 - 39 ",12180,6262,5918,false,true,true,false]
["Małopolskie"," oświęcimski "," 40 - 44 ",10814,5427,5387,false,true,true,false]
["Małopolskie"," oświęcimski "," 45 - 49 ",9877,4963,4914,false,true,true,false]
["Małopolskie"," oświęcimski "," 50 - 54 ",10090,5015,5075,false,true,true,false]
["Małopolskie"," oświęcimski "," 55 - 59 ",11714,5710,6004,false,true,true,false]
["Małopolskie"," oświęcimski "," 60 - 64 ",10648,5006,5642,false,true,true,false]
["Małopolskie"," oświęcimski "," 65 - 69 ",8418,3672,4746,false,true,true,false]
["Małopolskie"," oświęcimski "," 70 i więcej",17429,6534,10895,true,true,false,false]
["Małopolskie"," oświęcimski ","65+",{"$f":"SUM(D2330:D2331)","v":25847},{"$f":"SUM(E2330:E2331)","v":10206},{"$f":"SUM(F2330:F2331)","v":15641},true,false,true,false]
["Małopolskie"," proszowicki "," proszowicki ",43696,21526,22170,true,true,true,true]
["Małopolskie"," proszowicki "," 0 - 4 ",2080,1077,1003,false,true,true,false]
["Małopolskie"," proszowicki "," 5 - 9 ",2245,1099,1146,false,true,true,false]
["Małopolskie"," proszowicki "," 10 - 14 ",2112,1090,1022,false,true,true,false]
["Małopolskie"," proszowicki "," 15 - 19 ",2312,1190,1122,false,true,true,false]
["Małopolskie"," proszowicki "," 20 - 24 ",3146,1595,1551,false,true,true,false]
["Małopolskie"," proszowicki "," 25 - 29 ",3282,1715,1567,false,true,true,false]
["Małopolskie"," proszowicki "," 30 - 34 ",3465,1787,1678,false,true,true,false]
["Małopolskie"," proszowicki "," 35 - 39 ",3405,1733,1672,false,true,true,false]
["Małopolskie"," proszowicki "," 40 - 44 ",3078,1610,1468,false,true,true,false]
["Małopolskie"," proszowicki "," 45 - 49 ",2779,1386,1393,false,true,true,false]
["Małopolskie"," proszowicki "," 50 - 54 ",2630,1354,1276,false,true,true,false]
["Małopolskie"," proszowicki "," 55 - 59 ",3085,1582,1503,false,true,true,false]
["Małopolskie"," proszowicki "," 60 - 64 ",2932,1394,1538,false,true,true,false]
["Małopolskie"," proszowicki "," 65 - 69 ",2424,1136,1288,false,true,true,false]
["Małopolskie"," proszowicki "," 70 i więcej",4721,1778,2943,true,true,false,false]
["Małopolskie"," proszowicki ","65+",{"$f":"SUM(D2347:D2348)","v":7145},{"$f":"SUM(E2347:E2348)","v":2914},{"$f":"SUM(F2347:F2348)","v":4231},true,false,true,false]
["Małopolskie"," suski "," suski ",84142,41722,42420,true,true,true,true]
["Małopolskie"," suski "," 0 - 4 ",4414,2311,2103,false,true,true,false]
["Małopolskie"," suski "," 5 - 9 ",4993,2540,2453,false,true,true,false]
["Małopolskie"," suski "," 10 - 14 ",4600,2332,2268,false,true,true,false]
["Małopolskie"," suski "," 15 - 19 ",5144,2658,2486,false,true,true,false]
["Małopolskie"," suski "," 20 - 24 ",6154,3151,3003,false,true,true,false]
["Małopolskie"," suski "," 25 - 29 ",6535,3412,3123,false,true,true,false]
["Małopolskie"," suski "," 30 - 34 ",6694,3444,3250,false,true,true,false]
["Małopolskie"," suski "," 35 - 39 ",6277,3215,3062,false,true,true,false]
["Małopolskie"," suski "," 40 - 44 ",5855,2948,2907,false,true,true,false]
["Małopolskie",{"$f":"IF(C2359=\"65+\",C2360,B2359)","v":" suski "}," 45 - 49 ",5367,2762,2605,false,true,true,false]
["Małopolskie"," suski "," 50 - 54 ",5354,2783,2571,false,true,true,false]
["Małopolskie"," suski "," 55 - 59 ",5460,2836,2624,false,true,true,false]
["Małopolskie"," suski "," 60 - 64 ",4949,2461,2488,false,true,true,false]
["Małopolskie"," suski "," 65 - 69 ",4017,1921,2096,false,true,true,false]
["Małopolskie"," suski "," 70 i więcej",8329,2948,5381,{"$f":"IFERROR(IF(SEARCH(\" - \",C2365)>0,FALSE,TRUE),TRUE)","v":true},{"$f":"IFERROR(IF(SEARCH(\"65+\",C2365)>0,FALSE,TRUE),TRUE)","v":true},{"$f":"IFERROR(IF(SEARCH(\"70\",C2365)>0,FALSE,TRUE),TRUE)","v":false},{"$f":"AND(G2365:I2365)","v":false}]
["Małopolskie"," suski ","65+",{"$f":"SUM(D2364:D2365)","v":12346},{"$f":"SUM(E2364:E2365)","v":4869},{"$f":"SUM(F2364:F2365)","v":7477},true,false,true,false]
["Małopolskie"," tarnowski "," tarnowski ",200677,99586,101091,true,true,true,true]
["Małopolskie"," tarnowski "," 0 - 4 ",10424,5333,5091,false,true,true,false]
["Małopolskie"," tarnowski "," 5 - 9 ",11412,5869,5543,false,true,true,false]
["Małopolskie"," tarnowski "," 10 - 14 ",10877,5578,5299,false,true,true,false]
["Małopolskie"," tarnowski "," 15 - 19 ",12708,6480,6228,false,true,true,false]
["Małopolskie"," tarnowski "," 20 - 24 ",15364,7879,7485,false,true,true,false]
["Małopolskie"," tarnowski "," 25 - 29 ",16156,8406,7750,false,true,true,false]
["Małopolskie"," tarnowski "," 30 - 34 ",16105,8253,7852,false,true,true,false]
["Małopolskie"," tarnowski "," 35 - 39 ",15156,7698,7458,false,true,true,false]
["Małopolskie"," tarnowski "," 40 - 44 ",14255,7142,7113,false,true,true,false]
["Małopolskie"," tarnowski "," 45 - 49 ",13451,6940,6511,false,true,true,false]
["Małopolskie"," tarnowski "," 50 - 54 ",13370,6979,6391,false,true,true,false]
["Małopolskie"," tarnowski "," 55 - 59 ",12624,6431,6193,false,true,true,false]
["Małopolskie"," tarnowski "," 60 - 64 ",10755,5476,5279,false,true,true,false]
["Małopolskie"," tarnowski "," 65 - 69 ",8369,3872,4497,false,true,true,false]
["Małopolskie"," tarnowski "," 70 i więcej",19651,7250,12401,true,true,false,false]
["Małopolskie"," tarnowski ","65+",{"$f":"SUM(D2381:D2382)","v":28020},{"$f":"SUM(E2381:E2382)","v":11122},{"$f":"SUM(F2381:F2382)","v":16898},true,false,true,false]
["Małopolskie"," tatrzański "," tatrzański ",67935,32756,35179,true,true,true,true]
["Małopolskie"," tatrzański "," 0 - 4 ",3584,1838,1746,false,true,true,false]
["Małopolskie"," tatrzański "," 5 - 9 ",3713,1926,1787,false,true,true,false]
["Małopolskie"," tatrzański "," 10 - 14 ",3504,1797,1707,false,true,true,false]
["Małopolskie"," tatrzański "," 15 - 19 ",3869,1992,1877,false,true,true,false]
["Małopolskie"," tatrzański "," 20 - 24 ",4695,2471,2224,false,true,true,false]
["Małopolskie"," tatrzański "," 25 - 29 ",5116,2598,2518,false,true,true,false]
["Małopolskie"," tatrzański "," 30 - 34 ",5407,2683,2724,false,true,true,false]
["Małopolskie"," tatrzański "," 35 - 39 ",5127,2591,2536,false,true,true,false]
["Małopolskie"," tatrzański "," 40 - 44 ",4677,2287,2390,false,true,true,false]
["Małopolskie"," tatrzański "," 45 - 49 ",4366,2159,2207,false,true,true,false]
["Małopolskie"," tatrzański "," 50 - 54 ",4430,2191,2239,false,true,true,false]
["Małopolskie"," tatrzański "," 55 - 59 ",4554,2154,2400,false,true,true,false]
["Małopolskie"," tatrzański "," 60 - 64 ",4272,2012,2260,false,true,true,false]
["Małopolskie"," tatrzański "," 65 - 69 ",3489,1544,1945,false,true,true,false]
["Małopolskie"," tatrzański "," 70 i więcej",7132,2513,4619,true,true,false,false]
["Małopolskie"," tatrzański ","65+",{"$f":"SUM(D2398:D2399)","v":10621},{"$f":"SUM(E2398:E2399)","v":4057},{"$f":"SUM(F2398:F2399)","v":6564},true,false,true,false]
["Małopolskie"," wadowicki "," wadowicki ",159593,78213,81380,true,true,true,true]
["Małopolskie"," wadowicki "," 0 - 4 ",8510,4436,4074,false,true,true,false]
["Małopolskie"," wadowicki "," 5 - 9 ",9379,4722,4657,false,true,true,false]
["Małopolskie"," wadowicki "," 10 - 14 ",8457,4346,4111,false,true,true,false]
["Małopolskie"," wadowicki "," 15 - 19 ",9107,4685,4422,false,true,true,false]
["Małopolskie"," wadowicki "," 20 - 24 ",10841,5551,5290,false,true,true,false]
["Małopolskie"," wadowicki "," 25 - 29 ",12280,6302,5978,false,true,true,false]
["Małopolskie"," wadowicki "," 30 - 34 ",12796,6555,6241,false,true,true,false]
["Małopolskie"," wadowicki "," 35 - 39 ",12464,6392,6072,false,true,true,false]
["Małopolskie"," wadowicki "," 40 - 44 ",11577,5897,5680,false,true,true,false]
["Małopolskie"," wadowicki "," 45 - 49 ",10267,5206,5061,false,true,true,false]
["Małopolskie"," wadowicki "," 50 - 54 ",10223,5157,5066,false,true,true,false]
["Małopolskie"," wadowicki "," 55 - 59 ",10843,5337,5506,false,true,true,false]
["Małopolskie"," wadowicki "," 60 - 64 ",9860,4688,5172,false,true,true,false]
["Małopolskie"," wadowicki "," 65 - 69 ",7578,3456,4122,false,true,true,false]
["Małopolskie"," wadowicki "," 70 i więcej",15411,5483,9928,true,true,false,false]
["Małopolskie"," wadowicki ","65+",{"$f":"SUM(D2415:D2416)","v":22989},{"$f":"SUM(E2415:E2416)","v":8939},{"$f":"SUM(F2415:F2416)","v":14050},true,false,true,false]
["Małopolskie"," wielicki "," wielicki ",122448,59819,62629,true,true,true,true]
["Małopolskie"," wielicki "," 0 - 4 ",6867,3557,3310,false,true,true,false]
["Małopolskie"," wielicki "," 5 - 9 ",7973,4144,3829,false,true,true,false]
["Małopolskie"," wielicki "," 10 - 14 ",6604,3461,3143,false,true,true,false]
["Małopolskie"," wielicki "," 15 - 19 ",6767,3456,3311,false,true,true,false]
["Małopolskie"," wielicki "," 20 - 24 ",7778,3938,3840,false,true,true,false]
["Małopolskie",{"$f":"IF(C2423=\"65+\",C2424,B2423)","v":" wielicki "}," 25 - 29 ",8763,4351,4412,false,true,true,false]
["Małopolskie"," wielicki "," 30 - 34 ",10712,5309,5403,false,true,true,false]
["Małopolskie"," wielicki "," 35 - 39 ",10840,5466,5374,false,true,true,false]
["Małopolskie"," wielicki "," 40 - 44 ",9443,4709,4734,false,true,true,false]
["Małopolskie"," wielicki "," 45 - 49 ",7850,3895,3955,false,true,true,false]
["Małopolskie"," wielicki "," 50 - 54 ",7200,3562,3638,{"$f":"IFERROR(IF(SEARCH(\" - \",C2429)>0,FALSE,TRUE),TRUE)","v":false},{"$f":"IFERROR(IF(SEARCH(\"65+\",C2429)>0,FALSE,TRUE),TRUE)","v":true},{"$f":"IFERROR(IF(SEARCH(\"70\",C2429)>0,FALSE,TRUE),TRUE)","v":true},{"$f":"AND(G2429:I2429)","v":false}]
["Małopolskie"," wielicki "," 55 - 59 ",7995,3950,4045,false,true,true,false]
["Małopolskie"," wielicki "," 60 - 64 ",7643,3656,3987,false,true,true,false]
["Małopolskie"," wielicki "," 65 - 69 ",5660,2554,3106,false,true,true,false]
["Małopolskie"," wielicki "," 70 i więcej",10353,3811,6542,true,true,false,false]
["Małopolskie"," wielicki ","65+",{"$f":"SUM(D2432:D2433)","v":16013},{"$f":"SUM(E2432:E2433)","v":6365},{"$f":"SUM(F2432:F2433)","v":9648},true,false,true,false]
["Mazowieckie","Wszystkie","Mazowieckie ",5356838,2562757,2794081,{"$f":"IFERROR(IF(SEARCH(\" - \",C2435)>0,FALSE,TRUE),TRUE)","v":true},{"$f":"IFERROR(IF(SEARCH(\"65+\",C2435)>0,FALSE,TRUE),TRUE)","v":true},{"$f":"IFERROR(IF(SEARCH(\"70\",C2435)>0,FALSE,TRUE),TRUE)","v":true},{"$f":"AND(G2435:I2435)","v":true}]
["Mazowieckie","Wszystkie"," 0 - 4 ",286725,147453,139272,{"$f":"IFERROR(IF(SEARCH(\" - \",C2436)>0,FALSE,TRUE),TRUE)","v":false},{"$f":"IFERROR(IF(SEARCH(\"65+\",C2436)>0,FALSE,TRUE),TRUE)","v":true},{"$f":"IFERROR(IF(SEARCH(\"70\",C2436)>0,FALSE,TRUE),TRUE)","v":true},{"$f":"AND(G2436:I2436)","v":false}]
["Mazowieckie","Wszystkie"," 5 - 9 ",305015,156623,148392,false,true,true,false]
["Mazowieckie","Wszystkie"," 10 - 14 ",255216,130537,124679,false,true,true,false]
["Mazowieckie","Wszystkie"," 15 - 19 ",257829,132168,125661,false,true,true,false]
["Mazowieckie","Wszystkie"," 20 - 24 ",303394,154481,148913,false,true,true,false]
["Mazowieckie","Wszystkie"," 25 - 29 ",373808,187444,186364,false,true,true,false]
["Mazowieckie","Wszystkie"," 30 - 34 ",459675,227867,231808,false,true,true,false]
["Mazowieckie","Wszystkie"," 35 - 39 ",457504,226892,230612,false,true,true,false]
["Mazowieckie","Wszystkie"," 40 - 44 ",403196,200707,202489,false,true,true,false]
["Mazowieckie","Wszystkie"," 45 - 49 ",319849,159493,160356,false,true,true,false]
["Mazowieckie","Wszystkie"," 50 - 54 ",307642,151043,156599,false,true,true,false]
["Mazowieckie","Wszystkie"," 55 - 59 ",366590,174489,192101,false,true,true,false]
["Mazowieckie","Wszystkie"," 60 - 64 ",378276,173501,204775,false,true,true,false]
["Mazowieckie","Wszystkie"," 65 - 69 ",299080,130681,168399,false,true,true,false]
["Mazowieckie","Wszystkie"," 70 i więcej",583039,209378,373661,true,true,false,false]
["Mazowieckie","Wszystkie","65+",{"$f":"SUM(D2449:D2450)","v":882119},{"$f":"SUM(E2449:E2450)","v":340059},{"$f":"SUM(F2449:F2450)","v":542060},true,false,true,false]
["Mazowieckie"," Ostrołęka "," Ostrołęka ",52408,25077,27331,true,true,true,true]
["Mazowieckie"," Ostrołęka "," 0 - 4 ",2609,1325,1284,false,true,true,false]
["Mazowieckie"," Ostrołęka "," 5 - 9 ",2748,1399,1349,false,true,true,false]
["Mazowieckie"," Ostrołęka "," 10 - 14 ",2363,1209,1154,false,true,true,false]
["Mazowieckie"," Ostrołęka "," 15 - 19 ",3046,1518,1528,false,true,true,false]
["Mazowieckie"," Ostrołęka "," 20 - 24 ",2980,1519,1461,false,true,true,false]
["Mazowieckie"," Ostrołęka "," 25 - 29 ",3752,1901,1851,false,true,true,false]
["Mazowieckie"," Ostrołęka "," 30 - 34 ",4594,2390,2204,false,true,true,false]
["Mazowieckie"," Ostrołęka "," 35 - 39 ",4275,2202,2073,false,true,true,false]
["Mazowieckie"," Ostrołęka "," 40 - 44 ",3401,1708,1693,false,true,true,false]
["Mazowieckie"," Ostrołęka "," 45 - 49 ",3132,1504,1628,false,true,true,false]
["Mazowieckie"," Ostrołęka "," 50 - 54 ",3331,1507,1824,false,true,true,false]
["Mazowieckie"," Ostrołęka "," 55 - 59 ",4337,1900,2437,false,true,true,false]
["Mazowieckie"," Ostrołęka "," 60 - 64 ",4384,1934,2450,false,true,true,false]
["Mazowieckie"," Ostrołęka "," 65 - 69 ",3023,1379,1644,false,true,true,false]
["Mazowieckie"," Ostrołęka "," 70 i więcej",4433,1682,2751,true,true,false,false]
["Mazowieckie"," Ostrołęka ","65+",{"$f":"SUM(D2466:D2467)","v":7456},{"$f":"SUM(E2466:E2467)","v":3061},{"$f":"SUM(F2466:F2467)","v":4395},true,false,true,false]
["Mazowieckie"," Płock "," Płock ",121468,57376,64092,true,true,true,true]
["Mazowieckie"," Płock "," 0 - 4 ",5880,3079,2801,false,true,true,false]
["Mazowieckie"," Płock "," 5 - 9 ",6223,3253,2970,false,true,true,false]
["Mazowieckie"," Płock "," 10 - 14 ",5178,2637,2541,false,true,true,false]
["Mazowieckie"," Płock "," 15 - 19 ",5935,2921,3014,false,true,true,false]
["Mazowieckie"," Płock "," 20 - 24 ",6814,3458,3356,false,true,true,false]
["Mazowieckie"," Płock "," 25 - 29 ",7770,4004,3766,false,true,true,false]
["Mazowieckie"," Płock "," 30 - 34 ",9939,5001,4938,false,true,true,false]
["Mazowieckie"," Płock "," 35 - 39 ",10306,5136,5170,false,true,true,false]
["Mazowieckie"," Płock "," 40 - 44 ",9078,4496,4582,false,true,true,false]
["Mazowieckie"," Płock "," 45 - 49 ",7646,3697,3949,false,true,true,false]
["Mazowieckie"," Płock "," 50 - 54 ",7272,3455,3817,false,true,true,false]
["Mazowieckie"," Płock "," 55 - 59 ",8576,3771,4805,false,true,true,false]
["Mazowieckie"," Płock "," 60 - 64 ",9673,4112,5561,false,true,true,false]
["Mazowieckie"," Płock "," 65 - 69 ",8533,3668,4865,false,true,true,false]
["Mazowieckie"," Płock "," 70 i więcej",12645,4688,7957,true,true,false,false]
["Mazowieckie"," Płock ","65+",{"$f":"SUM(D2483:D2484)","v":21178},{"$f":"SUM(E2483:E2484)","v":8356},{"$f":"SUM(F2483:F2484)","v":12822},true,false,true,false]
["Mazowieckie"," Radom "," Radom ",215653,102481,113172,true,true,true,true]
["Mazowieckie"," Radom "," 0 - 4 ",9889,5069,4820,false,true,true,false]
["Mazowieckie",{"$f":"IF(C2487=\"65+\",C2488,B2487)","v":" Radom "}," 5 - 9 ",10965,5724,5241,false,true,true,false]
["Mazowieckie"," Radom "," 10 - 14 ",9787,5048,4739,false,true,true,false]
["Mazowieckie"," Radom "," 15 - 19 ",10814,5544,5270,false,true,true,false]
["Mazowieckie"," Radom "," 20 - 24 ",12836,6544,6292,false,true,true,false]
["Mazowieckie"," Radom "," 25 - 29 ",15305,7942,7363,false,true,true,false]
["Mazowieckie"," Radom "," 30 - 34 ",17962,9340,8622,false,true,true,false]
["Mazowieckie"," Radom "," 35 - 39 ",17437,8930,8507,false,true,true,false]
["Mazowieckie"," Radom "," 40 - 44 ",14945,7425,7520,false,true,true,false]
["Mazowieckie"," Radom "," 45 - 49 ",12634,6179,6455,false,true,true,false]
["Mazowieckie"," Radom "," 50 - 54 ",13122,6154,6968,false,true,true,false]
["Mazowieckie"," Radom "," 55 - 59 ",16400,7462,8938,false,true,true,false]
["Mazowieckie"," Radom "," 60 - 64 ",17248,7652,9596,false,true,true,false]
["Mazowieckie"," Radom "," 65 - 69 ",12762,5247,7515,{"$f":"IFERROR(IF(SEARCH(\" - \",C2500)>0,FALSE,TRUE),TRUE)","v":false},{"$f":"IFERROR(IF(SEARCH(\"65+\",C2500)>0,FALSE,TRUE),TRUE)","v":true},{"$f":"IFERROR(IF(SEARCH(\"70\",C2500)>0,FALSE,TRUE),TRUE)","v":true},{"$f":"AND(G2500:I2500)","v":false}]
["Mazowieckie"," Radom "," 70 i więcej",23547,8221,15326,true,true,false,false]
["Mazowieckie"," Radom ","65+",{"$f":"SUM(D2500:D2501)","v":36309},{"$f":"SUM(E2500:E2501)","v":13468},{"$f":"SUM(F2500:F2501)","v":22841},true,false,true,false]
["Mazowieckie"," Siedlce "," Siedlce ",77072,36479,40593,true,true,true,true]
["Mazowieckie"," Siedlce "," 0 - 4 ",4533,2342,2191,false,true,true,false]
["Mazowieckie"," Siedlce "," 5 - 9 ",4492,2312,2180,false,true,true,false]
["Mazowieckie"," Siedlce "," 10 - 14 ",3728,1925,1803,false,true,true,false]
["Mazowieckie"," Siedlce "," 15 - 19 ",3791,1967,1824,false,true,true,false]
["Mazowieckie"," Siedlce "," 20 - 24 ",4217,2203,2014,false,true,true,false]
["Mazowieckie"," Siedlce "," 25 - 29 ",5727,2790,2937,false,true,true,false]
["Mazowieckie"," Siedlce "," 30 - 34 ",7097,3585,3512,false,true,true,false]
["Mazowieckie"," Siedlce "," 35 - 39 ",6551,3258,3293,false,true,true,false]
["Mazowieckie"," Siedlce "," 40 - 44 ",5243,2554,2689,false,true,true,false]
["Mazowieckie"," Siedlce "," 45 - 49 ",4140,2018,2122,false,true,true,false]
["Mazowieckie"," Siedlce "," 50 - 54 ",4272,1909,2363,false,true,true,false]
["Mazowieckie"," Siedlce "," 55 - 59 ",5469,2369,3100,false,true,true,false]
["Mazowieckie"," Siedlce "," 60 - 64 ",6038,2604,3434,false,true,true,false]
["Mazowieckie"," Siedlce "," 65 - 69 ",4601,2024,2577,false,true,true,false]
["Mazowieckie"," Siedlce "," 70 i więcej",7173,2619,4554,true,true,false,false]
["Mazowieckie"," Siedlce ","65+",{"$f":"SUM(D2517:D2518)","v":11774},{"$f":"SUM(E2517:E2518)","v":4643},{"$f":"SUM(F2517:F2518)","v":7131},true,false,true,false]
["Mazowieckie"," Warszawa "," Warszawa ",1748916,802969,945947,true,true,true,true]
["Mazowieckie"," Warszawa "," 0 - 4 ",96652,49697,46955,false,true,true,false]
["Mazowieckie"," Warszawa "," 5 - 9 ",94143,48418,45725,false,true,true,false]
["Mazowieckie"," Warszawa "," 10 - 14 ",69217,35241,33976,false,true,true,false]
["Mazowieckie"," Warszawa "," 15 - 19 ",59908,30371,29537,false,true,true,false]
["Mazowieckie"," Warszawa "," 20 - 24 ",69616,35159,34457,false,true,true,false]
["Mazowieckie"," Warszawa "," 25 - 29 ",119015,55949,63066,false,true,true,false]
["Mazowieckie"," Warszawa "," 30 - 34 ",169791,79696,90095,false,true,true,false]
["Mazowieckie"," Warszawa "," 35 - 39 ",166245,78778,87467,false,true,true,false]
["Mazowieckie"," Warszawa "," 40 - 44 ",138402,66283,72119,false,true,true,false]
["Mazowieckie"," Warszawa "," 45 - 49 ",95804,46458,49346,false,true,true,false]
["Mazowieckie"," Warszawa "," 50 - 54 ",88182,41831,46351,false,true,true,false]
["Mazowieckie"," Warszawa "," 55 - 59 ",114060,51300,62760,false,true,true,false]
["Mazowieckie"," Warszawa "," 60 - 64 ",131481,57295,74186,false,true,true,false]
["Mazowieckie"," Warszawa "," 65 - 69 ",107241,44832,62409,false,true,true,false]
["Mazowieckie"," Warszawa "," 70 i więcej",229159,81661,147498,true,true,false,false]
["Mazowieckie"," Warszawa ","65+",{"$f":"SUM(D2534:D2535)","v":336400},{"$f":"SUM(E2534:E2535)","v":126493},{"$f":"SUM(F2534:F2535)","v":209907},true,false,true,false]
["Mazowieckie"," białobrzeski "," białobrzeski ",33553,16955,16598,true,true,true,true]
["Mazowieckie"," białobrzeski "," 0 - 4 ",1828,963,865,false,true,true,false]
["Mazowieckie"," białobrzeski "," 5 - 9 ",1970,1021,949,false,true,true,false]
["Mazowieckie"," białobrzeski "," 10 - 14 ",1913,950,963,false,true,true,false]
["Mazowieckie"," białobrzeski "," 15 - 19 ",2002,1056,946,false,true,true,false]
["Mazowieckie"," białobrzeski "," 20 - 24 ",2642,1399,1243,false,true,true,false]
["Mazowieckie"," białobrzeski "," 25 - 29 ",2556,1357,1199,false,true,true,false]
["Mazowieckie"," białobrzeski "," 30 - 34 ",2598,1392,1206,false,true,true,false]
["Mazowieckie"," białobrzeski "," 35 - 39 ",2540,1413,1127,false,true,true,false]
["Mazowieckie"," białobrzeski "," 40 - 44 ",2265,1151,1114,false,true,true,false]
["Mazowieckie"," białobrzeski "," 45 - 49 ",2066,1048,1018,false,true,true,false]
["Mazowieckie"," białobrzeski "," 50 - 54 ",2003,1059,944,false,true,true,false]
["Mazowieckie"," białobrzeski "," 55 - 59 ",2257,1162,1095,false,true,true,false]
["Mazowieckie"," białobrzeski "," 60 - 64 ",2154,1121,1033,false,true,true,false]
["Mazowieckie"," białobrzeski "," 65 - 69 ",1635,714,921,false,true,true,false]
["Mazowieckie",{"$f":"IF(C2551=\"65+\",C2552,B2551)","v":" białobrzeski "}," 70 i więcej",3124,1149,1975,true,true,false,false]
["Mazowieckie"," białobrzeski ","65+",{"$f":"SUM(D2551:D2552)","v":4759},{"$f":"SUM(E2551:E2552)","v":1863},{"$f":"SUM(F2551:F2552)","v":2896},true,false,true,false]
["Mazowieckie"," ciechanowski "," ciechanowski ",90256,44332,45924,true,true,true,true]
["Mazowieckie"," ciechanowski "," 0 - 4 ",4547,2275,2272,false,true,true,false]
["Mazowieckie"," ciechanowski "," 5 - 9 ",4711,2457,2254,false,true,true,false]
["Mazowieckie"," ciechanowski "," 10 - 14 ",4329,2234,2095,false,true,true,false]
["Mazowieckie"," ciechanowski "," 15 - 19 ",5030,2623,2407,false,true,true,false]
["Mazowieckie"," ciechanowski "," 20 - 24 ",6168,3176,2992,false,true,true,false]
["Mazowieckie"," ciechanowski "," 25 - 29 ",6895,3610,3285,false,true,true,false]
["Mazowieckie"," ciechanowski "," 30 - 34 ",7031,3790,3241,false,true,true,false]
["Mazowieckie"," ciechanowski "," 35 - 39 ",6580,3442,3138,false,true,true,false]
["Mazowieckie"," ciechanowski "," 40 - 44 ",5878,2994,2884,false,true,true,false]
["Mazowieckie"," ciechanowski "," 45 - 49 ",5533,2756,2777,{"$f":"IFERROR(IF(SEARCH(\" - \",C2564)>0,FALSE,TRUE),TRUE)","v":false},{"$f":"IFERROR(IF(SEARCH(\"65+\",C2564)>0,FALSE,TRUE),TRUE)","v":true},{"$f":"IFERROR(IF(SEARCH(\"70\",C2564)>0,FALSE,TRUE),TRUE)","v":true},{"$f":"AND(G2564:I2564)","v":false}]
["Mazowieckie"," ciechanowski "," 50 - 54 ",6132,3008,3124,false,true,true,false]
["Mazowieckie"," ciechanowski "," 55 - 59 ",7283,3592,3691,false,true,true,false]
["Mazowieckie"," ciechanowski "," 60 - 64 ",6711,3158,3553,false,true,true,false]
["Mazowieckie"," ciechanowski "," 65 - 69 ",4975,2278,2697,false,true,true,false]
["Mazowieckie"," ciechanowski "," 70 i więcej",8453,2939,5514,true,true,false,false]
["Mazowieckie"," ciechanowski ","65+",{"$f":"SUM(D2568:D2569)","v":13428},{"$f":"SUM(E2568:E2569)","v":5217},{"$f":"SUM(F2568:F2569)","v":8211},true,false,true,false]
["Mazowieckie"," garwoliński "," garwoliński ",108765,54012,54753,true,true,true,true]
["Mazowieckie"," garwoliński "," 0 - 4 ",6513,3341,3172,false,true,true,false]
["Mazowieckie"," garwoliński "," 5 - 9 ",6542,3342,3200,false,true,true,false]
["Mazowieckie"," garwoliński "," 10 - 14 ",6099,3126,2973,false,true,true,false]
["Mazowieckie"," garwoliński "," 15 - 19 ",6753,3427,3326,false,true,true,false]
["Mazowieckie"," garwoliński "," 20 - 24 ",8208,4186,4022,false,true,true,false]
["Mazowieckie"," garwoliński "," 25 - 29 ",8403,4392,4011,false,true,true,false]
["Mazowieckie"," garwoliński "," 30 - 34 ",8735,4623,4112,false,true,true,false]
["Mazowieckie"," garwoliński "," 35 - 39 ",8157,4277,3880,false,true,true,false]
["Mazowieckie"," garwoliński "," 40 - 44 ",7376,3834,3542,false,true,true,false]
["Mazowieckie"," garwoliński "," 45 - 49 ",6437,3292,3145,false,true,true,false]
["Mazowieckie"," garwoliński "," 50 - 54 ",6491,3302,3189,false,true,true,false]
["Mazowieckie"," garwoliński "," 55 - 59 ",7196,3684,3512,false,true,true,false]
["Mazowieckie"," garwoliński "," 60 - 64 ",6491,3157,3334,false,true,true,false]
["Mazowieckie"," garwoliński "," 65 - 69 ",4988,2273,2715,false,true,true,false]
["Mazowieckie"," garwoliński "," 70 i więcej",10376,3756,6620,true,true,false,false]
["Mazowieckie"," garwoliński ","65+",{"$f":"SUM(D2585:D2586)","v":15364},{"$f":"SUM(E2585:E2586)","v":6029},{"$f":"SUM(F2585:F2586)","v":9335},true,false,true,false]
["Mazowieckie"," gostyniński "," gostyniński ",45869,22325,23544,true,true,true,true]
["Mazowieckie"," gostyniński "," 0 - 4 ",1967,985,982,false,true,true,false]
["Mazowieckie"," gostyniński "," 5 - 9 ",2314,1216,1098,false,true,true,false]
["Mazowieckie"," gostyniński "," 10 - 14 ",2122,1107,1015,false,true,true,false]
["Mazowieckie"," gostyniński "," 15 - 19 ",2518,1314,1204,false,true,true,false]
["Mazowieckie"," gostyniński "," 20 - 24 ",3066,1587,1479,false,true,true,false]
["Mazowieckie"," gostyniński "," 25 - 29 ",3253,1661,1592,false,true,true,false]
["Mazowieckie"," gostyniński "," 30 - 34 ",3530,1846,1684,false,true,true,false]
["Mazowieckie"," gostyniński "," 35 - 39 ",3341,1756,1585,false,true,true,false]
["Mazowieckie"," gostyniński "," 40 - 44 ",3334,1719,1615,false,true,true,false]
["Mazowieckie"," gostyniński "," 45 - 49 ",2894,1450,1444,false,true,true,false]
["Mazowieckie"," gostyniński "," 50 - 54 ",2935,1430,1505,false,true,true,false]
["Mazowieckie"," gostyniński "," 55 - 59 ",3576,1719,1857,false,true,true,false]
["Mazowieckie"," gostyniński "," 60 - 64 ",3233,1539,1694,false,true,true,false]
["Mazowieckie"," gostyniński "," 65 - 69 ",2850,1249,1601,false,true,true,false]
["Mazowieckie"," gostyniński "," 70 i więcej",4936,1747,3189,true,true,false,false]
["Mazowieckie"," gostyniński ","65+",{"$f":"SUM(D2602:D2603)","v":7786},{"$f":"SUM(E2602:E2603)","v":2996},{"$f":"SUM(F2602:F2603)","v":4790},true,false,true,false]
["Mazowieckie"," grodziski "," grodziski ",91289,43731,47558,true,true,true,true]
["Mazowieckie"," grodziski "," 0 - 4 ",5080,2618,2462,false,true,true,false]
["Mazowieckie"," grodziski "," 5 - 9 ",6028,3121,2907,false,true,true,false]
["Mazowieckie"," grodziski "," 10 - 14 ",4862,2565,2297,false,true,true,false]
["Mazowieckie"," grodziski "," 15 - 19 ",4715,2386,2329,false,true,true,false]
["Mazowieckie"," grodziski "," 20 - 24 ",5069,2589,2480,false,true,true,false]
["Mazowieckie"," grodziski "," 25 - 29 ",5554,2806,2748,false,true,true,false]
["Mazowieckie"," grodziski "," 30 - 34 ",7135,3452,3683,false,true,true,false]
["Mazowieckie"," grodziski "," 35 - 39 ",7939,3810,4129,false,true,true,false]
["Mazowieckie"," grodziski "," 40 - 44 ",7444,3635,3809,false,true,true,false]
["Mazowieckie"," grodziski "," 45 - 49 ",5838,2893,2945,false,true,true,false]
["Mazowieckie",{"$f":"IF(C2615=\"65+\",C2616,B2615)","v":" grodziski "}," 50 - 54 ",5277,2580,2697,false,true,true,false]
["Mazowieckie"," grodziski "," 55 - 59 ",6176,2923,3253,false,true,true,false]
["Mazowieckie"," grodziski "," 60 - 64 ",6428,3003,3425,false,true,true,false]
["Mazowieckie"," grodziski "," 65 - 69 ",4875,2145,2730,false,true,true,false]
["Mazowieckie"," grodziski "," 70 i więcej",8869,3205,5664,true,true,false,false]
["Mazowieckie"," grodziski ","65+",{"$f":"SUM(D2619:D2620)","v":13744},{"$f":"SUM(E2619:E2620)","v":5350},{"$f":"SUM(F2619:F2620)","v":8394},true,false,true,false]
["Mazowieckie"," grójecki "," grójecki ",98551,48480,50071,true,true,true,true]
["Mazowieckie"," grójecki "," 0 - 4 ",5134,2643,2491,false,true,true,false]
["Mazowieckie"," grójecki "," 5 - 9 ",5501,2823,2678,false,true,true,false]
["Mazowieckie"," grójecki "," 10 - 14 ",5015,2601,2414,false,true,true,false]
["Mazowieckie"," grójecki "," 15 - 19 ",5076,2698,2378,false,true,true,false]
["Mazowieckie"," grójecki "," 20 - 24 ",6437,3283,3154,false,true,true,false]
["Mazowieckie"," grójecki "," 25 - 29 ",6687,3391,3296,{"$f":"IFERROR(IF(SEARCH(\" - \",C2628)>0,FALSE,TRUE),TRUE)","v":false},{"$f":"IFERROR(IF(SEARCH(\"65+\",C2628)>0,FALSE,TRUE),TRUE)","v":true},{"$f":"IFERROR(IF(SEARCH(\"70\",C2628)>0,FALSE,TRUE),TRUE)","v":true},{"$f":"AND(G2628:I2628)","v":false}]
["Mazowieckie"," grójecki "," 30 - 34 ",7715,3977,3738,false,true,true,false]
["Mazowieckie"," grójecki "," 35 - 39 ",7875,4049,3826,false,true,true,false]
["Mazowieckie"," grójecki "," 40 - 44 ",7180,3761,3419,false,true,true,false]
["Mazowieckie"," grójecki "," 45 - 49 ",6000,3027,2973,false,true,true,false]
["Mazowieckie"," grójecki "," 50 - 54 ",5930,2971,2959,false,true,true,false]
["Mazowieckie"," grójecki "," 55 - 59 ",7186,3552,3634,false,true,true,false]
["Mazowieckie"," grójecki "," 60 - 64 ",7233,3504,3729,false,true,true,false]
["Mazowieckie"," grójecki "," 65 - 69 ",5350,2484,2866,false,true,true,false]
["Mazowieckie"," grójecki "," 70 i więcej",10232,3716,6516,true,true,false,false]
["Mazowieckie"," grójecki ","65+",{"$f":"SUM(D2636:D2637)","v":15582},{"$f":"SUM(E2636:E2637)","v":6200},{"$f":"SUM(F2636:F2637)","v":9382},true,false,true,false]
["Mazowieckie"," kozienicki "," kozienicki ",61128,30388,30740,true,true,true,true]
["Mazowieckie"," kozienicki "," 0 - 4 ",2876,1468,1408,false,true,true,false]
["Mazowieckie"," kozienicki "," 5 - 9 ",3082,1587,1495,false,true,true,false]
["Mazowieckie"," kozienicki "," 10 - 14 ",2924,1515,1409,false,true,true,false]
["Mazowieckie"," kozienicki "," 15 - 19 ",3348,1755,1593,false,true,true,false]
["Mazowieckie"," kozienicki "," 20 - 24 ",4367,2223,2144,false,true,true,false]
["Mazowieckie"," kozienicki "," 25 - 29 ",4462,2383,2079,false,true,true,false]
["Mazowieckie"," kozienicki "," 30 - 34 ",4738,2541,2197,false,true,true,false]
["Mazowieckie"," kozienicki "," 35 - 39 ",4503,2422,2081,false,true,true,false]
["Mazowieckie"," kozienicki "," 40 - 44 ",4152,2151,2001,false,true,true,false]
["Mazowieckie"," kozienicki "," 45 - 49 ",3633,1860,1773,false,true,true,false]
["Mazowieckie"," kozienicki "," 50 - 54 ",3651,1829,1822,false,true,true,false]
["Mazowieckie"," kozienicki "," 55 - 59 ",4742,2350,2392,false,true,true,false]
["Mazowieckie"," kozienicki "," 60 - 64 ",4947,2376,2571,false,true,true,false]
["Mazowieckie"," kozienicki "," 65 - 69 ",3606,1721,1885,false,true,true,false]
["Mazowieckie"," kozienicki "," 70 i więcej",6097,2207,3890,true,true,false,false]
["Mazowieckie"," kozienicki ","65+",{"$f":"SUM(D2653:D2654)","v":9703},{"$f":"SUM(E2653:E2654)","v":3928},{"$f":"SUM(F2653:F2654)","v":5775},true,false,true,false]
["Mazowieckie"," legionowski "," legionowski ",113842,54916,58926,true,true,true,true]
["Mazowieckie"," legionowski "," 0 - 4 ",6243,3221,3022,false,true,true,false]
["Mazowieckie"," legionowski "," 5 - 9 ",7887,4059,3828,false,true,true,false]
["Mazowieckie"," legionowski "," 10 - 14 ",6245,3262,2983,false,true,true,false]
["Mazowieckie"," legionowski "," 15 - 19 ",5808,2986,2822,false,true,true,false]
["Mazowieckie"," legionowski "," 20 - 24 ",5847,3040,2807,false,true,true,false]
["Mazowieckie"," legionowski "," 25 - 29 ",6698,3403,3295,false,true,true,false]
["Mazowieckie"," legionowski "," 30 - 34 ",9343,4554,4789,false,true,true,false]
["Mazowieckie"," legionowski "," 35 - 39 ",11470,5503,5967,false,true,true,false]
["Mazowieckie"," legionowski "," 40 - 44 ",9830,4877,4953,false,true,true,false]
["Mazowieckie"," legionowski "," 45 - 49 ",6930,3500,3430,false,true,true,false]
["Mazowieckie"," legionowski "," 50 - 54 ",6173,3047,3126,false,true,true,false]
["Mazowieckie"," legionowski "," 55 - 59 ",7108,3264,3844,false,true,true,false]
["Mazowieckie"," legionowski "," 60 - 64 ",8309,3753,4556,false,true,true,false]
["Mazowieckie"," legionowski "," 65 - 69 ",6660,2977,3683,false,true,true,false]
["Mazowieckie"," legionowski "," 70 i więcej",9291,3470,5821,true,true,false,false]
["Mazowieckie"," legionowski ","65+",{"$f":"SUM(D2670:D2671)","v":15951},{"$f":"SUM(E2670:E2671)","v":6447},{"$f":"SUM(F2670:F2671)","v":9504},true,false,true,false]
["Mazowieckie"," lipski "," lipski ",34887,17341,17546,true,true,true,true]
["Mazowieckie"," lipski "," 0 - 4 ",1567,805,762,false,true,true,false]
["Mazowieckie"," lipski "," 5 - 9 ",1652,815,837,false,true,true,false]
["Mazowieckie"," lipski "," 10 - 14 ",1570,783,787,false,true,true,false]
["Mazowieckie"," lipski "," 15 - 19 ",1778,927,851,false,true,true,false]
["Mazowieckie"," lipski "," 20 - 24 ",2443,1274,1169,false,true,true,false]
["Mazowieckie"," lipski "," 25 - 29 ",2531,1419,1112,false,true,true,false]
["Mazowieckie",{"$f":"IF(C2679=\"65+\",C2680,B2679)","v":" lipski "}," 30 - 34 ",2596,1391,1205,false,true,true,false]
["Mazowieckie"," lipski "," 35 - 39 ",2438,1328,1110,false,true,true,false]
["Mazowieckie"," lipski "," 40 - 44 ",2220,1143,1077,false,true,true,false]
["Mazowieckie"," lipski "," 45 - 49 ",2136,1121,1015,false,true,true,false]
["Mazowieckie"," lipski "," 50 - 54 ",2336,1203,1133,false,true,true,false]
["Mazowieckie"," lipski "," 55 - 59 ",2722,1394,1328,false,true,true,false]
["Mazowieckie"," lipski "," 60 - 64 ",2577,1262,1315,false,true,true,false]
["Mazowieckie"," lipski "," 65 - 69 ",2080,964,1116,false,true,true,false]
["Mazowieckie"," lipski "," 70 i więcej",4241,1512,2729,true,true,false,false]
["Mazowieckie"," lipski ","65+",{"$f":"SUM(D2687:D2688)","v":6321},{"$f":"SUM(E2687:E2688)","v":2476},{"$f":"SUM(F2687:F2688)","v":3845},true,false,true,false]
["Mazowieckie"," łosicki "," łosicki ",31628,15765,15863,true,true,true,true]
["Mazowieckie"," łosicki "," 0 - 4 ",1599,816,783,false,true,true,false]
["Mazowieckie"," łosicki "," 5 - 9 ",1672,873,799,{"$f":"IFERROR(IF(SEARCH(\" - \",C2692)>0,FALSE,TRUE),TRUE)","v":false},{"$f":"IFERROR(IF(SEARCH(\"65+\",C2692)>0,FALSE,TRUE),TRUE)","v":true},{"$f":"IFERROR(IF(SEARCH(\"70\",C2692)>0,FALSE,TRUE),TRUE)","v":true},{"$f":"AND(G2692:I2692)","v":false}]
["Mazowieckie"," łosicki "," 10 - 14 ",1508,750,758,false,true,true,false]
["Mazowieckie"," łosicki "," 15 - 19 ",1733,891,842,false,true,true,false]
["Mazowieckie"," łosicki "," 20 - 24 ",2415,1206,1209,false,true,true,false]
["Mazowieckie"," łosicki "," 25 - 29 ",2468,1358,1110,false,true,true,false]
["Mazowieckie"," łosicki "," 30 - 34 ",2344,1261,1083,false,true,true,false]
["Mazowieckie"," łosicki "," 35 - 39 ",2088,1132,956,false,true,true,false]
["Mazowieckie"," łosicki "," 40 - 44 ",1968,1042,926,false,true,true,false]
["Mazowieckie"," łosicki "," 45 - 49 ",1836,961,875,false,true,true,false]
["Mazowieckie"," łosicki "," 50 - 54 ",2036,1053,983,false,true,true,false]
["Mazowieckie"," łosicki "," 55 - 59 ",2304,1184,1120,false,true,true,false]
["Mazowieckie"," łosicki "," 60 - 64 ",2039,1024,1015,false,true,true,false]
["Mazowieckie"," łosicki "," 65 - 69 ",1769,808,961,false,true,true,false]
["Mazowieckie"," łosicki "," 70 i więcej",3849,1406,2443,true,true,false,false]
["Mazowieckie"," łosicki ","65+",{"$f":"SUM(D2704:D2705)","v":5618},{"$f":"SUM(E2704:E2705)","v":2214},{"$f":"SUM(F2704:F2705)","v":3404},true,false,true,false]
["Mazowieckie"," makowski "," makowski ",45845,22829,23016,true,true,true,true]
["Mazowieckie"," makowski "," 0 - 4 ",2343,1205,1138,false,true,true,false]
["Mazowieckie"," makowski "," 5 - 9 ",2505,1254,1251,false,true,true,false]
["Mazowieckie"," makowski "," 10 - 14 ",2437,1229,1208,false,true,true,false]
["Mazowieckie"," makowski "," 15 - 19 ",2668,1395,1273,false,true,true,false]
["Mazowieckie"," makowski "," 20 - 24 ",3415,1749,1666,false,true,true,false]
["Mazowieckie"," makowski "," 25 - 29 ",3383,1793,1590,false,true,true,false]
["Mazowieckie"," makowski "," 30 - 34 ",3467,1852,1615,false,true,true,false]
["Mazowieckie"," makowski "," 35 - 39 ",3196,1705,1491,false,true,true,false]
["Mazowieckie"," makowski "," 40 - 44 ",2861,1513,1348,false,true,true,false]
["Mazowieckie"," makowski "," 45 - 49 ",2788,1457,1331,false,true,true,false]
["Mazowieckie"," makowski "," 50 - 54 ",2958,1504,1454,false,true,true,false]
["Mazowieckie"," makowski "," 55 - 59 ",3363,1729,1634,false,true,true,false]
["Mazowieckie"," makowski "," 60 - 64 ",3154,1560,1594,false,true,true,false]
["Mazowieckie"," makowski "," 65 - 69 ",2506,1179,1327,false,true,true,false]
["Mazowieckie"," makowski "," 70 i więcej",4801,1705,3096,true,true,false,false]
["Mazowieckie"," makowski ","65+",{"$f":"SUM(D2721:D2722)","v":7307},{"$f":"SUM(E2721:E2722)","v":2884},{"$f":"SUM(F2721:F2722)","v":4423},true,false,true,false]
["Mazowieckie"," miński "," miński ",151847,73986,77861,true,true,true,true]
["Mazowieckie"," miński "," 0 - 4 ",8725,4481,4244,false,true,true,false]
["Mazowieckie"," miński "," 5 - 9 ",9510,4830,4680,false,true,true,false]
["Mazowieckie"," miński "," 10 - 14 ",7896,3995,3901,false,true,true,false]
["Mazowieckie"," miński "," 15 - 19 ",8464,4347,4117,false,true,true,false]
["Mazowieckie"," miński "," 20 - 24 ",9432,4793,4639,false,true,true,false]
["Mazowieckie"," miński "," 25 - 29 ",10536,5378,5158,false,true,true,false]
["Mazowieckie"," miński "," 30 - 34 ",12492,6255,6237,false,true,true,false]
["Mazowieckie"," miński "," 35 - 39 ",12643,6392,6251,false,true,true,false]
["Mazowieckie"," miński "," 40 - 44 ",11427,5762,5665,false,true,true,false]
["Mazowieckie"," miński "," 45 - 49 ",9286,4686,4600,false,true,true,false]
["Mazowieckie"," miński "," 50 - 54 ",9047,4536,4511,false,true,true,false]
["Mazowieckie"," miński "," 55 - 59 ",10281,5120,5161,false,true,true,false]
["Mazowieckie"," miński "," 60 - 64 ",9908,4740,5168,false,true,true,false]
["Mazowieckie"," miński "," 65 - 69 ",7500,3402,4098,false,true,true,false]
["Mazowieckie"," miński "," 70 i więcej",14700,5269,9431,true,true,false,false]
["Mazowieckie"," miński ","65+",{"$f":"SUM(D2738:D2739)","v":22200},{"$f":"SUM(E2738:E2739)","v":8671},{"$f":"SUM(F2738:F2739)","v":13529},true,false,true,false]
["Mazowieckie"," mławski "," mławski ",73703,36159,37544,true,true,true,true]
["Mazowieckie"," mławski "," 0 - 4 ",3601,1840,1761,false,true,true,false]
["Mazowieckie"," mławski "," 5 - 9 ",4032,2019,2013,false,true,true,false]
["Mazowieckie",{"$f":"IF(C2743=\"65+\",C2744,B2743)","v":" mławski "}," 10 - 14 ",3687,1869,1818,false,true,true,false]
["Mazowieckie"," mławski "," 15 - 19 ",4419,2254,2165,false,true,true,false]
["Mazowieckie"," mławski "," 20 - 24 ",5459,2828,2631,false,true,true,false]
["Mazowieckie"," mławski "," 25 - 29 ",5603,2895,2708,false,true,true,false]
["Mazowieckie"," mławski "," 30 - 34 ",5871,3062,2809,false,true,true,false]
["Mazowieckie"," mławski "," 35 - 39 ",5338,2795,2543,false,true,true,false]
["Mazowieckie"," mławski "," 40 - 44 ",4902,2550,2352,false,true,true,false]
["Mazowieckie"," mławski "," 45 - 49 ",4647,2399,2248,false,true,true,false]
["Mazowieckie"," mławski "," 50 - 54 ",4844,2434,2410,false,true,true,false]
["Mazowieckie"," mławski "," 55 - 59 ",5432,2752,2680,false,true,true,false]
["Mazowieckie"," mławski "," 60 - 64 ",4714,2227,2487,false,true,true,false]
["Mazowieckie"," mławski "," 65 - 69 ",3856,1703,2153,false,true,true,false]
["Mazowieckie"," mławski "," 70 i więcej",7298,2532,4766,{"$f":"IFERROR(IF(SEARCH(\" - \",C2756)>0,FALSE,TRUE),TRUE)","v":true},{"$f":"IFERROR(IF(SEARCH(\"65+\",C2756)>0,FALSE,TRUE),TRUE)","v":true},{"$f":"IFERROR(IF(SEARCH(\"70\",C2756)>0,FALSE,TRUE),TRUE)","v":false},{"$f":"AND(G2756:I2756)","v":false}]
["Mazowieckie"," mławski ","65+",{"$f":"SUM(D2755:D2756)","v":11154},{"$f":"SUM(E2755:E2756)","v":4235},{"$f":"SUM(F2755:F2756)","v":6919},true,false,true,false]
["Mazowieckie"," nowodworski "," nowodworski ",78843,38589,40254,true,true,true,true]
["Mazowieckie"," nowodworski "," 0 - 4 ",4043,2136,1907,false,true,true,false]
["Mazowieckie"," nowodworski "," 5 - 9 ",4541,2371,2170,false,true,true,false]
["Mazowieckie"," nowodworski "," 10 - 14 ",3880,1938,1942,false,true,true,false]
["Mazowieckie"," nowodworski "," 15 - 19 ",4080,2134,1946,false,true,true,false]
["Mazowieckie"," nowodworski "," 20 - 24 ",4872,2445,2427,false,true,true,false]
["Mazowieckie"," nowodworski "," 25 - 29 ",5595,2886,2709,false,true,true,false]
["Mazowieckie"," nowodworski "," 30 - 34 ",6756,3393,3363,false,true,true,false]
["Mazowieckie"," nowodworski "," 35 - 39 ",6443,3291,3152,false,true,true,false]
["Mazowieckie"," nowodworski "," 40 - 44 ",5869,2989,2880,false,true,true,false]
["Mazowieckie"," nowodworski "," 45 - 49 ",4750,2413,2337,false,true,true,false]
["Mazowieckie"," nowodworski "," 50 - 54 ",4843,2372,2471,false,true,true,false]
["Mazowieckie"," nowodworski "," 55 - 59 ",5978,2913,3065,false,true,true,false]
["Mazowieckie"," nowodworski "," 60 - 64 ",5744,2754,2990,false,true,true,false]
["Mazowieckie"," nowodworski "," 65 - 69 ",4302,1974,2328,false,true,true,false]
["Mazowieckie"," nowodworski "," 70 i więcej",7147,2580,4567,true,true,false,false]
["Mazowieckie"," nowodworski ","65+",{"$f":"SUM(D2772:D2773)","v":11449},{"$f":"SUM(E2772:E2773)","v":4554},{"$f":"SUM(F2772:F2773)","v":6895},true,false,true,false]
["Mazowieckie"," ostrołęcki "," ostrołęcki ",88522,44881,43641,true,true,true,true]
["Mazowieckie"," ostrołęcki "," 0 - 4 ",4762,2471,2291,false,true,true,false]
["Mazowieckie"," ostrołęcki "," 5 - 9 ",5328,2736,2592,false,true,true,false]
["Mazowieckie"," ostrołęcki "," 10 - 14 ",5091,2608,2483,false,true,true,false]
["Mazowieckie"," ostrołęcki "," 15 - 19 ",5614,2990,2624,false,true,true,false]
["Mazowieckie"," ostrołęcki "," 20 - 24 ",7402,3860,3542,false,true,true,false]
["Mazowieckie"," ostrołęcki "," 25 - 29 ",7183,3863,3320,false,true,true,false]
["Mazowieckie"," ostrołęcki "," 30 - 34 ",6875,3626,3249,false,true,true,false]
["Mazowieckie"," ostrołęcki "," 35 - 39 ",6260,3302,2958,false,true,true,false]
["Mazowieckie"," ostrołęcki "," 40 - 44 ",5979,3133,2846,false,true,true,false]
["Mazowieckie"," ostrołęcki "," 45 - 49 ",5938,3120,2818,false,true,true,false]
["Mazowieckie"," ostrołęcki "," 50 - 54 ",6101,3276,2825,false,true,true,false]
["Mazowieckie"," ostrołęcki "," 55 - 59 ",5790,3099,2691,false,true,true,false]
["Mazowieckie"," ostrołęcki "," 60 - 64 ",4642,2386,2256,false,true,true,false]
["Mazowieckie"," ostrołęcki "," 65 - 69 ",3339,1578,1761,false,true,true,false]
["Mazowieckie"," ostrołęcki "," 70 i więcej",8218,2833,5385,true,true,false,false]
["Mazowieckie"," ostrołęcki ","65+",{"$f":"SUM(D2789:D2790)","v":11557},{"$f":"SUM(E2789:E2790)","v":4411},{"$f":"SUM(F2789:F2790)","v":7146},true,false,true,false]
["Mazowieckie"," ostrowski "," ostrowski ",73747,36597,37150,true,true,true,true]
["Mazowieckie"," ostrowski "," 0 - 4 ",3477,1812,1665,false,true,true,false]
["Mazowieckie"," ostrowski "," 5 - 9 ",3909,2023,1886,false,true,true,false]
["Mazowieckie"," ostrowski "," 10 - 14 ",3714,1895,1819,false,true,true,false]
["Mazowieckie"," ostrowski "," 15 - 19 ",4411,2247,2164,false,true,true,false]
["Mazowieckie"," ostrowski "," 20 - 24 ",5361,2681,2680,false,true,true,false]
["Mazowieckie"," ostrowski "," 25 - 29 ",5529,2877,2652,false,true,true,false]
["Mazowieckie"," ostrowski "," 30 - 34 ",5589,2989,2600,false,true,true,false]
["Mazowieckie"," ostrowski "," 35 - 39 ",5246,2809,2437,false,true,true,false]
["Mazowieckie"," ostrowski "," 40 - 44 ",4898,2532,2366,false,true,true,false]
["Mazowieckie"," ostrowski "," 45 - 49 ",4590,2352,2238,false,true,true,false]
["Mazowieckie"," ostrowski "," 50 - 54 ",4721,2445,2276,false,true,true,false]
["Mazowieckie"," ostrowski "," 55 - 59 ",5392,2743,2649,false,true,true,false]
["Mazowieckie"," ostrowski "," 60 - 64 ",4886,2414,2472,false,true,true,false]
["Mazowieckie"," ostrowski "," 65 - 69 ",3743,1690,2053,false,true,true,false]
["Mazowieckie"," ostrowski "," 70 i więcej",8281,3088,5193,true,true,false,false]
["Mazowieckie",{"$f":"IF(C2807=\"65+\",C2808,B2807)","v":" ostrowski "},"65+",{"$f":"SUM(D2806:D2807)","v":12024},{"$f":"SUM(E2806:E2807)","v":4778},{"$f":"SUM(F2806:F2807)","v":7246},true,false,true,false]
["Mazowieckie"," otwocki "," otwocki ",123294,59012,64282,true,true,true,true]
["Mazowieckie"," otwocki "," 0 - 4 ",6631,3400,3231,false,true,true,false]
["Mazowieckie"," otwocki "," 5 - 9 ",7503,3809,3694,false,true,true,false]
["Mazowieckie"," otwocki "," 10 - 14 ",6343,3238,3105,false,true,true,false]
["Mazowieckie"," otwocki "," 15 - 19 ",6056,3134,2922,false,true,true,false]
["Mazowieckie"," otwocki "," 20 - 24 ",7184,3682,3502,false,true,true,false]
["Mazowieckie"," otwocki "," 25 - 29 ",8070,4167,3903,false,true,true,false]
["Mazowieckie"," otwocki "," 30 - 34 ",9600,4751,4849,false,true,true,false]
["Mazowieckie"," otwocki "," 35 - 39 ",10064,4939,5125,false,true,true,false]
["Mazowieckie"," otwocki "," 40 - 44 ",9458,4708,4750,false,true,true,false]
["Mazowieckie"," otwocki "," 45 - 49 ",7855,3871,3984,false,true,true,false]
["Mazowieckie"," otwocki "," 50 - 54 ",7403,3618,3785,{"$f":"IFERROR(IF(SEARCH(\" - \",C2820)>0,FALSE,TRUE),TRUE)","v":false},{"$f":"IFERROR(IF(SEARCH(\"65+\",C2820)>0,FALSE,TRUE),TRUE)","v":true},{"$f":"IFERROR(IF(SEARCH(\"70\",C2820)>0,FALSE,TRUE),TRUE)","v":true},{"$f":"AND(G2820:I2820)","v":false}]
["Mazowieckie"," otwocki "," 55 - 59 ",8679,4134,4545,false,true,true,false]
["Mazowieckie"," otwocki "," 60 - 64 ",8383,3944,4439,false,true,true,false]
["Mazowieckie"," otwocki "," 65 - 69 ",6656,2889,3767,false,true,true,false]
["Mazowieckie"," otwocki "," 70 i więcej",13409,4728,8681,true,true,false,false]
["Mazowieckie"," otwocki ","65+",{"$f":"SUM(D2823:D2824)","v":20065},{"$f":"SUM(E2823:E2824)","v":7617},{"$f":"SUM(F2823:F2824)","v":12448},true,false,true,false]
["Mazowieckie"," piaseczyński "," piaseczyński ",178449,85425,93024,true,true,true,true]
["Mazowieckie"," piaseczyński "," 0 - 4 ",10592,5448,5144,false,true,true,false]
["Mazowieckie"," piaseczyński "," 5 - 9 ",12630,6475,6155,false,true,true,false]
["Mazowieckie"," piaseczyński "," 10 - 14 ",10451,5292,5159,false,true,true,false]
["Mazowieckie"," piaseczyński "," 15 - 19 ",8995,4609,4386,false,true,true,false]
["Mazowieckie"," piaseczyński "," 20 - 24 ",9317,4684,4633,false,true,true,false]
["Mazowieckie"," piaseczyński "," 25 - 29 ",10528,5208,5320,false,true,true,false]
["Mazowieckie"," piaseczyński "," 30 - 34 ",14532,6917,7615,false,true,true,false]
["Mazowieckie"," piaseczyński "," 35 - 39 ",17175,8131,9044,false,true,true,false]
["Mazowieckie"," piaseczyński "," 40 - 44 ",16176,7843,8333,false,true,true,false]
["Mazowieckie"," piaseczyński "," 45 - 49 ",11909,5946,5963,false,true,true,false]
["Mazowieckie"," piaseczyński "," 50 - 54 ",9797,4809,4988,false,true,true,false]
["Mazowieckie"," piaseczyński "," 55 - 59 ",10940,5192,5748,false,true,true,false]
["Mazowieckie"," piaseczyński "," 60 - 64 ",11259,5170,6089,false,true,true,false]
["Mazowieckie"," piaseczyński "," 65 - 69 ",9032,3982,5050,false,true,true,false]
["Mazowieckie"," piaseczyński "," 70 i więcej",15116,5719,9397,true,true,false,false]
["Mazowieckie"," piaseczyński ","65+",{"$f":"SUM(D2840:D2841)","v":24148},{"$f":"SUM(E2840:E2841)","v":9701},{"$f":"SUM(F2840:F2841)","v":14447},true,false,true,false]
["Mazowieckie"," płocki "," płocki ",111103,55148,55955,true,true,true,true]
["Mazowieckie"," płocki "," 0 - 4 ",5215,2659,2556,false,true,true,false]
["Mazowieckie"," płocki "," 5 - 9 ",6163,3132,3031,false,true,true,false]
["Mazowieckie"," płocki "," 10 - 14 ",5910,3064,2846,false,true,true,false]
["Mazowieckie"," płocki "," 15 - 19 ",6557,3424,3133,false,true,true,false]
["Mazowieckie"," płocki "," 20 - 24 ",8354,4300,4054,false,true,true,false]
["Mazowieckie"," płocki "," 25 - 29 ",8257,4277,3980,false,true,true,false]
["Mazowieckie"," płocki "," 30 - 34 ",8372,4403,3969,false,true,true,false]
["Mazowieckie"," płocki "," 35 - 39 ",8446,4376,4070,false,true,true,false]
["Mazowieckie"," płocki "," 40 - 44 ",8501,4422,4079,false,true,true,false]
["Mazowieckie"," płocki "," 45 - 49 ",7692,3898,3794,false,true,true,false]
["Mazowieckie"," płocki "," 50 - 54 ",7089,3603,3486,false,true,true,false]
["Mazowieckie"," płocki "," 55 - 59 ",7410,3798,3612,false,true,true,false]
["Mazowieckie"," płocki "," 60 - 64 ",6854,3370,3484,false,true,true,false]
["Mazowieckie"," płocki "," 65 - 69 ",5812,2649,3163,false,true,true,false]
["Mazowieckie"," płocki "," 70 i więcej",10471,3773,6698,true,true,false,false]
["Mazowieckie"," płocki ","65+",{"$f":"SUM(D2857:D2858)","v":16283},{"$f":"SUM(E2857:E2858)","v":6422},{"$f":"SUM(F2857:F2858)","v":9861},true,false,true,false]
["Mazowieckie"," płoński "," płoński ",88062,43416,44646,true,true,true,true]
["Mazowieckie"," płoński "," 0 - 4 ",4259,2161,2098,false,true,true,false]
["Mazowieckie"," płoński "," 5 - 9 ",4819,2443,2376,false,true,true,false]
["Mazowieckie"," płoński "," 10 - 14 ",4513,2355,2158,false,true,true,false]
["Mazowieckie"," płoński "," 15 - 19 ",5085,2654,2431,false,true,true,false]
["Mazowieckie"," płoński "," 20 - 24 ",6140,3103,3037,false,true,true,false]
["Mazowieckie"," płoński "," 25 - 29 ",6317,3268,3049,false,true,true,false]
["Mazowieckie"," płoński "," 30 - 34 ",6878,3621,3257,false,true,true,false]
["Mazowieckie"," płoński "," 35 - 39 ",6720,3589,3131,false,true,true,false]
["Mazowieckie"," płoński "," 40 - 44 ",6142,3163,2979,false,true,true,false]
["Mazowieckie"," płoński "," 45 - 49 ",5430,2793,2637,false,true,true,false]
["Mazowieckie"," płoński "," 50 - 54 ",5606,2811,2795,false,true,true,false]
["Mazowieckie",{"$f":"IF(C2871=\"65+\",C2872,B2871)","v":" płoński "}," 55 - 59 ",6402,3200,3202,false,true,true,false]
["Mazowieckie"," płoński "," 60 - 64 ",6177,2925,3252,false,true,true,false]
["Mazowieckie"," płoński "," 65 - 69 ",4826,2199,2627,false,true,true,false]
["Mazowieckie"," płoński "," 70 i więcej",8748,3131,5617,true,true,false,false]
["Mazowieckie"," płoński ","65+",{"$f":"SUM(D2874:D2875)","v":13574},{"$f":"SUM(E2874:E2875)","v":5330},{"$f":"SUM(F2874:F2875)","v":8244},true,false,true,false]
["Mazowieckie"," pruszkowski "," pruszkowski ",161319,76704,84615,true,true,true,true]
["Mazowieckie"," pruszkowski "," 0 - 4 ",8929,4580,4349,false,true,true,false]
["Mazowieckie"," pruszkowski "," 5 - 9 ",9876,5120,4756,false,true,true,false]
["Mazowieckie"," pruszkowski "," 10 - 14 ",7988,4112,3876,false,true,true,false]
["Mazowieckie"," pruszkowski "," 15 - 19 ",7461,3833,3628,false,true,true,false]
["Mazowieckie"," pruszkowski "," 20 - 24 ",8162,4155,4007,false,true,true,false]
["Mazowieckie"," pruszkowski "," 25 - 29 ",9643,4892,4751,false,true,true,false]
["Mazowieckie"," pruszkowski "," 30 - 34 ",13502,6532,6970,{"$f":"IFERROR(IF(SEARCH(\" - \",C2884)>0,FALSE,TRUE),TRUE)","v":false},{"$f":"IFERROR(IF(SEARCH(\"65+\",C2884)>0,FALSE,TRUE),TRUE)","v":true},{"$f":"IFERROR(IF(SEARCH(\"70\",C2884)>0,FALSE,TRUE),TRUE)","v":true},{"$f":"AND(G2884:I2884)","v":false}]
["Mazowieckie"," pruszkowski "," 35 - 39 ",14615,7040,7575,false,true,true,false]
["Mazowieckie"," pruszkowski "," 40 - 44 ",13082,6393,6689,false,true,true,false]
["Mazowieckie"," pruszkowski "," 45 - 49 ",10260,5058,5202,false,true,true,false]
["Mazowieckie"," pruszkowski "," 50 - 54 ",9205,4432,4773,false,true,true,false]
["Mazowieckie"," pruszkowski "," 55 - 59 ",10834,5036,5798,false,true,true,false]
["Mazowieckie"," pruszkowski "," 60 - 64 ",11437,5132,6305,false,true,true,false]
["Mazowieckie"," pruszkowski "," 65 - 69 ",9249,3998,5251,false,true,true,false]
["Mazowieckie"," pruszkowski "," 70 i więcej",17076,6391,10685,true,true,false,false]
["Mazowieckie"," pruszkowski ","65+",{"$f":"SUM(D2891:D2892)","v":26325},{"$f":"SUM(E2891:E2892)","v":10389},{"$f":"SUM(F2891:F2892)","v":15936},true,false,true,false]
["Mazowieckie"," przasnyski "," przasnyski ",53030,26499,26531,true,true,true,true]
["Mazowieckie"," przasnyski "," 0 - 4 ",2821,1459,1362,false,true,true,false]
["Mazowieckie"," przasnyski "," 5 - 9 ",3103,1576,1527,false,true,true,false]
["Mazowieckie"," przasnyski "," 10 - 14 ",2917,1440,1477,false,true,true,false]
["Mazowieckie"," przasnyski "," 15 - 19 ",3155,1613,1542,false,true,true,false]
["Mazowieckie"," przasnyski "," 20 - 24 ",3861,1981,1880,false,true,true,false]
["Mazowieckie"," przasnyski "," 25 - 29 ",4082,2222,1860,false,true,true,false]
["Mazowieckie"," przasnyski "," 30 - 34 ",4078,2142,1936,false,true,true,false]
["Mazowieckie"," przasnyski "," 35 - 39 ",3767,2017,1750,false,true,true,false]
["Mazowieckie"," przasnyski "," 40 - 44 ",3467,1858,1609,false,true,true,false]
["Mazowieckie"," przasnyski "," 45 - 49 ",3231,1712,1519,false,true,true,false]
["Mazowieckie"," przasnyski "," 50 - 54 ",3507,1828,1679,false,true,true,false]
["Mazowieckie"," przasnyski "," 55 - 59 ",3789,1926,1863,false,true,true,false]
["Mazowieckie"," przasnyski "," 60 - 64 ",3427,1692,1735,false,true,true,false]
["Mazowieckie"," przasnyski "," 65 - 69 ",2637,1223,1414,false,true,true,false]
["Mazowieckie"," przasnyski "," 70 i więcej",5188,1810,3378,true,true,false,false]
["Mazowieckie"," przasnyski ","65+",{"$f":"SUM(D2908:D2909)","v":7825},{"$f":"SUM(E2908:E2909)","v":3033},{"$f":"SUM(F2908:F2909)","v":4792},true,false,true,false]
["Mazowieckie"," przysuski "," przysuski ",42395,21058,21337,true,true,true,true]
["Mazowieckie"," przysuski "," 0 - 4 ",1935,976,959,false,true,true,false]
["Mazowieckie"," przysuski "," 5 - 9 ",2027,1044,983,false,true,true,false]
["Mazowieckie"," przysuski "," 10 - 14 ",2030,1014,1016,false,true,true,false]
["Mazowieckie"," przysuski "," 15 - 19 ",2716,1348,1368,false,true,true,false]
["Mazowieckie"," przysuski "," 20 - 24 ",3115,1622,1493,false,true,true,false]
["Mazowieckie"," przysuski "," 25 - 29 ",3181,1693,1488,false,true,true,false]
["Mazowieckie"," przysuski "," 30 - 34 ",3174,1713,1461,false,true,true,false]
["Mazowieckie"," przysuski "," 35 - 39 ",2901,1587,1314,false,true,true,false]
["Mazowieckie"," przysuski "," 40 - 44 ",2760,1471,1289,false,true,true,false]
["Mazowieckie"," przysuski "," 45 - 49 ",2595,1340,1255,false,true,true,false]
["Mazowieckie"," przysuski "," 50 - 54 ",2842,1497,1345,false,true,true,false]
["Mazowieckie"," przysuski "," 55 - 59 ",3154,1672,1482,false,true,true,false]
["Mazowieckie"," przysuski "," 60 - 64 ",2686,1364,1322,false,true,true,false]
["Mazowieckie"," przysuski "," 65 - 69 ",2148,978,1170,false,true,true,false]
["Mazowieckie"," przysuski "," 70 i więcej",5131,1739,3392,true,true,false,false]
["Mazowieckie"," przysuski ","65+",{"$f":"SUM(D2925:D2926)","v":7279},{"$f":"SUM(E2925:E2926)","v":2717},{"$f":"SUM(F2925:F2926)","v":4562},true,false,true,false]
["Mazowieckie"," pułtuski "," pułtuski ",51584,25498,26086,true,true,true,true]
["Mazowieckie"," pułtuski "," 0 - 4 ",2731,1423,1308,false,true,true,false]
["Mazowieckie"," pułtuski "," 5 - 9 ",2866,1491,1375,false,true,true,false]
["Mazowieckie"," pułtuski "," 10 - 14 ",2673,1350,1323,false,true,true,false]
["Mazowieckie"," pułtuski "," 15 - 19 ",3006,1550,1456,false,true,true,false]
["Mazowieckie"," pułtuski "," 20 - 24 ",3760,1849,1911,false,true,true,false]
["Mazowieckie"," pułtuski "," 25 - 29 ",3913,2027,1886,false,true,true,false]
["Mazowieckie"," pułtuski "," 30 - 34 ",4054,2107,1947,false,true,true,false]
["Mazowieckie",{"$f":"IF(C2935=\"65+\",C2936,B2935)","v":" pułtuski "}," 35 - 39 ",3953,2053,1900,false,true,true,false]
["Mazowieckie"," pułtuski "," 40 - 44 ",3589,1876,1713,false,true,true,false]
["Mazowieckie"," pułtuski "," 45 - 49 ",3127,1640,1487,false,true,true,false]
["Mazowieckie"," pułtuski "," 50 - 54 ",3171,1616,1555,false,true,true,false]
["Mazowieckie"," pułtuski "," 55 - 59 ",3745,1884,1861,false,true,true,false]
["Mazowieckie"," pułtuski "," 60 - 64 ",3330,1599,1731,false,true,true,false]
["Mazowieckie"," pułtuski "," 65 - 69 ",2741,1248,1493,false,true,true,false]
["Mazowieckie"," pułtuski "," 70 i więcej",4925,1785,3140,true,true,false,false]
["Mazowieckie"," pułtuski ","65+",{"$f":"SUM(D2942:D2943)","v":7666},{"$f":"SUM(E2942:E2943)","v":3033},{"$f":"SUM(F2942:F2943)","v":4633},true,false,true,false]
["Mazowieckie"," radomski "," radomski ",151453,75462,75991,true,true,true,true]
["Mazowieckie"," radomski "," 0 - 4 ",7919,4131,3788,false,true,true,false]
["Mazowieckie"," radomski "," 5 - 9 ",9044,4636,4408,false,true,true,false]
["Mazowieckie"," radomski "," 10 - 14 ",8463,4355,4108,{"$f":"IFERROR(IF(SEARCH(\" - \",C2948)>0,FALSE,TRUE),TRUE)","v":false},{"$f":"IFERROR(IF(SEARCH(\"65+\",C2948)>0,FALSE,TRUE),TRUE)","v":true},{"$f":"IFERROR(IF(SEARCH(\"70\",C2948)>0,FALSE,TRUE),TRUE)","v":true},{"$f":"AND(G2948:I2948)","v":false}]
["Mazowieckie"," radomski "," 15 - 19 ",9489,4893,4596,false,true,true,false]
["Mazowieckie"," radomski "," 20 - 24 ",11277,5743,5534,false,true,true,false]
["Mazowieckie"," radomski "," 25 - 29 ",11785,6187,5598,false,true,true,false]
["Mazowieckie"," radomski "," 30 - 34 ",12560,6554,6006,false,true,true,false]
["Mazowieckie"," radomski "," 35 - 39 ",11801,6196,5605,false,true,true,false]
["Mazowieckie"," radomski "," 40 - 44 ",10892,5655,5237,false,true,true,false]
["Mazowieckie"," radomski "," 45 - 49 ",9266,4749,4517,false,true,true,false]
["Mazowieckie"," radomski "," 50 - 54 ",9060,4598,4462,false,true,true,false]
["Mazowieckie"," radomski "," 55 - 59 ",10275,5176,5099,false,true,true,false]
["Mazowieckie"," radomski "," 60 - 64 ",9771,4712,5059,false,true,true,false]
["Mazowieckie"," radomski "," 65 - 69 ",7025,3301,3724,false,true,true,false]
["Mazowieckie"," radomski "," 70 i więcej",12826,4576,8250,true,true,false,false]
["Mazowieckie"," radomski ","65+",{"$f":"SUM(D2959:D2960)","v":19851},{"$f":"SUM(E2959:E2960)","v":7877},{"$f":"SUM(F2959:F2960)","v":11974},true,false,true,false]
["Mazowieckie"," siedlecki "," siedlecki ",81449,40975,40474,true,true,true,true]
["Mazowieckie"," siedlecki "," 0 - 4 ",4388,2234,2154,false,true,true,false]
["Mazowieckie"," siedlecki "," 5 - 9 ",4604,2352,2252,false,true,true,false]
["Mazowieckie"," siedlecki "," 10 - 14 ",4428,2254,2174,false,true,true,false]
["Mazowieckie"," siedlecki "," 15 - 19 ",5177,2710,2467,false,true,true,false]
["Mazowieckie"," siedlecki "," 20 - 24 ",6340,3260,3080,false,true,true,false]
["Mazowieckie"," siedlecki "," 25 - 29 ",6393,3365,3028,false,true,true,false]
["Mazowieckie"," siedlecki "," 30 - 34 ",6106,3274,2832,false,true,true,false]
["Mazowieckie"," siedlecki "," 35 - 39 ",5867,3092,2775,false,true,true,false]
["Mazowieckie"," siedlecki "," 40 - 44 ",5510,2950,2560,false,true,true,false]
["Mazowieckie"," siedlecki "," 45 - 49 ",5057,2615,2442,false,true,true,false]
["Mazowieckie"," siedlecki "," 50 - 54 ",5173,2722,2451,false,true,true,false]
["Mazowieckie"," siedlecki "," 55 - 59 ",5161,2720,2441,false,true,true,false]
["Mazowieckie"," siedlecki "," 60 - 64 ",4870,2478,2392,false,true,true,false]
["Mazowieckie"," siedlecki "," 65 - 69 ",3700,1738,1962,false,true,true,false]
["Mazowieckie"," siedlecki "," 70 i więcej",8675,3211,5464,true,true,false,false]
["Mazowieckie"," siedlecki ","65+",{"$f":"SUM(D2976:D2977)","v":12375},{"$f":"SUM(E2976:E2977)","v":4949},{"$f":"SUM(F2976:F2977)","v":7426},true,false,true,false]
["Mazowieckie"," sierpecki "," sierpecki ",52776,25898,26878,true,true,true,true]
["Mazowieckie"," sierpecki "," 0 - 4 ",2515,1264,1251,false,true,true,false]
["Mazowieckie"," sierpecki "," 5 - 9 ",2778,1371,1407,false,true,true,false]
["Mazowieckie"," sierpecki "," 10 - 14 ",2736,1429,1307,false,true,true,false]
["Mazowieckie"," sierpecki "," 15 - 19 ",3320,1699,1621,false,true,true,false]
["Mazowieckie"," sierpecki "," 20 - 24 ",3914,2022,1892,false,true,true,false]
["Mazowieckie"," sierpecki "," 25 - 29 ",4099,2105,1994,false,true,true,false]
["Mazowieckie"," sierpecki "," 30 - 34 ",3881,2062,1819,false,true,true,false]
["Mazowieckie"," sierpecki "," 35 - 39 ",3822,2013,1809,false,true,true,false]
["Mazowieckie"," sierpecki "," 40 - 44 ",3479,1785,1694,false,true,true,false]
["Mazowieckie"," sierpecki "," 45 - 49 ",3493,1776,1717,false,true,true,false]
["Mazowieckie"," sierpecki "," 50 - 54 ",3539,1796,1743,false,true,true,false]
["Mazowieckie"," sierpecki "," 55 - 59 ",3850,1967,1883,false,true,true,false]
["Mazowieckie"," sierpecki "," 60 - 64 ",3387,1644,1743,false,true,true,false]
["Mazowieckie"," sierpecki "," 65 - 69 ",2713,1206,1507,false,true,true,false]
["Mazowieckie"," sierpecki "," 70 i więcej",5250,1759,3491,true,true,false,false]
["Mazowieckie"," sierpecki ","65+",{"$f":"SUM(D2993:D2994)","v":7963},{"$f":"SUM(E2993:E2994)","v":2965},{"$f":"SUM(F2993:F2994)","v":4998},true,false,true,false]
["Mazowieckie"," sochaczewski "," sochaczewski ",85158,41421,43737,true,true,true,true]
["Mazowieckie"," sochaczewski "," 0 - 4 ",4415,2276,2139,false,true,true,false]
["Mazowieckie"," sochaczewski "," 5 - 9 ",4798,2407,2391,false,true,true,false]
["Mazowieckie"," sochaczewski "," 10 - 14 ",4211,2170,2041,false,true,true,false]
["Mazowieckie",{"$f":"IF(C2999=\"65+\",C3000,B2999)","v":" sochaczewski "}," 15 - 19 ",4501,2289,2212,false,true,true,false]
["Mazowieckie"," sochaczewski "," 20 - 24 ",5409,2724,2685,false,true,true,false]
["Mazowieckie"," sochaczewski "," 25 - 29 ",6281,3228,3053,false,true,true,false]
["Mazowieckie"," sochaczewski "," 30 - 34 ",6899,3532,3367,false,true,true,false]
["Mazowieckie"," sochaczewski "," 35 - 39 ",6731,3443,3288,false,true,true,false]
["Mazowieckie"," sochaczewski "," 40 - 44 ",6011,3106,2905,false,true,true,false]
["Mazowieckie"," sochaczewski "," 45 - 49 ",5287,2680,2607,false,true,true,false]
["Mazowieckie"," sochaczewski "," 50 - 54 ",5289,2576,2713,false,true,true,false]
["Mazowieckie"," sochaczewski "," 55 - 59 ",6429,3119,3310,false,true,true,false]
["Mazowieckie"," sochaczewski "," 60 - 64 ",5894,2760,3134,false,true,true,false]
["Mazowieckie"," sochaczewski "," 65 - 69 ",4558,2023,2535,false,true,true,false]
["Mazowieckie"," sochaczewski "," 70 i więcej",8445,3088,5357,true,true,false,false]
["Mazowieckie"," sochaczewski ","65+",{"$f":"SUM(D3010:D3011)","v":13003},{"$f":"SUM(E3010:E3011)","v":5111},{"$f":"SUM(F3010:F3011)","v":7892},{"$f":"IFERROR(IF(SEARCH(\" - \",C3012)>0,FALSE,TRUE),TRUE)","v":true},{"$f":"IFERROR(IF(SEARCH(\"65+\",C3012)>0,FALSE,TRUE),TRUE)","v":false},{"$f":"IFERROR(IF(SEARCH(\"70\",C3012)>0,FALSE,TRUE),TRUE)","v":true},{"$f":"AND(G3012:I3012)","v":false}]
["Mazowieckie"," sokołowski "," sokołowski ",54965,27225,27740,true,true,true,true]
["Mazowieckie"," sokołowski "," 0 - 4 ",2603,1328,1275,false,true,true,false]
["Mazowieckie"," sokołowski "," 5 - 9 ",2735,1360,1375,false,true,true,false]
["Mazowieckie"," sokołowski "," 10 - 14 ",2538,1332,1206,false,true,true,false]
["Mazowieckie"," sokołowski "," 15 - 19 ",3099,1576,1523,false,true,true,false]
["Mazowieckie"," sokołowski "," 20 - 24 ",3897,2017,1880,false,true,true,false]
["Mazowieckie"," sokołowski "," 25 - 29 ",4041,2085,1956,false,true,true,false]
["Mazowieckie"," sokołowski "," 30 - 34 ",4020,2219,1801,false,true,true,false]
["Mazowieckie"," sokołowski "," 35 - 39 ",3694,1980,1714,false,true,true,false]
["Mazowieckie"," sokołowski "," 40 - 44 ",3572,1890,1682,false,true,true,false]
["Mazowieckie"," sokołowski "," 45 - 49 ",3358,1693,1665,false,true,true,false]
["Mazowieckie"," sokołowski "," 50 - 54 ",3534,1776,1758,false,true,true,false]
["Mazowieckie"," sokołowski "," 55 - 59 ",4078,2085,1993,false,true,true,false]
["Mazowieckie"," sokołowski "," 60 - 64 ",3987,1944,2043,false,true,true,false]
["Mazowieckie"," sokołowski "," 65 - 69 ",3023,1404,1619,false,true,true,false]
["Mazowieckie"," sokołowski "," 70 i więcej",6786,2536,4250,true,true,false,false]
["Mazowieckie"," sokołowski ","65+",{"$f":"SUM(D3027:D3028)","v":9809},{"$f":"SUM(E3027:E3028)","v":3940},{"$f":"SUM(F3027:F3028)","v":5869},true,false,true,false]
["Mazowieckie"," szydłowiecki "," szydłowiecki ",40163,20020,20143,true,true,true,true]
["Mazowieckie"," szydłowiecki "," 0 - 4 ",1942,1018,924,false,true,true,false]
["Mazowieckie"," szydłowiecki "," 5 - 9 ",2155,1109,1046,false,true,true,false]
["Mazowieckie"," szydłowiecki "," 10 - 14 ",2068,1063,1005,false,true,true,false]
["Mazowieckie"," szydłowiecki "," 15 - 19 ",2390,1246,1144,false,true,true,false]
["Mazowieckie"," szydłowiecki "," 20 - 24 ",2873,1504,1369,false,true,true,false]
["Mazowieckie"," szydłowiecki "," 25 - 29 ",3006,1625,1381,false,true,true,false]
["Mazowieckie"," szydłowiecki "," 30 - 34 ",3344,1754,1590,false,true,true,false]
["Mazowieckie"," szydłowiecki "," 35 - 39 ",3064,1640,1424,false,true,true,false]
["Mazowieckie"," szydłowiecki "," 40 - 44 ",2917,1520,1397,false,true,true,false]
["Mazowieckie"," szydłowiecki "," 45 - 49 ",2321,1197,1124,false,true,true,false]
["Mazowieckie"," szydłowiecki "," 50 - 54 ",2460,1264,1196,false,true,true,false]
["Mazowieckie"," szydłowiecki "," 55 - 59 ",2866,1497,1369,false,true,true,false]
["Mazowieckie"," szydłowiecki "," 60 - 64 ",2701,1292,1409,false,true,true,false]
["Mazowieckie"," szydłowiecki "," 65 - 69 ",2085,959,1126,false,true,true,false]
["Mazowieckie"," szydłowiecki "," 70 i więcej",3971,1332,2639,true,true,false,false]
["Mazowieckie"," szydłowiecki ","65+",{"$f":"SUM(D3044:D3045)","v":6056},{"$f":"SUM(E3044:E3045)","v":2291},{"$f":"SUM(F3044:F3045)","v":3765},true,false,true,false]
["Mazowieckie"," warszawski zachodni "," warszawski zachodni ",113689,54769,58920,true,true,true,true]
["Mazowieckie"," warszawski zachodni "," 0 - 4 ",5739,2889,2850,false,true,true,false]
["Mazowieckie"," warszawski zachodni "," 5 - 9 ",7340,3738,3602,false,true,true,false]
["Mazowieckie"," warszawski zachodni "," 10 - 14 ",6206,3207,2999,false,true,true,false]
["Mazowieckie"," warszawski zachodni "," 15 - 19 ",5893,3057,2836,false,true,true,false]
["Mazowieckie"," warszawski zachodni "," 20 - 24 ",6349,3233,3116,false,true,true,false]
["Mazowieckie"," warszawski zachodni "," 25 - 29 ",7142,3620,3522,false,true,true,false]
["Mazowieckie"," warszawski zachodni "," 30 - 34 ",8551,4224,4327,false,true,true,false]
["Mazowieckie"," warszawski zachodni "," 35 - 39 ",9614,4621,4993,false,true,true,false]
["Mazowieckie"," warszawski zachodni "," 40 - 44 ",9375,4669,4706,false,true,true,false]
["Mazowieckie"," warszawski zachodni "," 45 - 49 ",7489,3687,3802,false,true,true,false]
["Mazowieckie"," warszawski zachodni "," 50 - 54 ",6812,3356,3456,false,true,true,false]
["Mazowieckie"," warszawski zachodni "," 55 - 59 ",8101,3828,4273,false,true,true,false]
["Mazowieckie"," warszawski zachodni "," 60 - 64 ",8052,3767,4285,false,true,true,false]
["Mazowieckie"," warszawski zachodni "," 65 - 69 ",6308,2845,3463,false,true,true,false]
["Mazowieckie"," warszawski zachodni "," 70 i więcej",10718,4028,6690,true,true,false,false]
["Mazowieckie"," warszawski zachodni ","65+",{"$f":"SUM(D3061:D3062)","v":17026},{"$f":"SUM(E3061:E3062)","v":6873},{"$f":"SUM(F3061:F3062)","v":10153},true,false,true,false]
["Mazowieckie",{"$f":"IF(C3063=\"65+\",C3064,B3063)","v":" węgrowski "}," węgrowski ",66907,33415,33492,true,true,true,true]
["Mazowieckie"," węgrowski "," 0 - 4 ",3561,1862,1699,false,true,true,false]
["Mazowieckie"," węgrowski "," 5 - 9 ",3618,1823,1795,false,true,true,false]
["Mazowieckie"," węgrowski "," 10 - 14 ",3272,1666,1606,false,true,true,false]
["Mazowieckie"," węgrowski "," 15 - 19 ",3889,1924,1965,false,true,true,false]
["Mazowieckie"," węgrowski "," 20 - 24 ",4852,2478,2374,false,true,true,false]
["Mazowieckie"," węgrowski "," 25 - 29 ",5080,2692,2388,false,true,true,false]
["Mazowieckie"," węgrowski "," 30 - 34 ",5052,2659,2393,false,true,true,false]
["Mazowieckie"," węgrowski "," 35 - 39 ",4930,2693,2237,false,true,true,false]
["Mazowieckie"," węgrowski "," 40 - 44 ",4471,2441,2030,false,true,true,false]
["Mazowieckie"," węgrowski "," 45 - 49 ",4002,2069,1933,false,true,true,false]
["Mazowieckie"," węgrowski "," 50 - 54 ",4097,2156,1941,false,true,true,false]
["Mazowieckie"," węgrowski "," 55 - 59 ",4571,2316,2255,{"$f":"IFERROR(IF(SEARCH(\" - \",C3076)>0,FALSE,TRUE),TRUE)","v":false},{"$f":"IFERROR(IF(SEARCH(\"65+\",C3076)>0,FALSE,TRUE),TRUE)","v":true},{"$f":"IFERROR(IF(SEARCH(\"70\",C3076)>0,FALSE,TRUE),TRUE)","v":true},{"$f":"AND(G3076:I3076)","v":false}]
["Mazowieckie"," węgrowski "," 60 - 64 ",4614,2305,2309,false,true,true,false]
["Mazowieckie"," węgrowski "," 65 - 69 ",3610,1686,1924,false,true,true,false]
["Mazowieckie"," węgrowski "," 70 i więcej",7288,2645,4643,true,true,false,false]
["Mazowieckie"," węgrowski ","65+",{"$f":"SUM(D3078:D3079)","v":10898},{"$f":"SUM(E3078:E3079)","v":4331},{"$f":"SUM(F3078:F3079)","v":6567},true,false,true,false]
["Mazowieckie"," wołomiński "," wołomiński ",236912,114257,122655,true,true,true,true]
["Mazowieckie"," wołomiński "," 0 - 4 ",14740,7596,7144,false,true,true,false]
["Mazowieckie"," wołomiński "," 5 - 9 ",16178,8298,7880,false,true,true,false]
["Mazowieckie"," wołomiński "," 10 - 14 ",13428,6888,6540,false,true,true,false]
["Mazowieckie"," wołomiński "," 15 - 19 ",12541,6441,6100,false,true,true,false]
["Mazowieckie"," wołomiński "," 20 - 24 ",13994,7062,6932,false,true,true,false]
["Mazowieckie"," wołomiński "," 25 - 29 ",16347,8040,8307,false,true,true,false]
["Mazowieckie"," wołomiński "," 30 - 34 ",20967,10116,10851,false,true,true,false]
["Mazowieckie"," wołomiński "," 35 - 39 ",22219,10765,11454,false,true,true,false]
["Mazowieckie"," wołomiński "," 40 - 44 ",19320,9582,9738,false,true,true,false]
["Mazowieckie"," wołomiński "," 45 - 49 ",14670,7375,7295,false,true,true,false]
["Mazowieckie"," wołomiński "," 50 - 54 ",13330,6619,6711,false,true,true,false]
["Mazowieckie"," wołomiński "," 55 - 59 ",14717,7051,7666,false,true,true,false]
["Mazowieckie"," wołomiński "," 60 - 64 ",14358,6634,7724,false,true,true,false]
["Mazowieckie"," wołomiński "," 65 - 69 ",10776,4766,6010,false,true,true,false]
["Mazowieckie"," wołomiński "," 70 i więcej",19327,7024,12303,true,true,false,false]
["Mazowieckie"," wołomiński ","65+",{"$f":"SUM(D3095:D3096)","v":30103},{"$f":"SUM(E3095:E3096)","v":11790},{"$f":"SUM(F3095:F3096)","v":18313},true,false,true,false]
["Mazowieckie"," wyszkowski "," wyszkowski ",73972,36699,37273,true,true,true,true]
["Mazowieckie"," wyszkowski "," 0 - 4 ",4134,2186,1948,false,true,true,false]
["Mazowieckie"," wyszkowski "," 5 - 9 ",4467,2349,2118,false,true,true,false]
["Mazowieckie"," wyszkowski "," 10 - 14 ",3899,2002,1897,false,true,true,false]
["Mazowieckie"," wyszkowski "," 15 - 19 ",4425,2233,2192,false,true,true,false]
["Mazowieckie"," wyszkowski "," 20 - 24 ",5256,2658,2598,false,true,true,false]
["Mazowieckie"," wyszkowski "," 25 - 29 ",5786,2987,2799,false,true,true,false]
["Mazowieckie"," wyszkowski "," 30 - 34 ",6089,3190,2899,false,true,true,false]
["Mazowieckie"," wyszkowski "," 35 - 39 ",5513,2923,2590,false,true,true,false]
["Mazowieckie"," wyszkowski "," 40 - 44 ",5163,2681,2482,false,true,true,false]
["Mazowieckie"," wyszkowski "," 45 - 49 ",4659,2368,2291,false,true,true,false]
["Mazowieckie"," wyszkowski "," 50 - 54 ",4644,2360,2284,false,true,true,false]
["Mazowieckie"," wyszkowski "," 55 - 59 ",5128,2561,2567,false,true,true,false]
["Mazowieckie"," wyszkowski "," 60 - 64 ",4512,2204,2308,false,true,true,false]
["Mazowieckie"," wyszkowski "," 65 - 69 ",3473,1522,1951,false,true,true,false]
["Mazowieckie"," wyszkowski "," 70 i więcej",6824,2475,4349,true,true,false,false]
["Mazowieckie"," wyszkowski ","65+",{"$f":"SUM(D3112:D3113)","v":10297},{"$f":"SUM(E3112:E3113)","v":3997},{"$f":"SUM(F3112:F3113)","v":6300},true,false,true,false]
["Mazowieckie"," zwoleński "," zwoleński ",36704,18275,18429,true,true,true,true]
["Mazowieckie"," zwoleński "," 0 - 4 ",1862,976,886,false,true,true,false]
["Mazowieckie"," zwoleński "," 5 - 9 ",1986,1068,918,false,true,true,false]
["Mazowieckie"," zwoleński "," 10 - 14 ",1868,943,925,false,true,true,false]
["Mazowieckie"," zwoleński "," 15 - 19 ",2116,1080,1036,false,true,true,false]
["Mazowieckie"," zwoleński "," 20 - 24 ",2806,1417,1389,false,true,true,false]
["Mazowieckie"," zwoleński "," 25 - 29 ",2801,1491,1310,false,true,true,false]
["Mazowieckie"," zwoleński "," 30 - 34 ",2846,1460,1386,false,true,true,false]
["Mazowieckie"," zwoleński "," 35 - 39 ",2694,1452,1242,false,true,true,false]
["Mazowieckie"," zwoleński "," 40 - 44 ",2460,1274,1186,false,true,true,false]
["Mazowieckie"," zwoleński "," 45 - 49 ",2284,1185,1099,false,true,true,false]
["Mazowieckie"," zwoleński "," 50 - 54 ",2271,1176,1095,false,true,true,false]
["Mazowieckie"," zwoleński "," 55 - 59 ",2591,1334,1257,false,true,true,false]
["Mazowieckie",{"$f":"IF(C3127=\"65+\",C3128,B3127)","v":" zwoleński "}," 60 - 64 ",2381,1197,1184,false,true,true,false]
["Mazowieckie"," zwoleński "," 65 - 69 ",1848,826,1022,false,true,true,false]
["Mazowieckie"," zwoleński "," 70 i więcej",3890,1396,2494,true,true,false,false]
["Mazowieckie"," zwoleński ","65+",{"$f":"SUM(D3129:D3130)","v":5738},{"$f":"SUM(E3129:E3130)","v":2222},{"$f":"SUM(F3129:F3130)","v":3516},true,false,true,false]
["Mazowieckie"," żuromiński "," żuromiński ",39613,19545,20068,true,true,true,true]
["Mazowieckie"," żuromiński "," 0 - 4 ",1950,974,976,false,true,true,false]
["Mazowieckie"," żuromiński "," 5 - 9 ",2147,1078,1069,false,true,true,false]
["Mazowieckie"," żuromiński "," 10 - 14 ",2049,1048,1001,false,true,true,false]
["Mazowieckie"," żuromiński "," 15 - 19 ",2291,1183,1108,false,true,true,false]
["Mazowieckie"," żuromiński "," 20 - 24 ",2972,1519,1453,false,true,true,false]
["Mazowieckie"," żuromiński "," 25 - 29 ",3099,1615,1484,false,true,true,false]
["Mazowieckie"," żuromiński "," 30 - 34 ",2874,1550,1324,false,true,true,false]
["Mazowieckie"," żuromiński "," 35 - 39 ",2623,1384,1239,{"$f":"IFERROR(IF(SEARCH(\" - \",C3140)>0,FALSE,TRUE),TRUE)","v":false},{"$f":"IFERROR(IF(SEARCH(\"65+\",C3140)>0,FALSE,TRUE),TRUE)","v":true},{"$f":"IFERROR(IF(SEARCH(\"70\",C3140)>0,FALSE,TRUE),TRUE)","v":true},{"$f":"AND(G3140:I3140)","v":false}]
["Mazowieckie"," żuromiński "," 40 - 44 ",2708,1393,1315,false,true,true,false]
["Mazowieckie"," żuromiński "," 45 - 49 ",2571,1312,1259,false,true,true,false]
["Mazowieckie"," żuromiński "," 50 - 54 ",2696,1386,1310,false,true,true,false]
["Mazowieckie"," żuromiński "," 55 - 59 ",2761,1441,1320,false,true,true,false]
["Mazowieckie"," żuromiński "," 60 - 64 ",2426,1173,1253,false,true,true,false]
["Mazowieckie"," żuromiński "," 65 - 69 ",2068,929,1139,false,true,true,false]
["Mazowieckie"," żuromiński "," 70 i więcej",4378,1560,2818,true,true,false,false]
["Mazowieckie"," żuromiński ","65+",{"$f":"SUM(D3146:D3147)","v":6446},{"$f":"SUM(E3146:E3147)","v":2489},{"$f":"SUM(F3146:F3147)","v":3957},true,false,true,false]
["Mazowieckie"," żyrardowski "," żyrardowski ",76049,36368,39681,true,true,true,true]
["Mazowieckie"," żyrardowski "," 0 - 4 ",3976,2021,1955,false,true,true,false]
["Mazowieckie"," żyrardowski "," 5 - 9 ",4423,2291,2132,false,true,true,false]
["Mazowieckie"," żyrardowski "," 10 - 14 ",3660,1828,1832,false,true,true,false]
["Mazowieckie"," żyrardowski "," 15 - 19 ",3756,1921,1835,false,true,true,false]
["Mazowieckie"," żyrardowski "," 20 - 24 ",4496,2266,2230,false,true,true,false]
["Mazowieckie"," żyrardowski "," 25 - 29 ",5052,2592,2460,false,true,true,false]
["Mazowieckie"," żyrardowski "," 30 - 34 ",6098,3071,3027,false,true,true,false]
["Mazowieckie"," żyrardowski "," 35 - 39 ",6420,3228,3192,false,true,true,false]
["Mazowieckie"," żyrardowski "," 40 - 44 ",5491,2775,2716,false,true,true,false]
["Mazowieckie"," żyrardowski "," 45 - 49 ",4635,2338,2297,false,true,true,false]
["Mazowieckie"," żyrardowski "," 50 - 54 ",4460,2139,2321,false,true,true,false]
["Mazowieckie"," żyrardowski "," 55 - 59 ",5481,2570,2911,false,true,true,false]
["Mazowieckie"," żyrardowski "," 60 - 64 ",5776,2620,3156,false,true,true,false]
["Mazowieckie"," żyrardowski "," 65 - 69 ",4598,2021,2577,false,true,true,false]
["Mazowieckie"," żyrardowski "," 70 i więcej",7727,2687,5040,true,true,false,false]
["Mazowieckie"," żyrardowski ","65+",{"$f":"SUM(D3163:D3164)","v":12325},{"$f":"SUM(E3163:E3164)","v":4708},{"$f":"SUM(F3163:F3164)","v":7617},true,false,true,false]
["Opolskie","Wszystkie","Opolskie ",994489,481132,513357,{"$f":"IFERROR(IF(SEARCH(\" - \",C3166)>0,FALSE,TRUE),TRUE)","v":true},{"$f":"IFERROR(IF(SEARCH(\"65+\",C3166)>0,FALSE,TRUE),TRUE)","v":true},{"$f":"IFERROR(IF(SEARCH(\"70\",C3166)>0,FALSE,TRUE),TRUE)","v":true},{"$f":"AND(G3166:I3166)","v":true}]
["Opolskie","Wszystkie"," 0 - 4 ",42351,21883,20468,{"$f":"IFERROR(IF(SEARCH(\" - \",C3167)>0,FALSE,TRUE),TRUE)","v":false},{"$f":"IFERROR(IF(SEARCH(\"65+\",C3167)>0,FALSE,TRUE),TRUE)","v":true},{"$f":"IFERROR(IF(SEARCH(\"70\",C3167)>0,FALSE,TRUE),TRUE)","v":true},{"$f":"AND(G3167:I3167)","v":false}]
["Opolskie","Wszystkie"," 5 - 9 ",46166,23707,22459,false,true,true,false]
["Opolskie","Wszystkie"," 10 - 14 ",42165,21720,20445,false,true,true,false]
["Opolskie","Wszystkie"," 15 - 19 ",48470,24807,23663,false,true,true,false]
["Opolskie","Wszystkie"," 20 - 24 ",59368,30093,29275,false,true,true,false]
["Opolskie","Wszystkie"," 25 - 29 ",73771,37421,36350,false,true,true,false]
["Opolskie","Wszystkie"," 30 - 34 ",81810,40990,40820,false,true,true,false]
["Opolskie","Wszystkie"," 35 - 39 ",77788,39064,38724,false,true,true,false]
["Opolskie","Wszystkie"," 40 - 44 ",71684,35964,35720,false,true,true,false]
["Opolskie","Wszystkie"," 45 - 49 ",66909,33540,33369,false,true,true,false]
["Opolskie","Wszystkie"," 50 - 54 ",70341,35579,34762,false,true,true,false]
["Opolskie","Wszystkie"," 55 - 59 ",76059,37429,38630,false,true,true,false]
["Opolskie","Wszystkie"," 60 - 64 ",70933,33575,37358,false,true,true,false]
["Opolskie","Wszystkie"," 65 - 69 ",56763,25478,31285,false,true,true,false]
["Opolskie","Wszystkie"," 70 i więcej",109911,39882,70029,true,true,false,false]
["Opolskie","Wszystkie","65+",{"$f":"SUM(D3180:D3181)","v":166674},{"$f":"SUM(E3180:E3181)","v":65360},{"$f":"SUM(F3180:F3181)","v":101314},true,false,true,false]
["Opolskie"," Opole "," Opole ",118938,55811,63127,true,true,true,true]
["Opolskie"," Opole "," 0 - 4 ",5308,2755,2553,false,true,true,false]
["Opolskie"," Opole "," 5 - 9 ",5470,2756,2714,false,true,true,false]
["Opolskie"," Opole "," 10 - 14 ",4455,2289,2166,false,true,true,false]
["Opolskie"," Opole "," 15 - 19 ",4660,2382,2278,false,true,true,false]
["Opolskie"," Opole "," 20 - 24 ",5439,2810,2629,false,true,true,false]
["Opolskie"," Opole "," 25 - 29 ",7847,3881,3966,false,true,true,false]
["Opolskie"," Opole "," 30 - 34 ",10961,5345,5616,false,true,true,false]
["Opolskie"," Opole "," 35 - 39 ",10598,5220,5378,false,true,true,false]
["Opolskie",{"$f":"IF(C3191=\"65+\",C3192,B3191)","v":" Opole "}," 40 - 44 ",8893,4341,4552,false,true,true,false]
["Opolskie"," Opole "," 45 - 49 ",7111,3485,3626,false,true,true,false]
["Opolskie"," Opole "," 50 - 54 ",7233,3449,3784,false,true,true,false]
["Opolskie"," Opole "," 55 - 59 ",8925,4057,4868,false,true,true,false]
["Opolskie"," Opole "," 60 - 64 ",9514,4243,5271,false,true,true,false]
["Opolskie"," Opole "," 65 - 69 ",8124,3463,4661,false,true,true,false]
["Opolskie"," Opole "," 70 i więcej",14400,5335,9065,true,true,false,false]
["Opolskie"," Opole ","65+",{"$f":"SUM(D3197:D3198)","v":22524},{"$f":"SUM(E3197:E3198)","v":8798},{"$f":"SUM(F3197:F3198)","v":13726},true,false,true,false]
["Opolskie"," brzeski "," brzeski ",91044,44328,46716,true,true,true,true]
["Opolskie"," brzeski "," 0 - 4 ",4082,2114,1968,false,true,true,false]
["Opolskie"," brzeski "," 5 - 9 ",5005,2596,2409,false,true,true,false]
["Opolskie"," brzeski "," 10 - 14 ",4132,2203,1929,false,true,true,false]
["Opolskie"," brzeski "," 15 - 19 ",4658,2315,2343,false,true,true,false]
["Opolskie"," brzeski "," 20 - 24 ",5733,2881,2852,false,true,true,false]
["Opolskie"," brzeski "," 25 - 29 ",6669,3422,3247,false,true,true,false]
["Opolskie"," brzeski "," 30 - 34 ",7613,3912,3701,false,true,true,false]
["Opolskie"," brzeski "," 35 - 39 ",7176,3659,3517,false,true,true,false]
["Opolskie"," brzeski "," 40 - 44 ",6536,3343,3193,false,true,true,false]
["Opolskie"," brzeski "," 45 - 49 ",5548,2854,2694,false,true,true,false]
["Opolskie"," brzeski "," 50 - 54 ",5791,2902,2889,false,true,true,false]
["Opolskie"," brzeski "," 55 - 59 ",6952,3432,3520,false,true,true,false]
["Opolskie"," brzeski "," 60 - 64 ",6653,3119,3534,false,true,true,false]
["Opolskie"," brzeski "," 65 - 69 ",5515,2528,2987,false,true,true,false]
["Opolskie"," brzeski "," 70 i więcej",8981,3048,5933,true,true,false,false]
["Opolskie"," brzeski ","65+",{"$f":"SUM(D3214:D3215)","v":14496},{"$f":"SUM(E3214:E3215)","v":5576},{"$f":"SUM(F3214:F3215)","v":8920},true,false,true,false]
["Opolskie"," głubczycki "," głubczycki ",46695,22783,23912,true,true,true,true]
["Opolskie"," głubczycki "," 0 - 4 ",1887,980,907,false,true,true,false]
["Opolskie"," głubczycki "," 5 - 9 ",2188,1106,1082,false,true,true,false]
["Opolskie"," głubczycki "," 10 - 14 ",2090,1062,1028,false,true,true,false]
["Opolskie"," głubczycki "," 15 - 19 ",2360,1220,1140,false,true,true,false]
["Opolskie"," głubczycki "," 20 - 24 ",2967,1515,1452,false,true,true,false]
["Opolskie"," głubczycki "," 25 - 29 ",3439,1738,1701,false,true,true,false]
["Opolskie"," głubczycki "," 30 - 34 ",3717,1958,1759,false,true,true,false]
["Opolskie"," głubczycki "," 35 - 39 ",3301,1726,1575,false,true,true,false]
["Opolskie"," głubczycki "," 40 - 44 ",3158,1618,1540,false,true,true,false]
["Opolskie"," głubczycki "," 45 - 49 ",2972,1528,1444,false,true,true,false]
["Opolskie"," głubczycki "," 50 - 54 ",3220,1621,1599,false,true,true,false]
["Opolskie"," głubczycki "," 55 - 59 ",3748,1901,1847,false,true,true,false]
["Opolskie"," głubczycki "," 60 - 64 ",3522,1743,1779,false,true,true,false]
["Opolskie"," głubczycki "," 65 - 69 ",3014,1385,1629,{"$f":"IFERROR(IF(SEARCH(\" - \",C3231)>0,FALSE,TRUE),TRUE)","v":false},{"$f":"IFERROR(IF(SEARCH(\"65+\",C3231)>0,FALSE,TRUE),TRUE)","v":true},{"$f":"IFERROR(IF(SEARCH(\"70\",C3231)>0,FALSE,TRUE),TRUE)","v":true},{"$f":"AND(G3231:I3231)","v":false}]
["Opolskie"," głubczycki "," 70 i więcej",5112,1682,3430,true,true,false,false]
["Opolskie"," głubczycki ","65+",{"$f":"SUM(D3231:D3232)","v":8126},{"$f":"SUM(E3231:E3232)","v":3067},{"$f":"SUM(F3231:F3232)","v":5059},true,false,true,false]
["Opolskie"," kędzierzyńsko-kozielski "," kędzierzyńsko-kozielski ",95888,46293,49595,true,true,true,true]
["Opolskie"," kędzierzyńsko-kozielski "," 0 - 4 ",3840,2025,1815,false,true,true,false]
["Opolskie"," kędzierzyńsko-kozielski "," 5 - 9 ",4246,2180,2066,false,true,true,false]
["Opolskie"," kędzierzyńsko-kozielski "," 10 - 14 ",3946,2029,1917,false,true,true,false]
["Opolskie"," kędzierzyńsko-kozielski "," 15 - 19 ",4576,2438,2138,false,true,true,false]
["Opolskie"," kędzierzyńsko-kozielski "," 20 - 24 ",5482,2776,2706,false,true,true,false]
["Opolskie"," kędzierzyńsko-kozielski "," 25 - 29 ",7103,3542,3561,false,true,true,false]
["Opolskie"," kędzierzyńsko-kozielski "," 30 - 34 ",7456,3701,3755,false,true,true,false]
["Opolskie"," kędzierzyńsko-kozielski "," 35 - 39 ",7114,3531,3583,false,true,true,false]
["Opolskie"," kędzierzyńsko-kozielski "," 40 - 44 ",6788,3331,3457,false,true,true,false]
["Opolskie"," kędzierzyńsko-kozielski "," 45 - 49 ",6992,3522,3470,false,true,true,false]
["Opolskie"," kędzierzyńsko-kozielski "," 50 - 54 ",7135,3692,3443,false,true,true,false]
["Opolskie"," kędzierzyńsko-kozielski "," 55 - 59 ",7377,3636,3741,false,true,true,false]
["Opolskie"," kędzierzyńsko-kozielski "," 60 - 64 ",6456,3066,3390,false,true,true,false]
["Opolskie"," kędzierzyńsko-kozielski "," 65 - 69 ",5582,2435,3147,false,true,true,false]
["Opolskie"," kędzierzyńsko-kozielski "," 70 i więcej",11795,4389,7406,true,true,false,false]
["Opolskie"," kędzierzyńsko-kozielski ","65+",{"$f":"SUM(D3248:D3249)","v":17377},{"$f":"SUM(E3248:E3249)","v":6824},{"$f":"SUM(F3248:F3249)","v":10553},true,false,true,false]
["Opolskie"," kluczborski "," kluczborski ",66503,32450,34053,true,true,true,true]
["Opolskie"," kluczborski "," 0 - 4 ",2726,1465,1261,false,true,true,false]
["Opolskie"," kluczborski "," 5 - 9 ",2979,1576,1403,false,true,true,false]
["Opolskie"," kluczborski "," 10 - 14 ",2824,1455,1369,false,true,true,false]
["Opolskie"," kluczborski "," 15 - 19 ",3447,1771,1676,false,true,true,false]
["Opolskie",{"$f":"IF(C3255=\"65+\",C3256,B3255)","v":" kluczborski "}," 20 - 24 ",4313,2202,2111,false,true,true,false]
["Opolskie"," kluczborski "," 25 - 29 ",5245,2681,2564,false,true,true,false]
["Opolskie"," kluczborski "," 30 - 34 ",5571,2834,2737,false,true,true,false]
["Opolskie"," kluczborski "," 35 - 39 ",5129,2611,2518,false,true,true,false]
["Opolskie"," kluczborski "," 40 - 44 ",4704,2379,2325,false,true,true,false]
["Opolskie"," kluczborski "," 45 - 49 ",4475,2228,2247,false,true,true,false]
["Opolskie"," kluczborski "," 50 - 54 ",4719,2392,2327,false,true,true,false]
["Opolskie"," kluczborski "," 55 - 59 ",5005,2452,2553,false,true,true,false]
["Opolskie"," kluczborski "," 60 - 64 ",4481,2136,2345,false,true,true,false]
["Opolskie"," kluczborski "," 65 - 69 ",3690,1651,2039,false,true,true,false]
["Opolskie"," kluczborski "," 70 i więcej",7195,2617,4578,true,true,false,false]
["Opolskie"," kluczborski ","65+",{"$f":"SUM(D3265:D3266)","v":10885},{"$f":"SUM(E3265:E3266)","v":4268},{"$f":"SUM(F3265:F3266)","v":6617},true,false,true,false]
["Opolskie"," krapkowicki "," krapkowicki ",64463,31179,33284,true,true,true,true]
["Opolskie"," krapkowicki "," 0 - 4 ",2770,1392,1378,false,true,true,false]
["Opolskie"," krapkowicki "," 5 - 9 ",2781,1410,1371,false,true,true,false]
["Opolskie"," krapkowicki "," 10 - 14 ",2707,1409,1298,false,true,true,false]
["Opolskie"," krapkowicki "," 15 - 19 ",3088,1591,1497,false,true,true,false]
["Opolskie"," krapkowicki "," 20 - 24 ",3942,2053,1889,false,true,true,false]
["Opolskie"," krapkowicki "," 25 - 29 ",4896,2481,2415,false,true,true,false]
["Opolskie"," krapkowicki "," 30 - 34 ",5135,2498,2637,false,true,true,false]
["Opolskie"," krapkowicki "," 35 - 39 ",5052,2482,2570,false,true,true,false]
["Opolskie"," krapkowicki "," 40 - 44 ",4707,2329,2378,false,true,true,false]
["Opolskie"," krapkowicki "," 45 - 49 ",4828,2376,2452,false,true,true,false]
["Opolskie"," krapkowicki "," 50 - 54 ",4967,2532,2435,false,true,true,false]
["Opolskie"," krapkowicki "," 55 - 59 ",4898,2445,2453,false,true,true,false]
["Opolskie"," krapkowicki "," 60 - 64 ",4358,2042,2316,false,true,true,false]
["Opolskie"," krapkowicki "," 65 - 69 ",3198,1442,1756,false,true,true,false]
["Opolskie"," krapkowicki "," 70 i więcej",7136,2697,4439,true,true,false,false]
["Opolskie"," krapkowicki ","65+",{"$f":"SUM(D3282:D3283)","v":10334},{"$f":"SUM(E3282:E3283)","v":4139},{"$f":"SUM(F3282:F3283)","v":6195},true,false,true,false]
["Opolskie"," namysłowski "," namysłowski ",42665,20865,21800,true,true,true,true]
["Opolskie"," namysłowski "," 0 - 4 ",1923,1001,922,false,true,true,false]
["Opolskie"," namysłowski "," 5 - 9 ",2306,1205,1101,false,true,true,false]
["Opolskie"," namysłowski "," 10 - 14 ",1964,1035,929,false,true,true,false]
["Opolskie"," namysłowski "," 15 - 19 ",2300,1162,1138,false,true,true,false]
["Opolskie"," namysłowski "," 20 - 24 ",2741,1338,1403,false,true,true,false]
["Opolskie"," namysłowski "," 25 - 29 ",3193,1677,1516,false,true,true,false]
["Opolskie"," namysłowski "," 30 - 34 ",3565,1822,1743,false,true,true,false]
["Opolskie"," namysłowski "," 35 - 39 ",3431,1732,1699,false,true,true,false]
["Opolskie"," namysłowski "," 40 - 44 ",2885,1466,1419,false,true,true,false]
["Opolskie"," namysłowski "," 45 - 49 ",2568,1330,1238,{"$f":"IFERROR(IF(SEARCH(\" - \",C3295)>0,FALSE,TRUE),TRUE)","v":false},{"$f":"IFERROR(IF(SEARCH(\"65+\",C3295)>0,FALSE,TRUE),TRUE)","v":true},{"$f":"IFERROR(IF(SEARCH(\"70\",C3295)>0,FALSE,TRUE),TRUE)","v":true},{"$f":"AND(G3295:I3295)","v":false}]
["Opolskie"," namysłowski "," 50 - 54 ",2875,1431,1444,false,true,true,false]
["Opolskie"," namysłowski "," 55 - 59 ",3327,1654,1673,false,true,true,false]
["Opolskie"," namysłowski "," 60 - 64 ",3020,1435,1585,false,true,true,false]
["Opolskie"," namysłowski "," 65 - 69 ",2505,1182,1323,false,true,true,false]
["Opolskie"," namysłowski "," 70 i więcej",4062,1395,2667,true,true,false,false]
["Opolskie"," namysłowski ","65+",{"$f":"SUM(D3299:D3300)","v":6567},{"$f":"SUM(E3299:E3300)","v":2577},{"$f":"SUM(F3299:F3300)","v":3990},true,false,true,false]
["Opolskie"," nyski "," nyski ",138548,67374,71174,true,true,true,true]
["Opolskie"," nyski "," 0 - 4 ",5425,2751,2674,false,true,true,false]
["Opolskie"," nyski "," 5 - 9 ",6420,3290,3130,false,true,true,false]
["Opolskie"," nyski "," 10 - 14 ",5874,2990,2884,false,true,true,false]
["Opolskie"," nyski "," 15 - 19 ",7015,3568,3447,false,true,true,false]
["Opolskie"," nyski "," 20 - 24 ",8795,4493,4302,false,true,true,false]
["Opolskie"," nyski "," 25 - 29 ",10243,5393,4850,false,true,true,false]
["Opolskie"," nyski "," 30 - 34 ",11237,5825,5412,false,true,true,false]
["Opolskie"," nyski "," 35 - 39 ",10825,5556,5269,false,true,true,false]
["Opolskie"," nyski "," 40 - 44 ",9800,4998,4802,false,true,true,false]
["Opolskie"," nyski "," 45 - 49 ",8570,4302,4268,false,true,true,false]
["Opolskie"," nyski "," 50 - 54 ",9144,4616,4528,false,true,true,false]
["Opolskie"," nyski "," 55 - 59 ",10891,5301,5590,false,true,true,false]
["Opolskie"," nyski "," 60 - 64 ",10804,5151,5653,false,true,true,false]
["Opolskie"," nyski "," 65 - 69 ",8955,4039,4916,false,true,true,false]
["Opolskie"," nyski "," 70 i więcej",14550,5101,9449,true,true,false,false]
["Opolskie"," nyski ","65+",{"$f":"SUM(D3316:D3317)","v":23505},{"$f":"SUM(E3316:E3317)","v":9140},{"$f":"SUM(F3316:F3317)","v":14365},true,false,true,false]
["Opolskie"," oleski "," oleski ",65181,31769,33412,true,true,true,true]
["Opolskie",{"$f":"IF(C3319=\"65+\",C3320,B3319)","v":" oleski "}," 0 - 4 ",2831,1458,1373,false,true,true,false]
["Opolskie"," oleski "," 5 - 9 ",2882,1474,1408,false,true,true,false]
["Opolskie"," oleski "," 10 - 14 ",2814,1431,1383,false,true,true,false]
["Opolskie"," oleski "," 15 - 19 ",3344,1709,1635,false,true,true,false]
["Opolskie"," oleski "," 20 - 24 ",4047,1993,2054,false,true,true,false]
["Opolskie"," oleski "," 25 - 29 ",5043,2567,2476,false,true,true,false]
["Opolskie"," oleski "," 30 - 34 ",5045,2581,2464,false,true,true,false]
["Opolskie"," oleski "," 35 - 39 ",4789,2376,2413,false,true,true,false]
["Opolskie"," oleski "," 40 - 44 ",4624,2315,2309,false,true,true,false]
["Opolskie"," oleski "," 45 - 49 ",4566,2317,2249,false,true,true,false]
["Opolskie"," oleski "," 50 - 54 ",4975,2574,2401,false,true,true,false]
["Opolskie"," oleski "," 55 - 59 ",4873,2453,2420,false,true,true,false]
["Opolskie"," oleski "," 60 - 64 ",4560,2187,2373,false,true,true,false]
["Opolskie"," oleski "," 65 - 69 ",3346,1525,1821,false,true,true,false]
["Opolskie"," oleski "," 70 i więcej",7442,2809,4633,true,true,false,false]
["Opolskie"," oleski ","65+",{"$f":"SUM(D3333:D3334)","v":10788},{"$f":"SUM(E3333:E3334)","v":4334},{"$f":"SUM(F3333:F3334)","v":6454},true,false,true,false]
["Opolskie"," opolski "," opolski ",133197,64625,68572,true,true,true,true]
["Opolskie"," opolski "," 0 - 4 ",5697,2932,2765,false,true,true,false]
["Opolskie"," opolski "," 5 - 9 ",5978,3110,2868,false,true,true,false]
["Opolskie"," opolski "," 10 - 14 ",5752,2926,2826,false,true,true,false]
["Opolskie"," opolski "," 15 - 19 ",6592,3408,3184,false,true,true,false]
["Opolskie"," opolski "," 20 - 24 ",7689,3835,3854,false,true,true,false]
["Opolskie"," opolski "," 25 - 29 ",9679,4820,4859,false,true,true,false]
["Opolskie"," opolski "," 30 - 34 ",10835,5186,5649,false,true,true,false]
["Opolskie"," opolski "," 35 - 39 ",10676,5223,5453,false,true,true,false]
["Opolskie"," opolski "," 40 - 44 ",10290,5202,5088,false,true,true,false]
["Opolskie"," opolski "," 45 - 49 ",10142,5020,5122,false,true,true,false]
["Opolskie"," opolski "," 50 - 54 ",10482,5419,5063,false,true,true,false]
["Opolskie"," opolski "," 55 - 59 ",10192,5110,5082,false,true,true,false]
["Opolskie"," opolski "," 60 - 64 ",8804,4263,4541,false,true,true,false]
["Opolskie"," opolski "," 65 - 69 ",6178,2875,3303,false,true,true,false]
["Opolskie"," opolski "," 70 i więcej",14211,5296,8915,true,true,false,false]
["Opolskie"," opolski ","65+",{"$f":"SUM(D3350:D3351)","v":20389},{"$f":"SUM(E3350:E3351)","v":8171},{"$f":"SUM(F3350:F3351)","v":12218},true,false,true,false]
["Opolskie"," prudnicki "," prudnicki ",56043,26987,29056,true,true,true,true]
["Opolskie"," prudnicki "," 0 - 4 ",2385,1255,1130,false,true,true,false]
["Opolskie"," prudnicki "," 5 - 9 ",2642,1353,1289,false,true,true,false]
["Opolskie"," prudnicki "," 10 - 14 ",2497,1243,1254,false,true,true,false]
["Opolskie"," prudnicki "," 15 - 19 ",2822,1444,1378,false,true,true,false]
["Opolskie"," prudnicki "," 20 - 24 ",3638,1908,1730,false,true,true,false]
["Opolskie"," prudnicki "," 25 - 29 ",4329,2177,2152,{"$f":"IFERROR(IF(SEARCH(\" - \",C3359)>0,FALSE,TRUE),TRUE)","v":false},{"$f":"IFERROR(IF(SEARCH(\"65+\",C3359)>0,FALSE,TRUE),TRUE)","v":true},{"$f":"IFERROR(IF(SEARCH(\"70\",C3359)>0,FALSE,TRUE),TRUE)","v":true},{"$f":"AND(G3359:I3359)","v":false}]
["Opolskie"," prudnicki "," 30 - 34 ",4408,2177,2231,false,true,true,false]
["Opolskie"," prudnicki "," 35 - 39 ",4061,2060,2001,false,true,true,false]
["Opolskie"," prudnicki "," 40 - 44 ",3867,1950,1917,false,true,true,false]
["Opolskie"," prudnicki "," 45 - 49 ",3686,1823,1863,false,true,true,false]
["Opolskie"," prudnicki "," 50 - 54 ",3925,1958,1967,false,true,true,false]
["Opolskie"," prudnicki "," 55 - 59 ",4227,2128,2099,false,true,true,false]
["Opolskie"," prudnicki "," 60 - 64 ",3949,1889,2060,false,true,true,false]
["Opolskie"," prudnicki "," 65 - 69 ",3116,1363,1753,false,true,true,false]
["Opolskie"," prudnicki "," 70 i więcej",6491,2259,4232,true,true,false,false]
["Opolskie"," prudnicki ","65+",{"$f":"SUM(D3367:D3368)","v":9607},{"$f":"SUM(E3367:E3368)","v":3622},{"$f":"SUM(F3367:F3368)","v":5985},true,false,true,false]
["Opolskie"," strzelecki "," strzelecki ",75324,36668,38656,true,true,true,true]
["Opolskie"," strzelecki "," 0 - 4 ",3477,1755,1722,false,true,true,false]
["Opolskie"," strzelecki "," 5 - 9 ",3269,1651,1618,false,true,true,false]
["Opolskie"," strzelecki "," 10 - 14 ",3110,1648,1462,false,true,true,false]
["Opolskie"," strzelecki "," 15 - 19 ",3608,1799,1809,false,true,true,false]
["Opolskie"," strzelecki "," 20 - 24 ",4582,2289,2293,false,true,true,false]
["Opolskie"," strzelecki "," 25 - 29 ",6085,3042,3043,false,true,true,false]
["Opolskie"," strzelecki "," 30 - 34 ",6267,3151,3116,false,true,true,false]
["Opolskie"," strzelecki "," 35 - 39 ",5636,2888,2748,false,true,true,false]
["Opolskie"," strzelecki "," 40 - 44 ",5432,2692,2740,false,true,true,false]
["Opolskie"," strzelecki "," 45 - 49 ",5451,2755,2696,false,true,true,false]
["Opolskie"," strzelecki "," 50 - 54 ",5875,2993,2882,false,true,true,false]
["Opolskie"," strzelecki "," 55 - 59 ",5644,2860,2784,false,true,true,false]
["Opolskie"," strzelecki "," 60 - 64 ",4812,2301,2511,false,true,true,false]
["Opolskie",{"$f":"IF(C3383=\"65+\",C3384,B3383)","v":" strzelecki "}," 65 - 69 ",3540,1590,1950,false,true,true,false]
["Opolskie"," strzelecki "," 70 i więcej",8536,3254,5282,true,true,false,false]
["Opolskie"," strzelecki ","65+",{"$f":"SUM(D3384:D3385)","v":12076},{"$f":"SUM(E3384:E3385)","v":4844},{"$f":"SUM(F3384:F3385)","v":7232},true,false,true,false]
["Podkarpackie","Wszystkie","Podkarpackie ",2126824,1041429,1085395,{"$f":"IFERROR(IF(SEARCH(\" - \",C3387)>0,FALSE,TRUE),TRUE)","v":true},{"$f":"IFERROR(IF(SEARCH(\"65+\",C3387)>0,FALSE,TRUE),TRUE)","v":true},{"$f":"IFERROR(IF(SEARCH(\"70\",C3387)>0,FALSE,TRUE),TRUE)","v":true},{"$f":"AND(G3387:I3387)","v":true}]
["Podkarpackie","Wszystkie"," 0 - 4 ",101422,52004,49418,{"$f":"IFERROR(IF(SEARCH(\" - \",C3388)>0,FALSE,TRUE),TRUE)","v":false},{"$f":"IFERROR(IF(SEARCH(\"65+\",C3388)>0,FALSE,TRUE),TRUE)","v":true},{"$f":"IFERROR(IF(SEARCH(\"70\",C3388)>0,FALSE,TRUE),TRUE)","v":true},{"$f":"AND(G3388:I3388)","v":false}]
["Podkarpackie","Wszystkie"," 5 - 9 ",113556,58139,55417,false,true,true,false]
["Podkarpackie","Wszystkie"," 10 - 14 ",106780,54848,51932,false,true,true,false]
["Podkarpackie","Wszystkie"," 15 - 19 ",121608,62415,59193,false,true,true,false]
["Podkarpackie","Wszystkie"," 20 - 24 ",146339,74443,71896,false,true,true,false]
["Podkarpackie","Wszystkie"," 25 - 29 ",167060,86056,81004,false,true,true,false]
["Podkarpackie","Wszystkie"," 30 - 34 ",176985,90681,86304,false,true,true,false]
["Podkarpackie","Wszystkie"," 35 - 39 ",167143,85299,81844,false,true,true,false]
["Podkarpackie","Wszystkie"," 40 - 44 ",152060,77314,74746,false,true,true,false]
["Podkarpackie","Wszystkie"," 45 - 49 ",133841,67387,66454,false,true,true,false]
["Podkarpackie","Wszystkie"," 50 - 54 ",135910,68492,67418,false,true,true,false]
["Podkarpackie","Wszystkie"," 55 - 59 ",146343,72156,74187,false,true,true,false]
["Podkarpackie","Wszystkie"," 60 - 64 ",136040,64709,71331,false,true,true,false]
["Podkarpackie","Wszystkie"," 65 - 69 ",108022,48939,59083,false,true,true,false]
["Podkarpackie","Wszystkie"," 70 i więcej",213715,78547,135168,true,true,false,false]
["Podkarpackie","Wszystkie","65+",{"$f":"SUM(D3401:D3402)","v":321737},{"$f":"SUM(E3401:E3402)","v":127486},{"$f":"SUM(F3401:F3402)","v":194251},true,false,true,false]
["Podkarpackie"," Krosno "," Krosno ",46695,22085,24610,true,true,true,true]
["Podkarpackie"," Krosno "," 0 - 4 ",2029,1035,994,false,true,true,false]
["Podkarpackie"," Krosno "," 5 - 9 ",2314,1198,1116,false,true,true,false]
["Podkarpackie"," Krosno "," 10 - 14 ",2032,1012,1020,false,true,true,false]
["Podkarpackie"," Krosno "," 15 - 19 ",2341,1231,1110,false,true,true,false]
["Podkarpackie"," Krosno "," 20 - 24 ",2411,1188,1223,false,true,true,false]
["Podkarpackie"," Krosno "," 25 - 29 ",3218,1631,1587,false,true,true,false]
["Podkarpackie"," Krosno "," 30 - 34 ",3881,1926,1955,false,true,true,false]
["Podkarpackie"," Krosno "," 35 - 39 ",3991,2050,1941,false,true,true,false]
["Podkarpackie"," Krosno "," 40 - 44 ",3331,1689,1642,false,true,true,false]
["Podkarpackie"," Krosno "," 45 - 49 ",2609,1258,1351,false,true,true,false]
["Podkarpackie"," Krosno "," 50 - 54 ",2865,1301,1564,false,true,true,false]
["Podkarpackie"," Krosno "," 55 - 59 ",3535,1598,1937,false,true,true,false]
["Podkarpackie"," Krosno "," 60 - 64 ",3803,1665,2138,false,true,true,false]
["Podkarpackie"," Krosno "," 65 - 69 ",3097,1336,1761,false,true,true,false]
["Podkarpackie"," Krosno "," 70 i więcej",5238,1967,3271,true,true,false,false]
["Podkarpackie"," Krosno ","65+",{"$f":"SUM(D3418:D3419)","v":8335},{"$f":"SUM(E3418:E3419)","v":3303},{"$f":"SUM(F3418:F3419)","v":5032},true,false,true,false]
["Podkarpackie"," Przemyśl "," Przemyśl ",62485,29355,33130,true,true,true,true]
["Podkarpackie"," Przemyśl "," 0 - 4 ",2546,1312,1234,false,true,true,false]
["Podkarpackie"," Przemyśl "," 5 - 9 ",2999,1536,1463,false,true,true,false]
["Podkarpackie"," Przemyśl "," 10 - 14 ",2773,1412,1361,false,true,true,false]
["Podkarpackie"," Przemyśl "," 15 - 19 ",3098,1606,1492,false,true,true,false]
["Podkarpackie"," Przemyśl "," 20 - 24 ",3567,1830,1737,false,true,true,false]
["Podkarpackie"," Przemyśl "," 25 - 29 ",4272,2149,2123,false,true,true,false]
["Podkarpackie"," Przemyśl "," 30 - 34 ",5020,2540,2480,false,true,true,false]
["Podkarpackie"," Przemyśl "," 35 - 39 ",5002,2548,2454,false,true,true,false]
["Podkarpackie"," Przemyśl "," 40 - 44 ",4392,2176,2216,false,true,true,false]
["Podkarpackie"," Przemyśl "," 45 - 49 ",3754,1845,1909,false,true,true,false]
["Podkarpackie"," Przemyśl "," 50 - 54 ",4057,1882,2175,false,true,true,false]
["Podkarpackie"," Przemyśl "," 55 - 59 ",4892,2164,2728,false,true,true,false]
["Podkarpackie"," Przemyśl "," 60 - 64 ",4900,2147,2753,false,true,true,false]
["Podkarpackie"," Przemyśl "," 65 - 69 ",3824,1587,2237,false,true,true,false]
["Podkarpackie"," Przemyśl "," 70 i więcej",7389,2621,4768,true,true,false,false]
["Podkarpackie"," Przemyśl ","65+",{"$f":"SUM(D3435:D3436)","v":11213},{"$f":"SUM(E3435:E3436)","v":4208},{"$f":"SUM(F3435:F3436)","v":7005},true,false,true,false]
["Podkarpackie"," Rzeszów "," Rzeszów ",187027,88381,98646,true,true,true,true]
["Podkarpackie"," Rzeszów "," 0 - 4 ",10322,5353,4969,false,true,true,false]
["Podkarpackie"," Rzeszów "," 5 - 9 ",9675,4902,4773,false,true,true,false]
["Podkarpackie"," Rzeszów "," 10 - 14 ",7761,3899,3862,false,true,true,false]
["Podkarpackie"," Rzeszów "," 15 - 19 ",9647,4759,4888,false,true,true,false]
["Podkarpackie"," Rzeszów "," 20 - 24 ",11416,5692,5724,false,true,true,false]
["Podkarpackie"," Rzeszów "," 25 - 29 ",15796,7724,8072,false,true,true,false]
["Podkarpackie"," Rzeszów "," 30 - 34 ",18604,9200,9404,false,true,true,false]
["Podkarpackie"," Rzeszów "," 35 - 39 ",16018,7890,8128,false,true,true,false]
["Podkarpackie"," Rzeszów "," 40 - 44 ",12693,6309,6384,false,true,true,false]
["Podkarpackie",{"$f":"IF(C3447=\"65+\",C3448,B3447)","v":" Rzeszów "}," 45 - 49 ",10026,4770,5256,false,true,true,false]
["Podkarpackie"," Rzeszów "," 50 - 54 ",10498,4877,5621,false,true,true,false]
["Podkarpackie"," Rzeszów "," 55 - 59 ",12736,5790,6946,false,true,true,false]
["Podkarpackie"," Rzeszów "," 60 - 64 ",13202,5926,7276,false,true,true,false]
["Podkarpackie"," Rzeszów "," 65 - 69 ",9905,4292,5613,{"$f":"IFERROR(IF(SEARCH(\" - \",C3452)>0,FALSE,TRUE),TRUE)","v":false},{"$f":"IFERROR(IF(SEARCH(\"65+\",C3452)>0,FALSE,TRUE),TRUE)","v":true},{"$f":"IFERROR(IF(SEARCH(\"70\",C3452)>0,FALSE,TRUE),TRUE)","v":true},{"$f":"AND(G3452:I3452)","v":false}]
["Podkarpackie"," Rzeszów "," 70 i więcej",18728,6998,11730,true,true,false,false]
["Podkarpackie"," Rzeszów ","65+",{"$f":"SUM(D3452:D3453)","v":28633},{"$f":"SUM(E3452:E3453)","v":11290},{"$f":"SUM(F3452:F3453)","v":17343},true,false,true,false]
["Podkarpackie"," Tarnobrzeg "," Tarnobrzeg ",47658,22870,24788,true,true,true,true]
["Podkarpackie"," Tarnobrzeg "," 0 - 4 ",1781,918,863,false,true,true,false]
["Podkarpackie"," Tarnobrzeg "," 5 - 9 ",2212,1122,1090,false,true,true,false]
["Podkarpackie"," Tarnobrzeg "," 10 - 14 ",2168,1137,1031,false,true,true,false]
["Podkarpackie"," Tarnobrzeg "," 15 - 19 ",2342,1200,1142,false,true,true,false]
["Podkarpackie"," Tarnobrzeg "," 20 - 24 ",2814,1439,1375,false,true,true,false]
["Podkarpackie"," Tarnobrzeg "," 25 - 29 ",3243,1703,1540,false,true,true,false]
["Podkarpackie"," Tarnobrzeg "," 30 - 34 ",3555,1826,1729,false,true,true,false]
["Podkarpackie"," Tarnobrzeg "," 35 - 39 ",3734,1901,1833,false,true,true,false]
["Podkarpackie"," Tarnobrzeg "," 40 - 44 ",3617,1792,1825,false,true,true,false]
["Podkarpackie"," Tarnobrzeg "," 45 - 49 ",3296,1649,1647,false,true,true,false]
["Podkarpackie"," Tarnobrzeg "," 50 - 54 ",3285,1537,1748,false,true,true,false]
["Podkarpackie"," Tarnobrzeg "," 55 - 59 ",3570,1698,1872,false,true,true,false]
["Podkarpackie"," Tarnobrzeg "," 60 - 64 ",3598,1537,2061,false,true,true,false]
["Podkarpackie"," Tarnobrzeg "," 65 - 69 ",3220,1357,1863,false,true,true,false]
["Podkarpackie"," Tarnobrzeg "," 70 i więcej",5223,2054,3169,true,true,false,false]
["Podkarpackie"," Tarnobrzeg ","65+",{"$f":"SUM(D3469:D3470)","v":8443},{"$f":"SUM(E3469:E3470)","v":3411},{"$f":"SUM(F3469:F3470)","v":5032},true,false,true,false]
["Podkarpackie"," bieszczadzki "," bieszczadzki ",22032,10902,11130,true,true,true,true]
["Podkarpackie"," bieszczadzki "," 0 - 4 ",987,486,501,false,true,true,false]
["Podkarpackie"," bieszczadzki "," 5 - 9 ",1147,584,563,false,true,true,false]
["Podkarpackie"," bieszczadzki "," 10 - 14 ",1127,569,558,false,true,true,false]
["Podkarpackie"," bieszczadzki "," 15 - 19 ",1052,531,521,false,true,true,false]
["Podkarpackie"," bieszczadzki "," 20 - 24 ",1638,827,811,false,true,true,false]
["Podkarpackie"," bieszczadzki "," 25 - 29 ",1668,850,818,false,true,true,false]
["Podkarpackie"," bieszczadzki "," 30 - 34 ",1887,986,901,false,true,true,false]
["Podkarpackie"," bieszczadzki "," 35 - 39 ",1798,942,856,false,true,true,false]
["Podkarpackie"," bieszczadzki "," 40 - 44 ",1522,780,742,false,true,true,false]
["Podkarpackie"," bieszczadzki "," 45 - 49 ",1396,709,687,false,true,true,false]
["Podkarpackie"," bieszczadzki "," 50 - 54 ",1457,736,721,false,true,true,false]
["Podkarpackie"," bieszczadzki "," 55 - 59 ",1795,875,920,false,true,true,false]
["Podkarpackie"," bieszczadzki "," 60 - 64 ",1502,743,759,false,true,true,false]
["Podkarpackie"," bieszczadzki "," 65 - 69 ",1130,555,575,false,true,true,false]
["Podkarpackie"," bieszczadzki "," 70 i więcej",1926,729,1197,true,true,false,false]
["Podkarpackie"," bieszczadzki ","65+",{"$f":"SUM(D3486:D3487)","v":3056},{"$f":"SUM(E3486:E3487)","v":1284},{"$f":"SUM(F3486:F3487)","v":1772},true,false,true,false]
["Podkarpackie"," brzozowski "," brzozowski ",66004,32657,33347,true,true,true,true]
["Podkarpackie"," brzozowski "," 0 - 4 ",3349,1707,1642,false,true,true,false]
["Podkarpackie"," brzozowski "," 5 - 9 ",3741,1960,1781,false,true,true,false]
["Podkarpackie"," brzozowski "," 10 - 14 ",3657,1890,1767,false,true,true,false]
["Podkarpackie"," brzozowski "," 15 - 19 ",3975,2021,1954,false,true,true,false]
["Podkarpackie"," brzozowski "," 20 - 24 ",4826,2429,2397,false,true,true,false]
["Podkarpackie"," brzozowski "," 25 - 29 ",5365,2790,2575,false,true,true,false]
["Podkarpackie"," brzozowski "," 30 - 34 ",5161,2673,2488,false,true,true,false]
["Podkarpackie"," brzozowski "," 35 - 39 ",4991,2572,2419,false,true,true,false]
["Podkarpackie"," brzozowski "," 40 - 44 ",4656,2357,2299,false,true,true,false]
["Podkarpackie"," brzozowski "," 45 - 49 ",4151,2068,2083,false,true,true,false]
["Podkarpackie"," brzozowski "," 50 - 54 ",4123,2188,1935,false,true,true,false]
["Podkarpackie"," brzozowski "," 55 - 59 ",4391,2230,2161,false,true,true,false]
["Podkarpackie"," brzozowski "," 60 - 64 ",3853,1869,1984,false,true,true,false]
["Podkarpackie"," brzozowski "," 65 - 69 ",3138,1475,1663,false,true,true,false]
["Podkarpackie"," brzozowski "," 70 i więcej",6627,2428,4199,true,true,false,false]
["Podkarpackie"," brzozowski ","65+",{"$f":"SUM(D3503:D3504)","v":9765},{"$f":"SUM(E3503:E3504)","v":3903},{"$f":"SUM(F3503:F3504)","v":5862},true,false,true,false]
["Podkarpackie"," dębicki "," dębicki ",135242,66829,68413,true,true,true,true]
["Podkarpackie"," dębicki "," 0 - 4 ",6820,3412,3408,false,true,true,false]
["Podkarpackie"," dębicki "," 5 - 9 ",7713,3968,3745,false,true,true,false]
["Podkarpackie"," dębicki "," 10 - 14 ",7070,3620,3450,false,true,true,false]
["Podkarpackie"," dębicki "," 15 - 19 ",7767,4045,3722,false,true,true,false]
["Podkarpackie"," dębicki "," 20 - 24 ",9532,4947,4585,false,true,true,false]
["Podkarpackie",{"$f":"IF(C3511=\"65+\",C3512,B3511)","v":" dębicki "}," 25 - 29 ",11129,5804,5325,false,true,true,false]
["Podkarpackie"," dębicki "," 30 - 34 ",11496,5993,5503,false,true,true,false]
["Podkarpackie"," dębicki "," 35 - 39 ",10443,5386,5057,false,true,true,false]
["Podkarpackie"," dębicki "," 40 - 44 ",9345,4755,4590,false,true,true,false]
["Podkarpackie"," dębicki "," 45 - 49 ",8553,4354,4199,{"$f":"IFERROR(IF(SEARCH(\" - \",C3516)>0,FALSE,TRUE),TRUE)","v":false},{"$f":"IFERROR(IF(SEARCH(\"65+\",C3516)>0,FALSE,TRUE),TRUE)","v":true},{"$f":"IFERROR(IF(SEARCH(\"70\",C3516)>0,FALSE,TRUE),TRUE)","v":true},{"$f":"AND(G3516:I3516)","v":false}]
["Podkarpackie"," dębicki "," 50 - 54 ",8839,4463,4376,false,true,true,false]
["Podkarpackie"," dębicki "," 55 - 59 ",9284,4599,4685,false,true,true,false]
["Podkarpackie"," dębicki "," 60 - 64 ",8097,3889,4208,false,true,true,false]
["Podkarpackie"," dębicki "," 65 - 69 ",6230,2813,3417,false,true,true,false]
["Podkarpackie"," dębicki "," 70 i więcej",12924,4781,8143,true,true,false,false]
["Podkarpackie"," dębicki ","65+",{"$f":"SUM(D3520:D3521)","v":19154},{"$f":"SUM(E3520:E3521)","v":7594},{"$f":"SUM(F3520:F3521)","v":11560},true,false,true,false]
["Podkarpackie"," jarosławski "," jarosławski ",121374,59186,62188,true,true,true,true]
["Podkarpackie"," jarosławski "," 0 - 4 ",5776,2934,2842,false,true,true,false]
["Podkarpackie"," jarosławski "," 5 - 9 ",6406,3254,3152,false,true,true,false]
["Podkarpackie"," jarosławski "," 10 - 14 ",6066,3102,2964,false,true,true,false]
["Podkarpackie"," jarosławski "," 15 - 19 ",7392,3782,3610,false,true,true,false]
["Podkarpackie"," jarosławski "," 20 - 24 ",8548,4415,4133,false,true,true,false]
["Podkarpackie"," jarosławski "," 25 - 29 ",9627,4915,4712,false,true,true,false]
["Podkarpackie"," jarosławski "," 30 - 34 ",10116,5146,4970,false,true,true,false]
["Podkarpackie"," jarosławski "," 35 - 39 ",9374,4834,4540,false,true,true,false]
["Podkarpackie"," jarosławski "," 40 - 44 ",8441,4288,4153,false,true,true,false]
["Podkarpackie"," jarosławski "," 45 - 49 ",7597,3807,3790,false,true,true,false]
["Podkarpackie"," jarosławski "," 50 - 54 ",7642,3810,3832,false,true,true,false]
["Podkarpackie"," jarosławski "," 55 - 59 ",8417,4154,4263,false,true,true,false]
["Podkarpackie"," jarosławski "," 60 - 64 ",7929,3717,4212,false,true,true,false]
["Podkarpackie"," jarosławski "," 65 - 69 ",6233,2786,3447,false,true,true,false]
["Podkarpackie"," jarosławski "," 70 i więcej",11810,4242,7568,true,true,false,false]
["Podkarpackie"," jarosławski ","65+",{"$f":"SUM(D3537:D3538)","v":18043},{"$f":"SUM(E3537:E3538)","v":7028},{"$f":"SUM(F3537:F3538)","v":11015},true,false,true,false]
["Podkarpackie"," jasielski "," jasielski ",114533,56224,58309,true,true,true,true]
["Podkarpackie"," jasielski "," 0 - 4 ",5033,2622,2411,false,true,true,false]
["Podkarpackie"," jasielski "," 5 - 9 ",5828,3057,2771,false,true,true,false]
["Podkarpackie"," jasielski "," 10 - 14 ",5678,2828,2850,false,true,true,false]
["Podkarpackie"," jasielski "," 15 - 19 ",6545,3382,3163,false,true,true,false]
["Podkarpackie"," jasielski "," 20 - 24 ",7998,4012,3986,false,true,true,false]
["Podkarpackie"," jasielski "," 25 - 29 ",8888,4642,4246,false,true,true,false]
["Podkarpackie"," jasielski "," 30 - 34 ",9131,4733,4398,false,true,true,false]
["Podkarpackie"," jasielski "," 35 - 39 ",8761,4509,4252,false,true,true,false]
["Podkarpackie"," jasielski "," 40 - 44 ",8273,4248,4025,false,true,true,false]
["Podkarpackie"," jasielski "," 45 - 49 ",7597,3856,3741,false,true,true,false]
["Podkarpackie"," jasielski "," 50 - 54 ",7811,4002,3809,false,true,true,false]
["Podkarpackie"," jasielski "," 55 - 59 ",8087,4001,4086,false,true,true,false]
["Podkarpackie"," jasielski "," 60 - 64 ",7304,3561,3743,false,true,true,false]
["Podkarpackie"," jasielski "," 65 - 69 ",5713,2562,3151,false,true,true,false]
["Podkarpackie"," jasielski "," 70 i więcej",11886,4209,7677,true,true,false,false]
["Podkarpackie"," jasielski ","65+",{"$f":"SUM(D3554:D3555)","v":17599},{"$f":"SUM(E3554:E3555)","v":6771},{"$f":"SUM(F3554:F3555)","v":10828},true,false,true,false]
["Podkarpackie"," kolbuszowski "," kolbuszowski ",62412,31091,31321,true,true,true,true]
["Podkarpackie"," kolbuszowski "," 0 - 4 ",2809,1418,1391,false,true,true,false]
["Podkarpackie"," kolbuszowski "," 5 - 9 ",3329,1762,1567,false,true,true,false]
["Podkarpackie"," kolbuszowski "," 10 - 14 ",3375,1729,1646,false,true,true,false]
["Podkarpackie"," kolbuszowski "," 15 - 19 ",3852,2003,1849,false,true,true,false]
["Podkarpackie"," kolbuszowski "," 20 - 24 ",4817,2439,2378,false,true,true,false]
["Podkarpackie"," kolbuszowski "," 25 - 29 ",5078,2661,2417,false,true,true,false]
["Podkarpackie"," kolbuszowski "," 30 - 34 ",5176,2680,2496,false,true,true,false]
["Podkarpackie"," kolbuszowski "," 35 - 39 ",4875,2470,2405,false,true,true,false]
["Podkarpackie"," kolbuszowski "," 40 - 44 ",4618,2387,2231,false,true,true,false]
["Podkarpackie"," kolbuszowski "," 45 - 49 ",4199,2121,2078,false,true,true,false]
["Podkarpackie"," kolbuszowski "," 50 - 54 ",4184,2189,1995,false,true,true,false]
["Podkarpackie"," kolbuszowski "," 55 - 59 ",3876,2011,1865,false,true,true,false]
["Podkarpackie"," kolbuszowski "," 60 - 64 ",3352,1638,1714,false,true,true,false]
["Podkarpackie"," kolbuszowski "," 65 - 69 ",2773,1278,1495,false,true,true,false]
["Podkarpackie"," kolbuszowski "," 70 i więcej",6099,2305,3794,true,true,false,false]
["Podkarpackie"," kolbuszowski ","65+",{"$f":"SUM(D3571:D3572)","v":8872},{"$f":"SUM(E3571:E3572)","v":3583},{"$f":"SUM(F3571:F3572)","v":5289},true,false,true,false]
["Podkarpackie"," krośnieński "," krośnieński ",112081,55129,56952,true,true,true,true]
["Podkarpackie"," krośnieński "," 0 - 4 ",5504,2851,2653,false,true,true,false]
["Podkarpackie",{"$f":"IF(C3575=\"65+\",C3576,B3575)","v":" krośnieński "}," 5 - 9 ",6257,3186,3071,false,true,true,false]
["Podkarpackie"," krośnieński "," 10 - 14 ",5741,2962,2779,false,true,true,false]
["Podkarpackie"," krośnieński "," 15 - 19 ",7080,3643,3437,false,true,true,false]
["Podkarpackie"," krośnieński "," 20 - 24 ",7674,3957,3717,false,true,true,false]
["Podkarpackie"," krośnieński "," 25 - 29 ",8461,4384,4077,{"$f":"IFERROR(IF(SEARCH(\" - \",C3580)>0,FALSE,TRUE),TRUE)","v":false},{"$f":"IFERROR(IF(SEARCH(\"65+\",C3580)>0,FALSE,TRUE),TRUE)","v":true},{"$f":"IFERROR(IF(SEARCH(\"70\",C3580)>0,FALSE,TRUE),TRUE)","v":true},{"$f":"AND(G3580:I3580)","v":false}]
["Podkarpackie"," krośnieński "," 30 - 34 ",8788,4578,4210,false,true,true,false]
["Podkarpackie"," krośnieński "," 35 - 39 ",8563,4377,4186,false,true,true,false]
["Podkarpackie"," krośnieński "," 40 - 44 ",7926,4064,3862,false,true,true,false]
["Podkarpackie"," krośnieński "," 45 - 49 ",7252,3701,3551,false,true,true,false]
["Podkarpackie"," krośnieński "," 50 - 54 ",7254,3693,3561,false,true,true,false]
["Podkarpackie"," krośnieński "," 55 - 59 ",7614,3782,3832,false,true,true,false]
["Podkarpackie"," krośnieński "," 60 - 64 ",6935,3363,3572,false,true,true,false]
["Podkarpackie"," krośnieński "," 65 - 69 ",5630,2563,3067,false,true,true,false]
["Podkarpackie"," krośnieński "," 70 i więcej",11402,4025,7377,true,true,false,false]
["Podkarpackie"," krośnieński ","65+",{"$f":"SUM(D3588:D3589)","v":17032},{"$f":"SUM(E3588:E3589)","v":6588},{"$f":"SUM(F3588:F3589)","v":10444},true,false,true,false]
["Podkarpackie"," leżajski "," leżajski ",69588,34406,35182,true,true,true,true]
["Podkarpackie"," leżajski "," 0 - 4 ",3202,1587,1615,false,true,true,false]
["Podkarpackie"," leżajski "," 5 - 9 ",3682,1910,1772,false,true,true,false]
["Podkarpackie"," leżajski "," 10 - 14 ",3704,1919,1785,false,true,true,false]
["Podkarpackie"," leżajski "," 15 - 19 ",4273,2226,2047,false,true,true,false]
["Podkarpackie"," leżajski "," 20 - 24 ",4980,2577,2403,false,true,true,false]
["Podkarpackie"," leżajski "," 25 - 29 ",5454,2880,2574,false,true,true,false]
["Podkarpackie"," leżajski "," 30 - 34 ",5634,2880,2754,false,true,true,false]
["Podkarpackie"," leżajski "," 35 - 39 ",5400,2822,2578,false,true,true,false]
["Podkarpackie"," leżajski "," 40 - 44 ",5001,2532,2469,false,true,true,false]
["Podkarpackie"," leżajski "," 45 - 49 ",4515,2226,2289,false,true,true,false]
["Podkarpackie"," leżajski "," 50 - 54 ",4479,2347,2132,false,true,true,false]
["Podkarpackie"," leżajski "," 55 - 59 ",4689,2333,2356,false,true,true,false]
["Podkarpackie"," leżajski "," 60 - 64 ",4343,2116,2227,false,true,true,false]
["Podkarpackie"," leżajski "," 65 - 69 ",3482,1587,1895,false,true,true,false]
["Podkarpackie"," leżajski "," 70 i więcej",6750,2464,4286,true,true,false,false]
["Podkarpackie"," leżajski ","65+",{"$f":"SUM(D3605:D3606)","v":10232},{"$f":"SUM(E3605:E3606)","v":4051},{"$f":"SUM(F3605:F3606)","v":6181},true,false,true,false]
["Podkarpackie"," lubaczowski "," lubaczowski ",56376,28022,28354,true,true,true,true]
["Podkarpackie"," lubaczowski "," 0 - 4 ",2438,1214,1224,false,true,true,false]
["Podkarpackie"," lubaczowski "," 5 - 9 ",2924,1501,1423,false,true,true,false]
["Podkarpackie"," lubaczowski "," 10 - 14 ",2880,1523,1357,false,true,true,false]
["Podkarpackie"," lubaczowski "," 15 - 19 ",3074,1596,1478,false,true,true,false]
["Podkarpackie"," lubaczowski "," 20 - 24 ",4196,2130,2066,false,true,true,false]
["Podkarpackie"," lubaczowski "," 25 - 29 ",4478,2367,2111,false,true,true,false]
["Podkarpackie"," lubaczowski "," 30 - 34 ",4597,2373,2224,false,true,true,false]
["Podkarpackie"," lubaczowski "," 35 - 39 ",4223,2215,2008,false,true,true,false]
["Podkarpackie"," lubaczowski "," 40 - 44 ",4011,2039,1972,false,true,true,false]
["Podkarpackie"," lubaczowski "," 45 - 49 ",3558,1864,1694,false,true,true,false]
["Podkarpackie"," lubaczowski "," 50 - 54 ",3848,2034,1814,false,true,true,false]
["Podkarpackie"," lubaczowski "," 55 - 59 ",3976,2042,1934,false,true,true,false]
["Podkarpackie"," lubaczowski "," 60 - 64 ",3459,1716,1743,false,true,true,false]
["Podkarpackie"," lubaczowski "," 65 - 69 ",2879,1335,1544,false,true,true,false]
["Podkarpackie"," lubaczowski "," 70 i więcej",5835,2073,3762,true,true,false,false]
["Podkarpackie"," lubaczowski ","65+",{"$f":"SUM(D3622:D3623)","v":8714},{"$f":"SUM(E3622:E3623)","v":3408},{"$f":"SUM(F3622:F3623)","v":5306},true,false,true,false]
["Podkarpackie"," łańcucki "," łańcucki ",80216,39280,40936,true,true,true,true]
["Podkarpackie"," łańcucki "," 0 - 4 ",4310,2187,2123,false,true,true,false]
["Podkarpackie"," łańcucki "," 5 - 9 ",4651,2394,2257,false,true,true,false]
["Podkarpackie"," łańcucki "," 10 - 14 ",4152,2176,1976,false,true,true,false]
["Podkarpackie"," łańcucki "," 15 - 19 ",4705,2458,2247,false,true,true,false]
["Podkarpackie"," łańcucki "," 20 - 24 ",5479,2777,2702,false,true,true,false]
["Podkarpackie"," łańcucki "," 25 - 29 ",6215,3160,3055,false,true,true,false]
["Podkarpackie"," łańcucki "," 30 - 34 ",6658,3422,3236,false,true,true,false]
["Podkarpackie"," łańcucki "," 35 - 39 ",6213,3179,3034,false,true,true,false]
["Podkarpackie"," łańcucki "," 40 - 44 ",5687,2884,2803,false,true,true,false]
["Podkarpackie"," łańcucki "," 45 - 49 ",4857,2446,2411,false,true,true,false]
["Podkarpackie"," łańcucki "," 50 - 54 ",4951,2470,2481,false,true,true,false]
["Podkarpackie"," łańcucki "," 55 - 59 ",5142,2573,2569,false,true,true,false]
["Podkarpackie"," łańcucki "," 60 - 64 ",4755,2278,2477,false,true,true,false]
["Podkarpackie"," łańcucki "," 65 - 69 ",3919,1757,2162,false,true,true,false]
["Podkarpackie",{"$f":"IF(C3639=\"65+\",C3640,B3639)","v":" łańcucki "}," 70 i więcej",8522,3119,5403,true,true,false,false]
["Podkarpackie"," łańcucki ","65+",{"$f":"SUM(D3639:D3640)","v":12441},{"$f":"SUM(E3639:E3640)","v":4876},{"$f":"SUM(F3639:F3640)","v":7565},true,false,true,false]
["Podkarpackie"," mielecki "," mielecki ",136280,67176,69104,true,true,true,true]
["Podkarpackie"," mielecki "," 0 - 4 ",6727,3566,3161,false,true,true,false]
["Podkarpackie"," mielecki "," 5 - 9 ",7465,3787,3678,{"$f":"IFERROR(IF(SEARCH(\" - \",C3644)>0,FALSE,TRUE),TRUE)","v":false},{"$f":"IFERROR(IF(SEARCH(\"65+\",C3644)>0,FALSE,TRUE),TRUE)","v":true},{"$f":"IFERROR(IF(SEARCH(\"70\",C3644)>0,FALSE,TRUE),TRUE)","v":true},{"$f":"AND(G3644:I3644)","v":false}]
["Podkarpackie"," mielecki "," 10 - 14 ",6954,3598,3356,false,true,true,false]
["Podkarpackie"," mielecki "," 15 - 19 ",7636,3873,3763,false,true,true,false]
["Podkarpackie"," mielecki "," 20 - 24 ",9391,4810,4581,false,true,true,false]
["Podkarpackie"," mielecki "," 25 - 29 ",10785,5507,5278,false,true,true,false]
["Podkarpackie"," mielecki "," 30 - 34 ",11464,5894,5570,false,true,true,false]
["Podkarpackie"," mielecki "," 35 - 39 ",10953,5612,5341,false,true,true,false]
["Podkarpackie"," mielecki "," 40 - 44 ",9491,4855,4636,false,true,true,false]
["Podkarpackie"," mielecki "," 45 - 49 ",8414,4267,4147,false,true,true,false]
["Podkarpackie"," mielecki "," 50 - 54 ",8650,4385,4265,false,true,true,false]
["Podkarpackie"," mielecki "," 55 - 59 ",9231,4550,4681,false,true,true,false]
["Podkarpackie"," mielecki "," 60 - 64 ",8595,4084,4511,false,true,true,false]
["Podkarpackie"," mielecki "," 65 - 69 ",6733,3129,3604,false,true,true,false]
["Podkarpackie"," mielecki "," 70 i więcej",13791,5259,8532,true,true,false,false]
["Podkarpackie"," mielecki ","65+",{"$f":"SUM(D3656:D3657)","v":20524},{"$f":"SUM(E3656:E3657)","v":8388},{"$f":"SUM(F3656:F3657)","v":12136},true,false,true,false]
["Podkarpackie"," niżański "," niżański ",67068,33224,33844,true,true,true,true]
["Podkarpackie"," niżański "," 0 - 4 ",2714,1392,1322,false,true,true,false]
["Podkarpackie"," niżański "," 5 - 9 ",3348,1714,1634,false,true,true,false]
["Podkarpackie"," niżański "," 10 - 14 ",3362,1746,1616,false,true,true,false]
["Podkarpackie"," niżański "," 15 - 19 ",3843,1964,1879,false,true,true,false]
["Podkarpackie"," niżański "," 20 - 24 ",5132,2647,2485,false,true,true,false]
["Podkarpackie"," niżański "," 25 - 29 ",5695,2958,2737,false,true,true,false]
["Podkarpackie"," niżański "," 30 - 34 ",5553,2882,2671,false,true,true,false]
["Podkarpackie"," niżański "," 35 - 39 ",4897,2556,2341,false,true,true,false]
["Podkarpackie"," niżański "," 40 - 44 ",4793,2451,2342,false,true,true,false]
["Podkarpackie"," niżański "," 45 - 49 ",4498,2249,2249,false,true,true,false]
["Podkarpackie"," niżański "," 50 - 54 ",4790,2447,2343,false,true,true,false]
["Podkarpackie"," niżański "," 55 - 59 ",4878,2507,2371,false,true,true,false]
["Podkarpackie"," niżański "," 60 - 64 ",3968,1986,1982,false,true,true,false]
["Podkarpackie"," niżański "," 65 - 69 ",3163,1477,1686,false,true,true,false]
["Podkarpackie"," niżański "," 70 i więcej",6434,2248,4186,true,true,false,false]
["Podkarpackie"," niżański ","65+",{"$f":"SUM(D3673:D3674)","v":9597},{"$f":"SUM(E3673:E3674)","v":3725},{"$f":"SUM(F3673:F3674)","v":5872},true,false,true,false]
["Podkarpackie"," przemyski "," przemyski ",74215,37225,36990,true,true,true,true]
["Podkarpackie"," przemyski "," 0 - 4 ",3503,1764,1739,false,true,true,false]
["Podkarpackie"," przemyski "," 5 - 9 ",4035,2093,1942,false,true,true,false]
["Podkarpackie"," przemyski "," 10 - 14 ",3938,2054,1884,false,true,true,false]
["Podkarpackie"," przemyski "," 15 - 19 ",4625,2403,2222,false,true,true,false]
["Podkarpackie"," przemyski "," 20 - 24 ",5916,3074,2842,false,true,true,false]
["Podkarpackie"," przemyski "," 25 - 29 ",6035,3173,2862,false,true,true,false]
["Podkarpackie"," przemyski "," 30 - 34 ",5956,3191,2765,false,true,true,false]
["Podkarpackie"," przemyski "," 35 - 39 ",5532,2840,2692,false,true,true,false]
["Podkarpackie"," przemyski "," 40 - 44 ",5352,2716,2636,false,true,true,false]
["Podkarpackie"," przemyski "," 45 - 49 ",4938,2547,2391,false,true,true,false]
["Podkarpackie"," przemyski "," 50 - 54 ",4875,2595,2280,false,true,true,false]
["Podkarpackie"," przemyski "," 55 - 59 ",5015,2613,2402,false,true,true,false]
["Podkarpackie"," przemyski "," 60 - 64 ",4294,2162,2132,false,true,true,false]
["Podkarpackie"," przemyski "," 65 - 69 ",3218,1517,1701,false,true,true,false]
["Podkarpackie"," przemyski "," 70 i więcej",6983,2483,4500,true,true,false,false]
["Podkarpackie"," przemyski ","65+",{"$f":"SUM(D3690:D3691)","v":10201},{"$f":"SUM(E3690:E3691)","v":4000},{"$f":"SUM(F3690:F3691)","v":6201},true,false,true,false]
["Podkarpackie"," przeworski "," przeworski ",78830,38799,40031,true,true,true,true]
["Podkarpackie"," przeworski "," 0 - 4 ",3796,1945,1851,false,true,true,false]
["Podkarpackie"," przeworski "," 5 - 9 ",4362,2174,2188,false,true,true,false]
["Podkarpackie"," przeworski "," 10 - 14 ",4131,2101,2030,false,true,true,false]
["Podkarpackie"," przeworski "," 15 - 19 ",4486,2290,2196,false,true,true,false]
["Podkarpackie"," przeworski "," 20 - 24 ",5809,2940,2869,false,true,true,false]
["Podkarpackie"," przeworski "," 25 - 29 ",6300,3337,2963,false,true,true,false]
["Podkarpackie"," przeworski "," 30 - 34 ",6364,3267,3097,false,true,true,false]
["Podkarpackie"," przeworski "," 35 - 39 ",5916,3057,2859,false,true,true,false]
["Podkarpackie"," przeworski "," 40 - 44 ",5650,2863,2787,false,true,true,false]
["Podkarpackie"," przeworski "," 45 - 49 ",4824,2446,2378,false,true,true,false]
["Podkarpackie",{"$f":"IF(C3703=\"65+\",C3704,B3703)","v":" przeworski "}," 50 - 54 ",5077,2579,2498,false,true,true,false]
["Podkarpackie"," przeworski "," 55 - 59 ",5348,2762,2586,false,true,true,false]
["Podkarpackie"," przeworski "," 60 - 64 ",4772,2323,2449,false,true,true,false]
["Podkarpackie"," przeworski "," 65 - 69 ",3822,1730,2092,false,true,true,false]
["Podkarpackie"," przeworski "," 70 i więcej",8173,2985,5188,{"$f":"IFERROR(IF(SEARCH(\" - \",C3708)>0,FALSE,TRUE),TRUE)","v":true},{"$f":"IFERROR(IF(SEARCH(\"65+\",C3708)>0,FALSE,TRUE),TRUE)","v":true},{"$f":"IFERROR(IF(SEARCH(\"70\",C3708)>0,FALSE,TRUE),TRUE)","v":false},{"$f":"AND(G3708:I3708)","v":false}]
["Podkarpackie"," przeworski ","65+",{"$f":"SUM(D3707:D3708)","v":11995},{"$f":"SUM(E3707:E3708)","v":4715},{"$f":"SUM(F3707:F3708)","v":7280},true,false,true,false]
["Podkarpackie"," ropczycko-sędziszowski "," ropczycko-sędziszowski ",73773,36462,37311,true,true,true,true]
["Podkarpackie"," ropczycko-sędziszowski "," 0 - 4 ",3980,2071,1909,false,true,true,false]
["Podkarpackie"," ropczycko-sędziszowski "," 5 - 9 ",4284,2150,2134,false,true,true,false]
["Podkarpackie"," ropczycko-sędziszowski "," 10 - 14 ",4127,2097,2030,false,true,true,false]
["Podkarpackie"," ropczycko-sędziszowski "," 15 - 19 ",4472,2318,2154,false,true,true,false]
["Podkarpackie"," ropczycko-sędziszowski "," 20 - 24 ",5334,2668,2666,false,true,true,false]
["Podkarpackie"," ropczycko-sędziszowski "," 25 - 29 ",5959,3082,2877,false,true,true,false]
["Podkarpackie"," ropczycko-sędziszowski "," 30 - 34 ",6047,3131,2916,false,true,true,false]
["Podkarpackie"," ropczycko-sędziszowski "," 35 - 39 ",5847,2938,2909,false,true,true,false]
["Podkarpackie"," ropczycko-sędziszowski "," 40 - 44 ",5302,2710,2592,false,true,true,false]
["Podkarpackie"," ropczycko-sędziszowski "," 45 - 49 ",4767,2438,2329,false,true,true,false]
["Podkarpackie"," ropczycko-sędziszowski "," 50 - 54 ",4555,2344,2211,false,true,true,false]
["Podkarpackie"," ropczycko-sędziszowski "," 55 - 59 ",4518,2338,2180,false,true,true,false]
["Podkarpackie"," ropczycko-sędziszowski "," 60 - 64 ",4196,2038,2158,false,true,true,false]
["Podkarpackie"," ropczycko-sędziszowski "," 65 - 69 ",3380,1551,1829,false,true,true,false]
["Podkarpackie"," ropczycko-sędziszowski "," 70 i więcej",7005,2588,4417,true,true,false,false]
["Podkarpackie"," ropczycko-sędziszowski ","65+",{"$f":"SUM(D3724:D3725)","v":10385},{"$f":"SUM(E3724:E3725)","v":4139},{"$f":"SUM(F3724:F3725)","v":6246},true,false,true,false]
["Podkarpackie"," rzeszowski "," rzeszowski ",167638,82796,84842,true,true,true,true]
["Podkarpackie"," rzeszowski "," 0 - 4 ",8854,4574,4280,false,true,true,false]
["Podkarpackie"," rzeszowski "," 5 - 9 ",9752,4993,4759,false,true,true,false]
["Podkarpackie"," rzeszowski "," 10 - 14 ",9094,4664,4430,false,true,true,false]
["Podkarpackie"," rzeszowski "," 15 - 19 ",9875,5064,4811,false,true,true,false]
["Podkarpackie"," rzeszowski "," 20 - 24 ",11918,5990,5928,false,true,true,false]
["Podkarpackie"," rzeszowski "," 25 - 29 ",13223,6899,6324,false,true,true,false]
["Podkarpackie"," rzeszowski "," 30 - 34 ",13770,7016,6754,false,true,true,false]
["Podkarpackie"," rzeszowski "," 35 - 39 ",13075,6625,6450,false,true,true,false]
["Podkarpackie"," rzeszowski "," 40 - 44 ",12598,6406,6192,false,true,true,false]
["Podkarpackie"," rzeszowski "," 45 - 49 ",11267,5699,5568,false,true,true,false]
["Podkarpackie"," rzeszowski "," 50 - 54 ",10605,5488,5117,false,true,true,false]
["Podkarpackie"," rzeszowski "," 55 - 59 ",10478,5366,5112,false,true,true,false]
["Podkarpackie"," rzeszowski "," 60 - 64 ",9064,4439,4625,false,true,true,false]
["Podkarpackie"," rzeszowski "," 65 - 69 ",7484,3459,4025,false,true,true,false]
["Podkarpackie"," rzeszowski "," 70 i więcej",16581,6114,10467,true,true,false,false]
["Podkarpackie"," rzeszowski ","65+",{"$f":"SUM(D3741:D3742)","v":24065},{"$f":"SUM(E3741:E3742)","v":9573},{"$f":"SUM(F3741:F3742)","v":14492},true,false,true,false]
["Podkarpackie"," sanocki "," sanocki ",95548,46761,48787,true,true,true,true]
["Podkarpackie"," sanocki "," 0 - 4 ",4258,2191,2067,false,true,true,false]
["Podkarpackie"," sanocki "," 5 - 9 ",5070,2598,2472,false,true,true,false]
["Podkarpackie"," sanocki "," 10 - 14 ",4800,2479,2321,false,true,true,false]
["Podkarpackie"," sanocki "," 15 - 19 ",5417,2748,2669,false,true,true,false]
["Podkarpackie"," sanocki "," 20 - 24 ",6134,3066,3068,false,true,true,false]
["Podkarpackie"," sanocki "," 25 - 29 ",7218,3709,3509,false,true,true,false]
["Podkarpackie"," sanocki "," 30 - 34 ",7902,4083,3819,false,true,true,false]
["Podkarpackie"," sanocki "," 35 - 39 ",7554,3819,3735,false,true,true,false]
["Podkarpackie"," sanocki "," 40 - 44 ",6870,3511,3359,false,true,true,false]
["Podkarpackie"," sanocki "," 45 - 49 ",5840,2993,2847,false,true,true,false]
["Podkarpackie"," sanocki "," 50 - 54 ",6266,3148,3118,false,true,true,false]
["Podkarpackie"," sanocki "," 55 - 59 ",7054,3394,3660,false,true,true,false]
["Podkarpackie"," sanocki "," 60 - 64 ",6563,3090,3473,false,true,true,false]
["Podkarpackie"," sanocki "," 65 - 69 ",5403,2488,2915,false,true,true,false]
["Podkarpackie"," sanocki "," 70 i więcej",9199,3444,5755,true,true,false,false]
["Podkarpackie"," sanocki ","65+",{"$f":"SUM(D3758:D3759)","v":14602},{"$f":"SUM(E3758:E3759)","v":5932},{"$f":"SUM(F3758:F3759)","v":8670},true,false,true,false]
["Podkarpackie"," stalowowolski "," stalowowolski ",107675,52385,55290,true,true,true,true]
["Podkarpackie"," stalowowolski "," 0 - 4 ",4440,2296,2144,false,true,true,false]
["Podkarpackie"," stalowowolski "," 5 - 9 ",5182,2626,2556,false,true,true,false]
["Podkarpackie"," stalowowolski "," 10 - 14 ",5011,2571,2440,false,true,true,false]
["Podkarpackie"," stalowowolski "," 15 - 19 ",5755,2917,2838,false,true,true,false]
["Podkarpackie"," stalowowolski "," 20 - 24 ",6916,3552,3364,false,true,true,false]
["Podkarpackie"," stalowowolski "," 25 - 29 ",7994,4013,3981,false,true,true,false]
["Podkarpackie",{"$f":"IF(C3767=\"65+\",C3768,B3767)","v":" stalowowolski "}," 30 - 34 ",8859,4498,4361,false,true,true,false]
["Podkarpackie"," stalowowolski "," 35 - 39 ",8861,4536,4325,false,true,true,false]
["Podkarpackie"," stalowowolski "," 40 - 44 ",7764,3953,3811,false,true,true,false]
["Podkarpackie"," stalowowolski "," 45 - 49 ",6605,3290,3315,false,true,true,false]
["Podkarpackie"," stalowowolski "," 50 - 54 ",6580,3242,3338,{"$f":"IFERROR(IF(SEARCH(\" - \",C3772)>0,FALSE,TRUE),TRUE)","v":false},{"$f":"IFERROR(IF(SEARCH(\"65+\",C3772)>0,FALSE,TRUE),TRUE)","v":true},{"$f":"IFERROR(IF(SEARCH(\"70\",C3772)>0,FALSE,TRUE),TRUE)","v":true},{"$f":"AND(G3772:I3772)","v":false}]
["Podkarpackie"," stalowowolski "," 55 - 59 ",7985,3828,4157,false,true,true,false]
["Podkarpackie"," stalowowolski "," 60 - 64 ",8577,4014,4563,false,true,true,false]
["Podkarpackie"," stalowowolski "," 65 - 69 ",6544,3023,3521,false,true,true,false]
["Podkarpackie"," stalowowolski "," 70 i więcej",10602,4026,6576,true,true,false,false]
["Podkarpackie"," stalowowolski ","65+",{"$f":"SUM(D3775:D3776)","v":17146},{"$f":"SUM(E3775:E3776)","v":7049},{"$f":"SUM(F3775:F3776)","v":10097},true,false,true,false]
["Podkarpackie"," strzyżowski "," strzyżowski ",61757,30624,31133,true,true,true,true]
["Podkarpackie"," strzyżowski "," 0 - 4 ",2897,1462,1435,false,true,true,false]
["Podkarpackie"," strzyżowski "," 5 - 9 ",3198,1630,1568,false,true,true,false]
["Podkarpackie"," strzyżowski "," 10 - 14 ",3244,1727,1517,false,true,true,false]
["Podkarpackie"," strzyżowski "," 15 - 19 ",3667,1915,1752,false,true,true,false]
["Podkarpackie"," strzyżowski "," 20 - 24 ",4431,2280,2151,false,true,true,false]
["Podkarpackie"," strzyżowski "," 25 - 29 ",4823,2499,2324,false,true,true,false]
["Podkarpackie"," strzyżowski "," 30 - 34 ",4923,2506,2417,false,true,true,false]
["Podkarpackie"," strzyżowski "," 35 - 39 ",4812,2454,2358,false,true,true,false]
["Podkarpackie"," strzyżowski "," 40 - 44 ",4606,2416,2190,false,true,true,false]
["Podkarpackie"," strzyżowski "," 45 - 49 ",4040,2060,1980,false,true,true,false]
["Podkarpackie"," strzyżowski "," 50 - 54 ",4102,2130,1972,false,true,true,false]
["Podkarpackie"," strzyżowski "," 55 - 59 ",4024,2088,1936,false,true,true,false]
["Podkarpackie"," strzyżowski "," 60 - 64 ",3630,1831,1799,false,true,true,false]
["Podkarpackie"," strzyżowski "," 65 - 69 ",2826,1289,1537,false,true,true,false]
["Podkarpackie"," strzyżowski "," 70 i więcej",6534,2337,4197,true,true,false,false]
["Podkarpackie"," strzyżowski ","65+",{"$f":"SUM(D3792:D3793)","v":9360},{"$f":"SUM(E3792:E3793)","v":3626},{"$f":"SUM(F3792:F3793)","v":5734},true,false,true,false]
["Podkarpackie"," tarnobrzeski "," tarnobrzeski ",53613,26361,27252,true,true,true,true]
["Podkarpackie"," tarnobrzeski "," 0 - 4 ",2196,1144,1052,false,true,true,false]
["Podkarpackie"," tarnobrzeski "," 5 - 9 ",2627,1342,1285,false,true,true,false]
["Podkarpackie"," tarnobrzeski "," 10 - 14 ",2671,1393,1278,false,true,true,false]
["Podkarpackie"," tarnobrzeski "," 15 - 19 ",3162,1648,1514,false,true,true,false]
["Podkarpackie"," tarnobrzeski "," 20 - 24 ",3689,1868,1821,false,true,true,false]
["Podkarpackie"," tarnobrzeski "," 25 - 29 ",4153,2191,1962,false,true,true,false]
["Podkarpackie"," tarnobrzeski "," 30 - 34 ",4369,2198,2171,false,true,true,false]
["Podkarpackie"," tarnobrzeski "," 35 - 39 ",4172,2104,2068,false,true,true,false]
["Podkarpackie"," tarnobrzeski "," 40 - 44 ",4130,2117,2013,false,true,true,false]
["Podkarpackie"," tarnobrzeski "," 45 - 49 ",3535,1808,1727,false,true,true,false]
["Podkarpackie"," tarnobrzeski "," 50 - 54 ",3311,1677,1634,false,true,true,false]
["Podkarpackie"," tarnobrzeski "," 55 - 59 ",3877,1894,1983,false,true,true,false]
["Podkarpackie"," tarnobrzeski "," 60 - 64 ",3579,1720,1859,false,true,true,false]
["Podkarpackie"," tarnobrzeski "," 65 - 69 ",2837,1306,1531,false,true,true,false]
["Podkarpackie"," tarnobrzeski "," 70 i więcej",5305,1951,3354,true,true,false,false]
["Podkarpackie"," tarnobrzeski ","65+",{"$f":"SUM(D3809:D3810)","v":8142},{"$f":"SUM(E3809:E3810)","v":3257},{"$f":"SUM(F3809:F3810)","v":4885},true,false,true,false]
["Podkarpackie"," leski "," leski ",26704,13199,13505,true,true,true,true]
["Podkarpackie"," leski "," 0 - 4 ",1151,563,588,false,true,true,false]
["Podkarpackie"," leski "," 5 - 9 ",1355,698,657,false,true,true,false]
["Podkarpackie"," leski "," 10 - 14 ",1264,640,624,false,true,true,false]
["Podkarpackie"," leski "," 15 - 19 ",1527,792,735,false,true,true,false]
["Podkarpackie"," leski "," 20 - 24 ",1773,889,884,false,true,true,false]
["Podkarpackie"," leski "," 25 - 29 ",1983,1028,955,false,true,true,false]
["Podkarpackie"," leski "," 30 - 34 ",2074,1059,1015,false,true,true,false]
["Podkarpackie"," leski "," 35 - 39 ",2138,1063,1075,false,true,true,false]
["Podkarpackie"," leski "," 40 - 44 ",1991,1016,975,false,true,true,false]
["Podkarpackie"," leski "," 45 - 49 ",1753,916,837,false,true,true,false]
["Podkarpackie"," leski "," 50 - 54 ",1806,928,878,false,true,true,false]
["Podkarpackie"," leski "," 55 - 59 ",1931,966,965,false,true,true,false]
["Podkarpackie"," leski "," 60 - 64 ",1770,857,913,false,true,true,false]
["Podkarpackie"," leski "," 65 - 69 ",1439,687,752,false,true,true,false]
["Podkarpackie"," leski "," 70 i więcej",2749,1097,1652,true,true,false,false]
["Podkarpackie"," leski ","65+",{"$f":"SUM(D3826:D3827)","v":4188},{"$f":"SUM(E3826:E3827)","v":1784},{"$f":"SUM(F3826:F3827)","v":2404},true,false,true,false]
["Podlaskie","Wszystkie","Podlaskie ",1187587,578856,608731,{"$f":"IFERROR(IF(SEARCH(\" - \",C3829)>0,FALSE,TRUE),TRUE)","v":true},{"$f":"IFERROR(IF(SEARCH(\"65+\",C3829)>0,FALSE,TRUE),TRUE)","v":true},{"$f":"IFERROR(IF(SEARCH(\"70\",C3829)>0,FALSE,TRUE),TRUE)","v":true},{"$f":"AND(G3829:I3829)","v":true}]
["Podlaskie","Wszystkie"," 0 - 4 ",54281,28090,26191,{"$f":"IFERROR(IF(SEARCH(\" - \",C3830)>0,FALSE,TRUE),TRUE)","v":false},{"$f":"IFERROR(IF(SEARCH(\"65+\",C3830)>0,FALSE,TRUE),TRUE)","v":true},{"$f":"IFERROR(IF(SEARCH(\"70\",C3830)>0,FALSE,TRUE),TRUE)","v":true},{"$f":"AND(G3830:I3830)","v":false}]
["Podlaskie","Wszystkie"," 5 - 9 ",60397,31071,29326,false,true,true,false]
["Podlaskie",{"$f":"IF(C3831=\"65+\",C3832,B3831)","v":"Wszystkie"}," 10 - 14 ",55700,28431,27269,false,true,true,false]
["Podlaskie","Wszystkie"," 15 - 19 ",63180,32362,30818,false,true,true,false]
["Podlaskie","Wszystkie"," 20 - 24 ",79775,40758,39017,false,true,true,false]
["Podlaskie","Wszystkie"," 25 - 29 ",91281,47239,44042,false,true,true,false]
["Podlaskie","Wszystkie"," 30 - 34 ",97394,50741,46653,false,true,true,false]
["Podlaskie","Wszystkie"," 35 - 39 ",88784,45482,43302,false,true,true,false]
["Podlaskie","Wszystkie"," 40 - 44 ",82519,41891,40628,false,true,true,false]
["Podlaskie","Wszystkie"," 45 - 49 ",76507,38521,37986,false,true,true,false]
["Podlaskie","Wszystkie"," 50 - 54 ",79671,39823,39848,false,true,true,false]
["Podlaskie","Wszystkie"," 55 - 59 ",88047,43327,44720,false,true,true,false]
["Podlaskie","Wszystkie"," 60 - 64 ",76658,36426,40232,false,true,true,false]
["Podlaskie","Wszystkie"," 65 - 69 ",59818,26469,33349,false,true,true,false]
["Podlaskie","Wszystkie"," 70 i więcej",133575,48225,85350,true,true,false,false]
["Podlaskie","Wszystkie","65+",{"$f":"SUM(D3843:D3844)","v":193393},{"$f":"SUM(E3843:E3844)","v":74694},{"$f":"SUM(F3843:F3844)","v":118699},true,false,true,false]
["Podlaskie"," Białystok "," Białystok ",296310,139023,157287,true,true,true,true]
["Podlaskie"," Białystok "," 0 - 4 ",14682,7540,7142,false,true,true,false]
["Podlaskie"," Białystok "," 5 - 9 ",15121,7830,7291,false,true,true,false]
["Podlaskie"," Białystok "," 10 - 14 ",12501,6351,6150,false,true,true,false]
["Podlaskie"," Białystok "," 15 - 19 ",13924,7115,6809,false,true,true,false]
["Podlaskie"," Białystok "," 20 - 24 ",15765,7852,7913,false,true,true,false]
["Podlaskie"," Białystok "," 25 - 29 ",24278,11809,12469,false,true,true,false]
["Podlaskie"," Białystok "," 30 - 34 ",27552,13739,13813,false,true,true,false]
["Podlaskie"," Białystok "," 35 - 39 ",24702,12296,12406,false,true,true,false]
["Podlaskie"," Białystok "," 40 - 44 ",21792,10620,11172,false,true,true,false]
["Podlaskie"," Białystok "," 45 - 49 ",18567,9006,9561,false,true,true,false]
["Podlaskie"," Białystok "," 50 - 54 ",18607,8804,9803,false,true,true,false]
["Podlaskie"," Białystok "," 55 - 59 ",21931,9935,11996,false,true,true,false]
["Podlaskie"," Białystok "," 60 - 64 ",19982,8873,11109,false,true,true,false]
["Podlaskie"," Białystok "," 65 - 69 ",15340,6237,9103,false,true,true,false]
["Podlaskie"," Białystok "," 70 i więcej",31566,11016,20550,true,true,false,false]
["Podlaskie"," Białystok ","65+",{"$f":"SUM(D3860:D3861)","v":46906},{"$f":"SUM(E3860:E3861)","v":17253},{"$f":"SUM(F3860:F3861)","v":29653},true,false,true,false]
["Podlaskie"," Łomża "," Łomża ",62716,30065,32651,true,true,true,true]
["Podlaskie"," Łomża "," 0 - 4 ",2799,1450,1349,false,true,true,false]
["Podlaskie"," Łomża "," 5 - 9 ",3133,1629,1504,false,true,true,false]
["Podlaskie"," Łomża "," 10 - 14 ",2727,1389,1338,false,true,true,false]
["Podlaskie"," Łomża "," 15 - 19 ",3706,1800,1906,false,true,true,false]
["Podlaskie"," Łomża "," 20 - 24 ",3756,1933,1823,false,true,true,false]
["Podlaskie"," Łomża "," 25 - 29 ",4844,2499,2345,false,true,true,false]
["Podlaskie"," Łomża "," 30 - 34 ",5670,2899,2771,false,true,true,false]
["Podlaskie"," Łomża "," 35 - 39 ",4946,2514,2432,false,true,true,false]
["Podlaskie"," Łomża "," 40 - 44 ",4159,2078,2081,false,true,true,false]
["Podlaskie"," Łomża "," 45 - 49 ",3849,1826,2023,false,true,true,false]
["Podlaskie"," Łomża "," 50 - 54 ",4431,2020,2411,false,true,true,false]
["Podlaskie"," Łomża "," 55 - 59 ",5276,2417,2859,false,true,true,false]
["Podlaskie"," Łomża "," 60 - 64 ",4727,2120,2607,false,true,true,false]
["Podlaskie"," Łomża "," 65 - 69 ",3302,1443,1859,false,true,true,false]
["Podlaskie"," Łomża "," 70 i więcej",5391,2048,3343,true,true,false,false]
["Podlaskie"," Łomża ","65+",{"$f":"SUM(D3877:D3878)","v":8693},{"$f":"SUM(E3877:E3878)","v":3491},{"$f":"SUM(F3877:F3878)","v":5202},true,false,true,false]
["Podlaskie"," Suwałki "," Suwałki ",69543,33240,36303,true,true,true,true]
["Podlaskie"," Suwałki "," 0 - 4 ",3337,1707,1630,false,true,true,false]
["Podlaskie"," Suwałki "," 5 - 9 ",3994,2047,1947,false,true,true,false]
["Podlaskie"," Suwałki "," 10 - 14 ",3508,1782,1726,false,true,true,false]
["Podlaskie"," Suwałki "," 15 - 19 ",3895,1952,1943,false,true,true,false]
["Podlaskie"," Suwałki "," 20 - 24 ",4852,2440,2412,false,true,true,false]
["Podlaskie"," Suwałki "," 25 - 29 ",5484,2786,2698,false,true,true,false]
["Podlaskie"," Suwałki "," 30 - 34 ",6065,3045,3020,false,true,true,false]
["Podlaskie"," Suwałki "," 35 - 39 ",5215,2621,2594,false,true,true,false]
["Podlaskie"," Suwałki "," 40 - 44 ",4720,2285,2435,false,true,true,false]
["Podlaskie"," Suwałki "," 45 - 49 ",4387,2071,2316,false,true,true,false]
["Podlaskie"," Suwałki "," 50 - 54 ",4988,2344,2644,false,true,true,false]
["Podlaskie"," Suwałki "," 55 - 59 ",5554,2605,2949,false,true,true,false]
["Podlaskie"," Suwałki "," 60 - 64 ",4553,2097,2456,false,true,true,false]
["Podlaskie"," Suwałki "," 65 - 69 ",3392,1490,1902,{"$f":"IFERROR(IF(SEARCH(\" - \",C3894)>0,FALSE,TRUE),TRUE)","v":false},{"$f":"IFERROR(IF(SEARCH(\"65+\",C3894)>0,FALSE,TRUE),TRUE)","v":true},{"$f":"IFERROR(IF(SEARCH(\"70\",C3894)>0,FALSE,TRUE),TRUE)","v":true},{"$f":"AND(G3894:I3894)","v":false}]
["Podlaskie"," Suwałki "," 70 i więcej",5599,1968,3631,true,true,false,false]
["Podlaskie",{"$f":"IF(C3895=\"65+\",C3896,B3895)","v":" Suwałki "},"65+",{"$f":"SUM(D3894:D3895)","v":8991},{"$f":"SUM(E3894:E3895)","v":3458},{"$f":"SUM(F3894:F3895)","v":5533},true,false,true,false]
["Podlaskie"," augustowski "," augustowski ",58998,28906,30092,true,true,true,true]
["Podlaskie"," augustowski "," 0 - 4 ",2576,1377,1199,false,true,true,false]
["Podlaskie"," augustowski "," 5 - 9 ",2973,1505,1468,false,true,true,false]
["Podlaskie"," augustowski "," 10 - 14 ",2977,1548,1429,false,true,true,false]
["Podlaskie"," augustowski "," 15 - 19 ",3255,1681,1574,false,true,true,false]
["Podlaskie"," augustowski "," 20 - 24 ",4277,2163,2114,false,true,true,false]
["Podlaskie"," augustowski "," 25 - 29 ",4460,2349,2111,false,true,true,false]
["Podlaskie"," augustowski "," 30 - 34 ",4497,2349,2148,false,true,true,false]
["Podlaskie"," augustowski "," 35 - 39 ",4232,2140,2092,false,true,true,false]
["Podlaskie"," augustowski "," 40 - 44 ",4202,2143,2059,false,true,true,false]
["Podlaskie"," augustowski "," 45 - 49 ",3967,2028,1939,false,true,true,false]
["Podlaskie"," augustowski "," 50 - 54 ",4043,2025,2018,false,true,true,false]
["Podlaskie"," augustowski "," 55 - 59 ",4234,2102,2132,false,true,true,false]
["Podlaskie"," augustowski "," 60 - 64 ",3569,1687,1882,false,true,true,false]
["Podlaskie"," augustowski "," 65 - 69 ",3045,1370,1675,false,true,true,false]
["Podlaskie"," augustowski "," 70 i więcej",6691,2439,4252,true,true,false,false]
["Podlaskie"," augustowski ","65+",{"$f":"SUM(D3911:D3912)","v":9736},{"$f":"SUM(E3911:E3912)","v":3809},{"$f":"SUM(F3911:F3912)","v":5927},true,false,true,false]
["Podlaskie"," białostocki "," białostocki ",145874,71865,74009,true,true,true,true]
["Podlaskie"," białostocki "," 0 - 4 ",6735,3498,3237,false,true,true,false]
["Podlaskie"," białostocki "," 5 - 9 ",7851,3995,3856,false,true,true,false]
["Podlaskie"," białostocki "," 10 - 14 ",7069,3515,3554,false,true,true,false]
["Podlaskie"," białostocki "," 15 - 19 ",7764,3989,3775,false,true,true,false]
["Podlaskie"," białostocki "," 20 - 24 ",9910,5105,4805,false,true,true,false]
["Podlaskie"," białostocki "," 25 - 29 ",10998,5746,5252,false,true,true,false]
["Podlaskie"," białostocki "," 30 - 34 ",11789,6132,5657,false,true,true,false]
["Podlaskie"," białostocki "," 35 - 39 ",11235,5722,5513,false,true,true,false]
["Podlaskie"," białostocki "," 40 - 44 ",10519,5475,5044,false,true,true,false]
["Podlaskie"," białostocki "," 45 - 49 ",9719,4936,4783,false,true,true,false]
["Podlaskie"," białostocki "," 50 - 54 ",10027,5108,4919,false,true,true,false]
["Podlaskie"," białostocki "," 55 - 59 ",10512,5382,5130,false,true,true,false]
["Podlaskie"," białostocki "," 60 - 64 ",9193,4433,4760,false,true,true,false]
["Podlaskie"," białostocki "," 65 - 69 ",7075,3274,3801,false,true,true,false]
["Podlaskie"," białostocki "," 70 i więcej",15478,5555,9923,true,true,false,false]
["Podlaskie"," białostocki ","65+",{"$f":"SUM(D3928:D3929)","v":22553},{"$f":"SUM(E3928:E3929)","v":8829},{"$f":"SUM(F3928:F3929)","v":13724},true,false,true,false]
["Podlaskie"," bielski "," bielski ",56259,27839,28420,true,true,true,true]
["Podlaskie"," bielski "," 0 - 4 ",2390,1264,1126,false,true,true,false]
["Podlaskie"," bielski "," 5 - 9 ",2659,1399,1260,false,true,true,false]
["Podlaskie"," bielski "," 10 - 14 ",2464,1222,1242,false,true,true,false]
["Podlaskie"," bielski "," 15 - 19 ",2768,1417,1351,false,true,true,false]
["Podlaskie"," bielski "," 20 - 24 ",3698,1914,1784,false,true,true,false]
["Podlaskie"," bielski "," 25 - 29 ",4071,2178,1893,false,true,true,false]
["Podlaskie"," bielski "," 30 - 34 ",4185,2274,1911,false,true,true,false]
["Podlaskie"," bielski "," 35 - 39 ",3652,1901,1751,false,true,true,false]
["Podlaskie"," bielski "," 40 - 44 ",3482,1861,1621,false,true,true,false]
["Podlaskie"," bielski "," 45 - 49 ",3481,1800,1681,false,true,true,false]
["Podlaskie"," bielski "," 50 - 54 ",3773,1905,1868,false,true,true,false]
["Podlaskie"," bielski "," 55 - 59 ",4265,2207,2058,false,true,true,false]
["Podlaskie"," bielski "," 60 - 64 ",3693,1810,1883,false,true,true,false]
["Podlaskie"," bielski "," 65 - 69 ",2955,1356,1599,false,true,true,false]
["Podlaskie"," bielski "," 70 i więcej",8723,3331,5392,true,true,false,false]
["Podlaskie"," bielski ","65+",{"$f":"SUM(D3945:D3946)","v":11678},{"$f":"SUM(E3945:E3946)","v":4687},{"$f":"SUM(F3945:F3946)","v":6991},true,false,true,false]
["Podlaskie"," grajewski "," grajewski ",48228,23956,24272,true,true,true,true]
["Podlaskie"," grajewski "," 0 - 4 ",2188,1149,1039,false,true,true,false]
["Podlaskie"," grajewski "," 5 - 9 ",2525,1326,1199,false,true,true,false]
["Podlaskie"," grajewski "," 10 - 14 ",2518,1302,1216,false,true,true,false]
["Podlaskie"," grajewski "," 15 - 19 ",2654,1382,1272,false,true,true,false]
["Podlaskie"," grajewski "," 20 - 24 ",3567,1867,1700,false,true,true,false]
["Podlaskie"," grajewski "," 25 - 29 ",3672,1950,1722,false,true,true,false]
["Podlaskie"," grajewski "," 30 - 34 ",3847,2033,1814,false,true,true,false]
["Podlaskie"," grajewski "," 35 - 39 ",3622,1850,1772,false,true,true,false]
["Podlaskie"," grajewski "," 40 - 44 ",3345,1740,1605,false,true,true,false]
["Podlaskie"," grajewski "," 45 - 49 ",3185,1584,1601,{"$f":"IFERROR(IF(SEARCH(\" - \",C3958)>0,FALSE,TRUE),TRUE)","v":false},{"$f":"IFERROR(IF(SEARCH(\"65+\",C3958)>0,FALSE,TRUE),TRUE)","v":true},{"$f":"IFERROR(IF(SEARCH(\"70\",C3958)>0,FALSE,TRUE),TRUE)","v":true},{"$f":"AND(G3958:I3958)","v":false}]
["Podlaskie"," grajewski "," 50 - 54 ",3294,1655,1639,false,true,true,false]
["Podlaskie",{"$f":"IF(C3959=\"65+\",C3960,B3959)","v":" grajewski "}," 55 - 59 ",3619,1838,1781,false,true,true,false]
["Podlaskie"," grajewski "," 60 - 64 ",3035,1509,1526,false,true,true,false]
["Podlaskie"," grajewski "," 65 - 69 ",2350,1046,1304,false,true,true,false]
["Podlaskie"," grajewski "," 70 i więcej",4807,1725,3082,true,true,false,false]
["Podlaskie"," grajewski ","65+",{"$f":"SUM(D3962:D3963)","v":7157},{"$f":"SUM(E3962:E3963)","v":2771},{"$f":"SUM(F3962:F3963)","v":4386},true,false,true,false]
["Podlaskie"," hajnowski "," hajnowski ",44322,21467,22855,true,true,true,true]
["Podlaskie"," hajnowski "," 0 - 4 ",1621,836,785,false,true,true,false]
["Podlaskie"," hajnowski "," 5 - 9 ",1725,852,873,false,true,true,false]
["Podlaskie"," hajnowski "," 10 - 14 ",1732,890,842,false,true,true,false]
["Podlaskie"," hajnowski "," 15 - 19 ",2008,1042,966,false,true,true,false]
["Podlaskie"," hajnowski "," 20 - 24 ",2634,1288,1346,false,true,true,false]
["Podlaskie"," hajnowski "," 25 - 29 ",2851,1495,1356,false,true,true,false]
["Podlaskie"," hajnowski "," 30 - 34 ",3150,1746,1404,false,true,true,false]
["Podlaskie"," hajnowski "," 35 - 39 ",2999,1617,1382,false,true,true,false]
["Podlaskie"," hajnowski "," 40 - 44 ",2648,1407,1241,false,true,true,false]
["Podlaskie"," hajnowski "," 45 - 49 ",2528,1334,1194,false,true,true,false]
["Podlaskie"," hajnowski "," 50 - 54 ",3111,1577,1534,false,true,true,false]
["Podlaskie"," hajnowski "," 55 - 59 ",3820,1924,1896,false,true,true,false]
["Podlaskie"," hajnowski "," 60 - 64 ",3433,1635,1798,false,true,true,false]
["Podlaskie"," hajnowski "," 65 - 69 ",2711,1215,1496,false,true,true,false]
["Podlaskie"," hajnowski "," 70 i więcej",7351,2609,4742,true,true,false,false]
["Podlaskie"," hajnowski ","65+",{"$f":"SUM(D3979:D3980)","v":10062},{"$f":"SUM(E3979:E3980)","v":3824},{"$f":"SUM(F3979:F3980)","v":6238},true,false,true,false]
["Podlaskie"," kolneński "," kolneński ",39068,19555,19513,true,true,true,true]
["Podlaskie"," kolneński "," 0 - 4 ",1793,932,861,false,true,true,false]
["Podlaskie"," kolneński "," 5 - 9 ",2084,1096,988,false,true,true,false]
["Podlaskie"," kolneński "," 10 - 14 ",2132,1108,1024,false,true,true,false]
["Podlaskie"," kolneński "," 15 - 19 ",2313,1163,1150,false,true,true,false]
["Podlaskie"," kolneński "," 20 - 24 ",3320,1647,1673,false,true,true,false]
["Podlaskie"," kolneński "," 25 - 29 ",3100,1621,1479,false,true,true,false]
["Podlaskie"," kolneński "," 30 - 34 ",2894,1538,1356,false,true,true,false]
["Podlaskie"," kolneński "," 35 - 39 ",2804,1465,1339,false,true,true,false]
["Podlaskie"," kolneński "," 40 - 44 ",2730,1414,1316,false,true,true,false]
["Podlaskie"," kolneński "," 45 - 49 ",2726,1441,1285,false,true,true,false]
["Podlaskie"," kolneński "," 50 - 54 ",2719,1476,1243,false,true,true,false]
["Podlaskie"," kolneński "," 55 - 59 ",2620,1378,1242,false,true,true,false]
["Podlaskie"," kolneński "," 60 - 64 ",2076,1027,1049,false,true,true,false]
["Podlaskie"," kolneński "," 65 - 69 ",1702,775,927,false,true,true,false]
["Podlaskie"," kolneński "," 70 i więcej",4055,1474,2581,true,true,false,false]
["Podlaskie"," kolneński ","65+",{"$f":"SUM(D3996:D3997)","v":5757},{"$f":"SUM(E3996:E3997)","v":2249},{"$f":"SUM(F3996:F3997)","v":3508},true,false,true,false]
["Podlaskie"," łomżyński "," łomżyński ",51363,25941,25422,true,true,true,true]
["Podlaskie"," łomżyński "," 0 - 4 ",2501,1308,1193,false,true,true,false]
["Podlaskie"," łomżyński "," 5 - 9 ",2772,1413,1359,false,true,true,false]
["Podlaskie"," łomżyński "," 10 - 14 ",2730,1439,1291,false,true,true,false]
["Podlaskie"," łomżyński "," 15 - 19 ",3173,1682,1491,false,true,true,false]
["Podlaskie"," łomżyński "," 20 - 24 ",4146,2122,2024,false,true,true,false]
["Podlaskie"," łomżyński "," 25 - 29 ",3961,2112,1849,false,true,true,false]
["Podlaskie"," łomżyński "," 30 - 34 ",3843,2078,1765,false,true,true,false]
["Podlaskie"," łomżyński "," 35 - 39 ",3701,1929,1772,false,true,true,false]
["Podlaskie"," łomżyński "," 40 - 44 ",3589,1817,1772,false,true,true,false]
["Podlaskie"," łomżyński "," 45 - 49 ",3507,1830,1677,false,true,true,false]
["Podlaskie"," łomżyński "," 50 - 54 ",3462,1869,1593,false,true,true,false]
["Podlaskie"," łomżyński "," 55 - 59 ",3378,1816,1562,false,true,true,false]
["Podlaskie"," łomżyński "," 60 - 64 ",2897,1501,1396,false,true,true,false]
["Podlaskie"," łomżyński "," 65 - 69 ",2224,1046,1178,false,true,true,false]
["Podlaskie"," łomżyński "," 70 i więcej",5479,1979,3500,true,true,false,false]
["Podlaskie"," łomżyński ","65+",{"$f":"SUM(D4013:D4014)","v":7703},{"$f":"SUM(E4013:E4014)","v":3025},{"$f":"SUM(F4013:F4014)","v":4678},true,false,true,false]
["Podlaskie"," moniecki "," moniecki ",41439,20588,20851,true,true,true,true]
["Podlaskie"," moniecki "," 0 - 4 ",1650,832,818,false,true,true,false]
["Podlaskie"," moniecki "," 5 - 9 ",1944,1011,933,false,true,true,false]
["Podlaskie"," moniecki "," 10 - 14 ",1952,1008,944,false,true,true,false]
["Podlaskie"," moniecki "," 15 - 19 ",2276,1159,1117,false,true,true,false]
["Podlaskie"," moniecki "," 20 - 24 ",3336,1734,1602,false,true,true,false]
["Podlaskie"," moniecki "," 25 - 29 ",3289,1775,1514,{"$f":"IFERROR(IF(SEARCH(\" - \",C4022)>0,FALSE,TRUE),TRUE)","v":false},{"$f":"IFERROR(IF(SEARCH(\"65+\",C4022)>0,FALSE,TRUE),TRUE)","v":true},{"$f":"IFERROR(IF(SEARCH(\"70\",C4022)>0,FALSE,TRUE),TRUE)","v":true},{"$f":"AND(G4022:I4022)","v":false}]
["Podlaskie"," moniecki "," 30 - 34 ",3226,1707,1519,false,true,true,false]
["Podlaskie",{"$f":"IF(C4023=\"65+\",C4024,B4023)","v":" moniecki "}," 35 - 39 ",2898,1543,1355,false,true,true,false]
["Podlaskie"," moniecki "," 40 - 44 ",2769,1400,1369,false,true,true,false]
["Podlaskie"," moniecki "," 45 - 49 ",2777,1414,1363,false,true,true,false]
["Podlaskie"," moniecki "," 50 - 54 ",2846,1469,1377,false,true,true,false]
["Podlaskie"," moniecki "," 55 - 59 ",2877,1512,1365,false,true,true,false]
["Podlaskie"," moniecki "," 60 - 64 ",2508,1252,1256,false,true,true,false]
["Podlaskie"," moniecki "," 65 - 69 ",1997,939,1058,false,true,true,false]
["Podlaskie"," moniecki "," 70 i więcej",5094,1833,3261,true,true,false,false]
["Podlaskie"," moniecki ","65+",{"$f":"SUM(D4030:D4031)","v":7091},{"$f":"SUM(E4030:E4031)","v":2772},{"$f":"SUM(F4030:F4031)","v":4319},true,false,true,false]
["Podlaskie"," sejneński "," sejneński ",20531,10230,10301,true,true,true,true]
["Podlaskie"," sejneński "," 0 - 4 ",877,432,445,false,true,true,false]
["Podlaskie"," sejneński "," 5 - 9 ",999,516,483,false,true,true,false]
["Podlaskie"," sejneński "," 10 - 14 ",957,485,472,false,true,true,false]
["Podlaskie"," sejneński "," 15 - 19 ",1192,631,561,false,true,true,false]
["Podlaskie"," sejneński "," 20 - 24 ",1487,762,725,false,true,true,false]
["Podlaskie"," sejneński "," 25 - 29 ",1428,767,661,false,true,true,false]
["Podlaskie"," sejneński "," 30 - 34 ",1563,836,727,false,true,true,false]
["Podlaskie"," sejneński "," 35 - 39 ",1450,785,665,false,true,true,false]
["Podlaskie"," sejneński "," 40 - 44 ",1452,741,711,false,true,true,false]
["Podlaskie"," sejneński "," 45 - 49 ",1318,689,629,false,true,true,false]
["Podlaskie"," sejneński "," 50 - 54 ",1384,714,670,false,true,true,false]
["Podlaskie"," sejneński "," 55 - 59 ",1504,774,730,false,true,true,false]
["Podlaskie"," sejneński "," 60 - 64 ",1330,662,668,false,true,true,false]
["Podlaskie"," sejneński "," 65 - 69 ",1068,506,562,false,true,true,false]
["Podlaskie"," sejneński "," 70 i więcej",2522,930,1592,true,true,false,false]
["Podlaskie"," sejneński ","65+",{"$f":"SUM(D4047:D4048)","v":3590},{"$f":"SUM(E4047:E4048)","v":1436},{"$f":"SUM(F4047:F4048)","v":2154},true,false,true,false]
["Podlaskie"," siemiatycki "," siemiatycki ",45817,22527,23290,true,true,true,true]
["Podlaskie"," siemiatycki "," 0 - 4 ",1681,876,805,false,true,true,false]
["Podlaskie"," siemiatycki "," 5 - 9 ",2010,1014,996,false,true,true,false]
["Podlaskie"," siemiatycki "," 10 - 14 ",2101,1100,1001,false,true,true,false]
["Podlaskie"," siemiatycki "," 15 - 19 ",2387,1213,1174,false,true,true,false]
["Podlaskie"," siemiatycki "," 20 - 24 ",3535,1825,1710,false,true,true,false]
["Podlaskie"," siemiatycki "," 25 - 29 ",3203,1703,1500,false,true,true,false]
["Podlaskie"," siemiatycki "," 30 - 34 ",3263,1755,1508,false,true,true,false]
["Podlaskie"," siemiatycki "," 35 - 39 ",2966,1472,1494,false,true,true,false]
["Podlaskie"," siemiatycki "," 40 - 44 ",3094,1594,1500,false,true,true,false]
["Podlaskie"," siemiatycki "," 45 - 49 ",3108,1633,1475,false,true,true,false]
["Podlaskie"," siemiatycki "," 50 - 54 ",3087,1582,1505,false,true,true,false]
["Podlaskie"," siemiatycki "," 55 - 59 ",3537,1807,1730,false,true,true,false]
["Podlaskie"," siemiatycki "," 60 - 64 ",2968,1461,1507,false,true,true,false]
["Podlaskie"," siemiatycki "," 65 - 69 ",2387,1092,1295,false,true,true,false]
["Podlaskie"," siemiatycki "," 70 i więcej",6490,2400,4090,true,true,false,false]
["Podlaskie"," siemiatycki ","65+",{"$f":"SUM(D4064:D4065)","v":8877},{"$f":"SUM(E4064:E4065)","v":3492},{"$f":"SUM(F4064:F4065)","v":5385},true,false,true,false]
["Podlaskie"," sokólski "," sokólski ",69002,34098,34904,true,true,true,true]
["Podlaskie"," sokólski "," 0 - 4 ",2774,1462,1312,false,true,true,false]
["Podlaskie"," sokólski "," 5 - 9 ",3227,1643,1584,false,true,true,false]
["Podlaskie"," sokólski "," 10 - 14 ",3302,1615,1687,false,true,true,false]
["Podlaskie"," sokólski "," 15 - 19 ",3539,1837,1702,false,true,true,false]
["Podlaskie"," sokólski "," 20 - 24 ",5088,2643,2445,false,true,true,false]
["Podlaskie"," sokólski "," 25 - 29 ",5003,2678,2325,false,true,true,false]
["Podlaskie"," sokólski "," 30 - 34 ",5213,2811,2402,false,true,true,false]
["Podlaskie"," sokólski "," 35 - 39 ",4896,2602,2294,false,true,true,false]
["Podlaskie"," sokólski "," 40 - 44 ",4715,2459,2256,false,true,true,false]
["Podlaskie"," sokólski "," 45 - 49 ",4634,2444,2190,false,true,true,false]
["Podlaskie"," sokólski "," 50 - 54 ",4716,2478,2238,false,true,true,false]
["Podlaskie"," sokólski "," 55 - 59 ",5070,2637,2433,false,true,true,false]
["Podlaskie"," sokólski "," 60 - 64 ",4470,2162,2308,false,true,true,false]
["Podlaskie"," sokólski "," 65 - 69 ",3610,1608,2002,false,true,true,false]
["Podlaskie"," sokólski "," 70 i więcej",8745,3019,5726,true,true,false,false]
["Podlaskie"," sokólski ","65+",{"$f":"SUM(D4081:D4082)","v":12355},{"$f":"SUM(E4081:E4082)","v":4627},{"$f":"SUM(F4081:F4082)","v":7728},true,false,true,false]
["Podlaskie"," suwalski "," suwalski ",35870,18328,17542,true,true,true,true]
["Podlaskie"," suwalski "," 0 - 4 ",1763,887,876,false,true,true,false]
["Podlaskie"," suwalski "," 5 - 9 ",1946,1018,928,{"$f":"IFERROR(IF(SEARCH(\" - \",C4086)>0,FALSE,TRUE),TRUE)","v":false},{"$f":"IFERROR(IF(SEARCH(\"65+\",C4086)>0,FALSE,TRUE),TRUE)","v":true},{"$f":"IFERROR(IF(SEARCH(\"70\",C4086)>0,FALSE,TRUE),TRUE)","v":true},{"$f":"AND(G4086:I4086)","v":false}]
["Podlaskie"," suwalski "," 10 - 14 ",1975,1051,924,false,true,true,false]
["Podlaskie",{"$f":"IF(C4087=\"65+\",C4088,B4087)","v":" suwalski "}," 15 - 19 ",2295,1184,1111,false,true,true,false]
["Podlaskie"," suwalski "," 20 - 24 ",2949,1511,1438,false,true,true,false]
["Podlaskie"," suwalski "," 25 - 29 ",2881,1585,1296,false,true,true,false]
["Podlaskie"," suwalski "," 30 - 34 ",2669,1434,1235,false,true,true,false]
["Podlaskie"," suwalski "," 35 - 39 ",2333,1239,1094,false,true,true,false]
["Podlaskie"," suwalski "," 40 - 44 ",2430,1296,1134,false,true,true,false]
["Podlaskie"," suwalski "," 45 - 49 ",2364,1252,1112,false,true,true,false]
["Podlaskie"," suwalski "," 50 - 54 ",2324,1244,1080,false,true,true,false]
["Podlaskie"," suwalski "," 55 - 59 ",2428,1319,1109,false,true,true,false]
["Podlaskie"," suwalski "," 60 - 64 ",2050,1080,970,false,true,true,false]
["Podlaskie"," suwalski "," 65 - 69 ",1656,794,862,false,true,true,false]
["Podlaskie"," suwalski "," 70 i więcej",3807,1434,2373,true,true,false,false]
["Podlaskie"," suwalski ","65+",{"$f":"SUM(D4098:D4099)","v":5463},{"$f":"SUM(E4098:E4099)","v":2228},{"$f":"SUM(F4098:F4099)","v":3235},true,false,true,false]
["Podlaskie"," wysokomazowiecki "," wysokomazowiecki ",57997,29279,28718,true,true,true,true]
["Podlaskie"," wysokomazowiecki "," 0 - 4 ",2833,1460,1373,false,true,true,false]
["Podlaskie"," wysokomazowiecki "," 5 - 9 ",3050,1566,1484,false,true,true,false]
["Podlaskie"," wysokomazowiecki "," 10 - 14 ",2850,1486,1364,false,true,true,false]
["Podlaskie"," wysokomazowiecki "," 15 - 19 ",3425,1761,1664,false,true,true,false]
["Podlaskie"," wysokomazowiecki "," 20 - 24 ",4352,2334,2018,false,true,true,false]
["Podlaskie"," wysokomazowiecki "," 25 - 29 ",4374,2372,2002,false,true,true,false]
["Podlaskie"," wysokomazowiecki "," 30 - 34 ",4372,2397,1975,false,true,true,false]
["Podlaskie"," wysokomazowiecki "," 35 - 39 ",3992,2151,1841,false,true,true,false]
["Podlaskie"," wysokomazowiecki "," 40 - 44 ",3866,2004,1862,false,true,true,false]
["Podlaskie"," wysokomazowiecki "," 45 - 49 ",3576,1816,1760,false,true,true,false]
["Podlaskie"," wysokomazowiecki "," 50 - 54 ",3741,1963,1778,false,true,true,false]
["Podlaskie"," wysokomazowiecki "," 55 - 59 ",4120,2096,2024,false,true,true,false]
["Podlaskie"," wysokomazowiecki "," 60 - 64 ",3493,1768,1725,false,true,true,false]
["Podlaskie"," wysokomazowiecki "," 65 - 69 ",2943,1363,1580,false,true,true,false]
["Podlaskie"," wysokomazowiecki "," 70 i więcej",7010,2742,4268,true,true,false,false]
["Podlaskie"," wysokomazowiecki ","65+",{"$f":"SUM(D4115:D4116)","v":9953},{"$f":"SUM(E4115:E4116)","v":4105},{"$f":"SUM(F4115:F4116)","v":5848},true,false,true,false]
["Podlaskie"," zambrowski "," zambrowski ",44250,21949,22301,true,true,true,true]
["Podlaskie"," zambrowski "," 0 - 4 ",2081,1080,1001,false,true,true,false]
["Podlaskie"," zambrowski "," 5 - 9 ",2384,1211,1173,false,true,true,false]
["Podlaskie"," zambrowski "," 10 - 14 ",2205,1140,1065,false,true,true,false]
["Podlaskie"," zambrowski "," 15 - 19 ",2606,1354,1252,false,true,true,false]
["Podlaskie"," zambrowski "," 20 - 24 ",3103,1618,1485,false,true,true,false]
["Podlaskie"," zambrowski "," 25 - 29 ",3384,1814,1570,false,true,true,false]
["Podlaskie"," zambrowski "," 30 - 34 ",3596,1968,1628,false,true,true,false]
["Podlaskie"," zambrowski "," 35 - 39 ",3141,1635,1506,false,true,true,false]
["Podlaskie"," zambrowski "," 40 - 44 ",3007,1557,1450,false,true,true,false]
["Podlaskie"," zambrowski "," 45 - 49 ",2814,1417,1397,false,true,true,false]
["Podlaskie"," zambrowski "," 50 - 54 ",3118,1590,1528,false,true,true,false]
["Podlaskie"," zambrowski "," 55 - 59 ",3302,1578,1724,false,true,true,false]
["Podlaskie"," zambrowski "," 60 - 64 ",2681,1349,1332,false,true,true,false]
["Podlaskie"," zambrowski "," 65 - 69 ",2061,915,1146,false,true,true,false]
["Podlaskie"," zambrowski "," 70 i więcej",4767,1723,3044,true,true,false,false]
["Podlaskie"," zambrowski ","65+",{"$f":"SUM(D4132:D4133)","v":6828},{"$f":"SUM(E4132:E4133)","v":2638},{"$f":"SUM(F4132:F4133)","v":4190},true,false,true,false]
["Pomorskie","Wszystkie","Pomorskie ",2311469,1126016,1185453,{"$f":"IFERROR(IF(SEARCH(\" - \",C4135)>0,FALSE,TRUE),TRUE)","v":true},{"$f":"IFERROR(IF(SEARCH(\"65+\",C4135)>0,FALSE,TRUE),TRUE)","v":true},{"$f":"IFERROR(IF(SEARCH(\"70\",C4135)>0,FALSE,TRUE),TRUE)","v":true},{"$f":"AND(G4135:I4135)","v":true}]
["Pomorskie","Wszystkie"," 0 - 4 ",124693,63966,60727,{"$f":"IFERROR(IF(SEARCH(\" - \",C4136)>0,FALSE,TRUE),TRUE)","v":false},{"$f":"IFERROR(IF(SEARCH(\"65+\",C4136)>0,FALSE,TRUE),TRUE)","v":true},{"$f":"IFERROR(IF(SEARCH(\"70\",C4136)>0,FALSE,TRUE),TRUE)","v":true},{"$f":"AND(G4136:I4136)","v":false}]
["Pomorskie","Wszystkie"," 5 - 9 ",136854,70440,66414,false,true,true,false]
["Pomorskie","Wszystkie"," 10 - 14 ",116207,59603,56604,false,true,true,false]
["Pomorskie","Wszystkie"," 15 - 19 ",121243,62063,59180,false,true,true,false]
["Pomorskie","Wszystkie"," 20 - 24 ",141829,72394,69435,false,true,true,false]
["Pomorskie","Wszystkie"," 25 - 29 ",172971,87238,85733,false,true,true,false]
["Pomorskie","Wszystkie"," 30 - 34 ",198437,99395,99042,false,true,true,false]
["Pomorskie","Wszystkie"," 35 - 39 ",187925,94808,93117,false,true,true,false]
["Pomorskie","Wszystkie"," 40 - 44 ",168404,84778,83626,false,true,true,false]
["Pomorskie","Wszystkie"," 45 - 49 ",138582,70007,68575,false,true,true,false]
["Pomorskie","Wszystkie"," 50 - 54 ",138157,68623,69534,false,true,true,false]
["Pomorskie","Wszystkie"," 55 - 59 ",159825,77528,82297,false,true,true,false]
["Pomorskie","Wszystkie"," 60 - 64 ",160227,75130,85097,false,true,true,false]
["Pomorskie","Wszystkie"," 65 - 69 ",131471,59710,71761,false,true,true,false]
["Pomorskie","Wszystkie"," 70 i więcej",214644,80333,134311,true,true,false,false]
["Pomorskie","Wszystkie","65+",{"$f":"SUM(D4149:D4150)","v":346115},{"$f":"SUM(E4149:E4150)","v":140043},{"$f":"SUM(F4149:F4150)","v":206072},true,false,true,false]
["Pomorskie",{"$f":"IF(C4151=\"65+\",C4152,B4151)","v":" Gdańsk "}," Gdańsk ",462996,219264,243732,true,true,true,true]
["Pomorskie"," Gdańsk "," 0 - 4 ",23816,12249,11567,false,true,true,false]
["Pomorskie"," Gdańsk "," 5 - 9 ",23383,12118,11265,false,true,true,false]
["Pomorskie"," Gdańsk "," 10 - 14 ",18491,9494,8997,false,true,true,false]
["Pomorskie"," Gdańsk "," 15 - 19 ",18567,9468,9099,false,true,true,false]
["Pomorskie"," Gdańsk "," 20 - 24 ",23162,11390,11772,false,true,true,false]
["Pomorskie"," Gdańsk "," 25 - 29 ",34295,16718,17577,false,true,true,false]
["Pomorskie"," Gdańsk "," 30 - 34 ",42222,20590,21632,false,true,true,false]
["Pomorskie"," Gdańsk "," 35 - 39 ",40219,19975,20244,false,true,true,false]
["Pomorskie"," Gdańsk "," 40 - 44 ",34363,17194,17169,false,true,true,false]
["Pomorskie"," Gdańsk "," 45 - 49 ",26831,13363,13468,false,true,true,false]
["Pomorskie"," Gdańsk "," 50 - 54 ",24928,12098,12830,false,true,true,false]
["Pomorskie"," Gdańsk "," 55 - 59 ",30698,14236,16462,false,true,true,false]
["Pomorskie"," Gdańsk "," 60 - 64 ",35397,15823,19574,false,true,true,false]
["Pomorskie"," Gdańsk "," 65 - 69 ",31373,13790,17583,false,true,true,false]
["Pomorskie"," Gdańsk "," 70 i więcej",55251,20758,34493,true,true,false,false]
["Pomorskie"," Gdańsk ","65+",{"$f":"SUM(D4166:D4167)","v":86624},{"$f":"SUM(E4166:E4167)","v":34548},{"$f":"SUM(F4166:F4167)","v":52076},true,false,true,false]
["Pomorskie"," Gdynia "," Gdynia ",247329,117004,130325,true,true,true,true]
["Pomorskie"," Gdynia "," 0 - 4 ",11320,5728,5592,false,true,true,false]
["Pomorskie"," Gdynia "," 5 - 9 ",11956,6131,5825,false,true,true,false]
["Pomorskie"," Gdynia "," 10 - 14 ",10311,5314,4997,false,true,true,false]
["Pomorskie"," Gdynia "," 15 - 19 ",10425,5316,5109,false,true,true,false]
["Pomorskie"," Gdynia "," 20 - 24 ",12416,6355,6061,false,true,true,false]
["Pomorskie"," Gdynia "," 25 - 29 ",16171,7900,8271,false,true,true,false]
["Pomorskie"," Gdynia "," 30 - 34 ",21046,10295,10751,false,true,true,false]
["Pomorskie"," Gdynia "," 35 - 39 ",20710,10195,10515,false,true,true,false]
["Pomorskie"," Gdynia "," 40 - 44 ",18964,9302,9662,false,true,true,false]
["Pomorskie"," Gdynia "," 45 - 49 ",14603,7282,7321,false,true,true,false]
["Pomorskie"," Gdynia "," 50 - 54 ",14083,6829,7254,false,true,true,false]
["Pomorskie"," Gdynia "," 55 - 59 ",17237,8029,9208,false,true,true,false]
["Pomorskie"," Gdynia "," 60 - 64 ",19318,8638,10680,false,true,true,false]
["Pomorskie"," Gdynia "," 65 - 69 ",17324,7627,9697,false,true,true,false]
["Pomorskie"," Gdynia "," 70 i więcej",31445,12063,19382,true,true,false,false]
["Pomorskie"," Gdynia ","65+",{"$f":"SUM(D4183:D4184)","v":48769},{"$f":"SUM(E4183:E4184)","v":19690},{"$f":"SUM(F4183:F4184)","v":29079},true,false,true,false]
["Pomorskie"," Słupsk "," Słupsk ",92170,43486,48684,true,true,true,true]
["Pomorskie"," Słupsk "," 0 - 4 ",4063,2072,1991,false,true,true,false]
["Pomorskie"," Słupsk "," 5 - 9 ",4429,2282,2147,false,true,true,false]
["Pomorskie"," Słupsk "," 10 - 14 ",3820,1963,1857,false,true,true,false]
["Pomorskie"," Słupsk "," 15 - 19 ",4061,2084,1977,false,true,true,false]
["Pomorskie"," Słupsk "," 20 - 24 ",4824,2434,2390,false,true,true,false]
["Pomorskie"," Słupsk "," 25 - 29 ",6121,3154,2967,false,true,true,false]
["Pomorskie"," Słupsk "," 30 - 34 ",7849,3987,3862,false,true,true,false]
["Pomorskie"," Słupsk "," 35 - 39 ",7451,3755,3696,false,true,true,false]
["Pomorskie"," Słupsk "," 40 - 44 ",6458,3177,3281,false,true,true,false]
["Pomorskie"," Słupsk "," 45 - 49 ",5372,2572,2800,false,true,true,false]
["Pomorskie"," Słupsk "," 50 - 54 ",5820,2724,3096,false,true,true,false]
["Pomorskie"," Słupsk "," 55 - 59 ",7295,3391,3904,false,true,true,false]
["Pomorskie"," Słupsk "," 60 - 64 ",7699,3386,4313,false,true,true,false]
["Pomorskie"," Słupsk "," 65 - 69 ",6521,2783,3738,{"$f":"IFERROR(IF(SEARCH(\" - \",C4200)>0,FALSE,TRUE),TRUE)","v":false},{"$f":"IFERROR(IF(SEARCH(\"65+\",C4200)>0,FALSE,TRUE),TRUE)","v":true},{"$f":"IFERROR(IF(SEARCH(\"70\",C4200)>0,FALSE,TRUE),TRUE)","v":true},{"$f":"AND(G4200:I4200)","v":false}]
["Pomorskie"," Słupsk "," 70 i więcej",10387,3722,6665,true,true,false,false]
["Pomorskie"," Słupsk ","65+",{"$f":"SUM(D4200:D4201)","v":16908},{"$f":"SUM(E4200:E4201)","v":6505},{"$f":"SUM(F4200:F4201)","v":10403},true,false,true,false]
["Pomorskie"," Sopot "," Sopot ",37089,17207,19882,true,true,true,true]
["Pomorskie"," Sopot "," 0 - 4 ",1348,687,661,false,true,true,false]
["Pomorskie"," Sopot "," 5 - 9 ",1344,709,635,false,true,true,false]
["Pomorskie"," Sopot "," 10 - 14 ",1166,581,585,false,true,true,false]
["Pomorskie"," Sopot "," 15 - 19 ",1203,620,583,false,true,true,false]
["Pomorskie"," Sopot "," 20 - 24 ",1784,895,889,false,true,true,false]
["Pomorskie"," Sopot "," 25 - 29 ",2527,1287,1240,false,true,true,false]
["Pomorskie"," Sopot "," 30 - 34 ",3099,1529,1570,false,true,true,false]
["Pomorskie"," Sopot "," 35 - 39 ",2797,1417,1380,false,true,true,false]
["Pomorskie"," Sopot "," 40 - 44 ",2601,1250,1351,false,true,true,false]
["Pomorskie"," Sopot "," 45 - 49 ",2144,1064,1080,false,true,true,false]
["Pomorskie"," Sopot "," 50 - 54 ",2058,987,1071,false,true,true,false]
["Pomorskie"," Sopot "," 55 - 59 ",2700,1212,1488,false,true,true,false]
["Pomorskie",{"$f":"IF(C4215=\"65+\",C4216,B4215)","v":" Sopot "}," 60 - 64 ",3149,1429,1720,false,true,true,false]
["Pomorskie"," Sopot "," 65 - 69 ",3004,1259,1745,false,true,true,false]
["Pomorskie"," Sopot "," 70 i więcej",6165,2281,3884,true,true,false,false]
["Pomorskie"," Sopot ","65+",{"$f":"SUM(D4217:D4218)","v":9169},{"$f":"SUM(E4217:E4218)","v":3540},{"$f":"SUM(F4217:F4218)","v":5629},true,false,true,false]
["Pomorskie"," bytowski "," bytowski ",78805,39262,39543,true,true,true,true]
["Pomorskie"," bytowski "," 0 - 4 ",4496,2337,2159,false,true,true,false]
["Pomorskie"," bytowski "," 5 - 9 ",4765,2459,2306,false,true,true,false]
["Pomorskie"," bytowski "," 10 - 14 ",4328,2216,2112,false,true,true,false]
["Pomorskie"," bytowski "," 15 - 19 ",4796,2440,2356,false,true,true,false]
["Pomorskie"," bytowski "," 20 - 24 ",5815,3014,2801,false,true,true,false]
["Pomorskie"," bytowski "," 25 - 29 ",6387,3269,3118,false,true,true,false]
["Pomorskie"," bytowski "," 30 - 34 ",6444,3323,3121,false,true,true,false]
["Pomorskie"," bytowski "," 35 - 39 ",5787,2904,2883,false,true,true,false]
["Pomorskie"," bytowski "," 40 - 44 ",5372,2795,2577,false,true,true,false]
["Pomorskie"," bytowski "," 45 - 49 ",4812,2365,2447,false,true,true,false]
["Pomorskie"," bytowski "," 50 - 54 ",5034,2551,2483,false,true,true,false]
["Pomorskie"," bytowski "," 55 - 59 ",5652,2916,2736,false,true,true,false]
["Pomorskie"," bytowski "," 60 - 64 ",5111,2498,2613,false,true,true,false]
["Pomorskie"," bytowski "," 65 - 69 ",4048,1901,2147,false,true,true,false]
["Pomorskie"," bytowski "," 70 i więcej",5958,2274,3684,true,true,false,false]
["Pomorskie"," bytowski ","65+",{"$f":"SUM(D4234:D4235)","v":10006},{"$f":"SUM(E4234:E4235)","v":4175},{"$f":"SUM(F4234:F4235)","v":5831},true,false,true,false]
["Pomorskie"," chojnicki "," chojnicki ",96697,47719,48978,true,true,true,true]
["Pomorskie"," chojnicki "," 0 - 4 ",5246,2726,2520,false,true,true,false]
["Pomorskie"," chojnicki "," 5 - 9 ",6256,3208,3048,false,true,true,false]
["Pomorskie"," chojnicki "," 10 - 14 ",5393,2732,2661,false,true,true,false]
["Pomorskie"," chojnicki "," 15 - 19 ",5890,3046,2844,false,true,true,false]
["Pomorskie"," chojnicki "," 20 - 24 ",6671,3442,3229,false,true,true,false]
["Pomorskie"," chojnicki "," 25 - 29 ",7321,3738,3583,false,true,true,false]
["Pomorskie"," chojnicki "," 30 - 34 ",7875,3989,3886,false,true,true,false]
["Pomorskie"," chojnicki "," 35 - 39 ",7245,3686,3559,false,true,true,false]
["Pomorskie"," chojnicki "," 40 - 44 ",6929,3502,3427,false,true,true,false]
["Pomorskie"," chojnicki "," 45 - 49 ",5878,3038,2840,false,true,true,false]
["Pomorskie"," chojnicki "," 50 - 54 ",6064,3086,2978,false,true,true,false]
["Pomorskie"," chojnicki "," 55 - 59 ",6559,3241,3318,false,true,true,false]
["Pomorskie"," chojnicki "," 60 - 64 ",6374,3047,3327,false,true,true,false]
["Pomorskie"," chojnicki "," 65 - 69 ",4948,2250,2698,false,true,true,false]
["Pomorskie"," chojnicki "," 70 i więcej",8048,2988,5060,true,true,false,false]
["Pomorskie"," chojnicki ","65+",{"$f":"SUM(D4251:D4252)","v":12996},{"$f":"SUM(E4251:E4252)","v":5238},{"$f":"SUM(F4251:F4252)","v":7758},true,false,true,false]
["Pomorskie"," człuchowski "," człuchowski ",56807,28090,28717,true,true,true,true]
["Pomorskie"," człuchowski "," 0 - 4 ",2805,1457,1348,false,true,true,false]
["Pomorskie"," człuchowski "," 5 - 9 ",3226,1641,1585,false,true,true,false]
["Pomorskie"," człuchowski "," 10 - 14 ",3020,1474,1546,false,true,true,false]
["Pomorskie"," człuchowski "," 15 - 19 ",3218,1669,1549,false,true,true,false]
["Pomorskie"," człuchowski "," 20 - 24 ",3892,1982,1910,false,true,true,false]
["Pomorskie"," człuchowski "," 25 - 29 ",4414,2189,2225,false,true,true,false]
["Pomorskie"," człuchowski "," 30 - 34 ",4661,2467,2194,false,true,true,false]
["Pomorskie"," człuchowski "," 35 - 39 ",4366,2265,2101,false,true,true,false]
["Pomorskie"," człuchowski "," 40 - 44 ",3824,1963,1861,false,true,true,false]
["Pomorskie"," człuchowski "," 45 - 49 ",3300,1677,1623,{"$f":"IFERROR(IF(SEARCH(\" - \",C4264)>0,FALSE,TRUE),TRUE)","v":false},{"$f":"IFERROR(IF(SEARCH(\"65+\",C4264)>0,FALSE,TRUE),TRUE)","v":true},{"$f":"IFERROR(IF(SEARCH(\"70\",C4264)>0,FALSE,TRUE),TRUE)","v":true},{"$f":"AND(G4264:I4264)","v":false}]
["Pomorskie"," człuchowski "," 50 - 54 ",3738,1914,1824,false,true,true,false]
["Pomorskie"," człuchowski "," 55 - 59 ",4561,2217,2344,false,true,true,false]
["Pomorskie"," człuchowski "," 60 - 64 ",4093,2028,2065,false,true,true,false]
["Pomorskie"," człuchowski "," 65 - 69 ",3135,1498,1637,false,true,true,false]
["Pomorskie"," człuchowski "," 70 i więcej",4554,1649,2905,true,true,false,false]
["Pomorskie"," człuchowski ","65+",{"$f":"SUM(D4268:D4269)","v":7689},{"$f":"SUM(E4268:E4269)","v":3147},{"$f":"SUM(F4268:F4269)","v":4542},true,false,true,false]
["Pomorskie"," gdański "," gdański ",110666,54458,56208,true,true,true,true]
["Pomorskie"," gdański "," 0 - 4 ",6874,3457,3417,false,true,true,false]
["Pomorskie"," gdański "," 5 - 9 ",7821,3957,3864,false,true,true,false]
["Pomorskie"," gdański "," 10 - 14 ",6272,3295,2977,false,true,true,false]
["Pomorskie"," gdański "," 15 - 19 ",6163,3144,3019,false,true,true,false]
["Pomorskie"," gdański "," 20 - 24 ",6783,3414,3369,false,true,true,false]
["Pomorskie"," gdański "," 25 - 29 ",8355,4185,4170,false,true,true,false]
["Pomorskie"," gdański "," 30 - 34 ",10520,5162,5358,false,true,true,false]
["Pomorskie"," gdański "," 35 - 39 ",10377,5146,5231,false,true,true,false]
["Pomorskie",{"$f":"IF(C4279=\"65+\",C4280,B4279)","v":" gdański "}," 40 - 44 ",9031,4537,4494,false,true,true,false]
["Pomorskie"," gdański "," 45 - 49 ",6698,3442,3256,false,true,true,false]
["Pomorskie"," gdański "," 50 - 54 ",6289,3138,3151,false,true,true,false]
["Pomorskie"," gdański "," 55 - 59 ",6915,3389,3526,false,true,true,false]
["Pomorskie"," gdański "," 60 - 64 ",6442,3092,3350,false,true,true,false]
["Pomorskie"," gdański "," 65 - 69 ",5046,2374,2672,false,true,true,false]
["Pomorskie"," gdański "," 70 i więcej",7080,2726,4354,true,true,false,false]
["Pomorskie"," gdański ","65+",{"$f":"SUM(D4285:D4286)","v":12126},{"$f":"SUM(E4285:E4286)","v":5100},{"$f":"SUM(F4285:F4286)","v":7026},true,false,true,false]
["Pomorskie"," kartuski "," kartuski ",129996,65033,64963,true,true,true,true]
["Pomorskie"," kartuski "," 0 - 4 ",9323,4798,4525,false,true,true,false]
["Pomorskie"," kartuski "," 5 - 9 ",10018,5192,4826,false,true,true,false]
["Pomorskie"," kartuski "," 10 - 14 ",8759,4460,4299,false,true,true,false]
["Pomorskie"," kartuski "," 15 - 19 ",8653,4418,4235,false,true,true,false]
["Pomorskie"," kartuski "," 20 - 24 ",9394,4790,4604,false,true,true,false]
["Pomorskie"," kartuski "," 25 - 29 ",10365,5258,5107,false,true,true,false]
["Pomorskie"," kartuski "," 30 - 34 ",10392,5215,5177,false,true,true,false]
["Pomorskie"," kartuski "," 35 - 39 ",9911,4963,4948,false,true,true,false]
["Pomorskie"," kartuski "," 40 - 44 ",9266,4668,4598,false,true,true,false]
["Pomorskie"," kartuski "," 45 - 49 ",7936,4067,3869,false,true,true,false]
["Pomorskie"," kartuski "," 50 - 54 ",7798,3984,3814,false,true,true,false]
["Pomorskie"," kartuski "," 55 - 59 ",7746,3888,3858,false,true,true,false]
["Pomorskie"," kartuski "," 60 - 64 ",6772,3440,3332,false,true,true,false]
["Pomorskie"," kartuski "," 65 - 69 ",5065,2408,2657,false,true,true,false]
["Pomorskie"," kartuski "," 70 i więcej",8598,3484,5114,true,true,false,false]
["Pomorskie"," kartuski ","65+",{"$f":"SUM(D4302:D4303)","v":13663},{"$f":"SUM(E4302:E4303)","v":5892},{"$f":"SUM(F4302:F4303)","v":7771},true,false,true,false]
["Pomorskie"," kościerski "," kościerski ",71738,35852,35886,true,true,true,true]
["Pomorskie"," kościerski "," 0 - 4 ",4337,2236,2101,false,true,true,false]
["Pomorskie"," kościerski "," 5 - 9 ",4848,2506,2342,false,true,true,false]
["Pomorskie"," kościerski "," 10 - 14 ",4308,2199,2109,false,true,true,false]
["Pomorskie"," kościerski "," 15 - 19 ",4401,2225,2176,false,true,true,false]
["Pomorskie"," kościerski "," 20 - 24 ",4961,2599,2362,false,true,true,false]
["Pomorskie"," kościerski "," 25 - 29 ",5666,2880,2786,false,true,true,false]
["Pomorskie"," kościerski "," 30 - 34 ",5739,3019,2720,false,true,true,false]
["Pomorskie"," kościerski "," 35 - 39 ",5363,2722,2641,false,true,true,false]
["Pomorskie"," kościerski "," 40 - 44 ",4998,2571,2427,false,true,true,false]
["Pomorskie"," kościerski "," 45 - 49 ",4373,2251,2122,false,true,true,false]
["Pomorskie"," kościerski "," 50 - 54 ",4508,2296,2212,false,true,true,false]
["Pomorskie"," kościerski "," 55 - 59 ",4802,2395,2407,false,true,true,false]
["Pomorskie"," kościerski "," 60 - 64 ",4271,2100,2171,false,true,true,false]
["Pomorskie"," kościerski "," 65 - 69 ",3514,1649,1865,false,true,true,false]
["Pomorskie"," kościerski "," 70 i więcej",5649,2204,3445,true,true,false,false]
["Pomorskie"," kościerski ","65+",{"$f":"SUM(D4319:D4320)","v":9163},{"$f":"SUM(E4319:E4320)","v":3853},{"$f":"SUM(F4319:F4320)","v":5310},true,false,true,false]
["Pomorskie"," kwidzyński "," kwidzyński ",83457,41422,42035,true,true,true,true]
["Pomorskie"," kwidzyński "," 0 - 4 ",4325,2247,2078,false,true,true,false]
["Pomorskie"," kwidzyński "," 5 - 9 ",5160,2641,2519,false,true,true,false]
["Pomorskie"," kwidzyński "," 10 - 14 ",4701,2439,2262,false,true,true,false]
["Pomorskie"," kwidzyński "," 15 - 19 ",4915,2498,2417,false,true,true,false]
["Pomorskie"," kwidzyński "," 20 - 24 ",5697,2915,2782,false,true,true,false]
["Pomorskie"," kwidzyński "," 25 - 29 ",6141,3218,2923,{"$f":"IFERROR(IF(SEARCH(\" - \",C4328)>0,FALSE,TRUE),TRUE)","v":false},{"$f":"IFERROR(IF(SEARCH(\"65+\",C4328)>0,FALSE,TRUE),TRUE)","v":true},{"$f":"IFERROR(IF(SEARCH(\"70\",C4328)>0,FALSE,TRUE),TRUE)","v":true},{"$f":"AND(G4328:I4328)","v":false}]
["Pomorskie"," kwidzyński "," 30 - 34 ",7152,3657,3495,false,true,true,false]
["Pomorskie"," kwidzyński "," 35 - 39 ",6997,3650,3347,false,true,true,false]
["Pomorskie"," kwidzyński "," 40 - 44 ",6038,3044,2994,false,true,true,false]
["Pomorskie"," kwidzyński "," 45 - 49 ",5026,2577,2449,false,true,true,false]
["Pomorskie"," kwidzyński "," 50 - 54 ",5129,2646,2483,false,true,true,false]
["Pomorskie"," kwidzyński "," 55 - 59 ",5942,2911,3031,false,true,true,false]
["Pomorskie"," kwidzyński "," 60 - 64 ",5790,2816,2974,false,true,true,false]
["Pomorskie"," kwidzyński "," 65 - 69 ",4356,2041,2315,false,true,true,false]
["Pomorskie"," kwidzyński "," 70 i więcej",6088,2122,3966,true,true,false,false]
["Pomorskie"," kwidzyński ","65+",{"$f":"SUM(D4336:D4337)","v":10444},{"$f":"SUM(E4336:E4337)","v":4163},{"$f":"SUM(F4336:F4337)","v":6281},true,false,true,false]
["Pomorskie"," lęborski "," lęborski ",66163,32597,33566,true,true,true,true]
["Pomorskie"," lęborski "," 0 - 4 ",3459,1793,1666,false,true,true,false]
["Pomorskie"," lęborski "," 5 - 9 ",3988,2026,1962,false,true,true,false]
["Pomorskie"," lęborski "," 10 - 14 ",3452,1806,1646,false,true,true,false]
["Pomorskie"," lęborski "," 15 - 19 ",3730,1937,1793,false,true,true,false]
["Pomorskie",{"$f":"IF(C4343=\"65+\",C4344,B4343)","v":" lęborski "}," 20 - 24 ",4557,2356,2201,false,true,true,false]
["Pomorskie"," lęborski "," 25 - 29 ",5160,2693,2467,false,true,true,false]
["Pomorskie"," lęborski "," 30 - 34 ",5406,2740,2666,false,true,true,false]
["Pomorskie"," lęborski "," 35 - 39 ",5023,2597,2426,false,true,true,false]
["Pomorskie"," lęborski "," 40 - 44 ",4555,2309,2246,false,true,true,false]
["Pomorskie"," lęborski "," 45 - 49 ",4041,2040,2001,false,true,true,false]
["Pomorskie"," lęborski "," 50 - 54 ",4082,1983,2099,false,true,true,false]
["Pomorskie"," lęborski "," 55 - 59 ",4949,2419,2530,false,true,true,false]
["Pomorskie"," lęborski "," 60 - 64 ",4784,2267,2517,false,true,true,false]
["Pomorskie"," lęborski "," 65 - 69 ",3649,1695,1954,false,true,true,false]
["Pomorskie"," lęborski "," 70 i więcej",5328,1936,3392,true,true,false,false]
["Pomorskie"," lęborski ","65+",{"$f":"SUM(D4353:D4354)","v":8977},{"$f":"SUM(E4353:E4354)","v":3631},{"$f":"SUM(F4353:F4354)","v":5346},true,false,true,false]
["Pomorskie"," malborski "," malborski ",64189,31384,32805,true,true,true,true]
["Pomorskie"," malborski "," 0 - 4 ",3045,1524,1521,false,true,true,false]
["Pomorskie"," malborski "," 5 - 9 ",3678,1898,1780,false,true,true,false]
["Pomorskie"," malborski "," 10 - 14 ",3157,1637,1520,false,true,true,false]
["Pomorskie"," malborski "," 15 - 19 ",3546,1808,1738,false,true,true,false]
["Pomorskie"," malborski "," 20 - 24 ",4109,2093,2016,false,true,true,false]
["Pomorskie"," malborski "," 25 - 29 ",4624,2326,2298,false,true,true,false]
["Pomorskie"," malborski "," 30 - 34 ",5372,2783,2589,false,true,true,false]
["Pomorskie"," malborski "," 35 - 39 ",5120,2644,2476,false,true,true,false]
["Pomorskie"," malborski "," 40 - 44 ",4441,2222,2219,false,true,true,false]
["Pomorskie"," malborski "," 45 - 49 ",3929,1994,1935,false,true,true,false]
["Pomorskie"," malborski "," 50 - 54 ",4094,2067,2027,false,true,true,false]
["Pomorskie"," malborski "," 55 - 59 ",4961,2405,2556,false,true,true,false]
["Pomorskie"," malborski "," 60 - 64 ",4774,2355,2419,false,true,true,false]
["Pomorskie"," malborski "," 65 - 69 ",3585,1638,1947,false,true,true,false]
["Pomorskie"," malborski "," 70 i więcej",5754,1990,3764,true,true,false,false]
["Pomorskie"," malborski ","65+",{"$f":"SUM(D4370:D4371)","v":9339},{"$f":"SUM(E4370:E4371)","v":3628},{"$f":"SUM(F4370:F4371)","v":5711},true,false,true,false]
["Pomorskie"," nowodworski "," nowodworski ",36107,17915,18192,true,true,true,true]
["Pomorskie"," nowodworski "," 0 - 4 ",1781,914,867,false,true,true,false]
["Pomorskie"," nowodworski "," 5 - 9 ",2087,1084,1003,false,true,true,false]
["Pomorskie"," nowodworski "," 10 - 14 ",1811,916,895,false,true,true,false]
["Pomorskie"," nowodworski "," 15 - 19 ",2011,1019,992,false,true,true,false]
["Pomorskie"," nowodworski "," 20 - 24 ",2555,1324,1231,false,true,true,false]
["Pomorskie"," nowodworski "," 25 - 29 ",2754,1462,1292,false,true,true,false]
["Pomorskie"," nowodworski "," 30 - 34 ",2969,1581,1388,false,true,true,false]
["Pomorskie"," nowodworski "," 35 - 39 ",2761,1428,1333,false,true,true,false]
["Pomorskie"," nowodworski "," 40 - 44 ",2536,1307,1229,false,true,true,false]
["Pomorskie"," nowodworski "," 45 - 49 ",2177,1084,1093,false,true,true,false]
["Pomorskie"," nowodworski "," 50 - 54 ",2437,1225,1212,false,true,true,false]
["Pomorskie"," nowodworski "," 55 - 59 ",2735,1361,1374,false,true,true,false]
["Pomorskie"," nowodworski "," 60 - 64 ",2695,1324,1371,false,true,true,false]
["Pomorskie"," nowodworski "," 65 - 69 ",1876,885,991,false,true,true,false]
["Pomorskie"," nowodworski "," 70 i więcej",2922,1001,1921,true,true,false,false]
["Pomorskie"," nowodworski ","65+",{"$f":"SUM(D4387:D4388)","v":4798},{"$f":"SUM(E4387:E4388)","v":1886},{"$f":"SUM(F4387:F4388)","v":2912},true,false,true,false]
["Pomorskie"," pucki "," pucki ",83433,41380,42053,true,true,true,true]
["Pomorskie"," pucki "," 0 - 4 ",4726,2378,2348,false,true,true,false]
["Pomorskie"," pucki "," 5 - 9 ",5559,2865,2694,{"$f":"IFERROR(IF(SEARCH(\" - \",C4392)>0,FALSE,TRUE),TRUE)","v":false},{"$f":"IFERROR(IF(SEARCH(\"65+\",C4392)>0,FALSE,TRUE),TRUE)","v":true},{"$f":"IFERROR(IF(SEARCH(\"70\",C4392)>0,FALSE,TRUE),TRUE)","v":true},{"$f":"AND(G4392:I4392)","v":false}]
["Pomorskie"," pucki "," 10 - 14 ",4919,2513,2406,false,true,true,false]
["Pomorskie"," pucki "," 15 - 19 ",5031,2596,2435,false,true,true,false]
["Pomorskie"," pucki "," 20 - 24 ",5510,2850,2660,false,true,true,false]
["Pomorskie"," pucki "," 25 - 29 ",6330,3176,3154,false,true,true,false]
["Pomorskie"," pucki "," 30 - 34 ",6952,3493,3459,false,true,true,false]
["Pomorskie"," pucki "," 35 - 39 ",6533,3327,3206,false,true,true,false]
["Pomorskie"," pucki "," 40 - 44 ",6310,3177,3133,false,true,true,false]
["Pomorskie"," pucki "," 45 - 49 ",5323,2702,2621,false,true,true,false]
["Pomorskie"," pucki "," 50 - 54 ",5379,2737,2642,false,true,true,false]
["Pomorskie"," pucki "," 55 - 59 ",5641,2857,2784,false,true,true,false]
["Pomorskie"," pucki "," 60 - 64 ",5093,2439,2654,false,true,true,false]
["Pomorskie"," pucki "," 65 - 69 ",4065,1919,2146,false,true,true,false]
["Pomorskie"," pucki "," 70 i więcej",6062,2351,3711,true,true,false,false]
["Pomorskie"," pucki ","65+",{"$f":"SUM(D4404:D4405)","v":10127},{"$f":"SUM(E4404:E4405)","v":4270},{"$f":"SUM(F4404:F4405)","v":5857},true,false,true,false]
["Pomorskie"," słupski "," słupski ",98249,49129,49120,true,true,true,true]
["Pomorskie",{"$f":"IF(C4407=\"65+\",C4408,B4407)","v":" słupski "}," 0 - 4 ",4903,2476,2427,false,true,true,false]
["Pomorskie"," słupski "," 5 - 9 ",5844,3030,2814,false,true,true,false]
["Pomorskie"," słupski "," 10 - 14 ",5104,2637,2467,false,true,true,false]
["Pomorskie"," słupski "," 15 - 19 ",5850,2977,2873,false,true,true,false]
["Pomorskie"," słupski "," 20 - 24 ",6650,3456,3194,false,true,true,false]
["Pomorskie"," słupski "," 25 - 29 ",7415,3848,3567,false,true,true,false]
["Pomorskie"," słupski "," 30 - 34 ",8319,4238,4081,false,true,true,false]
["Pomorskie"," słupski "," 35 - 39 ",7732,4022,3710,false,true,true,false]
["Pomorskie"," słupski "," 40 - 44 ",7078,3709,3369,false,true,true,false]
["Pomorskie"," słupski "," 45 - 49 ",5970,3165,2805,false,true,true,false]
["Pomorskie"," słupski "," 50 - 54 ",6187,3112,3075,false,true,true,false]
["Pomorskie"," słupski "," 55 - 59 ",7629,3842,3787,false,true,true,false]
["Pomorskie"," słupski "," 60 - 64 ",7139,3517,3622,false,true,true,false]
["Pomorskie"," słupski "," 65 - 69 ",5150,2489,2661,false,true,true,false]
["Pomorskie"," słupski "," 70 i więcej",7279,2611,4668,true,true,false,false]
["Pomorskie"," słupski ","65+",{"$f":"SUM(D4421:D4422)","v":12429},{"$f":"SUM(E4421:E4422)","v":5100},{"$f":"SUM(F4421:F4422)","v":7329},true,false,true,false]
["Pomorskie"," starogardzki "," starogardzki ",127339,62711,64628,true,true,true,true]
["Pomorskie"," starogardzki "," 0 - 4 ",6987,3563,3424,false,true,true,false]
["Pomorskie"," starogardzki "," 5 - 9 ",8291,4211,4080,false,true,true,false]
["Pomorskie"," starogardzki "," 10 - 14 ",6911,3548,3363,false,true,true,false]
["Pomorskie"," starogardzki "," 15 - 19 ",7487,3808,3679,false,true,true,false]
["Pomorskie"," starogardzki "," 20 - 24 ",8816,4550,4266,false,true,true,false]
["Pomorskie"," starogardzki "," 25 - 29 ",10418,5337,5081,false,true,true,false]
["Pomorskie"," starogardzki "," 30 - 34 ",10792,5550,5242,false,true,true,false]
["Pomorskie"," starogardzki "," 35 - 39 ",9454,4855,4599,false,true,true,false]
["Pomorskie"," starogardzki "," 40 - 44 ",8769,4444,4325,false,true,true,false]
["Pomorskie"," starogardzki "," 45 - 49 ",7830,3955,3875,false,true,true,false]
["Pomorskie"," starogardzki "," 50 - 54 ",8150,4022,4128,false,true,true,false]
["Pomorskie"," starogardzki "," 55 - 59 ",8870,4471,4399,false,true,true,false]
["Pomorskie"," starogardzki "," 60 - 64 ",8061,3868,4193,false,true,true,false]
["Pomorskie"," starogardzki "," 65 - 69 ",6332,2877,3455,false,true,true,false]
["Pomorskie"," starogardzki "," 70 i więcej",10171,3652,6519,true,true,false,false]
["Pomorskie"," starogardzki ","65+",{"$f":"SUM(D4438:D4439)","v":16503},{"$f":"SUM(E4438:E4439)","v":6529},{"$f":"SUM(F4438:F4439)","v":9974},true,false,true,false]
["Pomorskie"," tczewski "," tczewski ",115581,56867,58714,true,true,true,true]
["Pomorskie"," tczewski "," 0 - 4 ",6116,3127,2989,false,true,true,false]
["Pomorskie"," tczewski "," 5 - 9 ",7212,3715,3497,false,true,true,false]
["Pomorskie"," tczewski "," 10 - 14 ",6048,3118,2930,false,true,true,false]
["Pomorskie"," tczewski "," 15 - 19 ",6536,3381,3155,false,true,true,false]
["Pomorskie"," tczewski "," 20 - 24 ",7390,3793,3597,false,true,true,false]
["Pomorskie"," tczewski "," 25 - 29 ",8998,4645,4353,false,true,true,false]
["Pomorskie"," tczewski "," 30 - 34 ",9611,4848,4763,false,true,true,false]
["Pomorskie"," tczewski "," 35 - 39 ",9190,4690,4500,false,true,true,false]
["Pomorskie"," tczewski "," 40 - 44 ",8387,4278,4109,false,true,true,false]
["Pomorskie"," tczewski "," 45 - 49 ",7158,3664,3494,false,true,true,false]
["Pomorskie"," tczewski "," 50 - 54 ",7004,3479,3525,false,true,true,false]
["Pomorskie"," tczewski "," 55 - 59 ",8093,3999,4094,false,true,true,false]
["Pomorskie"," tczewski "," 60 - 64 ",7703,3637,4066,false,true,true,false]
["Pomorskie"," tczewski "," 65 - 69 ",6342,2880,3462,false,true,true,false]
["Pomorskie"," tczewski "," 70 i więcej",9793,3613,6180,{"$f":"IFERROR(IF(SEARCH(\" - \",C4456)>0,FALSE,TRUE),TRUE)","v":true},{"$f":"IFERROR(IF(SEARCH(\"65+\",C4456)>0,FALSE,TRUE),TRUE)","v":true},{"$f":"IFERROR(IF(SEARCH(\"70\",C4456)>0,FALSE,TRUE),TRUE)","v":false},{"$f":"AND(G4456:I4456)","v":false}]
["Pomorskie"," tczewski ","65+",{"$f":"SUM(D4455:D4456)","v":16135},{"$f":"SUM(E4455:E4456)","v":6493},{"$f":"SUM(F4455:F4456)","v":9642},true,false,true,false]
["Pomorskie"," wejherowski "," wejherowski ",210374,104213,106161,true,true,true,true]
["Pomorskie"," wejherowski "," 0 - 4 ",13519,7080,6439,false,true,true,false]
["Pomorskie"," wejherowski "," 5 - 9 ",14514,7472,7042,false,true,true,false]
["Pomorskie"," wejherowski "," 10 - 14 ",11978,6139,5839,false,true,true,false]
["Pomorskie"," wejherowski "," 15 - 19 ",12253,6299,5954,false,true,true,false]
["Pomorskie"," wejherowski "," 20 - 24 ",13788,7112,6676,false,true,true,false]
["Pomorskie"," wejherowski "," 25 - 29 ",16194,8205,7989,false,true,true,false]
["Pomorskie"," wejherowski "," 30 - 34 ",18511,9106,9405,false,true,true,false]
["Pomorskie"," wejherowski "," 35 - 39 ",17678,8926,8752,false,true,true,false]
["Pomorskie"," wejherowski "," 40 - 44 ",15482,7854,7628,false,true,true,false]
["Pomorskie"," wejherowski "," 45 - 49 ",12607,6381,6226,false,true,true,false]
["Pomorskie"," wejherowski "," 50 - 54 ",12644,6362,6282,false,true,true,false]
["Pomorskie"," wejherowski "," 55 - 59 ",13602,6726,6876,false,true,true,false]
["Pomorskie"," wejherowski "," 60 - 64 ",12607,5996,6611,false,true,true,false]
["Pomorskie",{"$f":"IF(C4471=\"65+\",C4472,B4471)","v":" wejherowski "}," 65 - 69 ",9970,4702,5268,false,true,true,false]
["Pomorskie"," wejherowski "," 70 i więcej",15027,5853,9174,true,true,false,false]
["Pomorskie"," wejherowski ","65+",{"$f":"SUM(D4472:D4473)","v":24997},{"$f":"SUM(E4472:E4473)","v":10555},{"$f":"SUM(F4472:F4473)","v":14442},true,false,true,false]
["Pomorskie"," sztumski "," sztumski ",42284,21023,21261,true,true,true,true]
["Pomorskie"," sztumski "," 0 - 4 ",2204,1117,1087,false,true,true,false]
["Pomorskie"," sztumski "," 5 - 9 ",2475,1295,1180,false,true,true,false]
["Pomorskie"," sztumski "," 10 - 14 ",2258,1122,1136,false,true,true,false]
["Pomorskie"," sztumski "," 15 - 19 ",2507,1310,1197,false,true,true,false]
["Pomorskie"," sztumski "," 20 - 24 ",3055,1630,1425,false,true,true,false]
["Pomorskie"," sztumski "," 25 - 29 ",3315,1750,1565,false,true,true,false]
["Pomorskie"," sztumski "," 30 - 34 ",3506,1823,1683,false,true,true,false]
["Pomorskie"," sztumski "," 35 - 39 ",3211,1641,1570,false,true,true,false]
["Pomorskie"," sztumski "," 40 - 44 ",3002,1475,1527,false,true,true,false]
["Pomorskie"," sztumski "," 45 - 49 ",2574,1324,1250,false,true,true,false]
["Pomorskie"," sztumski "," 50 - 54 ",2731,1383,1348,false,true,true,false]
["Pomorskie"," sztumski "," 55 - 59 ",3238,1623,1615,false,true,true,false]
["Pomorskie"," sztumski "," 60 - 64 ",2955,1430,1525,false,true,true,false]
["Pomorskie"," sztumski "," 65 - 69 ",2168,1045,1123,false,true,true,false]
["Pomorskie"," sztumski "," 70 i więcej",3085,1055,2030,true,true,false,false]
["Pomorskie"," sztumski ","65+",{"$f":"SUM(D4489:D4490)","v":5253},{"$f":"SUM(E4489:E4490)","v":2100},{"$f":"SUM(F4489:F4490)","v":3153},true,false,true,false]
["Śląskie","Wszystkie","Śląskie ",4564394,2201696,2362698,{"$f":"IFERROR(IF(SEARCH(\" - \",C4492)>0,FALSE,TRUE),TRUE)","v":true},{"$f":"IFERROR(IF(SEARCH(\"65+\",C4492)>0,FALSE,TRUE),TRUE)","v":true},{"$f":"IFERROR(IF(SEARCH(\"70\",C4492)>0,FALSE,TRUE),TRUE)","v":true},{"$f":"AND(G4492:I4492)","v":true}]
["Śląskie","Wszystkie"," 0 - 4 ",214460,110065,104395,{"$f":"IFERROR(IF(SEARCH(\" - \",C4493)>0,FALSE,TRUE),TRUE)","v":false},{"$f":"IFERROR(IF(SEARCH(\"65+\",C4493)>0,FALSE,TRUE),TRUE)","v":true},{"$f":"IFERROR(IF(SEARCH(\"70\",C4493)>0,FALSE,TRUE),TRUE)","v":true},{"$f":"AND(G4493:I4493)","v":false}]
["Śląskie","Wszystkie"," 5 - 9 ",231709,118473,113236,false,true,true,false]
["Śląskie","Wszystkie"," 10 - 14 ",197464,100947,96517,false,true,true,false]
["Śląskie","Wszystkie"," 15 - 19 ",211760,108411,103349,false,true,true,false]
["Śląskie","Wszystkie"," 20 - 24 ",259456,132380,127076,false,true,true,false]
["Śląskie","Wszystkie"," 25 - 29 ",321552,163817,157735,false,true,true,false]
["Śląskie","Wszystkie"," 30 - 34 ",377091,191155,185936,false,true,true,false]
["Śląskie","Wszystkie"," 35 - 39 ",367327,185494,181833,false,true,true,false]
["Śląskie","Wszystkie"," 40 - 44 ",326606,164565,162041,false,true,true,false]
["Śląskie","Wszystkie"," 45 - 49 ",288086,143445,144641,false,true,true,false]
["Śląskie","Wszystkie"," 50 - 54 ",300867,148241,152626,false,true,true,false]
["Śląskie","Wszystkie"," 55 - 59 ",351834,168182,183652,false,true,true,false]
["Śląskie","Wszystkie"," 60 - 64 ",340158,157376,182782,false,true,true,false]
["Śląskie","Wszystkie"," 65 - 69 ",270615,120273,150342,false,true,true,false]
["Śląskie","Wszystkie"," 70 i więcej",505409,188872,316537,true,true,false,false]
["Śląskie","Wszystkie","65+",{"$f":"SUM(D4506:D4507)","v":776024},{"$f":"SUM(E4506:E4507)","v":309145},{"$f":"SUM(F4506:F4507)","v":466879},true,false,true,false]
["Śląskie"," Bielsko-Biała "," Bielsko-Biała ",172407,81365,91042,true,true,true,true]
["Śląskie"," Bielsko-Biała "," 0 - 4 ",8533,4427,4106,false,true,true,false]
["Śląskie"," Bielsko-Biała "," 5 - 9 ",8881,4527,4354,false,true,true,false]
["Śląskie"," Bielsko-Biała "," 10 - 14 ",7223,3687,3536,false,true,true,false]
["Śląskie"," Bielsko-Biała "," 15 - 19 ",7663,3897,3766,false,true,true,false]
["Śląskie"," Bielsko-Biała "," 20 - 24 ",8804,4511,4293,false,true,true,false]
["Śląskie"," Bielsko-Biała "," 25 - 29 ",11249,5695,5554,false,true,true,false]
["Śląskie"," Bielsko-Biała "," 30 - 34 ",14452,7197,7255,false,true,true,false]
["Śląskie"," Bielsko-Biała "," 35 - 39 ",14745,7397,7348,false,true,true,false]
["Śląskie"," Bielsko-Biała "," 40 - 44 ",12215,6084,6131,false,true,true,false]
["Śląskie"," Bielsko-Biała "," 45 - 49 ",10074,4900,5174,false,true,true,false]
["Śląskie"," Bielsko-Biała "," 50 - 54 ",10117,4854,5263,false,true,true,false]
["Śląskie"," Bielsko-Biała "," 55 - 59 ",12288,5456,6832,false,true,true,false]
["Śląskie"," Bielsko-Biała "," 60 - 64 ",13780,6059,7721,false,true,true,false]
["Śląskie"," Bielsko-Biała "," 65 - 69 ",11781,5129,6652,false,true,true,false]
["Śląskie"," Bielsko-Biała "," 70 i więcej",20602,7545,13057,true,true,false,false]
["Śląskie"," Bielsko-Biała ","65+",{"$f":"SUM(D4523:D4524)","v":32383},{"$f":"SUM(E4523:E4524)","v":12674},{"$f":"SUM(F4523:F4524)","v":19709},true,false,true,false]
["Śląskie"," Bytom "," Bytom ",170059,81291,88768,true,true,true,true]
["Śląskie"," Bytom "," 0 - 4 ",7468,3723,3745,false,true,true,false]
["Śląskie"," Bytom "," 5 - 9 ",8010,4081,3929,false,true,true,false]
["Śląskie"," Bytom "," 10 - 14 ",7033,3627,3406,false,true,true,false]
["Śląskie"," Bytom "," 15 - 19 ",7631,3875,3756,false,true,true,false]
["Śląskie"," Bytom "," 20 - 24 ",9630,4990,4640,false,true,true,false]
["Śląskie"," Bytom "," 25 - 29 ",12489,6411,6078,false,true,true,false]
["Śląskie"," Bytom "," 30 - 34 ",13929,7064,6865,false,true,true,false]
["Śląskie"," Bytom "," 35 - 39 ",13249,6682,6567,false,true,true,false]
["Śląskie"," Bytom "," 40 - 44 ",12092,6121,5971,false,true,true,false]
["Śląskie",{"$f":"IF(C4535=\"65+\",C4536,B4535)","v":" Bytom "}," 45 - 49 ",11227,5644,5583,false,true,true,false]
["Śląskie"," Bytom "," 50 - 54 ",11375,5594,5781,false,true,true,false]
["Śląskie"," Bytom "," 55 - 59 ",12952,6205,6747,false,true,true,false]
["Śląskie"," Bytom "," 60 - 64 ",12069,5403,6666,false,true,true,false]
["Śląskie"," Bytom "," 65 - 69 ",9865,4113,5752,false,true,true,false]
["Śląskie"," Bytom "," 70 i więcej",21040,7758,13282,true,true,false,false]
["Śląskie"," Bytom ","65+",{"$f":"SUM(D4540:D4541)","v":30905},{"$f":"SUM(E4540:E4541)","v":11871},{"$f":"SUM(F4540:F4541)","v":19034},true,false,true,false]
["Śląskie"," Chorzów "," Chorzów ",109541,52107,57434,true,true,true,true]
["Śląskie"," Chorzów "," 0 - 4 ",5275,2655,2620,false,true,true,false]
["Śląskie"," Chorzów "," 5 - 9 ",5623,2915,2708,false,true,true,false]
["Śląskie"," Chorzów "," 10 - 14 ",4640,2408,2232,false,true,true,false]
["Śląskie"," Chorzów "," 15 - 19 ",5082,2609,2473,false,true,true,false]
["Śląskie"," Chorzów "," 20 - 24 ",6109,3053,3056,false,true,true,false]
["Śląskie"," Chorzów "," 25 - 29 ",7599,3861,3738,false,true,true,false]
["Śląskie"," Chorzów "," 30 - 34 ",8766,4365,4401,false,true,true,false]
["Śląskie"," Chorzów "," 35 - 39 ",8646,4243,4403,false,true,true,false]
["Śląskie"," Chorzów "," 40 - 44 ",8350,4198,4152,false,true,true,false]
["Śląskie"," Chorzów "," 45 - 49 ",7517,3813,3704,false,true,true,false]
["Śląskie"," Chorzów "," 50 - 54 ",6809,3474,3335,false,true,true,false]
["Śląskie"," Chorzów "," 55 - 59 ",7401,3563,3838,false,true,true,false]
["Śląskie"," Chorzów "," 60 - 64 ",7344,3301,4043,false,true,true,false]
["Śląskie"," Chorzów "," 65 - 69 ",6604,2741,3863,{"$f":"IFERROR(IF(SEARCH(\" - \",C4557)>0,FALSE,TRUE),TRUE)","v":false},{"$f":"IFERROR(IF(SEARCH(\"65+\",C4557)>0,FALSE,TRUE),TRUE)","v":true},{"$f":"IFERROR(IF(SEARCH(\"70\",C4557)>0,FALSE,TRUE),TRUE)","v":true},{"$f":"AND(G4557:I4557)","v":false}]
["Śląskie"," Chorzów "," 70 i więcej",13776,4908,8868,true,true,false,false]
["Śląskie"," Chorzów ","65+",{"$f":"SUM(D4557:D4558)","v":20380},{"$f":"SUM(E4557:E4558)","v":7649},{"$f":"SUM(F4557:F4558)","v":12731},true,false,true,false]
["Śląskie"," Częstochowa "," Częstochowa ",227270,106803,120467,true,true,true,true]
["Śląskie"," Częstochowa "," 0 - 4 ",9291,4786,4505,false,true,true,false]
["Śląskie"," Częstochowa "," 5 - 9 ",10336,5297,5039,false,true,true,false]
["Śląskie"," Częstochowa "," 10 - 14 ",8896,4442,4454,false,true,true,false]
["Śląskie"," Częstochowa "," 15 - 19 ",9923,5085,4838,false,true,true,false]
["Śląskie"," Częstochowa "," 20 - 24 ",11965,6179,5786,false,true,true,false]
["Śląskie"," Częstochowa "," 25 - 29 ",14217,7267,6950,false,true,true,false]
["Śląskie"," Częstochowa "," 30 - 34 ",17962,9210,8752,false,true,true,false]
["Śląskie"," Częstochowa "," 35 - 39 ",18080,9108,8972,false,true,true,false]
["Śląskie"," Częstochowa "," 40 - 44 ",16073,8062,8011,false,true,true,false]
["Śląskie"," Częstochowa "," 45 - 49 ",13594,6535,7059,false,true,true,false]
["Śląskie"," Częstochowa "," 50 - 54 ",14603,6951,7652,false,true,true,false]
["Śląskie"," Częstochowa "," 55 - 59 ",18751,8500,10251,false,true,true,false]
["Śląskie"," Częstochowa "," 60 - 64 ",19844,8952,10892,false,true,true,false]
["Śląskie"," Częstochowa "," 65 - 69 ",15720,6728,8992,false,true,true,false]
["Śląskie"," Częstochowa "," 70 i więcej",28015,9701,18314,true,true,false,false]
["Śląskie"," Częstochowa ","65+",{"$f":"SUM(D4574:D4575)","v":43735},{"$f":"SUM(E4574:E4575)","v":16429},{"$f":"SUM(F4574:F4575)","v":27306},true,false,true,false]
["Śląskie"," Dąbrowa Górnicza "," Dąbrowa Górnicza ",122451,58832,63619,true,true,true,true]
["Śląskie"," Dąbrowa Górnicza "," 0 - 4 ",5162,2672,2490,false,true,true,false]
["Śląskie"," Dąbrowa Górnicza "," 5 - 9 ",5986,3098,2888,false,true,true,false]
["Śląskie"," Dąbrowa Górnicza "," 10 - 14 ",4799,2446,2353,false,true,true,false]
["Śląskie"," Dąbrowa Górnicza "," 15 - 19 ",4850,2492,2358,false,true,true,false]
["Śląskie"," Dąbrowa Górnicza "," 20 - 24 ",5576,2847,2729,false,true,true,false]
["Śląskie"," Dąbrowa Górnicza "," 25 - 29 ",7769,3951,3818,false,true,true,false]
["Śląskie"," Dąbrowa Górnicza "," 30 - 34 ",10529,5411,5118,false,true,true,false]
["Śląskie"," Dąbrowa Górnicza "," 35 - 39 ",11507,5863,5644,false,true,true,false]
["Śląskie"," Dąbrowa Górnicza "," 40 - 44 ",8769,4496,4273,false,true,true,false]
["Śląskie"," Dąbrowa Górnicza "," 45 - 49 ",6807,3313,3494,false,true,true,false]
["Śląskie"," Dąbrowa Górnicza "," 50 - 54 ",7274,3461,3813,false,true,true,false]
["Śląskie"," Dąbrowa Górnicza "," 55 - 59 ",10433,4693,5740,false,true,true,false]
["Śląskie"," Dąbrowa Górnicza "," 60 - 64 ",11971,5644,6327,false,true,true,false]
["Śląskie"," Dąbrowa Górnicza "," 65 - 69 ",8442,3893,4549,false,true,true,false]
["Śląskie"," Dąbrowa Górnicza "," 70 i więcej",12577,4552,8025,true,true,false,false]
["Śląskie"," Dąbrowa Górnicza ","65+",{"$f":"SUM(D4591:D4592)","v":21019},{"$f":"SUM(E4591:E4592)","v":8445},{"$f":"SUM(F4591:F4592)","v":12574},true,false,true,false]
["Śląskie"," Gliwice "," Gliwice ",182969,87999,94970,true,true,true,true]
["Śląskie"," Gliwice "," 0 - 4 ",8684,4382,4302,false,true,true,false]
["Śląskie"," Gliwice "," 5 - 9 ",8810,4468,4342,false,true,true,false]
["Śląskie"," Gliwice "," 10 - 14 ",7074,3537,3537,false,true,true,false]
["Śląskie"," Gliwice "," 15 - 19 ",7600,3961,3639,false,true,true,false]
["Śląskie"," Gliwice "," 20 - 24 ",11253,6001,5252,false,true,true,false]
["Śląskie",{"$f":"IF(C4599=\"65+\",C4600,B4599)","v":" Gliwice "}," 25 - 29 ",11477,5735,5742,false,true,true,false]
["Śląskie"," Gliwice "," 30 - 34 ",16042,8202,7840,false,true,true,false]
["Śląskie"," Gliwice "," 35 - 39 ",15140,7681,7459,false,true,true,false]
["Śląskie"," Gliwice "," 40 - 44 ",12866,6499,6367,false,true,true,false]
["Śląskie"," Gliwice "," 45 - 49 ",10944,5427,5517,false,true,true,false]
["Śląskie"," Gliwice "," 50 - 54 ",11312,5537,5775,false,true,true,false]
["Śląskie"," Gliwice "," 55 - 59 ",14126,6624,7502,false,true,true,false]
["Śląskie"," Gliwice "," 60 - 64 ",14634,6679,7955,false,true,true,false]
["Śląskie"," Gliwice "," 65 - 69 ",11285,4922,6363,false,true,true,false]
["Śląskie"," Gliwice "," 70 i więcej",21722,8344,13378,true,true,false,false]
["Śląskie"," Gliwice ","65+",{"$f":"SUM(D4608:D4609)","v":33007},{"$f":"SUM(E4608:E4609)","v":13266},{"$f":"SUM(F4608:F4609)","v":19741},true,false,true,false]
["Śląskie"," Jastrzębie-Zdrój "," Jastrzębie-Zdrój ",90089,44088,46001,true,true,true,true]
["Śląskie"," Jastrzębie-Zdrój "," 0 - 4 ",4078,2108,1970,false,true,true,false]
["Śląskie"," Jastrzębie-Zdrój "," 5 - 9 ",4702,2365,2337,false,true,true,false]
["Śląskie"," Jastrzębie-Zdrój "," 10 - 14 ",4215,2167,2048,false,true,true,false]
["Śląskie"," Jastrzębie-Zdrój "," 15 - 19 ",4570,2300,2270,false,true,true,false]
["Śląskie"," Jastrzębie-Zdrój "," 20 - 24 ",5756,2906,2850,false,true,true,false]
["Śląskie"," Jastrzębie-Zdrój "," 25 - 29 ",6466,3394,3072,false,true,true,false]
["Śląskie"," Jastrzębie-Zdrój "," 30 - 34 ",6764,3531,3233,false,true,true,false]
["Śląskie"," Jastrzębie-Zdrój "," 35 - 39 ",6355,3241,3114,false,true,true,false]
["Śląskie"," Jastrzębie-Zdrój "," 40 - 44 ",7422,3771,3651,false,true,true,false]
["Śląskie"," Jastrzębie-Zdrój "," 45 - 49 ",6627,3406,3221,{"$f":"IFERROR(IF(SEARCH(\" - \",C4621)>0,FALSE,TRUE),TRUE)","v":false},{"$f":"IFERROR(IF(SEARCH(\"65+\",C4621)>0,FALSE,TRUE),TRUE)","v":true},{"$f":"IFERROR(IF(SEARCH(\"70\",C4621)>0,FALSE,TRUE),TRUE)","v":true},{"$f":"AND(G4621:I4621)","v":false}]
["Śląskie"," Jastrzębie-Zdrój "," 50 - 54 ",5602,2848,2754,false,true,true,false]
["Śląskie"," Jastrzębie-Zdrój "," 55 - 59 ",5525,2744,2781,false,true,true,false]
["Śląskie"," Jastrzębie-Zdrój "," 60 - 64 ",5538,2353,3185,false,true,true,false]
["Śląskie"," Jastrzębie-Zdrój "," 65 - 69 ",6928,2916,4012,false,true,true,false]
["Śląskie"," Jastrzębie-Zdrój "," 70 i więcej",9541,4038,5503,true,true,false,false]
["Śląskie"," Jastrzębie-Zdrój ","65+",{"$f":"SUM(D4625:D4626)","v":16469},{"$f":"SUM(E4625:E4626)","v":6954},{"$f":"SUM(F4625:F4626)","v":9515},true,false,true,false]
["Śląskie"," Jaworzno "," Jaworzno ",92618,44903,47715,true,true,true,true]
["Śląskie"," Jaworzno "," 0 - 4 ",4116,2121,1995,false,true,true,false]
["Śląskie"," Jaworzno "," 5 - 9 ",4500,2287,2213,false,true,true,false]
["Śląskie"," Jaworzno "," 10 - 14 ",3815,1955,1860,false,true,true,false]
["Śląskie"," Jaworzno "," 15 - 19 ",4097,2141,1956,false,true,true,false]
["Śląskie"," Jaworzno "," 20 - 24 ",5230,2639,2591,false,true,true,false]
["Śląskie"," Jaworzno "," 25 - 29 ",6891,3550,3341,false,true,true,false]
["Śląskie"," Jaworzno "," 30 - 34 ",7892,4094,3798,false,true,true,false]
["Śląskie"," Jaworzno "," 35 - 39 ",7166,3649,3517,false,true,true,false]
["Śląskie"," Jaworzno "," 40 - 44 ",6306,3231,3075,false,true,true,false]
["Śląskie"," Jaworzno "," 45 - 49 ",6033,2992,3041,false,true,true,false]
["Śląskie"," Jaworzno "," 50 - 54 ",6656,3260,3396,false,true,true,false]
["Śląskie"," Jaworzno "," 55 - 59 ",7926,3828,4098,false,true,true,false]
["Śląskie"," Jaworzno "," 60 - 64 ",6651,3145,3506,false,true,true,false]
["Śląskie"," Jaworzno "," 65 - 69 ",5140,2280,2860,false,true,true,false]
["Śląskie"," Jaworzno "," 70 i więcej",10199,3731,6468,true,true,false,false]
["Śląskie"," Jaworzno ","65+",{"$f":"SUM(D4642:D4643)","v":15339},{"$f":"SUM(E4642:E4643)","v":6011},{"$f":"SUM(F4642:F4643)","v":9328},true,false,true,false]
["Śląskie"," Katowice "," Katowice ",299012,142135,156877,true,true,true,true]
["Śląskie"," Katowice "," 0 - 4 ",12792,6562,6230,false,true,true,false]
["Śląskie"," Katowice "," 5 - 9 ",12902,6572,6330,false,true,true,false]
["Śląskie"," Katowice "," 10 - 14 ",10806,5506,5300,false,true,true,false]
["Śląskie"," Katowice "," 15 - 19 ",11642,5947,5695,false,true,true,false]
["Śląskie"," Katowice "," 20 - 24 ",15742,8035,7707,false,true,true,false]
["Śląskie"," Katowice "," 25 - 29 ",21189,10740,10449,false,true,true,false]
["Śląskie"," Katowice "," 30 - 34 ",25644,13008,12636,false,true,true,false]
["Śląskie"," Katowice "," 35 - 39 ",23005,11588,11417,false,true,true,false]
["Śląskie"," Katowice "," 40 - 44 ",20089,9963,10126,false,true,true,false]
["Śląskie"," Katowice "," 45 - 49 ",18744,9266,9478,false,true,true,false]
["Śląskie"," Katowice "," 50 - 54 ",19837,9715,10122,false,true,true,false]
["Śląskie"," Katowice "," 55 - 59 ",23775,11374,12401,false,true,true,false]
["Śląskie"," Katowice "," 60 - 64 ",22965,10367,12598,false,true,true,false]
["Śląskie"," Katowice "," 65 - 69 ",19260,8256,11004,false,true,true,false]
["Śląskie"," Katowice "," 70 i więcej",40620,15236,25384,true,true,false,false]
["Śląskie"," Katowice ","65+",{"$f":"SUM(D4659:D4660)","v":59880},{"$f":"SUM(E4659:E4660)","v":23492},{"$f":"SUM(F4659:F4660)","v":36388},true,false,true,false]
["Śląskie"," Mysłowice "," Mysłowice ",74711,36162,38549,true,true,true,true]
["Śląskie"," Mysłowice "," 0 - 4 ",3740,1903,1837,false,true,true,false]
["Śląskie",{"$f":"IF(C4663=\"65+\",C4664,B4663)","v":" Mysłowice "}," 5 - 9 ",4006,2030,1976,false,true,true,false]
["Śląskie"," Mysłowice "," 10 - 14 ",3340,1732,1608,false,true,true,false]
["Śląskie"," Mysłowice "," 15 - 19 ",3305,1665,1640,false,true,true,false]
["Śląskie"," Mysłowice "," 20 - 24 ",4193,2142,2051,false,true,true,false]
["Śląskie"," Mysłowice "," 25 - 29 ",5684,2844,2840,false,true,true,false]
["Śląskie"," Mysłowice "," 30 - 34 ",6605,3370,3235,false,true,true,false]
["Śląskie"," Mysłowice "," 35 - 39 ",5821,2972,2849,false,true,true,false]
["Śląskie"," Mysłowice "," 40 - 44 ",5062,2576,2486,false,true,true,false]
["Śląskie"," Mysłowice "," 45 - 49 ",4630,2278,2352,false,true,true,false]
["Śląskie"," Mysłowice "," 50 - 54 ",5466,2580,2886,false,true,true,false]
["Śląskie"," Mysłowice "," 55 - 59 ",6305,3126,3179,false,true,true,false]
["Śląskie"," Mysłowice "," 60 - 64 ",5079,2368,2711,false,true,true,false]
["Śląskie"," Mysłowice "," 65 - 69 ",4001,1727,2274,false,true,true,false]
["Śląskie"," Mysłowice "," 70 i więcej",7474,2849,4625,true,true,false,false]
["Śląskie"," Mysłowice ","65+",{"$f":"SUM(D4676:D4677)","v":11475},{"$f":"SUM(E4676:E4677)","v":4576},{"$f":"SUM(F4676:F4677)","v":6899},true,false,true,false]
["Śląskie"," Piekary Śląskie "," Piekary Śląskie ",56126,26900,29226,true,true,true,true]
["Śląskie"," Piekary Śląskie "," 0 - 4 ",2594,1319,1275,false,true,true,false]
["Śląskie"," Piekary Śląskie "," 5 - 9 ",2817,1455,1362,false,true,true,false]
["Śląskie"," Piekary Śląskie "," 10 - 14 ",2264,1158,1106,false,true,true,false]
["Śląskie"," Piekary Śląskie "," 15 - 19 ",2515,1267,1248,false,true,true,false]
["Śląskie"," Piekary Śląskie "," 20 - 24 ",3106,1568,1538,false,true,true,false]
["Śląskie"," Piekary Śląskie "," 25 - 29 ",4133,2061,2072,{"$f":"IFERROR(IF(SEARCH(\" - \",C4685)>0,FALSE,TRUE),TRUE)","v":false},{"$f":"IFERROR(IF(SEARCH(\"65+\",C4685)>0,FALSE,TRUE),TRUE)","v":true},{"$f":"IFERROR(IF(SEARCH(\"70\",C4685)>0,FALSE,TRUE),TRUE)","v":true},{"$f":"AND(G4685:I4685)","v":false}]
["Śląskie"," Piekary Śląskie "," 30 - 34 ",4721,2437,2284,false,true,true,false]
["Śląskie"," Piekary Śląskie "," 35 - 39 ",4316,2190,2126,false,true,true,false]
["Śląskie"," Piekary Śląskie "," 40 - 44 ",3808,1930,1878,false,true,true,false]
["Śląskie"," Piekary Śląskie "," 45 - 49 ",3409,1720,1689,false,true,true,false]
["Śląskie"," Piekary Śląskie "," 50 - 54 ",3765,1835,1930,false,true,true,false]
["Śląskie"," Piekary Śląskie "," 55 - 59 ",4763,2265,2498,false,true,true,false]
["Śląskie"," Piekary Śląskie "," 60 - 64 ",4230,1975,2255,false,true,true,false]
["Śląskie"," Piekary Śląskie "," 65 - 69 ",3137,1373,1764,false,true,true,false]
["Śląskie"," Piekary Śląskie "," 70 i więcej",6548,2347,4201,true,true,false,false]
["Śląskie"," Piekary Śląskie ","65+",{"$f":"SUM(D4693:D4694)","v":9685},{"$f":"SUM(E4693:E4694)","v":3720},{"$f":"SUM(F4693:F4694)","v":5965},true,false,true,false]
["Śląskie"," Ruda Śląska "," Ruda Śląska ",139412,67467,71945,true,true,true,true]
["Śląskie"," Ruda Śląska "," 0 - 4 ",6973,3543,3430,false,true,true,false]
["Śląskie"," Ruda Śląska "," 5 - 9 ",7369,3804,3565,false,true,true,false]
["Śląskie"," Ruda Śląska "," 10 - 14 ",6200,3201,2999,false,true,true,false]
["Śląskie"," Ruda Śląska "," 15 - 19 ",6612,3329,3283,false,true,true,false]
["Śląskie"," Ruda Śląska "," 20 - 24 ",8075,4235,3840,false,true,true,false]
["Śląskie"," Ruda Śląska "," 25 - 29 ",10097,5110,4987,false,true,true,false]
["Śląskie"," Ruda Śląska "," 30 - 34 ",11551,5822,5729,false,true,true,false]
["Śląskie"," Ruda Śląska "," 35 - 39 ",11008,5567,5441,false,true,true,false]
["Śląskie"," Ruda Śląska "," 40 - 44 ",9662,4870,4792,false,true,true,false]
["Śląskie"," Ruda Śląska "," 45 - 49 ",8617,4282,4335,false,true,true,false]
["Śląskie"," Ruda Śląska "," 50 - 54 ",9645,4715,4930,false,true,true,false]
["Śląskie"," Ruda Śląska "," 55 - 59 ",11108,5399,5709,false,true,true,false]
["Śląskie"," Ruda Śląska "," 60 - 64 ",10005,4689,5316,false,true,true,false]
["Śląskie"," Ruda Śląska "," 65 - 69 ",7690,3390,4300,false,true,true,false]
["Śląskie"," Ruda Śląska "," 70 i więcej",14800,5511,9289,true,true,false,false]
["Śląskie"," Ruda Śląska ","65+",{"$f":"SUM(D4710:D4711)","v":22490},{"$f":"SUM(E4710:E4711)","v":8901},{"$f":"SUM(F4710:F4711)","v":13589},true,false,true,false]
["Śląskie"," Rybnik "," Rybnik ",139540,68064,71476,true,true,true,true]
["Śląskie"," Rybnik "," 0 - 4 ",7375,3817,3558,false,true,true,false]
["Śląskie"," Rybnik "," 5 - 9 ",7611,3835,3776,false,true,true,false]
["Śląskie"," Rybnik "," 10 - 14 ",6280,3227,3053,false,true,true,false]
["Śląskie"," Rybnik "," 15 - 19 ",6542,3317,3225,false,true,true,false]
["Śląskie"," Rybnik "," 20 - 24 ",7967,4036,3931,false,true,true,false]
["Śląskie"," Rybnik "," 25 - 29 ",10379,5252,5127,false,true,true,false]
["Śląskie"," Rybnik "," 30 - 34 ",11987,6149,5838,false,true,true,false]
["Śląskie"," Rybnik "," 35 - 39 ",11638,5955,5683,false,true,true,false]
["Śląskie"," Rybnik "," 40 - 44 ",9744,4993,4751,false,true,true,false]
["Śląskie"," Rybnik "," 45 - 49 ",8520,4238,4282,false,true,true,false]
["Śląskie"," Rybnik "," 50 - 54 ",9335,4607,4728,false,true,true,false]
["Śląskie"," Rybnik "," 55 - 59 ",10700,5131,5569,false,true,true,false]
["Śląskie"," Rybnik "," 60 - 64 ",9964,4645,5319,false,true,true,false]
["Śląskie"," Rybnik "," 65 - 69 ",7608,3473,4135,false,true,true,false]
["Śląskie",{"$f":"IF(C4727=\"65+\",C4728,B4727)","v":" Rybnik "}," 70 i więcej",13890,5389,8501,true,true,false,false]
["Śląskie"," Rybnik ","65+",{"$f":"SUM(D4727:D4728)","v":21498},{"$f":"SUM(E4727:E4728)","v":8862},{"$f":"SUM(F4727:F4728)","v":12636},true,false,true,false]
["Śląskie"," Siemianowice Śląskie "," Siemianowice Śląskie ",68011,32496,35515,true,true,true,true]
["Śląskie"," Siemianowice Śląskie "," 0 - 4 ",3176,1621,1555,false,true,true,false]
["Śląskie"," Siemianowice Śląskie "," 5 - 9 ",3336,1668,1668,false,true,true,false]
["Śląskie"," Siemianowice Śląskie "," 10 - 14 ",2729,1349,1380,false,true,true,false]
["Śląskie"," Siemianowice Śląskie "," 15 - 19 ",2871,1442,1429,false,true,true,false]
["Śląskie"," Siemianowice Śląskie "," 20 - 24 ",3549,1849,1700,false,true,true,false]
["Śląskie"," Siemianowice Śląskie "," 25 - 29 ",4688,2375,2313,false,true,true,false]
["Śląskie"," Siemianowice Śląskie "," 30 - 34 ",5749,2923,2826,false,true,true,false]
["Śląskie"," Siemianowice Śląskie "," 35 - 39 ",5383,2739,2644,false,true,true,false]
["Śląskie"," Siemianowice Śląskie "," 40 - 44 ",4765,2357,2408,false,true,true,false]
["Śląskie"," Siemianowice Śląskie "," 45 - 49 ",4228,2149,2079,false,true,true,false]
["Śląskie"," Siemianowice Śląskie "," 50 - 54 ",4399,2092,2307,false,true,true,false]
["Śląskie"," Siemianowice Śląskie "," 55 - 59 ",5614,2636,2978,false,true,true,false]
["Śląskie"," Siemianowice Śląskie "," 60 - 64 ",5253,2426,2827,false,true,true,false]
["Śląskie"," Siemianowice Śląskie "," 65 - 69 ",4319,1867,2452,false,true,true,false]
["Śląskie"," Siemianowice Śląskie "," 70 i więcej",7952,3003,4949,true,true,false,false]
["Śląskie"," Siemianowice Śląskie ","65+",{"$f":"SUM(D4744:D4745)","v":12271},{"$f":"SUM(E4744:E4745)","v":4870},{"$f":"SUM(F4744:F4745)","v":7401},true,false,true,false]
["Śląskie"," Sosnowiec "," Sosnowiec ",206516,97791,108725,true,true,true,true]
["Śląskie"," Sosnowiec "," 0 - 4 ",8246,4201,4045,false,true,true,false]
["Śląskie"," Sosnowiec "," 5 - 9 ",9029,4581,4448,{"$f":"IFERROR(IF(SEARCH(\" - \",C4749)>0,FALSE,TRUE),TRUE)","v":false},{"$f":"IFERROR(IF(SEARCH(\"65+\",C4749)>0,FALSE,TRUE),TRUE)","v":true},{"$f":"IFERROR(IF(SEARCH(\"70\",C4749)>0,FALSE,TRUE),TRUE)","v":true},{"$f":"AND(G4749:I4749)","v":false}]
["Śląskie"," Sosnowiec "," 10 - 14 ",7366,3753,3613,false,true,true,false]
["Śląskie"," Sosnowiec "," 15 - 19 ",8027,4077,3950,false,true,true,false]
["Śląskie"," Sosnowiec "," 20 - 24 ",10129,5124,5005,false,true,true,false]
["Śląskie"," Sosnowiec "," 25 - 29 ",12838,6578,6260,false,true,true,false]
["Śląskie"," Sosnowiec "," 30 - 34 ",16921,8747,8174,false,true,true,false]
["Śląskie"," Sosnowiec "," 35 - 39 ",17962,9154,8808,false,true,true,false]
["Śląskie"," Sosnowiec "," 40 - 44 ",14880,7587,7293,false,true,true,false]
["Śląskie"," Sosnowiec "," 45 - 49 ",11975,5820,6155,false,true,true,false]
["Śląskie"," Sosnowiec "," 50 - 54 ",12781,6142,6639,false,true,true,false]
["Śląskie"," Sosnowiec "," 55 - 59 ",17111,7693,9418,false,true,true,false]
["Śląskie"," Sosnowiec "," 60 - 64 ",19677,8856,10821,false,true,true,false]
["Śląskie"," Sosnowiec "," 65 - 69 ",15501,6827,8674,false,true,true,false]
["Śląskie"," Sosnowiec "," 70 i więcej",24073,8651,15422,true,true,false,false]
["Śląskie"," Sosnowiec ","65+",{"$f":"SUM(D4761:D4762)","v":39574},{"$f":"SUM(E4761:E4762)","v":15478},{"$f":"SUM(F4761:F4762)","v":24096},true,false,true,false]
["Śląskie"," Świętochłowice "," Świętochłowice ",50750,24401,26349,true,true,true,true]
["Śląskie"," Świętochłowice "," 0 - 4 ",2321,1209,1112,false,true,true,false]
["Śląskie"," Świętochłowice "," 5 - 9 ",2558,1298,1260,false,true,true,false]
["Śląskie"," Świętochłowice "," 10 - 14 ",2308,1172,1136,false,true,true,false]
["Śląskie"," Świętochłowice "," 15 - 19 ",2257,1097,1160,false,true,true,false]
["Śląskie"," Świętochłowice "," 20 - 24 ",2861,1477,1384,false,true,true,false]
["Śląskie"," Świętochłowice "," 25 - 29 ",3492,1780,1712,false,true,true,false]
["Śląskie"," Świętochłowice "," 30 - 34 ",4116,2027,2089,false,true,true,false]
["Śląskie"," Świętochłowice "," 35 - 39 ",4030,2020,2010,false,true,true,false]
["Śląskie"," Świętochłowice "," 40 - 44 ",3525,1837,1688,false,true,true,false]
["Śląskie"," Świętochłowice "," 45 - 49 ",3323,1687,1636,false,true,true,false]
["Śląskie"," Świętochłowice "," 50 - 54 ",3256,1575,1681,false,true,true,false]
["Śląskie"," Świętochłowice "," 55 - 59 ",3977,1884,2093,false,true,true,false]
["Śląskie"," Świętochłowice "," 60 - 64 ",3970,1815,2155,false,true,true,false]
["Śląskie"," Świętochłowice "," 65 - 69 ",3020,1344,1676,false,true,true,false]
["Śląskie"," Świętochłowice "," 70 i więcej",5736,2179,3557,true,true,false,false]
["Śląskie"," Świętochłowice ","65+",{"$f":"SUM(D4778:D4779)","v":8756},{"$f":"SUM(E4778:E4779)","v":3523},{"$f":"SUM(F4778:F4779)","v":5233},true,false,true,false]
["Śląskie"," Tychy "," Tychy ",128415,61896,66519,true,true,true,true]
["Śląskie"," Tychy "," 0 - 4 ",6538,3325,3213,false,true,true,false]
["Śląskie"," Tychy "," 5 - 9 ",6824,3517,3307,false,true,true,false]
["Śląskie"," Tychy "," 10 - 14 ",5379,2724,2655,false,true,true,false]
["Śląskie"," Tychy "," 15 - 19 ",5085,2579,2506,false,true,true,false]
["Śląskie"," Tychy "," 20 - 24 ",6250,3201,3049,false,true,true,false]
["Śląskie"," Tychy "," 25 - 29 ",8916,4476,4440,false,true,true,false]
["Śląskie"," Tychy "," 30 - 34 ",11860,6059,5801,false,true,true,false]
["Śląskie"," Tychy "," 35 - 39 ",12010,6088,5922,false,true,true,false]
["Śląskie"," Tychy "," 40 - 44 ",8739,4517,4222,false,true,true,false]
["Śląskie"," Tychy "," 45 - 49 ",6488,3194,3294,false,true,true,false]
["Śląskie",{"$f":"IF(C4791=\"65+\",C4792,B4791)","v":" Tychy "}," 50 - 54 ",7380,3550,3830,false,true,true,false]
["Śląskie"," Tychy "," 55 - 59 ",11075,4983,6092,false,true,true,false]
["Śląskie"," Tychy "," 60 - 64 ",11561,5383,6178,false,true,true,false]
["Śląskie"," Tychy "," 65 - 69 ",7938,3674,4264,false,true,true,false]
["Śląskie"," Tychy "," 70 i więcej",12372,4626,7746,true,true,false,false]
["Śląskie"," Tychy ","65+",{"$f":"SUM(D4795:D4796)","v":20310},{"$f":"SUM(E4795:E4796)","v":8300},{"$f":"SUM(F4795:F4796)","v":12010},true,false,true,false]
["Śląskie"," Zabrze "," Zabrze ",175882,84854,91028,true,true,true,true]
["Śląskie"," Zabrze "," 0 - 4 ",7548,3877,3671,false,true,true,false]
["Śląskie"," Zabrze "," 5 - 9 ",8264,4241,4023,false,true,true,false]
["Śląskie"," Zabrze "," 10 - 14 ",7035,3700,3335,false,true,true,false]
["Śląskie"," Zabrze "," 15 - 19 ",7914,4113,3801,false,true,true,false]
["Śląskie"," Zabrze "," 20 - 24 ",10017,5079,4938,false,true,true,false]
["Śląskie"," Zabrze "," 25 - 29 ",13305,6770,6535,false,true,true,false]
["Śląskie"," Zabrze "," 30 - 34 ",14488,7018,7470,false,true,true,false]
["Śląskie"," Zabrze "," 35 - 39 ",13114,6310,6804,false,true,true,false]
["Śląskie"," Zabrze "," 40 - 44 ",12469,6095,6374,false,true,true,false]
["Śląskie"," Zabrze "," 45 - 49 ",11947,5855,6092,false,true,true,false]
["Śląskie"," Zabrze "," 50 - 54 ",12714,6418,6296,false,true,true,false]
["Śląskie"," Zabrze "," 55 - 59 ",14474,7205,7269,false,true,true,false]
["Śląskie"," Zabrze "," 60 - 64 ",11851,5574,6277,false,true,true,false]
["Śląskie"," Zabrze "," 65 - 69 ",9352,4183,5169,false,true,true,false]
["Śląskie"," Zabrze "," 70 i więcej",21390,8416,12974,{"$f":"IFERROR(IF(SEARCH(\" - \",C4813)>0,FALSE,TRUE),TRUE)","v":true},{"$f":"IFERROR(IF(SEARCH(\"65+\",C4813)>0,FALSE,TRUE),TRUE)","v":true},{"$f":"IFERROR(IF(SEARCH(\"70\",C4813)>0,FALSE,TRUE),TRUE)","v":false},{"$f":"AND(G4813:I4813)","v":false}]
["Śląskie"," Zabrze ","65+",{"$f":"SUM(D4812:D4813)","v":30742},{"$f":"SUM(E4812:E4813)","v":12599},{"$f":"SUM(F4812:F4813)","v":18143},true,false,true,false]
["Śląskie"," Żory "," Żory ",61942,30340,31602,true,true,true,true]
["Śląskie"," Żory "," 0 - 4 ",3360,1753,1607,false,true,true,false]
["Śląskie"," Żory "," 5 - 9 ",3725,1898,1827,false,true,true,false]
["Śląskie"," Żory "," 10 - 14 ",3054,1595,1459,false,true,true,false]
["Śląskie"," Żory "," 15 - 19 ",2942,1478,1464,false,true,true,false]
["Śląskie"," Żory "," 20 - 24 ",3170,1600,1570,false,true,true,false]
["Śląskie"," Żory "," 25 - 29 ",4141,2034,2107,false,true,true,false]
["Śląskie"," Żory "," 30 - 34 ",5655,2871,2784,false,true,true,false]
["Śląskie"," Żory "," 35 - 39 ",6208,3140,3068,false,true,true,false]
["Śląskie"," Żory "," 40 - 44 ",4933,2544,2389,false,true,true,false]
["Śląskie"," Żory "," 45 - 49 ",3074,1587,1487,false,true,true,false]
["Śląskie"," Żory "," 50 - 54 ",3117,1494,1623,false,true,true,false]
["Śląskie"," Żory "," 55 - 59 ",4696,2040,2656,false,true,true,false]
["Śląskie"," Żory "," 60 - 64 ",5556,2544,3012,false,true,true,false]
["Śląskie"," Żory "," 65 - 69 ",4131,1970,2161,false,true,true,false]
["Śląskie"," Żory "," 70 i więcej",4180,1792,2388,true,true,false,false]
["Śląskie"," Żory ","65+",{"$f":"SUM(D4829:D4830)","v":8311},{"$f":"SUM(E4829:E4830)","v":3762},{"$f":"SUM(F4829:F4830)","v":4549},true,false,true,false]
["Śląskie"," będziński "," będziński ",149955,71532,78423,true,true,true,true]
["Śląskie"," będziński "," 0 - 4 ",6381,3289,3092,false,true,true,false]
["Śląskie"," będziński "," 5 - 9 ",7399,3775,3624,false,true,true,false]
["Śląskie"," będziński "," 10 - 14 ",6301,3284,3017,false,true,true,false]
["Śląskie"," będziński "," 15 - 19 ",6328,3287,3041,false,true,true,false]
["Śląskie"," będziński "," 20 - 24 ",7212,3597,3615,false,true,true,false]
["Śląskie"," będziński "," 25 - 29 ",8920,4601,4319,false,true,true,false]
["Śląskie"," będziński "," 30 - 34 ",12089,5990,6099,false,true,true,false]
["Śląskie"," będziński "," 35 - 39 ",13237,6671,6566,false,true,true,false]
["Śląskie"," będziński "," 40 - 44 ",11497,5803,5694,false,true,true,false]
["Śląskie"," będziński "," 45 - 49 ",9158,4609,4549,false,true,true,false]
["Śląskie"," będziński "," 50 - 54 ",8937,4335,4602,false,true,true,false]
["Śląskie"," będziński "," 55 - 59 ",12113,5664,6449,false,true,true,false]
["Śląskie"," będziński "," 60 - 64 ",12701,5805,6896,false,true,true,false]
["Śląskie"," będziński "," 65 - 69 ",10293,4570,5723,false,true,true,false]
["Śląskie"," będziński "," 70 i więcej",17389,6252,11137,true,true,false,false]
["Śląskie"," będziński ","65+",{"$f":"SUM(D4846:D4847)","v":27682},{"$f":"SUM(E4846:E4847)","v":10822},{"$f":"SUM(F4846:F4847)","v":16860},true,false,true,false]
["Śląskie"," bielski "," bielski ",162495,79318,83177,true,true,true,true]
["Śląskie"," bielski "," 0 - 4 ",8559,4518,4041,false,true,true,false]
["Śląskie"," bielski "," 5 - 9 ",9367,4856,4511,false,true,true,false]
["Śląskie"," bielski "," 10 - 14 ",8070,4062,4008,false,true,true,false]
["Śląskie"," bielski "," 15 - 19 ",8599,4405,4194,false,true,true,false]
["Śląskie"," bielski "," 20 - 24 ",10110,5117,4993,false,true,true,false]
["Śląskie"," bielski "," 25 - 29 ",12100,6154,5946,false,true,true,false]
["Śląskie",{"$f":"IF(C4855=\"65+\",C4856,B4855)","v":" bielski "}," 30 - 34 ",13222,6644,6578,false,true,true,false]
["Śląskie"," bielski "," 35 - 39 ",13219,6698,6521,false,true,true,false]
["Śląskie"," bielski "," 40 - 44 ",11860,5987,5873,false,true,true,false]
["Śląskie"," bielski "," 45 - 49 ",10300,5050,5250,false,true,true,false]
["Śląskie"," bielski "," 50 - 54 ",10585,5282,5303,false,true,true,false]
["Śląskie"," bielski "," 55 - 59 ",11468,5526,5942,false,true,true,false]
["Śląskie"," bielski "," 60 - 64 ",10979,5199,5780,false,true,true,false]
["Śląskie"," bielski "," 65 - 69 ",8470,3850,4620,false,true,true,false]
["Śląskie"," bielski "," 70 i więcej",15587,5970,9617,true,true,false,false]
["Śląskie"," bielski ","65+",{"$f":"SUM(D4863:D4864)","v":24057},{"$f":"SUM(E4863:E4864)","v":9820},{"$f":"SUM(F4863:F4864)","v":14237},true,false,true,false]
["Śląskie"," cieszyński "," cieszyński ",177604,86207,91397,true,true,true,true]
["Śląskie"," cieszyński "," 0 - 4 ",9359,4926,4433,false,true,true,false]
["Śląskie"," cieszyński "," 5 - 9 ",9942,5152,4790,false,true,true,false]
["Śląskie"," cieszyński "," 10 - 14 ",8681,4458,4223,false,true,true,false]
["Śląskie"," cieszyński "," 15 - 19 ",9323,4793,4530,false,true,true,false]
["Śląskie"," cieszyński "," 20 - 24 ",10891,5559,5332,false,true,true,false]
["Śląskie"," cieszyński "," 25 - 29 ",12459,6373,6086,false,true,true,false]
["Śląskie"," cieszyński "," 30 - 34 ",13826,6932,6894,false,true,true,false]
["Śląskie"," cieszyński "," 35 - 39 ",14142,7110,7032,false,true,true,false]
["Śląskie"," cieszyński "," 40 - 44 ",12690,6305,6385,false,true,true,false]
["Śląskie"," cieszyński "," 45 - 49 ",11193,5499,5694,false,true,true,false]
["Śląskie"," cieszyński "," 50 - 54 ",11535,5712,5823,{"$f":"IFERROR(IF(SEARCH(\" - \",C4877)>0,FALSE,TRUE),TRUE)","v":false},{"$f":"IFERROR(IF(SEARCH(\"65+\",C4877)>0,FALSE,TRUE),TRUE)","v":true},{"$f":"IFERROR(IF(SEARCH(\"70\",C4877)>0,FALSE,TRUE),TRUE)","v":true},{"$f":"AND(G4877:I4877)","v":false}]
["Śląskie"," cieszyński "," 55 - 59 ",12531,6044,6487,false,true,true,false]
["Śląskie"," cieszyński "," 60 - 64 ",12808,5886,6922,false,true,true,false]
["Śląskie"," cieszyński "," 65 - 69 ",10161,4538,5623,false,true,true,false]
["Śląskie"," cieszyński "," 70 i więcej",18063,6920,11143,true,true,false,false]
["Śląskie"," cieszyński ","65+",{"$f":"SUM(D4880:D4881)","v":28224},{"$f":"SUM(E4880:E4881)","v":11458},{"$f":"SUM(F4880:F4881)","v":16766},true,false,true,false]
["Śląskie"," częstochowski "," częstochowski ",135517,66361,69156,true,true,true,true]
["Śląskie"," częstochowski "," 0 - 4 ",5770,2889,2881,false,true,true,false]
["Śląskie"," częstochowski "," 5 - 9 ",6892,3547,3345,false,true,true,false]
["Śląskie"," częstochowski "," 10 - 14 ",6264,3186,3078,false,true,true,false]
["Śląskie"," częstochowski "," 15 - 19 ",7002,3606,3396,false,true,true,false]
["Śląskie"," częstochowski "," 20 - 24 ",8888,4618,4270,false,true,true,false]
["Śląskie"," częstochowski "," 25 - 29 ",9477,4931,4546,false,true,true,false]
["Śląskie"," częstochowski "," 30 - 34 ",10440,5359,5081,false,true,true,false]
["Śląskie"," częstochowski "," 35 - 39 ",10550,5375,5175,false,true,true,false]
["Śląskie"," częstochowski "," 40 - 44 ",10162,5142,5020,false,true,true,false]
["Śląskie"," częstochowski "," 45 - 49 ",9006,4607,4399,false,true,true,false]
["Śląskie"," częstochowski "," 50 - 54 ",9062,4549,4513,false,true,true,false]
["Śląskie"," częstochowski "," 55 - 59 ",10246,5137,5109,false,true,true,false]
["Śląskie"," częstochowski "," 60 - 64 ",9754,4782,4972,false,true,true,false]
["Śląskie"," częstochowski "," 65 - 69 ",7562,3534,4028,false,true,true,false]
["Śląskie"," częstochowski "," 70 i więcej",14442,5099,9343,true,true,false,false]
["Śląskie"," częstochowski ","65+",{"$f":"SUM(D4897:D4898)","v":22004},{"$f":"SUM(E4897:E4898)","v":8633},{"$f":"SUM(F4897:F4898)","v":13371},true,false,true,false]
["Śląskie"," gliwicki "," gliwicki ",115261,55840,59421,true,true,true,true]
["Śląskie"," gliwicki "," 0 - 4 ",5740,2968,2772,false,true,true,false]
["Śląskie"," gliwicki "," 5 - 9 ",6138,3091,3047,false,true,true,false]
["Śląskie"," gliwicki "," 10 - 14 ",5196,2641,2555,false,true,true,false]
["Śląskie"," gliwicki "," 15 - 19 ",5518,2788,2730,false,true,true,false]
["Śląskie"," gliwicki "," 20 - 24 ",6780,3398,3382,false,true,true,false]
["Śląskie"," gliwicki "," 25 - 29 ",8417,4213,4204,false,true,true,false]
["Śląskie"," gliwicki "," 30 - 34 ",9611,4727,4884,false,true,true,false]
["Śląskie"," gliwicki "," 35 - 39 ",9103,4546,4557,false,true,true,false]
["Śląskie"," gliwicki "," 40 - 44 ",8369,4194,4175,false,true,true,false]
["Śląskie"," gliwicki "," 45 - 49 ",7809,3908,3901,false,true,true,false]
["Śląskie"," gliwicki "," 50 - 54 ",8228,4191,4037,false,true,true,false]
["Śląskie"," gliwicki "," 55 - 59 ",8672,4278,4394,false,true,true,false]
["Śląskie"," gliwicki "," 60 - 64 ",7640,3557,4083,false,true,true,false]
["Śląskie"," gliwicki "," 65 - 69 ",5790,2629,3161,false,true,true,false]
["Śląskie"," gliwicki "," 70 i więcej",12250,4711,7539,true,true,false,false]
["Śląskie"," gliwicki ","65+",{"$f":"SUM(D4914:D4915)","v":18040},{"$f":"SUM(E4914:E4915)","v":7340},{"$f":"SUM(F4914:F4915)","v":10700},true,false,true,false]
["Śląskie"," kłobucki "," kłobucki ",85137,41975,43162,true,true,true,true]
["Śląskie"," kłobucki "," 0 - 4 ",3764,1982,1782,false,true,true,false]
["Śląskie"," kłobucki "," 5 - 9 ",4326,2198,2128,false,true,true,false]
["Śląskie",{"$f":"IF(C4919=\"65+\",C4920,B4919)","v":" kłobucki "}," 10 - 14 ",4007,2084,1923,false,true,true,false]
["Śląskie"," kłobucki "," 15 - 19 ",4561,2395,2166,false,true,true,false]
["Śląskie"," kłobucki "," 20 - 24 ",5690,2936,2754,false,true,true,false]
["Śląskie"," kłobucki "," 25 - 29 ",6258,3247,3011,false,true,true,false]
["Śląskie"," kłobucki "," 30 - 34 ",6453,3280,3173,false,true,true,false]
["Śląskie"," kłobucki "," 35 - 39 ",6427,3318,3109,false,true,true,false]
["Śląskie"," kłobucki "," 40 - 44 ",6344,3188,3156,false,true,true,false]
["Śląskie"," kłobucki "," 45 - 49 ",5841,3001,2840,false,true,true,false]
["Śląskie"," kłobucki "," 50 - 54 ",5641,2869,2772,false,true,true,false]
["Śląskie"," kłobucki "," 55 - 59 ",6190,3197,2993,false,true,true,false]
["Śląskie"," kłobucki "," 60 - 64 ",5640,2788,2852,false,true,true,false]
["Śląskie"," kłobucki "," 65 - 69 ",4650,2091,2559,false,true,true,false]
["Śląskie"," kłobucki "," 70 i więcej",9345,3401,5944,true,true,false,false]
["Śląskie"," kłobucki ","65+",{"$f":"SUM(D4931:D4932)","v":13995},{"$f":"SUM(E4931:E4932)","v":5492},{"$f":"SUM(F4931:F4932)","v":8503},true,false,true,false]
["Śląskie"," lubliniecki "," lubliniecki ",76872,37841,39031,true,true,true,true]
["Śląskie"," lubliniecki "," 0 - 4 ",3639,1868,1771,false,true,true,false]
["Śląskie"," lubliniecki "," 5 - 9 ",4047,2076,1971,false,true,true,false]
["Śląskie"," lubliniecki "," 10 - 14 ",3649,1880,1769,false,true,true,false]
["Śląskie"," lubliniecki "," 15 - 19 ",3953,2099,1854,false,true,true,false]
["Śląskie"," lubliniecki "," 20 - 24 ",4737,2389,2348,false,true,true,false]
["Śląskie"," lubliniecki "," 25 - 29 ",5922,3003,2919,false,true,true,false]
["Śląskie"," lubliniecki "," 30 - 34 ",6376,3225,3151,{"$f":"IFERROR(IF(SEARCH(\" - \",C4941)>0,FALSE,TRUE),TRUE)","v":false},{"$f":"IFERROR(IF(SEARCH(\"65+\",C4941)>0,FALSE,TRUE),TRUE)","v":true},{"$f":"IFERROR(IF(SEARCH(\"70\",C4941)>0,FALSE,TRUE),TRUE)","v":true},{"$f":"AND(G4941:I4941)","v":false}]
["Śląskie"," lubliniecki "," 35 - 39 ",5998,3080,2918,false,true,true,false]
["Śląskie"," lubliniecki "," 40 - 44 ",5563,2846,2717,false,true,true,false]
["Śląskie"," lubliniecki "," 45 - 49 ",5220,2666,2554,false,true,true,false]
["Śląskie"," lubliniecki "," 50 - 54 ",5536,2829,2707,false,true,true,false]
["Śląskie"," lubliniecki "," 55 - 59 ",5586,2783,2803,false,true,true,false]
["Śląskie"," lubliniecki "," 60 - 64 ",4941,2361,2580,false,true,true,false]
["Śląskie"," lubliniecki "," 65 - 69 ",3821,1760,2061,false,true,true,false]
["Śląskie"," lubliniecki "," 70 i więcej",7884,2976,4908,true,true,false,false]
["Śląskie"," lubliniecki ","65+",{"$f":"SUM(D4948:D4949)","v":11705},{"$f":"SUM(E4948:E4949)","v":4736},{"$f":"SUM(F4948:F4949)","v":6969},true,false,true,false]
["Śląskie"," mikołowski "," mikołowski ",96727,47094,49633,true,true,true,true]
["Śląskie"," mikołowski "," 0 - 4 ",5193,2710,2483,false,true,true,false]
["Śląskie"," mikołowski "," 5 - 9 ",5581,2850,2731,false,true,true,false]
["Śląskie"," mikołowski "," 10 - 14 ",4664,2374,2290,false,true,true,false]
["Śląskie"," mikołowski "," 15 - 19 ",4678,2404,2274,false,true,true,false]
["Śląskie"," mikołowski "," 20 - 24 ",5674,2903,2771,false,true,true,false]
["Śląskie"," mikołowski "," 25 - 29 ",7025,3523,3502,false,true,true,false]
["Śląskie"," mikołowski "," 30 - 34 ",8230,4160,4070,false,true,true,false]
["Śląskie"," mikołowski "," 35 - 39 ",7904,3904,4000,false,true,true,false]
["Śląskie"," mikołowski "," 40 - 44 ",7041,3587,3454,false,true,true,false]
["Śląskie"," mikołowski "," 45 - 49 ",6279,3161,3118,false,true,true,false]
["Śląskie"," mikołowski "," 50 - 54 ",6381,3169,3212,false,true,true,false]
["Śląskie"," mikołowski "," 55 - 59 ",7126,3423,3703,false,true,true,false]
["Śląskie"," mikołowski "," 60 - 64 ",6562,3100,3462,false,true,true,false]
["Śląskie"," mikołowski "," 65 - 69 ",4836,2203,2633,false,true,true,false]
["Śląskie"," mikołowski "," 70 i więcej",9553,3623,5930,true,true,false,false]
["Śląskie"," mikołowski ","65+",{"$f":"SUM(D4965:D4966)","v":14389},{"$f":"SUM(E4965:E4966)","v":5826},{"$f":"SUM(F4965:F4966)","v":8563},true,false,true,false]
["Śląskie"," myszkowski "," myszkowski ",71705,34735,36970,true,true,true,true]
["Śląskie"," myszkowski "," 0 - 4 ",3267,1670,1597,false,true,true,false]
["Śląskie"," myszkowski "," 5 - 9 ",3525,1833,1692,false,true,true,false]
["Śląskie"," myszkowski "," 10 - 14 ",3233,1608,1625,false,true,true,false]
["Śląskie"," myszkowski "," 15 - 19 ",3404,1784,1620,false,true,true,false]
["Śląskie"," myszkowski "," 20 - 24 ",4097,2095,2002,false,true,true,false]
["Śląskie"," myszkowski "," 25 - 29 ",4921,2549,2372,false,true,true,false]
["Śląskie"," myszkowski "," 30 - 34 ",5642,2890,2752,false,true,true,false]
["Śląskie"," myszkowski "," 35 - 39 ",5723,2966,2757,false,true,true,false]
["Śląskie"," myszkowski "," 40 - 44 ",5175,2597,2578,false,true,true,false]
["Śląskie"," myszkowski "," 45 - 49 ",4475,2240,2235,false,true,true,false]
["Śląskie"," myszkowski "," 50 - 54 ",4737,2307,2430,false,true,true,false]
["Śląskie"," myszkowski "," 55 - 59 ",5617,2712,2905,false,true,true,false]
["Śląskie"," myszkowski "," 60 - 64 ",5493,2533,2960,false,true,true,false]
["Śląskie"," myszkowski "," 65 - 69 ",4316,1967,2349,false,true,true,false]
["Śląskie"," myszkowski "," 70 i więcej",8080,2984,5096,true,true,false,false]
["Śląskie",{"$f":"IF(C4983=\"65+\",C4984,B4983)","v":" myszkowski "},"65+",{"$f":"SUM(D4982:D4983)","v":12396},{"$f":"SUM(E4982:E4983)","v":4951},{"$f":"SUM(F4982:F4983)","v":7445},true,false,true,false]
["Śląskie"," pszczyński "," pszczyński ",109954,53880,56074,true,true,true,true]
["Śląskie"," pszczyński "," 0 - 4 ",6529,3261,3268,false,true,true,false]
["Śląskie"," pszczyński "," 5 - 9 ",6776,3479,3297,false,true,true,false]
["Śląskie"," pszczyński "," 10 - 14 ",5596,2834,2762,false,true,true,false]
["Śląskie"," pszczyński "," 15 - 19 ",6124,3107,3017,false,true,true,false]
["Śląskie"," pszczyński "," 20 - 24 ",6953,3469,3484,false,true,true,false]
["Śląskie"," pszczyński "," 25 - 29 ",8879,4523,4356,false,true,true,false]
["Śląskie"," pszczyński "," 30 - 34 ",9619,4939,4680,false,true,true,false]
["Śląskie"," pszczyński "," 35 - 39 ",8460,4250,4210,false,true,true,false]
["Śląskie"," pszczyński "," 40 - 44 ",7432,3692,3740,false,true,true,false]
["Śląskie"," pszczyński "," 45 - 49 ",7172,3540,3632,false,true,true,false]
["Śląskie"," pszczyński "," 50 - 54 ",8115,3921,4194,false,true,true,false]
["Śląskie"," pszczyński "," 55 - 59 ",8379,4244,4135,false,true,true,false]
["Śląskie"," pszczyński "," 60 - 64 ",6524,3174,3350,false,true,true,false]
["Śląskie"," pszczyński "," 65 - 69 ",4665,2107,2558,false,true,true,false]
["Śląskie"," pszczyński "," 70 i więcej",8731,3340,5391,true,true,false,false]
["Śląskie"," pszczyński ","65+",{"$f":"SUM(D4999:D5000)","v":13396},{"$f":"SUM(E4999:E5000)","v":5447},{"$f":"SUM(F4999:F5000)","v":7949},true,false,true,false]
["Śląskie"," raciborski "," raciborski ",109065,52510,56555,true,true,true,true]
["Śląskie"," raciborski "," 0 - 4 ",4664,2387,2277,false,true,true,false]
["Śląskie"," raciborski "," 5 - 9 ",4877,2500,2377,false,true,true,false]
["Śląskie"," raciborski "," 10 - 14 ",4682,2392,2290,{"$f":"IFERROR(IF(SEARCH(\" - \",C5005)>0,FALSE,TRUE),TRUE)","v":false},{"$f":"IFERROR(IF(SEARCH(\"65+\",C5005)>0,FALSE,TRUE),TRUE)","v":true},{"$f":"IFERROR(IF(SEARCH(\"70\",C5005)>0,FALSE,TRUE),TRUE)","v":true},{"$f":"AND(G5005:I5005)","v":false}]
["Śląskie"," raciborski "," 15 - 19 ",5303,2800,2503,false,true,true,false]
["Śląskie"," raciborski "," 20 - 24 ",6393,3208,3185,false,true,true,false]
["Śląskie"," raciborski "," 25 - 29 ",8341,4210,4131,false,true,true,false]
["Śląskie"," raciborski "," 30 - 34 ",9060,4495,4565,false,true,true,false]
["Śląskie"," raciborski "," 35 - 39 ",8582,4244,4338,false,true,true,false]
["Śląskie"," raciborski "," 40 - 44 ",7797,3838,3959,false,true,true,false]
["Śląskie"," raciborski "," 45 - 49 ",7615,3742,3873,false,true,true,false]
["Śląskie"," raciborski "," 50 - 54 ",8512,4286,4226,false,true,true,false]
["Śląskie"," raciborski "," 55 - 59 ",8458,4056,4402,false,true,true,false]
["Śląskie"," raciborski "," 60 - 64 ",7417,3507,3910,false,true,true,false]
["Śląskie"," raciborski "," 65 - 69 ",5317,2418,2899,false,true,true,false]
["Śląskie"," raciborski "," 70 i więcej",12047,4427,7620,true,true,false,false]
["Śląskie"," raciborski ","65+",{"$f":"SUM(D5016:D5017)","v":17364},{"$f":"SUM(E5016:E5017)","v":6845},{"$f":"SUM(F5016:F5017)","v":10519},true,false,true,false]
["Śląskie"," rybnicki "," rybnicki ",77539,38233,39306,true,true,true,true]
["Śląskie"," rybnicki "," 0 - 4 ",4234,2204,2030,false,true,true,false]
["Śląskie"," rybnicki "," 5 - 9 ",4454,2279,2175,false,true,true,false]
["Śląskie"," rybnicki "," 10 - 14 ",3820,1978,1842,false,true,true,false]
["Śląskie"," rybnicki "," 15 - 19 ",3986,2046,1940,false,true,true,false]
["Śląskie"," rybnicki "," 20 - 24 ",4800,2541,2259,false,true,true,false]
["Śląskie"," rybnicki "," 25 - 29 ",6084,3116,2968,false,true,true,false]
["Śląskie"," rybnicki "," 30 - 34 ",6642,3323,3319,false,true,true,false]
["Śląskie"," rybnicki "," 35 - 39 ",5908,2988,2920,false,true,true,false]
["Śląskie"," rybnicki "," 40 - 44 ",5425,2726,2699,false,true,true,false]
["Śląskie"," rybnicki "," 45 - 49 ",5068,2588,2480,false,true,true,false]
["Śląskie"," rybnicki "," 50 - 54 ",5408,2756,2652,false,true,true,false]
["Śląskie"," rybnicki "," 55 - 59 ",5845,2871,2974,false,true,true,false]
["Śląskie"," rybnicki "," 60 - 64 ",4773,2327,2446,false,true,true,false]
["Śląskie"," rybnicki "," 65 - 69 ",3597,1665,1932,false,true,true,false]
["Śląskie"," rybnicki "," 70 i więcej",7495,2825,4670,true,true,false,false]
["Śląskie"," rybnicki ","65+",{"$f":"SUM(D5033:D5034)","v":11092},{"$f":"SUM(E5033:E5034)","v":4490},{"$f":"SUM(F5033:F5034)","v":6602},true,false,true,false]
["Śląskie"," tarnogórski "," tarnogórski ",138975,67572,71403,true,true,true,true]
["Śląskie"," tarnogórski "," 0 - 4 ",6311,3243,3068,false,true,true,false]
["Śląskie"," tarnogórski "," 5 - 9 ",6963,3570,3393,false,true,true,false]
["Śląskie"," tarnogórski "," 10 - 14 ",5962,3065,2897,false,true,true,false]
["Śląskie"," tarnogórski "," 15 - 19 ",6790,3552,3238,false,true,true,false]
["Śląskie"," tarnogórski "," 20 - 24 ",7788,3951,3837,false,true,true,false]
["Śląskie"," tarnogórski "," 25 - 29 ",9727,4992,4735,false,true,true,false]
["Śląskie"," tarnogórski "," 30 - 34 ",11344,5684,5660,false,true,true,false]
["Śląskie"," tarnogórski "," 35 - 39 ",11148,5623,5525,false,true,true,false]
["Śląskie"," tarnogórski "," 40 - 44 ",10345,5174,5171,false,true,true,false]
["Śląskie"," tarnogórski "," 45 - 49 ",9169,4641,4528,false,true,true,false]
["Śląskie"," tarnogórski "," 50 - 54 ",9329,4667,4662,false,true,true,false]
["Śląskie",{"$f":"IF(C5047=\"65+\",C5048,B5047)","v":" tarnogórski "}," 55 - 59 ",10447,5042,5405,false,true,true,false]
["Śląskie"," tarnogórski "," 60 - 64 ",9936,4589,5347,false,true,true,false]
["Śląskie"," tarnogórski "," 65 - 69 ",7823,3539,4284,false,true,true,false]
["Śląskie"," tarnogórski "," 70 i więcej",15893,6240,9653,true,true,false,false]
["Śląskie"," tarnogórski ","65+",{"$f":"SUM(D5050:D5051)","v":23716},{"$f":"SUM(E5050:E5051)","v":9779},{"$f":"SUM(F5050:F5051)","v":13937},true,false,true,false]
["Śląskie"," bieruńsko-lędziński "," bieruńsko-lędziński ",59044,29129,29915,true,true,true,true]
["Śląskie"," bieruńsko-lędziński "," 0 - 4 ",3234,1661,1573,false,true,true,false]
["Śląskie"," bieruńsko-lędziński "," 5 - 9 ",3423,1746,1677,false,true,true,false]
["Śląskie"," bieruńsko-lędziński "," 10 - 14 ",2884,1482,1402,false,true,true,false]
["Śląskie"," bieruńsko-lędziński "," 15 - 19 ",2979,1524,1455,false,true,true,false]
["Śląskie"," bieruńsko-lędziński "," 20 - 24 ",3702,1900,1802,false,true,true,false]
["Śląskie"," bieruńsko-lędziński "," 25 - 29 ",4684,2358,2326,false,true,true,false]
["Śląskie"," bieruńsko-lędziński "," 30 - 34 ",5055,2560,2495,false,true,true,false]
["Śląskie"," bieruńsko-lędziński "," 35 - 39 ",4504,2270,2234,false,true,true,false]
["Śląskie"," bieruńsko-lędziński "," 40 - 44 ",4123,2074,2049,false,true,true,false]
["Śląskie"," bieruńsko-lędziński "," 45 - 49 ",4032,2018,2014,false,true,true,false]
["Śląskie"," bieruńsko-lędziński "," 50 - 54 ",4313,2174,2139,false,true,true,false]
["Śląskie"," bieruńsko-lędziński "," 55 - 59 ",4684,2420,2264,false,true,true,false]
["Śląskie"," bieruńsko-lędziński "," 60 - 64 ",3622,1750,1872,false,true,true,false]
["Śląskie"," bieruńsko-lędziński "," 65 - 69 ",2633,1216,1417,false,true,true,false]
["Śląskie"," bieruńsko-lędziński "," 70 i więcej",5172,1976,3196,true,true,false,false]
["Śląskie"," bieruńsko-lędziński ","65+",{"$f":"SUM(D5067:D5068)","v":7805},{"$f":"SUM(E5067:E5068)","v":3192},{"$f":"SUM(F5067:F5068)","v":4613},{"$f":"IFERROR(IF(SEARCH(\" - \",C5069)>0,FALSE,TRUE),TRUE)","v":true},{"$f":"IFERROR(IF(SEARCH(\"65+\",C5069)>0,FALSE,TRUE),TRUE)","v":false},{"$f":"IFERROR(IF(SEARCH(\"70\",C5069)>0,FALSE,TRUE),TRUE)","v":true},{"$f":"AND(G5069:I5069)","v":false}]
["Śląskie"," wodzisławski "," wodzisławski ",157845,76828,81017,true,true,true,true]
["Śląskie"," wodzisławski "," 0 - 4 ",7860,3999,3861,false,true,true,false]
["Śląskie"," wodzisławski "," 5 - 9 ",8624,4435,4189,false,true,true,false]
["Śląskie"," wodzisławski "," 10 - 14 ",7324,3777,3547,false,true,true,false]
["Śląskie"," wodzisławski "," 15 - 19 ",7818,3960,3858,false,true,true,false]
["Śląskie"," wodzisławski "," 20 - 24 ",9312,4689,4623,false,true,true,false]
["Śląskie"," wodzisławski "," 25 - 29 ",11821,5987,5834,false,true,true,false]
["Śląskie"," wodzisławski "," 30 - 34 ",12822,6494,6328,false,true,true,false]
["Śląskie"," wodzisławski "," 35 - 39 ",12036,6083,5953,false,true,true,false]
["Śląskie"," wodzisławski "," 40 - 44 ",11176,5588,5588,false,true,true,false]
["Śląskie"," wodzisławski "," 45 - 49 ",10426,5275,5151,false,true,true,false]
["Śląskie"," wodzisławski "," 50 - 54 ",11245,5603,5642,false,true,true,false]
["Śląskie"," wodzisławski "," 55 - 59 ",11431,5635,5796,false,true,true,false]
["Śląskie"," wodzisławski "," 60 - 64 ",10061,4646,5415,false,true,true,false]
["Śląskie"," wodzisławski "," 65 - 69 ",8555,3860,4695,false,true,true,false]
["Śląskie"," wodzisławski "," 70 i więcej",17334,6797,10537,true,true,false,false]
["Śląskie"," wodzisławski ","65+",{"$f":"SUM(D5084:D5085)","v":25889},{"$f":"SUM(E5084:E5085)","v":10657},{"$f":"SUM(F5084:F5085)","v":15232},true,false,true,false]
["Śląskie"," zawierciański "," zawierciański ",119952,57988,61964,true,true,true,true]
["Śląskie"," zawierciański "," 0 - 4 ",5057,2608,2449,false,true,true,false]
["Śląskie"," zawierciański "," 5 - 9 ",5698,2941,2757,false,true,true,false]
["Śląskie"," zawierciański "," 10 - 14 ",5084,2643,2441,false,true,true,false]
["Śląskie"," zawierciański "," 15 - 19 ",5526,2734,2792,false,true,true,false]
["Śląskie"," zawierciański "," 20 - 24 ",6720,3403,3317,false,true,true,false]
["Śląskie"," zawierciański "," 25 - 29 ",7824,4098,3726,false,true,true,false]
["Śląskie"," zawierciański "," 30 - 34 ",9020,4693,4327,false,true,true,false]
["Śląskie"," zawierciański "," 35 - 39 ",9501,4892,4609,false,true,true,false]
["Śląskie"," zawierciański "," 40 - 44 ",8803,4477,4326,false,true,true,false]
["Śląskie"," zawierciański "," 45 - 49 ",7518,3777,3741,false,true,true,false]
["Śląskie"," zawierciański "," 50 - 54 ",7706,3751,3955,false,true,true,false]
["Śląskie"," zawierciański "," 55 - 59 ",9394,4461,4933,false,true,true,false]
["Śląskie"," zawierciański "," 60 - 64 ",9723,4629,5094,false,true,true,false]
["Śląskie"," zawierciański "," 65 - 69 ",8386,3814,4572,false,true,true,false]
["Śląskie"," zawierciański "," 70 i więcej",13992,5067,8925,true,true,false,false]
["Śląskie"," zawierciański ","65+",{"$f":"SUM(D5101:D5102)","v":22378},{"$f":"SUM(E5101:E5102)","v":8881},{"$f":"SUM(F5101:F5102)","v":13497},true,false,true,false]
["Śląskie"," żywiecki "," żywiecki ",153026,74759,78267,true,true,true,true]
["Śląskie"," żywiecki "," 0 - 4 ",7629,3878,3751,false,true,true,false]
["Śląskie"," żywiecki "," 5 - 9 ",8388,4208,4180,false,true,true,false]
["Śląskie"," żywiecki "," 10 - 14 ",7591,3813,3778,false,true,true,false]
["Śląskie"," żywiecki "," 15 - 19 ",8740,4456,4284,false,true,true,false]
["Śląskie"," żywiecki "," 20 - 24 ",10327,5135,5192,false,true,true,false]
["Śląskie"," żywiecki "," 25 - 29 ",11674,6055,5619,false,true,true,false]
["Śląskie"," żywiecki "," 30 - 34 ",12007,6255,5752,false,true,true,false]
["Śląskie",{"$f":"IF(C5111=\"65+\",C5112,B5111)","v":" żywiecki "}," 35 - 39 ",11502,5889,5613,false,true,true,false]
["Śląskie"," żywiecki "," 40 - 44 ",11035,5616,5419,false,true,true,false]
["Śląskie"," żywiecki "," 45 - 49 ",10027,5017,5010,false,true,true,false]
["Śląskie"," żywiecki "," 50 - 54 ",10154,5138,5016,false,true,true,false]
["Śląskie"," żywiecki "," 55 - 59 ",10647,5340,5307,false,true,true,false]
["Śląskie"," żywiecki "," 60 - 64 ",9642,4565,5077,false,true,true,false]
["Śląskie"," żywiecki "," 65 - 69 ",8018,3706,4312,false,true,true,false]
["Śląskie"," żywiecki "," 70 i więcej",15645,5688,9957,true,true,false,false]
["Śląskie"," żywiecki ","65+",{"$f":"SUM(D5118:D5119)","v":23663},{"$f":"SUM(E5118:E5119)","v":9394},{"$f":"SUM(F5118:F5119)","v":14269},true,false,true,false]
["Świętokrzyskie","Wszystkie","Świętokrzyskie ",1254505,611902,642603,{"$f":"IFERROR(IF(SEARCH(\" - \",C5121)>0,FALSE,TRUE),TRUE)","v":true},{"$f":"IFERROR(IF(SEARCH(\"65+\",C5121)>0,FALSE,TRUE),TRUE)","v":true},{"$f":"IFERROR(IF(SEARCH(\"70\",C5121)>0,FALSE,TRUE),TRUE)","v":true},{"$f":"AND(G5121:I5121)","v":true}]
["Świętokrzyskie","Wszystkie"," 0 - 4 ",54180,27871,26309,{"$f":"IFERROR(IF(SEARCH(\" - \",C5122)>0,FALSE,TRUE),TRUE)","v":false},{"$f":"IFERROR(IF(SEARCH(\"65+\",C5122)>0,FALSE,TRUE),TRUE)","v":true},{"$f":"IFERROR(IF(SEARCH(\"70\",C5122)>0,FALSE,TRUE),TRUE)","v":true},{"$f":"AND(G5122:I5122)","v":false}]
["Świętokrzyskie","Wszystkie"," 5 - 9 ",61836,31766,30070,false,true,true,false]
["Świętokrzyskie","Wszystkie"," 10 - 14 ",56798,28981,27817,false,true,true,false]
["Świętokrzyskie","Wszystkie"," 15 - 19 ",64928,33333,31595,false,true,true,false]
["Świętokrzyskie","Wszystkie"," 20 - 24 ",80450,40984,39466,false,true,true,false]
["Świętokrzyskie","Wszystkie"," 25 - 29 ",89434,46484,42950,false,true,true,false]
["Świętokrzyskie","Wszystkie"," 30 - 34 ",100118,51955,48163,false,true,true,false]
["Świętokrzyskie","Wszystkie"," 35 - 39 ",96562,49953,46609,false,true,true,false]
["Świętokrzyskie","Wszystkie"," 40 - 44 ",87694,45129,42565,false,true,true,false]
["Świętokrzyskie","Wszystkie"," 45 - 49 ",76109,38452,37657,false,true,true,false]
["Świętokrzyskie","Wszystkie"," 50 - 54 ",78652,39479,39173,false,true,true,false]
["Świętokrzyskie","Wszystkie"," 55 - 59 ",94782,46750,48032,false,true,true,false]
["Świętokrzyskie","Wszystkie"," 60 - 64 ",93689,44824,48865,false,true,true,false]
["Świętokrzyskie","Wszystkie"," 65 - 69 ",76135,34536,41599,false,true,true,false]
["Świętokrzyskie","Wszystkie"," 70 i więcej",143138,51405,91733,true,true,false,false]
["Świętokrzyskie","Wszystkie","65+",{"$f":"SUM(D5135:D5136)","v":219273},{"$f":"SUM(E5135:E5136)","v":85941},{"$f":"SUM(F5135:F5136)","v":133332},true,false,true,false]
["Świętokrzyskie"," Kielce "," Kielce ",197724,92826,104898,true,true,true,true]
["Świętokrzyskie"," Kielce "," 0 - 4 ",8986,4584,4402,false,true,true,false]
["Świętokrzyskie"," Kielce "," 5 - 9 ",9402,4758,4644,false,true,true,false]
["Świętokrzyskie"," Kielce "," 10 - 14 ",7751,4061,3690,false,true,true,false]
["Świętokrzyskie"," Kielce "," 15 - 19 ",8027,4047,3980,false,true,true,false]
["Świętokrzyskie"," Kielce "," 20 - 24 ",9688,4919,4769,false,true,true,false]
["Świętokrzyskie"," Kielce "," 25 - 29 ",14270,7056,7214,false,true,true,false]
["Świętokrzyskie"," Kielce "," 30 - 34 ",17323,8626,8697,false,true,true,false]
["Świętokrzyskie"," Kielce "," 35 - 39 ",16532,8353,8179,false,true,true,false]
["Świętokrzyskie"," Kielce "," 40 - 44 ",14224,7086,7138,false,true,true,false]
["Świętokrzyskie"," Kielce "," 45 - 49 ",11284,5458,5826,false,true,true,false]
["Świętokrzyskie"," Kielce "," 50 - 54 ",11591,5407,6184,false,true,true,false]
["Świętokrzyskie"," Kielce "," 55 - 59 ",14665,6571,8094,false,true,true,false]
["Świętokrzyskie"," Kielce "," 60 - 64 ",16081,7017,9064,false,true,true,false]
["Świętokrzyskie"," Kielce "," 65 - 69 ",13990,5913,8077,false,true,true,false]
["Świętokrzyskie"," Kielce "," 70 i więcej",23910,8970,14940,true,true,false,false]
["Świętokrzyskie"," Kielce ","65+",{"$f":"SUM(D5152:D5153)","v":37900},{"$f":"SUM(E5152:E5153)","v":14883},{"$f":"SUM(F5152:F5153)","v":23017},true,false,true,false]
["Świętokrzyskie"," buski "," buski ",72921,35566,37355,true,true,true,true]
["Świętokrzyskie"," buski "," 0 - 4 ",3017,1588,1429,false,true,true,false]
["Świętokrzyskie"," buski "," 5 - 9 ",3562,1770,1792,false,true,true,false]
["Świętokrzyskie"," buski "," 10 - 14 ",3346,1712,1634,false,true,true,false]
["Świętokrzyskie"," buski "," 15 - 19 ",3809,1922,1887,false,true,true,false]
["Świętokrzyskie"," buski "," 20 - 24 ",4728,2430,2298,false,true,true,false]
["Świętokrzyskie"," buski "," 25 - 29 ",4863,2510,2353,false,true,true,false]
["Świętokrzyskie"," buski "," 30 - 34 ",5651,2912,2739,false,true,true,false]
["Świętokrzyskie"," buski "," 35 - 39 ",5402,2769,2633,false,true,true,false]
["Świętokrzyskie"," buski "," 40 - 44 ",5309,2706,2603,false,true,true,false]
["Świętokrzyskie"," buski "," 45 - 49 ",4534,2345,2189,false,true,true,false]
["Świętokrzyskie"," buski "," 50 - 54 ",4467,2309,2158,false,true,true,false]
["Świętokrzyskie"," buski "," 55 - 59 ",5449,2795,2654,false,true,true,false]
["Świętokrzyskie"," buski "," 60 - 64 ",5144,2505,2639,false,true,true,false]
["Świętokrzyskie"," buski "," 65 - 69 ",4446,2076,2370,false,true,true,false]
["Świętokrzyskie"," buski "," 70 i więcej",9194,3217,5977,true,true,false,false]
["Świętokrzyskie"," buski ","65+",{"$f":"SUM(D5169:D5170)","v":13640},{"$f":"SUM(E5169:E5170)","v":5293},{"$f":"SUM(F5169:F5170)","v":8347},true,false,true,false]
["Świętokrzyskie"," jędrzejowski "," jędrzejowski ",86945,43055,43890,true,true,true,true]
["Świętokrzyskie"," jędrzejowski "," 0 - 4 ",4037,2121,1916,false,true,true,false]
["Świętokrzyskie"," jędrzejowski "," 5 - 9 ",4610,2361,2249,false,true,true,false]
["Świętokrzyskie"," jędrzejowski "," 10 - 14 ",4257,2185,2072,false,true,true,false]
["Świętokrzyskie",{"$f":"IF(C5175=\"65+\",C5176,B5175)","v":" jędrzejowski "}," 15 - 19 ",4651,2391,2260,false,true,true,false]
["Świętokrzyskie"," jędrzejowski "," 20 - 24 ",5788,2930,2858,false,true,true,false]
["Świętokrzyskie"," jędrzejowski "," 25 - 29 ",6085,3175,2910,false,true,true,false]
["Świętokrzyskie"," jędrzejowski "," 30 - 34 ",6875,3605,3270,false,true,true,false]
["Świętokrzyskie"," jędrzejowski "," 35 - 39 ",6877,3561,3316,false,true,true,false]
["Świętokrzyskie"," jędrzejowski "," 40 - 44 ",5953,3183,2770,false,true,true,false]
["Świętokrzyskie"," jędrzejowski "," 45 - 49 ",4979,2605,2374,false,true,true,false]
["Świętokrzyskie"," jędrzejowski "," 50 - 54 ",4982,2508,2474,false,true,true,false]
["Świętokrzyskie"," jędrzejowski "," 55 - 59 ",6380,3200,3180,false,true,true,false]
["Świętokrzyskie"," jędrzejowski "," 60 - 64 ",6612,3218,3394,false,true,true,false]
["Świętokrzyskie"," jędrzejowski "," 65 - 69 ",5371,2508,2863,{"$f":"IFERROR(IF(SEARCH(\" - \",C5186)>0,FALSE,TRUE),TRUE)","v":false},{"$f":"IFERROR(IF(SEARCH(\"65+\",C5186)>0,FALSE,TRUE),TRUE)","v":true},{"$f":"IFERROR(IF(SEARCH(\"70\",C5186)>0,FALSE,TRUE),TRUE)","v":true},{"$f":"AND(G5186:I5186)","v":false}]
["Świętokrzyskie"," jędrzejowski "," 70 i więcej",9488,3504,5984,true,true,false,false]
["Świętokrzyskie"," jędrzejowski ","65+",{"$f":"SUM(D5186:D5187)","v":14859},{"$f":"SUM(E5186:E5187)","v":6012},{"$f":"SUM(F5186:F5187)","v":8847},true,false,true,false]
["Świętokrzyskie"," kazimierski "," kazimierski ",34322,16864,17458,true,true,true,true]
["Świętokrzyskie"," kazimierski "," 0 - 4 ",1246,624,622,false,true,true,false]
["Świętokrzyskie"," kazimierski "," 5 - 9 ",1533,785,748,false,true,true,false]
["Świętokrzyskie"," kazimierski "," 10 - 14 ",1471,741,730,false,true,true,false]
["Świętokrzyskie"," kazimierski "," 15 - 19 ",1692,860,832,false,true,true,false]
["Świętokrzyskie"," kazimierski "," 20 - 24 ",2310,1165,1145,false,true,true,false]
["Świętokrzyskie"," kazimierski "," 25 - 29 ",2415,1289,1126,false,true,true,false]
["Świętokrzyskie"," kazimierski "," 30 - 34 ",2703,1436,1267,false,true,true,false]
["Świętokrzyskie"," kazimierski "," 35 - 39 ",2564,1323,1241,false,true,true,false]
["Świętokrzyskie"," kazimierski "," 40 - 44 ",2374,1250,1124,false,true,true,false]
["Świętokrzyskie"," kazimierski "," 45 - 49 ",2221,1117,1104,false,true,true,false]
["Świętokrzyskie"," kazimierski "," 50 - 54 ",2283,1156,1127,false,true,true,false]
["Świętokrzyskie"," kazimierski "," 55 - 59 ",2552,1308,1244,false,true,true,false]
["Świętokrzyskie"," kazimierski "," 60 - 64 ",2526,1272,1254,false,true,true,false]
["Świętokrzyskie"," kazimierski "," 65 - 69 ",1975,929,1046,false,true,true,false]
["Świętokrzyskie"," kazimierski "," 70 i więcej",4457,1609,2848,true,true,false,false]
["Świętokrzyskie"," kazimierski ","65+",{"$f":"SUM(D5203:D5204)","v":6432},{"$f":"SUM(E5203:E5204)","v":2538},{"$f":"SUM(F5203:F5204)","v":3894},true,false,true,false]
["Świętokrzyskie"," kielecki "," kielecki ",208798,104177,104621,true,true,true,true]
["Świętokrzyskie"," kielecki "," 0 - 4 ",10307,5308,4999,false,true,true,false]
["Świętokrzyskie"," kielecki "," 5 - 9 ",11702,6018,5684,false,true,true,false]
["Świętokrzyskie"," kielecki "," 10 - 14 ",10687,5382,5305,false,true,true,false]
["Świętokrzyskie"," kielecki "," 15 - 19 ",12854,6636,6218,false,true,true,false]
["Świętokrzyskie"," kielecki "," 20 - 24 ",15586,7922,7664,false,true,true,false]
["Świętokrzyskie"," kielecki "," 25 - 29 ",16578,8587,7991,false,true,true,false]
["Świętokrzyskie"," kielecki "," 30 - 34 ",17280,9034,8246,false,true,true,false]
["Świętokrzyskie"," kielecki "," 35 - 39 ",16450,8410,8040,false,true,true,false]
["Świętokrzyskie"," kielecki "," 40 - 44 ",15200,7791,7409,false,true,true,false]
["Świętokrzyskie"," kielecki "," 45 - 49 ",13389,6919,6470,false,true,true,false]
["Świętokrzyskie"," kielecki "," 50 - 54 ",13262,6938,6324,false,true,true,false]
["Świętokrzyskie"," kielecki "," 55 - 59 ",14659,7600,7059,false,true,true,false]
["Świętokrzyskie"," kielecki "," 60 - 64 ",12831,6493,6338,false,true,true,false]
["Świętokrzyskie"," kielecki "," 65 - 69 ",9765,4729,5036,false,true,true,false]
["Świętokrzyskie"," kielecki "," 70 i więcej",18248,6410,11838,true,true,false,false]
["Świętokrzyskie"," kielecki ","65+",{"$f":"SUM(D5220:D5221)","v":28013},{"$f":"SUM(E5220:E5221)","v":11139},{"$f":"SUM(F5220:F5221)","v":16874},true,false,true,false]
["Świętokrzyskie"," konecki "," konecki ",82092,40460,41632,true,true,true,true]
["Świętokrzyskie"," konecki "," 0 - 4 ",3402,1750,1652,false,true,true,false]
["Świętokrzyskie"," konecki "," 5 - 9 ",3874,1984,1890,false,true,true,false]
["Świętokrzyskie"," konecki "," 10 - 14 ",3673,1878,1795,false,true,true,false]
["Świętokrzyskie"," konecki "," 15 - 19 ",4251,2181,2070,false,true,true,false]
["Świętokrzyskie"," konecki "," 20 - 24 ",5347,2710,2637,false,true,true,false]
["Świętokrzyskie"," konecki "," 25 - 29 ",5563,2965,2598,false,true,true,false]
["Świętokrzyskie"," konecki "," 30 - 34 ",6297,3291,3006,false,true,true,false]
["Świętokrzyskie"," konecki "," 35 - 39 ",6079,3261,2818,false,true,true,false]
["Świętokrzyskie"," konecki "," 40 - 44 ",5821,3118,2703,false,true,true,false]
["Świętokrzyskie"," konecki "," 45 - 49 ",5131,2674,2457,false,true,true,false]
["Świętokrzyskie"," konecki "," 50 - 54 ",5252,2766,2486,false,true,true,false]
["Świętokrzyskie"," konecki "," 55 - 59 ",6239,3133,3106,false,true,true,false]
["Świętokrzyskie"," konecki "," 60 - 64 ",6091,2910,3181,false,true,true,false]
["Świętokrzyskie"," konecki "," 65 - 69 ",5240,2429,2811,false,true,true,false]
["Świętokrzyskie"," konecki "," 70 i więcej",9832,3410,6422,true,true,false,false]
["Świętokrzyskie"," konecki ","65+",{"$f":"SUM(D5237:D5238)","v":15072},{"$f":"SUM(E5237:E5238)","v":5839},{"$f":"SUM(F5237:F5238)","v":9233},true,false,true,false]
["Świętokrzyskie",{"$f":"IF(C5239=\"65+\",C5240,B5239)","v":" opatowski "}," opatowski ",53581,26591,26990,true,true,true,true]
["Świętokrzyskie"," opatowski "," 0 - 4 ",2161,1146,1015,false,true,true,false]
["Świętokrzyskie"," opatowski "," 5 - 9 ",2567,1342,1225,false,true,true,false]
["Świętokrzyskie"," opatowski "," 10 - 14 ",2582,1294,1288,false,true,true,false]
["Świętokrzyskie"," opatowski "," 15 - 19 ",2933,1469,1464,false,true,true,false]
["Świętokrzyskie"," opatowski "," 20 - 24 ",3792,1960,1832,false,true,true,false]
["Świętokrzyskie"," opatowski "," 25 - 29 ",3715,1996,1719,false,true,true,false]
["Świętokrzyskie"," opatowski "," 30 - 34 ",4024,2116,1908,false,true,true,false]
["Świętokrzyskie"," opatowski "," 35 - 39 ",3953,2083,1870,false,true,true,false]
["Świętokrzyskie"," opatowski "," 40 - 44 ",3690,1892,1798,false,true,true,false]
["Świętokrzyskie"," opatowski "," 45 - 49 ",3215,1619,1596,{"$f":"IFERROR(IF(SEARCH(\" - \",C5250)>0,FALSE,TRUE),TRUE)","v":false},{"$f":"IFERROR(IF(SEARCH(\"65+\",C5250)>0,FALSE,TRUE),TRUE)","v":true},{"$f":"IFERROR(IF(SEARCH(\"70\",C5250)>0,FALSE,TRUE),TRUE)","v":true},{"$f":"AND(G5250:I5250)","v":false}]
["Świętokrzyskie"," opatowski "," 50 - 54 ",3527,1828,1699,false,true,true,false]
["Świętokrzyskie"," opatowski "," 55 - 59 ",3966,2075,1891,false,true,true,false]
["Świętokrzyskie"," opatowski "," 60 - 64 ",4213,2144,2069,false,true,true,false]
["Świętokrzyskie"," opatowski "," 65 - 69 ",3048,1426,1622,false,true,true,false]
["Świętokrzyskie"," opatowski "," 70 i więcej",6195,2201,3994,true,true,false,false]
["Świętokrzyskie"," opatowski ","65+",{"$f":"SUM(D5254:D5255)","v":9243},{"$f":"SUM(E5254:E5255)","v":3627},{"$f":"SUM(F5254:F5255)","v":5616},true,false,true,false]
["Świętokrzyskie"," ostrowiecki "," ostrowiecki ",112036,53742,58294,true,true,true,true]
["Świętokrzyskie"," ostrowiecki "," 0 - 4 ",4124,2085,2039,false,true,true,false]
["Świętokrzyskie"," ostrowiecki "," 5 - 9 ",5120,2693,2427,false,true,true,false]
["Świętokrzyskie"," ostrowiecki "," 10 - 14 ",4753,2378,2375,false,true,true,false]
["Świętokrzyskie"," ostrowiecki "," 15 - 19 ",5611,2906,2705,false,true,true,false]
["Świętokrzyskie"," ostrowiecki "," 20 - 24 ",6490,3268,3222,false,true,true,false]
["Świętokrzyskie"," ostrowiecki "," 25 - 29 ",7223,3847,3376,false,true,true,false]
["Świętokrzyskie"," ostrowiecki "," 30 - 34 ",8656,4548,4108,false,true,true,false]
["Świętokrzyskie"," ostrowiecki "," 35 - 39 ",8736,4449,4287,false,true,true,false]
["Świętokrzyskie"," ostrowiecki "," 40 - 44 ",7638,3901,3737,false,true,true,false]
["Świętokrzyskie"," ostrowiecki "," 45 - 49 ",6531,3210,3321,false,true,true,false]
["Świętokrzyskie"," ostrowiecki "," 50 - 54 ",7351,3517,3834,false,true,true,false]
["Świętokrzyskie"," ostrowiecki "," 55 - 59 ",9576,4497,5079,false,true,true,false]
["Świętokrzyskie"," ostrowiecki "," 60 - 64 ",9496,4459,5037,false,true,true,false]
["Świętokrzyskie"," ostrowiecki "," 65 - 69 ",7475,3295,4180,false,true,true,false]
["Świętokrzyskie"," ostrowiecki "," 70 i więcej",13256,4689,8567,true,true,false,false]
["Świętokrzyskie"," ostrowiecki ","65+",{"$f":"SUM(D5271:D5272)","v":20731},{"$f":"SUM(E5271:E5272)","v":7984},{"$f":"SUM(F5271:F5272)","v":12747},true,false,true,false]
["Świętokrzyskie"," pińczowski "," pińczowski ",39922,19731,20191,true,true,true,true]
["Świętokrzyskie"," pińczowski "," 0 - 4 ",1632,826,806,false,true,true,false]
["Świętokrzyskie"," pińczowski "," 5 - 9 ",1773,907,866,false,true,true,false]
["Świętokrzyskie"," pińczowski "," 10 - 14 ",1771,897,874,false,true,true,false]
["Świętokrzyskie"," pińczowski "," 15 - 19 ",2093,1104,989,false,true,true,false]
["Świętokrzyskie"," pińczowski "," 20 - 24 ",2653,1350,1303,false,true,true,false]
["Świętokrzyskie"," pińczowski "," 25 - 29 ",2819,1442,1377,false,true,true,false]
["Świętokrzyskie"," pińczowski "," 30 - 34 ",2973,1597,1376,false,true,true,false]
["Świętokrzyskie"," pińczowski "," 35 - 39 ",2809,1539,1270,false,true,true,false]
["Świętokrzyskie"," pińczowski "," 40 - 44 ",2605,1341,1264,false,true,true,false]
["Świętokrzyskie"," pińczowski "," 45 - 49 ",2478,1278,1200,false,true,true,false]
["Świętokrzyskie"," pińczowski "," 50 - 54 ",2583,1307,1276,false,true,true,false]
["Świętokrzyskie"," pińczowski "," 55 - 59 ",3090,1629,1461,false,true,true,false]
["Świętokrzyskie"," pińczowski "," 60 - 64 ",3130,1584,1546,false,true,true,false]
["Świętokrzyskie"," pińczowski "," 65 - 69 ",2484,1144,1340,false,true,true,false]
["Świętokrzyskie"," pińczowski "," 70 i więcej",5029,1786,3243,true,true,false,false]
["Świętokrzyskie"," pińczowski ","65+",{"$f":"SUM(D5288:D5289)","v":7513},{"$f":"SUM(E5288:E5289)","v":2930},{"$f":"SUM(F5288:F5289)","v":4583},true,false,true,false]
["Świętokrzyskie"," sandomierski "," sandomierski ",79082,38547,40535,true,true,true,true]
["Świętokrzyskie"," sandomierski "," 0 - 4 ",3187,1636,1551,false,true,true,false]
["Świętokrzyskie"," sandomierski "," 5 - 9 ",3756,1937,1819,false,true,true,false]
["Świętokrzyskie"," sandomierski "," 10 - 14 ",3686,1895,1791,false,true,true,false]
["Świętokrzyskie"," sandomierski "," 15 - 19 ",4278,2236,2042,false,true,true,false]
["Świętokrzyskie"," sandomierski "," 20 - 24 ",5343,2712,2631,false,true,true,false]
["Świętokrzyskie"," sandomierski "," 25 - 29 ",5725,2971,2754,false,true,true,false]
["Świętokrzyskie"," sandomierski "," 30 - 34 ",6039,3124,2915,false,true,true,false]
["Świętokrzyskie"," sandomierski "," 35 - 39 ",5823,3029,2794,false,true,true,false]
["Świętokrzyskie"," sandomierski "," 40 - 44 ",5543,2825,2718,false,true,true,false]
["Świętokrzyskie"," sandomierski "," 45 - 49 ",5007,2484,2523,false,true,true,false]
["Świętokrzyskie"," sandomierski "," 50 - 54 ",5064,2513,2551,false,true,true,false]
["Świętokrzyskie"," sandomierski "," 55 - 59 ",5693,2813,2880,false,true,true,false]
["Świętokrzyskie",{"$f":"IF(C5303=\"65+\",C5304,B5303)","v":" sandomierski "}," 60 - 64 ",5640,2740,2900,false,true,true,false]
["Świętokrzyskie"," sandomierski "," 65 - 69 ",4758,2150,2608,false,true,true,false]
["Świętokrzyskie"," sandomierski "," 70 i więcej",9540,3482,6058,true,true,false,false]
["Świętokrzyskie"," sandomierski ","65+",{"$f":"SUM(D5305:D5306)","v":14298},{"$f":"SUM(E5305:E5306)","v":5632},{"$f":"SUM(F5305:F5306)","v":8666},true,false,true,false]
["Świętokrzyskie"," skarżyski "," skarżyski ",76664,36907,39757,true,true,true,true]
["Świętokrzyskie"," skarżyski "," 0 - 4 ",2995,1542,1453,false,true,true,false]
["Świętokrzyskie"," skarżyski "," 5 - 9 ",3340,1730,1610,false,true,true,false]
["Świętokrzyskie"," skarżyski "," 10 - 14 ",2980,1538,1442,false,true,true,false]
["Świętokrzyskie"," skarżyski "," 15 - 19 ",3586,1827,1759,false,true,true,false]
["Świętokrzyskie"," skarżyski "," 20 - 24 ",4514,2360,2154,false,true,true,false]
["Świętokrzyskie"," skarżyski "," 25 - 29 ",5148,2727,2421,{"$f":"IFERROR(IF(SEARCH(\" - \",C5314)>0,FALSE,TRUE),TRUE)","v":false},{"$f":"IFERROR(IF(SEARCH(\"65+\",C5314)>0,FALSE,TRUE),TRUE)","v":true},{"$f":"IFERROR(IF(SEARCH(\"70\",C5314)>0,FALSE,TRUE),TRUE)","v":true},{"$f":"AND(G5314:I5314)","v":false}]
["Świętokrzyskie"," skarżyski "," 30 - 34 ",5992,3150,2842,false,true,true,false]
["Świętokrzyskie"," skarżyski "," 35 - 39 ",5788,3056,2732,false,true,true,false]
["Świętokrzyskie"," skarżyski "," 40 - 44 ",5133,2661,2472,false,true,true,false]
["Świętokrzyskie"," skarżyski "," 45 - 49 ",4547,2254,2293,false,true,true,false]
["Świętokrzyskie"," skarżyski "," 50 - 54 ",4899,2410,2489,false,true,true,false]
["Świętokrzyskie"," skarżyski "," 55 - 59 ",6520,3099,3421,false,true,true,false]
["Świętokrzyskie"," skarżyski "," 60 - 64 ",6505,2993,3512,false,true,true,false]
["Świętokrzyskie"," skarżyski "," 65 - 69 ",5056,2220,2836,false,true,true,false]
["Świętokrzyskie"," skarżyski "," 70 i więcej",9661,3340,6321,true,true,false,false]
["Świętokrzyskie"," skarżyski ","65+",{"$f":"SUM(D5322:D5323)","v":14717},{"$f":"SUM(E5322:E5323)","v":5560},{"$f":"SUM(F5322:F5323)","v":9157},true,false,true,false]
["Świętokrzyskie"," starachowicki "," starachowicki ",91780,44474,47306,true,true,true,true]
["Świętokrzyskie"," starachowicki "," 0 - 4 ",3751,1894,1857,false,true,true,false]
["Świętokrzyskie"," starachowicki "," 5 - 9 ",4477,2323,2154,false,true,true,false]
["Świętokrzyskie"," starachowicki "," 10 - 14 ",4055,2064,1991,false,true,true,false]
["Świętokrzyskie"," starachowicki "," 15 - 19 ",4532,2332,2200,false,true,true,false]
["Świętokrzyskie"," starachowicki "," 20 - 24 ",5874,3042,2832,false,true,true,false]
["Świętokrzyskie"," starachowicki "," 25 - 29 ",6363,3317,3046,false,true,true,false]
["Świętokrzyskie"," starachowicki "," 30 - 34 ",7119,3728,3391,false,true,true,false]
["Świętokrzyskie"," starachowicki "," 35 - 39 ",6691,3506,3185,false,true,true,false]
["Świętokrzyskie"," starachowicki "," 40 - 44 ",6078,3156,2922,false,true,true,false]
["Świętokrzyskie"," starachowicki "," 45 - 49 ",5518,2789,2729,false,true,true,false]
["Świętokrzyskie"," starachowicki "," 50 - 54 ",5954,2985,2969,false,true,true,false]
["Świętokrzyskie"," starachowicki "," 55 - 59 ",7182,3477,3705,false,true,true,false]
["Świętokrzyskie"," starachowicki "," 60 - 64 ",6968,3274,3694,false,true,true,false]
["Świętokrzyskie"," starachowicki "," 65 - 69 ",5587,2462,3125,false,true,true,false]
["Świętokrzyskie"," starachowicki "," 70 i więcej",11631,4125,7506,true,true,false,false]
["Świętokrzyskie"," starachowicki ","65+",{"$f":"SUM(D5339:D5340)","v":17218},{"$f":"SUM(E5339:E5340)","v":6587},{"$f":"SUM(F5339:F5340)","v":10631},true,false,true,false]
["Świętokrzyskie"," staszowski "," staszowski ",72857,36119,36738,true,true,true,true]
["Świętokrzyskie"," staszowski "," 0 - 4 ",3319,1720,1599,false,true,true,false]
["Świętokrzyskie"," staszowski "," 5 - 9 ",3791,1941,1850,false,true,true,false]
["Świętokrzyskie"," staszowski "," 10 - 14 ",3477,1763,1714,false,true,true,false]
["Świętokrzyskie"," staszowski "," 15 - 19 ",4138,2172,1966,false,true,true,false]
["Świętokrzyskie"," staszowski "," 20 - 24 ",5146,2578,2568,false,true,true,false]
["Świętokrzyskie"," staszowski "," 25 - 29 ",5305,2815,2490,false,true,true,false]
["Świętokrzyskie"," staszowski "," 30 - 34 ",5633,2942,2691,false,true,true,false]
["Świętokrzyskie"," staszowski "," 35 - 39 ",5484,2838,2646,false,true,true,false]
["Świętokrzyskie"," staszowski "," 40 - 44 ",5036,2596,2440,false,true,true,false]
["Świętokrzyskie"," staszowski "," 45 - 49 ",4482,2259,2223,false,true,true,false]
["Świętokrzyskie"," staszowski "," 50 - 54 ",4580,2287,2293,false,true,true,false]
["Świętokrzyskie"," staszowski "," 55 - 59 ",5536,2859,2677,false,true,true,false]
["Świętokrzyskie"," staszowski "," 60 - 64 ",5210,2609,2601,false,true,true,false]
["Świętokrzyskie"," staszowski "," 65 - 69 ",4203,1982,2221,false,true,true,false]
["Świętokrzyskie"," staszowski "," 70 i więcej",7517,2758,4759,true,true,false,false]
["Świętokrzyskie"," staszowski ","65+",{"$f":"SUM(D5356:D5357)","v":11720},{"$f":"SUM(E5356:E5357)","v":4740},{"$f":"SUM(F5356:F5357)","v":6980},true,false,true,false]
["Świętokrzyskie"," włoszczowski "," włoszczowski ",45781,22843,22938,true,true,true,true]
["Świętokrzyskie"," włoszczowski "," 0 - 4 ",2016,1047,969,false,true,true,false]
["Świętokrzyskie"," włoszczowski "," 5 - 9 ",2329,1217,1112,false,true,true,false]
["Świętokrzyskie"," włoszczowski "," 10 - 14 ",2309,1193,1116,false,true,true,false]
["Świętokrzyskie"," włoszczowski "," 15 - 19 ",2473,1250,1223,false,true,true,false]
["Świętokrzyskie"," włoszczowski "," 20 - 24 ",3191,1638,1553,false,true,true,false]
["Świętokrzyskie"," włoszczowski "," 25 - 29 ",3362,1787,1575,false,true,true,false]
["Świętokrzyskie"," włoszczowski "," 30 - 34 ",3553,1846,1707,false,true,true,false]
["Świętokrzyskie"," włoszczowski "," 35 - 39 ",3374,1776,1598,false,true,true,false]
["Świętokrzyskie",{"$f":"IF(C5367=\"65+\",C5368,B5367)","v":" włoszczowski "}," 40 - 44 ",3090,1623,1467,false,true,true,false]
["Świętokrzyskie"," włoszczowski "," 45 - 49 ",2793,1441,1352,false,true,true,false]
["Świętokrzyskie"," włoszczowski "," 50 - 54 ",2857,1548,1309,false,true,true,false]
["Świętokrzyskie"," włoszczowski "," 55 - 59 ",3275,1694,1581,false,true,true,false]
["Świętokrzyskie"," włoszczowski "," 60 - 64 ",3242,1606,1636,false,true,true,false]
["Świętokrzyskie"," włoszczowski "," 65 - 69 ",2737,1273,1464,false,true,true,false]
["Świętokrzyskie"," włoszczowski "," 70 i więcej",5180,1904,3276,true,true,false,false]
["Świętokrzyskie"," włoszczowski ","65+",{"$f":"SUM(D5373:D5374)","v":7917},{"$f":"SUM(E5373:E5374)","v":3177},{"$f":"SUM(F5373:F5374)","v":4740},true,false,true,false]
["Warmińsko-mazurskie","Wszystkie","Warmińsko-mazurskie ",1437812,703919,733893,{"$f":"IFERROR(IF(SEARCH(\" - \",C5376)>0,FALSE,TRUE),TRUE)","v":true},{"$f":"IFERROR(IF(SEARCH(\"65+\",C5376)>0,FALSE,TRUE),TRUE)","v":true},{"$f":"IFERROR(IF(SEARCH(\"70\",C5376)>0,FALSE,TRUE),TRUE)","v":true},{"$f":"AND(G5376:I5376)","v":true}]
["Warmińsko-mazurskie","Wszystkie"," 0 - 4 ",69095,35610,33485,{"$f":"IFERROR(IF(SEARCH(\" - \",C5377)>0,FALSE,TRUE),TRUE)","v":false},{"$f":"IFERROR(IF(SEARCH(\"65+\",C5377)>0,FALSE,TRUE),TRUE)","v":true},{"$f":"IFERROR(IF(SEARCH(\"70\",C5377)>0,FALSE,TRUE),TRUE)","v":true},{"$f":"AND(G5377:I5377)","v":false}]
["Warmińsko-mazurskie","Wszystkie"," 5 - 9 ",79667,41008,38659,false,true,true,false]
["Warmińsko-mazurskie","Wszystkie"," 10 - 14 ",71488,36834,34654,false,true,true,false]
["Warmińsko-mazurskie","Wszystkie"," 15 - 19 ",78496,40128,38368,false,true,true,false]
["Warmińsko-mazurskie","Wszystkie"," 20 - 24 ",95810,48935,46875,false,true,true,false]
["Warmińsko-mazurskie","Wszystkie"," 25 - 29 ",107819,55735,52084,false,true,true,false]
["Warmińsko-mazurskie","Wszystkie"," 30 - 34 ",121023,62549,58474,false,true,true,false]
["Warmińsko-mazurskie","Wszystkie"," 35 - 39 ",113666,58356,55310,false,true,true,false]
["Warmińsko-mazurskie","Wszystkie"," 40 - 44 ",101688,52173,49515,false,true,true,false]
["Warmińsko-mazurskie","Wszystkie"," 45 - 49 ",88021,44275,43746,false,true,true,false]
["Warmińsko-mazurskie","Wszystkie"," 50 - 54 ",93879,46923,46956,false,true,true,false]
["Warmińsko-mazurskie","Wszystkie"," 55 - 59 ",109312,53476,55836,false,true,true,false]
["Warmińsko-mazurskie","Wszystkie"," 60 - 64 ",101376,47783,53593,false,true,true,false]
["Warmińsko-mazurskie","Wszystkie"," 65 - 69 ",77720,35256,42464,false,true,true,false]
["Warmińsko-mazurskie","Wszystkie"," 70 i więcej",128752,44878,83874,true,true,false,false]
["Warmińsko-mazurskie","Wszystkie","65+",{"$f":"SUM(D5390:D5391)","v":206472},{"$f":"SUM(E5390:E5391)","v":80134},{"$f":"SUM(F5390:F5391)","v":126338},true,false,true,false]
["Warmińsko-mazurskie"," Elbląg "," Elbląg ",121412,58151,63261,true,true,true,true]
["Warmińsko-mazurskie"," Elbląg "," 0 - 4 ",4871,2490,2381,false,true,true,false]
["Warmińsko-mazurskie"," Elbląg "," 5 - 9 ",6065,3177,2888,false,true,true,false]
["Warmińsko-mazurskie"," Elbląg "," 10 - 14 ",5400,2771,2629,false,true,true,false]
["Warmińsko-mazurskie"," Elbląg "," 15 - 19 ",6131,3101,3030,false,true,true,false]
["Warmińsko-mazurskie"," Elbląg "," 20 - 24 ",7045,3631,3414,false,true,true,false]
["Warmińsko-mazurskie"," Elbląg "," 25 - 29 ",8265,4293,3972,false,true,true,false]
["Warmińsko-mazurskie"," Elbląg "," 30 - 34 ",10347,5375,4972,false,true,true,false]
["Warmińsko-mazurskie"," Elbląg "," 35 - 39 ",9853,4958,4895,false,true,true,false]
["Warmińsko-mazurskie"," Elbląg "," 40 - 44 ",8964,4558,4406,false,true,true,false]
["Warmińsko-mazurskie"," Elbląg "," 45 - 49 ",7263,3557,3706,false,true,true,false]
["Warmińsko-mazurskie"," Elbląg "," 50 - 54 ",7416,3526,3890,false,true,true,false]
["Warmińsko-mazurskie"," Elbląg "," 55 - 59 ",9639,4428,5211,false,true,true,false]
["Warmińsko-mazurskie"," Elbląg "," 60 - 64 ",10255,4625,5630,false,true,true,false]
["Warmińsko-mazurskie"," Elbląg "," 65 - 69 ",7951,3518,4433,false,true,true,false]
["Warmińsko-mazurskie"," Elbląg "," 70 i więcej",11947,4143,7804,true,true,false,false]
["Warmińsko-mazurskie"," Elbląg ","65+",{"$f":"SUM(D5407:D5408)","v":19898},{"$f":"SUM(E5407:E5408)","v":7661},{"$f":"SUM(F5407:F5408)","v":12237},true,false,true,false]
["Warmińsko-mazurskie"," Olsztyn "," Olsztyn ",173599,80753,92846,true,true,true,true]
["Warmińsko-mazurskie"," Olsztyn "," 0 - 4 ",8240,4292,3948,false,true,true,false]
["Warmińsko-mazurskie"," Olsztyn "," 5 - 9 ",9016,4704,4312,false,true,true,false]
["Warmińsko-mazurskie"," Olsztyn "," 10 - 14 ",7235,3758,3477,false,true,true,false]
["Warmińsko-mazurskie"," Olsztyn "," 15 - 19 ",8040,3973,4067,false,true,true,false]
["Warmińsko-mazurskie"," Olsztyn "," 20 - 24 ",8721,4316,4405,false,true,true,false]
["Warmińsko-mazurskie"," Olsztyn "," 25 - 29 ",12904,5993,6911,false,true,true,false]
["Warmińsko-mazurskie"," Olsztyn "," 30 - 34 ",16760,8004,8756,false,true,true,false]
["Warmińsko-mazurskie"," Olsztyn "," 35 - 39 ",15328,7482,7846,false,true,true,false]
["Warmińsko-mazurskie"," Olsztyn "," 40 - 44 ",12745,6213,6532,false,true,true,false]
["Warmińsko-mazurskie"," Olsztyn "," 45 - 49 ",10026,4759,5267,false,true,true,false]
["Warmińsko-mazurskie"," Olsztyn "," 50 - 54 ",10285,4819,5466,false,true,true,false]
["Warmińsko-mazurskie"," Olsztyn "," 55 - 59 ",12620,5760,6860,false,true,true,false]
["Warmińsko-mazurskie"," Olsztyn "," 60 - 64 ",13246,5736,7510,false,true,true,false]
["Warmińsko-mazurskie"," Olsztyn "," 65 - 69 ",10847,4596,6251,false,true,true,false]
["Warmińsko-mazurskie"," Olsztyn "," 70 i więcej",17586,6348,11238,true,true,false,false]
["Warmińsko-mazurskie"," Olsztyn ","65+",{"$f":"SUM(D5424:D5425)","v":28433},{"$f":"SUM(E5424:E5425)","v":10944},{"$f":"SUM(F5424:F5425)","v":17489},true,false,true,false]
["Warmińsko-mazurskie"," bartoszycki "," bartoszycki ",59132,28888,30244,true,true,true,true]
["Warmińsko-mazurskie"," bartoszycki "," 0 - 4 ",2666,1376,1290,false,true,true,false]
["Warmińsko-mazurskie"," bartoszycki "," 5 - 9 ",3150,1597,1553,false,true,true,false]
["Warmińsko-mazurskie"," bartoszycki "," 10 - 14 ",2862,1450,1412,false,true,true,false]
["Warmińsko-mazurskie"," bartoszycki "," 15 - 19 ",3061,1563,1498,false,true,true,false]
["Warmińsko-mazurskie",{"$f":"IF(C5431=\"65+\",C5432,B5431)","v":" bartoszycki "}," 20 - 24 ",3976,2047,1929,false,true,true,false]
["Warmińsko-mazurskie"," bartoszycki "," 25 - 29 ",4420,2335,2085,false,true,true,false]
["Warmińsko-mazurskie"," bartoszycki "," 30 - 34 ",4868,2601,2267,false,true,true,false]
["Warmińsko-mazurskie"," bartoszycki "," 35 - 39 ",4510,2310,2200,false,true,true,false]
["Warmińsko-mazurskie"," bartoszycki "," 40 - 44 ",4057,2126,1931,false,true,true,false]
["Warmińsko-mazurskie"," bartoszycki "," 45 - 49 ",3612,1805,1807,false,true,true,false]
["Warmińsko-mazurskie"," bartoszycki "," 50 - 54 ",4215,2117,2098,false,true,true,false]
["Warmińsko-mazurskie"," bartoszycki "," 55 - 59 ",4732,2327,2405,false,true,true,false]
["Warmińsko-mazurskie"," bartoszycki "," 60 - 64 ",4231,1937,2294,false,true,true,false]
["Warmińsko-mazurskie"," bartoszycki "," 65 - 69 ",3190,1441,1749,{"$f":"IFERROR(IF(SEARCH(\" - \",C5441)>0,FALSE,TRUE),TRUE)","v":false},{"$f":"IFERROR(IF(SEARCH(\"65+\",C5441)>0,FALSE,TRUE),TRUE)","v":true},{"$f":"IFERROR(IF(SEARCH(\"70\",C5441)>0,FALSE,TRUE),TRUE)","v":true},{"$f":"AND(G5441:I5441)","v":false}]
["Warmińsko-mazurskie"," bartoszycki "," 70 i więcej",5582,1856,3726,true,true,false,false]
["Warmińsko-mazurskie"," bartoszycki ","65+",{"$f":"SUM(D5441:D5442)","v":8772},{"$f":"SUM(E5441:E5442)","v":3297},{"$f":"SUM(F5441:F5442)","v":5475},true,false,true,false]
["Warmińsko-mazurskie"," braniewski "," braniewski ",42026,20989,21037,true,true,true,true]
["Warmińsko-mazurskie"," braniewski "," 0 - 4 ",1959,994,965,false,true,true,false]
["Warmińsko-mazurskie"," braniewski "," 5 - 9 ",2145,1126,1019,false,true,true,false]
["Warmińsko-mazurskie"," braniewski "," 10 - 14 ",1987,1010,977,false,true,true,false]
["Warmińsko-mazurskie"," braniewski "," 15 - 19 ",2336,1192,1144,false,true,true,false]
["Warmińsko-mazurskie"," braniewski "," 20 - 24 ",3188,1597,1591,false,true,true,false]
["Warmińsko-mazurskie"," braniewski "," 25 - 29 ",3240,1740,1500,false,true,true,false]
["Warmińsko-mazurskie"," braniewski "," 30 - 34 ",3415,1768,1647,false,true,true,false]
["Warmińsko-mazurskie"," braniewski "," 35 - 39 ",3138,1690,1448,false,true,true,false]
["Warmińsko-mazurskie"," braniewski "," 40 - 44 ",2990,1624,1366,false,true,true,false]
["Warmińsko-mazurskie"," braniewski "," 45 - 49 ",2684,1432,1252,false,true,true,false]
["Warmińsko-mazurskie"," braniewski "," 50 - 54 ",2950,1544,1406,false,true,true,false]
["Warmińsko-mazurskie"," braniewski "," 55 - 59 ",3332,1656,1676,false,true,true,false]
["Warmińsko-mazurskie"," braniewski "," 60 - 64 ",2887,1395,1492,false,true,true,false]
["Warmińsko-mazurskie"," braniewski "," 65 - 69 ",2232,1024,1208,false,true,true,false]
["Warmińsko-mazurskie"," braniewski "," 70 i więcej",3543,1197,2346,true,true,false,false]
["Warmińsko-mazurskie"," braniewski ","65+",{"$f":"SUM(D5458:D5459)","v":5775},{"$f":"SUM(E5458:E5459)","v":2221},{"$f":"SUM(F5458:F5459)","v":3554},true,false,true,false]
["Warmińsko-mazurskie"," działdowski "," działdowski ",65965,32455,33510,true,true,true,true]
["Warmińsko-mazurskie"," działdowski "," 0 - 4 ",3424,1813,1611,false,true,true,false]
["Warmińsko-mazurskie"," działdowski "," 5 - 9 ",3892,1965,1927,false,true,true,false]
["Warmińsko-mazurskie"," działdowski "," 10 - 14 ",3522,1823,1699,false,true,true,false]
["Warmińsko-mazurskie"," działdowski "," 15 - 19 ",3926,1973,1953,false,true,true,false]
["Warmińsko-mazurskie"," działdowski "," 20 - 24 ",4700,2387,2313,false,true,true,false]
["Warmińsko-mazurskie"," działdowski "," 25 - 29 ",4994,2616,2378,false,true,true,false]
["Warmińsko-mazurskie"," działdowski "," 30 - 34 ",5208,2705,2503,false,true,true,false]
["Warmińsko-mazurskie"," działdowski "," 35 - 39 ",4895,2492,2403,false,true,true,false]
["Warmińsko-mazurskie"," działdowski "," 40 - 44 ",4596,2352,2244,false,true,true,false]
["Warmińsko-mazurskie"," działdowski "," 45 - 49 ",4212,2130,2082,false,true,true,false]
["Warmińsko-mazurskie"," działdowski "," 50 - 54 ",4435,2200,2235,false,true,true,false]
["Warmińsko-mazurskie"," działdowski "," 55 - 59 ",4791,2377,2414,false,true,true,false]
["Warmińsko-mazurskie"," działdowski "," 60 - 64 ",4429,2125,2304,false,true,true,false]
["Warmińsko-mazurskie"," działdowski "," 65 - 69 ",3354,1549,1805,false,true,true,false]
["Warmińsko-mazurskie"," działdowski "," 70 i więcej",5587,1948,3639,true,true,false,false]
["Warmińsko-mazurskie"," działdowski ","65+",{"$f":"SUM(D5475:D5476)","v":8941},{"$f":"SUM(E5475:E5476)","v":3497},{"$f":"SUM(F5475:F5476)","v":5444},true,false,true,false]
["Warmińsko-mazurskie"," elbląski "," elbląski ",58136,29084,29052,true,true,true,true]
["Warmińsko-mazurskie"," elbląski "," 0 - 4 ",2909,1490,1419,false,true,true,false]
["Warmińsko-mazurskie"," elbląski "," 5 - 9 ",3308,1667,1641,false,true,true,false]
["Warmińsko-mazurskie"," elbląski "," 10 - 14 ",3150,1685,1465,false,true,true,false]
["Warmińsko-mazurskie"," elbląski "," 15 - 19 ",3596,1900,1696,false,true,true,false]
["Warmińsko-mazurskie"," elbląski "," 20 - 24 ",4116,2087,2029,false,true,true,false]
["Warmińsko-mazurskie"," elbląski "," 25 - 29 ",4394,2322,2072,false,true,true,false]
["Warmińsko-mazurskie"," elbląski "," 30 - 34 ",4837,2479,2358,false,true,true,false]
["Warmińsko-mazurskie"," elbląski "," 35 - 39 ",4521,2362,2159,false,true,true,false]
["Warmińsko-mazurskie"," elbląski "," 40 - 44 ",4001,2053,1948,false,true,true,false]
["Warmińsko-mazurskie"," elbląski "," 45 - 49 ",3498,1795,1703,false,true,true,false]
["Warmińsko-mazurskie"," elbląski "," 50 - 54 ",3741,1914,1827,false,true,true,false]
["Warmińsko-mazurskie"," elbląski "," 55 - 59 ",4481,2337,2144,false,true,true,false]
["Warmińsko-mazurskie"," elbląski "," 60 - 64 ",4072,2075,1997,false,true,true,false]
["Warmińsko-mazurskie"," elbląski "," 65 - 69 ",2736,1298,1438,false,true,true,false]
["Warmińsko-mazurskie"," elbląski "," 70 i więcej",4776,1620,3156,true,true,false,false]
["Warmińsko-mazurskie"," elbląski ","65+",{"$f":"SUM(D5492:D5493)","v":7512},{"$f":"SUM(E5492:E5493)","v":2918},{"$f":"SUM(F5492:F5493)","v":4594},true,false,true,false]
["Warmińsko-mazurskie"," ełcki "," ełcki ",90160,44277,45883,true,true,true,true]
["Warmińsko-mazurskie",{"$f":"IF(C5495=\"65+\",C5496,B5495)","v":" ełcki "}," 0 - 4 ",4579,2343,2236,false,true,true,false]
["Warmińsko-mazurskie"," ełcki "," 5 - 9 ",5299,2696,2603,false,true,true,false]
["Warmińsko-mazurskie"," ełcki "," 10 - 14 ",4729,2393,2336,false,true,true,false]
["Warmińsko-mazurskie"," ełcki "," 15 - 19 ",5417,2796,2621,false,true,true,false]
["Warmińsko-mazurskie"," ełcki "," 20 - 24 ",6089,3158,2931,false,true,true,false]
["Warmińsko-mazurskie"," ełcki "," 25 - 29 ",7211,3800,3411,false,true,true,false]
["Warmińsko-mazurskie"," ełcki "," 30 - 34 ",8082,4218,3864,false,true,true,false]
["Warmińsko-mazurskie"," ełcki "," 35 - 39 ",7371,3810,3561,false,true,true,false]
["Warmińsko-mazurskie"," ełcki "," 40 - 44 ",6194,3159,3035,false,true,true,false]
["Warmińsko-mazurskie"," ełcki "," 45 - 49 ",5453,2702,2751,{"$f":"IFERROR(IF(SEARCH(\" - \",C5505)>0,FALSE,TRUE),TRUE)","v":false},{"$f":"IFERROR(IF(SEARCH(\"65+\",C5505)>0,FALSE,TRUE),TRUE)","v":true},{"$f":"IFERROR(IF(SEARCH(\"70\",C5505)>0,FALSE,TRUE),TRUE)","v":true},{"$f":"AND(G5505:I5505)","v":false}]
["Warmińsko-mazurskie"," ełcki "," 50 - 54 ",5725,2818,2907,false,true,true,false]
["Warmińsko-mazurskie"," ełcki "," 55 - 59 ",6603,3185,3418,false,true,true,false]
["Warmińsko-mazurskie"," ełcki "," 60 - 64 ",5803,2736,3067,false,true,true,false]
["Warmińsko-mazurskie"," ełcki "," 65 - 69 ",4323,1961,2362,false,true,true,false]
["Warmińsko-mazurskie"," ełcki "," 70 i więcej",7282,2502,4780,true,true,false,false]
["Warmińsko-mazurskie"," ełcki ","65+",{"$f":"SUM(D5509:D5510)","v":11605},{"$f":"SUM(E5509:E5510)","v":4463},{"$f":"SUM(F5509:F5510)","v":7142},true,false,true,false]
["Warmińsko-mazurskie"," giżycki "," giżycki ",57200,28024,29176,true,true,true,true]
["Warmińsko-mazurskie"," giżycki "," 0 - 4 ",2563,1288,1275,false,true,true,false]
["Warmińsko-mazurskie"," giżycki "," 5 - 9 ",3064,1584,1480,false,true,true,false]
["Warmińsko-mazurskie"," giżycki "," 10 - 14 ",2750,1400,1350,false,true,true,false]
["Warmińsko-mazurskie"," giżycki "," 15 - 19 ",3066,1526,1540,false,true,true,false]
["Warmińsko-mazurskie"," giżycki "," 20 - 24 ",3752,1960,1792,false,true,true,false]
["Warmińsko-mazurskie"," giżycki "," 25 - 29 ",4181,2208,1973,false,true,true,false]
["Warmińsko-mazurskie"," giżycki "," 30 - 34 ",4504,2368,2136,false,true,true,false]
["Warmińsko-mazurskie"," giżycki "," 35 - 39 ",4435,2292,2143,false,true,true,false]
["Warmińsko-mazurskie"," giżycki "," 40 - 44 ",4061,2081,1980,false,true,true,false]
["Warmińsko-mazurskie"," giżycki "," 45 - 49 ",3574,1813,1761,false,true,true,false]
["Warmińsko-mazurskie"," giżycki "," 50 - 54 ",3898,1984,1914,false,true,true,false]
["Warmińsko-mazurskie"," giżycki "," 55 - 59 ",4601,2293,2308,false,true,true,false]
["Warmińsko-mazurskie"," giżycki "," 60 - 64 ",4089,1872,2217,false,true,true,false]
["Warmińsko-mazurskie"," giżycki "," 65 - 69 ",3142,1423,1719,false,true,true,false]
["Warmińsko-mazurskie"," giżycki "," 70 i więcej",5520,1932,3588,true,true,false,false]
["Warmińsko-mazurskie"," giżycki ","65+",{"$f":"SUM(D5526:D5527)","v":8662},{"$f":"SUM(E5526:E5527)","v":3355},{"$f":"SUM(F5526:F5527)","v":5307},true,false,true,false]
["Warmińsko-mazurskie"," iławski "," iławski ",92735,45954,46781,true,true,true,true]
["Warmińsko-mazurskie"," iławski "," 0 - 4 ",4806,2517,2289,false,true,true,false]
["Warmińsko-mazurskie"," iławski "," 5 - 9 ",5630,2927,2703,false,true,true,false]
["Warmińsko-mazurskie"," iławski "," 10 - 14 ",5028,2588,2440,false,true,true,false]
["Warmińsko-mazurskie"," iławski "," 15 - 19 ",5357,2736,2621,false,true,true,false]
["Warmińsko-mazurskie"," iławski "," 20 - 24 ",6452,3352,3100,false,true,true,false]
["Warmińsko-mazurskie"," iławski "," 25 - 29 ",6959,3629,3330,false,true,true,false]
["Warmińsko-mazurskie"," iławski "," 30 - 34 ",7603,3938,3665,false,true,true,false]
["Warmińsko-mazurskie"," iławski "," 35 - 39 ",7394,3875,3519,false,true,true,false]
["Warmińsko-mazurskie"," iławski "," 40 - 44 ",6416,3296,3120,false,true,true,false]
["Warmińsko-mazurskie"," iławski "," 45 - 49 ",5526,2804,2722,false,true,true,false]
["Warmińsko-mazurskie"," iławski "," 50 - 54 ",5752,2830,2922,false,true,true,false]
["Warmińsko-mazurskie"," iławski "," 55 - 59 ",6879,3388,3491,false,true,true,false]
["Warmińsko-mazurskie"," iławski "," 60 - 64 ",6372,3093,3279,false,true,true,false]
["Warmińsko-mazurskie"," iławski "," 65 - 69 ",4870,2251,2619,false,true,true,false]
["Warmińsko-mazurskie"," iławski "," 70 i więcej",7691,2730,4961,true,true,false,false]
["Warmińsko-mazurskie"," iławski ","65+",{"$f":"SUM(D5543:D5544)","v":12561},{"$f":"SUM(E5543:E5544)","v":4981},{"$f":"SUM(F5543:F5544)","v":7580},true,false,true,false]
["Warmińsko-mazurskie"," kętrzyński "," kętrzyński ",64197,31562,32635,true,true,true,true]
["Warmińsko-mazurskie"," kętrzyński "," 0 - 4 ",2856,1453,1403,false,true,true,false]
["Warmińsko-mazurskie"," kętrzyński "," 5 - 9 ",3292,1691,1601,false,true,true,false]
["Warmińsko-mazurskie"," kętrzyński "," 10 - 14 ",3022,1591,1431,false,true,true,false]
["Warmińsko-mazurskie"," kętrzyński "," 15 - 19 ",3228,1747,1481,false,true,true,false]
["Warmińsko-mazurskie"," kętrzyński "," 20 - 24 ",4238,2215,2023,false,true,true,false]
["Warmińsko-mazurskie"," kętrzyński "," 25 - 29 ",4720,2500,2220,false,true,true,false]
["Warmińsko-mazurskie"," kętrzyński "," 30 - 34 ",5173,2753,2420,false,true,true,false]
["Warmińsko-mazurskie"," kętrzyński "," 35 - 39 ",4998,2590,2408,false,true,true,false]
["Warmińsko-mazurskie"," kętrzyński "," 40 - 44 ",4345,2255,2090,false,true,true,false]
["Warmińsko-mazurskie"," kętrzyński "," 45 - 49 ",3843,1921,1922,false,true,true,false]
["Warmińsko-mazurskie"," kętrzyński "," 50 - 54 ",4464,2235,2229,false,true,true,false]
["Warmińsko-mazurskie"," kętrzyński "," 55 - 59 ",5344,2630,2714,false,true,true,false]
["Warmińsko-mazurskie"," kętrzyński "," 60 - 64 ",4780,2251,2529,false,true,true,false]
["Warmińsko-mazurskie",{"$f":"IF(C5559=\"65+\",C5560,B5559)","v":" kętrzyński "}," 65 - 69 ",3682,1695,1987,false,true,true,false]
["Warmińsko-mazurskie"," kętrzyński "," 70 i więcej",4114,1368,2746,true,true,false,false]
["Warmińsko-mazurskie"," kętrzyński ","65+",{"$f":"SUM(D5560:D5561)","v":7796},{"$f":"SUM(E5560:E5561)","v":3063},{"$f":"SUM(F5560:F5561)","v":4733},true,false,true,false]
["Warmińsko-mazurskie"," lidzbarski "," lidzbarski ",42171,20813,21358,true,true,true,true]
["Warmińsko-mazurskie"," lidzbarski "," 0 - 4 ",2006,1062,944,false,true,true,false]
["Warmińsko-mazurskie"," lidzbarski "," 5 - 9 ",2299,1173,1126,false,true,true,false]
["Warmińsko-mazurskie"," lidzbarski "," 10 - 14 ",1986,1064,922,false,true,true,false]
["Warmińsko-mazurskie"," lidzbarski "," 15 - 19 ",2218,1143,1075,false,true,true,false]
["Warmińsko-mazurskie"," lidzbarski "," 20 - 24 ",2966,1500,1466,false,true,true,false]
["Warmińsko-mazurskie"," lidzbarski "," 25 - 29 ",3196,1681,1515,{"$f":"IFERROR(IF(SEARCH(\" - \",C5569)>0,FALSE,TRUE),TRUE)","v":false},{"$f":"IFERROR(IF(SEARCH(\"65+\",C5569)>0,FALSE,TRUE),TRUE)","v":true},{"$f":"IFERROR(IF(SEARCH(\"70\",C5569)>0,FALSE,TRUE),TRUE)","v":true},{"$f":"AND(G5569:I5569)","v":false}]
["Warmińsko-mazurskie"," lidzbarski "," 30 - 34 ",3417,1827,1590,false,true,true,false]
["Warmińsko-mazurskie"," lidzbarski "," 35 - 39 ",3153,1655,1498,false,true,true,false]
["Warmińsko-mazurskie"," lidzbarski "," 40 - 44 ",2927,1555,1372,false,true,true,false]
["Warmińsko-mazurskie"," lidzbarski "," 45 - 49 ",2613,1309,1304,false,true,true,false]
["Warmińsko-mazurskie"," lidzbarski "," 50 - 54 ",2920,1497,1423,false,true,true,false]
["Warmińsko-mazurskie"," lidzbarski "," 55 - 59 ",3169,1553,1616,false,true,true,false]
["Warmińsko-mazurskie"," lidzbarski "," 60 - 64 ",2942,1400,1542,false,true,true,false]
["Warmińsko-mazurskie"," lidzbarski "," 65 - 69 ",2245,1026,1219,false,true,true,false]
["Warmińsko-mazurskie"," lidzbarski "," 70 i więcej",4114,1368,2746,true,true,false,false]
["Warmińsko-mazurskie"," lidzbarski ","65+",{"$f":"SUM(D5577:D5578)","v":6359},{"$f":"SUM(E5577:E5578)","v":2394},{"$f":"SUM(F5577:F5578)","v":3965},true,false,true,false]
["Warmińsko-mazurskie"," mrągowski "," mrągowski ",50623,24829,25794,true,true,true,true]
["Warmińsko-mazurskie"," mrągowski "," 0 - 4 ",2356,1211,1145,false,true,true,false]
["Warmińsko-mazurskie"," mrągowski "," 5 - 9 ",2751,1427,1324,false,true,true,false]
["Warmińsko-mazurskie"," mrągowski "," 10 - 14 ",2574,1250,1324,false,true,true,false]
["Warmińsko-mazurskie"," mrągowski "," 15 - 19 ",2723,1375,1348,false,true,true,false]
["Warmińsko-mazurskie"," mrągowski "," 20 - 24 ",3393,1739,1654,false,true,true,false]
["Warmińsko-mazurskie"," mrągowski "," 25 - 29 ",3819,2069,1750,false,true,true,false]
["Warmińsko-mazurskie"," mrągowski "," 30 - 34 ",4192,2165,2027,false,true,true,false]
["Warmińsko-mazurskie"," mrągowski "," 35 - 39 ",3931,1976,1955,false,true,true,false]
["Warmińsko-mazurskie"," mrągowski "," 40 - 44 ",3498,1797,1701,false,true,true,false]
["Warmińsko-mazurskie"," mrągowski "," 45 - 49 ",3168,1602,1566,false,true,true,false]
["Warmińsko-mazurskie"," mrągowski "," 50 - 54 ",3658,1805,1853,false,true,true,false]
["Warmińsko-mazurskie"," mrągowski "," 55 - 59 ",4155,2026,2129,false,true,true,false]
["Warmińsko-mazurskie"," mrągowski "," 60 - 64 ",3427,1659,1768,false,true,true,false]
["Warmińsko-mazurskie"," mrągowski "," 65 - 69 ",2602,1189,1413,false,true,true,false]
["Warmińsko-mazurskie"," mrągowski "," 70 i więcej",4376,1539,2837,true,true,false,false]
["Warmińsko-mazurskie"," mrągowski ","65+",{"$f":"SUM(D5594:D5595)","v":6978},{"$f":"SUM(E5594:E5595)","v":2728},{"$f":"SUM(F5594:F5595)","v":4250},true,false,true,false]
["Warmińsko-mazurskie"," nidzicki "," nidzicki ",33558,16688,16870,true,true,true,true]
["Warmińsko-mazurskie"," nidzicki "," 0 - 4 ",1599,800,799,false,true,true,false]
["Warmińsko-mazurskie"," nidzicki "," 5 - 9 ",1822,949,873,false,true,true,false]
["Warmińsko-mazurskie"," nidzicki "," 10 - 14 ",1850,968,882,false,true,true,false]
["Warmińsko-mazurskie"," nidzicki "," 15 - 19 ",1992,1033,959,false,true,true,false]
["Warmińsko-mazurskie"," nidzicki "," 20 - 24 ",2448,1208,1240,false,true,true,false]
["Warmińsko-mazurskie"," nidzicki "," 25 - 29 ",2478,1283,1195,false,true,true,false]
["Warmińsko-mazurskie"," nidzicki "," 30 - 34 ",2626,1434,1192,false,true,true,false]
["Warmińsko-mazurskie"," nidzicki "," 35 - 39 ",2601,1395,1206,false,true,true,false]
["Warmińsko-mazurskie"," nidzicki "," 40 - 44 ",2386,1241,1145,false,true,true,false]
["Warmińsko-mazurskie"," nidzicki "," 45 - 49 ",2209,1143,1066,false,true,true,false]
["Warmińsko-mazurskie"," nidzicki "," 50 - 54 ",2200,1124,1076,false,true,true,false]
["Warmińsko-mazurskie"," nidzicki "," 55 - 59 ",2471,1234,1237,false,true,true,false]
["Warmińsko-mazurskie"," nidzicki "," 60 - 64 ",2238,1071,1167,false,true,true,false]
["Warmińsko-mazurskie"," nidzicki "," 65 - 69 ",1750,815,935,false,true,true,false]
["Warmińsko-mazurskie"," nidzicki "," 70 i więcej",2888,990,1898,true,true,false,false]
["Warmińsko-mazurskie"," nidzicki ","65+",{"$f":"SUM(D5611:D5612)","v":4638},{"$f":"SUM(E5611:E5612)","v":1805},{"$f":"SUM(F5611:F5612)","v":2833},true,false,true,false]
["Warmińsko-mazurskie"," nowomiejski "," nowomiejski ",44237,21979,22258,true,true,true,true]
["Warmińsko-mazurskie"," nowomiejski "," 0 - 4 ",2471,1284,1187,false,true,true,false]
["Warmińsko-mazurskie"," nowomiejski "," 5 - 9 ",2795,1430,1365,false,true,true,false]
["Warmińsko-mazurskie"," nowomiejski "," 10 - 14 ",2452,1245,1207,false,true,true,false]
["Warmińsko-mazurskie"," nowomiejski "," 15 - 19 ",2774,1431,1343,false,true,true,false]
["Warmińsko-mazurskie"," nowomiejski "," 20 - 24 ",3246,1626,1620,false,true,true,false]
["Warmińsko-mazurskie"," nowomiejski "," 25 - 29 ",3386,1750,1636,false,true,true,false]
["Warmińsko-mazurskie"," nowomiejski "," 30 - 34 ",3472,1849,1623,false,true,true,false]
["Warmińsko-mazurskie"," nowomiejski "," 35 - 39 ",3270,1690,1580,false,true,true,false]
["Warmińsko-mazurskie"," nowomiejski "," 40 - 44 ",3083,1587,1496,false,true,true,false]
["Warmińsko-mazurskie",{"$f":"IF(C5623=\"65+\",C5624,B5623)","v":" nowomiejski "}," 45 - 49 ",2735,1406,1329,false,true,true,false]
["Warmińsko-mazurskie"," nowomiejski "," 50 - 54 ",2828,1446,1382,false,true,true,false]
["Warmińsko-mazurskie"," nowomiejski "," 55 - 59 ",2974,1515,1459,false,true,true,false]
["Warmińsko-mazurskie"," nowomiejski "," 60 - 64 ",2682,1334,1348,false,true,true,false]
["Warmińsko-mazurskie"," nowomiejski "," 65 - 69 ",2250,1010,1240,false,true,true,false]
["Warmińsko-mazurskie"," nowomiejski "," 70 i więcej",3819,1376,2443,true,true,false,false]
["Warmińsko-mazurskie"," nowomiejski ","65+",{"$f":"SUM(D5628:D5629)","v":6069},{"$f":"SUM(E5628:E5629)","v":2386},{"$f":"SUM(F5628:F5629)","v":3683},true,false,true,false]
["Warmińsko-mazurskie"," olecki "," olecki ",34694,17339,17355,true,true,true,true]
["Warmińsko-mazurskie"," olecki "," 0 - 4 ",1784,932,852,false,true,true,false]
["Warmińsko-mazurskie"," olecki "," 5 - 9 ",1949,986,963,{"$f":"IFERROR(IF(SEARCH(\" - \",C5633)>0,FALSE,TRUE),TRUE)","v":false},{"$f":"IFERROR(IF(SEARCH(\"65+\",C5633)>0,FALSE,TRUE),TRUE)","v":true},{"$f":"IFERROR(IF(SEARCH(\"70\",C5633)>0,FALSE,TRUE),TRUE)","v":true},{"$f":"AND(G5633:I5633)","v":false}]
["Warmińsko-mazurskie"," olecki "," 10 - 14 ",1890,965,925,false,true,true,false]
["Warmińsko-mazurskie"," olecki "," 15 - 19 ",1949,982,967,false,true,true,false]
["Warmińsko-mazurskie"," olecki "," 20 - 24 ",2584,1356,1228,false,true,true,false]
["Warmińsko-mazurskie"," olecki "," 25 - 29 ",2826,1480,1346,false,true,true,false]
["Warmińsko-mazurskie"," olecki "," 30 - 34 ",2928,1597,1331,false,true,true,false]
["Warmińsko-mazurskie"," olecki "," 35 - 39 ",2529,1343,1186,false,true,true,false]
["Warmińsko-mazurskie"," olecki "," 40 - 44 ",2227,1166,1061,false,true,true,false]
["Warmińsko-mazurskie"," olecki "," 45 - 49 ",1982,1040,942,false,true,true,false]
["Warmińsko-mazurskie"," olecki "," 50 - 54 ",2215,1141,1074,false,true,true,false]
["Warmińsko-mazurskie"," olecki "," 55 - 59 ",2620,1304,1316,false,true,true,false]
["Warmińsko-mazurskie"," olecki "," 60 - 64 ",2311,1125,1186,false,true,true,false]
["Warmińsko-mazurskie"," olecki "," 65 - 69 ",1786,809,977,false,true,true,false]
["Warmińsko-mazurskie"," olecki "," 70 i więcej",3114,1113,2001,true,true,false,false]
["Warmińsko-mazurskie"," olecki ","65+",{"$f":"SUM(D5645:D5646)","v":4900},{"$f":"SUM(E5645:E5646)","v":1922},{"$f":"SUM(F5645:F5646)","v":2978},true,false,true,false]
["Warmińsko-mazurskie"," olsztyński "," olsztyński ",123775,61176,62599,true,true,true,true]
["Warmińsko-mazurskie"," olsztyński "," 0 - 4 ",6255,3223,3032,false,true,true,false]
["Warmińsko-mazurskie"," olsztyński "," 5 - 9 ",7083,3616,3467,false,true,true,false]
["Warmińsko-mazurskie"," olsztyński "," 10 - 14 ",6436,3335,3101,false,true,true,false]
["Warmińsko-mazurskie"," olsztyński "," 15 - 19 ",6834,3486,3348,false,true,true,false]
["Warmińsko-mazurskie"," olsztyński "," 20 - 24 ",8416,4335,4081,false,true,true,false]
["Warmińsko-mazurskie"," olsztyński "," 25 - 29 ",9107,4668,4439,false,true,true,false]
["Warmińsko-mazurskie"," olsztyński "," 30 - 34 ",10491,5301,5190,false,true,true,false]
["Warmińsko-mazurskie"," olsztyński "," 35 - 39 ",10240,5199,5041,false,true,true,false]
["Warmińsko-mazurskie"," olsztyński "," 40 - 44 ",9338,4777,4561,false,true,true,false]
["Warmińsko-mazurskie"," olsztyński "," 45 - 49 ",7999,4028,3971,false,true,true,false]
["Warmińsko-mazurskie"," olsztyński "," 50 - 54 ",8276,4152,4124,false,true,true,false]
["Warmińsko-mazurskie"," olsztyński "," 55 - 59 ",9473,4715,4758,false,true,true,false]
["Warmińsko-mazurskie"," olsztyński "," 60 - 64 ",8465,4146,4319,false,true,true,false]
["Warmińsko-mazurskie"," olsztyński "," 65 - 69 ",6027,2874,3153,false,true,true,false]
["Warmińsko-mazurskie"," olsztyński "," 70 i więcej",9335,3321,6014,true,true,false,false]
["Warmińsko-mazurskie"," olsztyński ","65+",{"$f":"SUM(D5662:D5663)","v":15362},{"$f":"SUM(E5662:E5663)","v":6195},{"$f":"SUM(F5662:F5663)","v":9167},true,false,true,false]
["Warmińsko-mazurskie"," ostródzki "," ostródzki ",105768,52125,53643,true,true,true,true]
["Warmińsko-mazurskie"," ostródzki "," 0 - 4 ",5216,2652,2564,false,true,true,false]
["Warmińsko-mazurskie"," ostródzki "," 5 - 9 ",6108,3097,3011,false,true,true,false]
["Warmińsko-mazurskie"," ostródzki "," 10 - 14 ",5368,2771,2597,false,true,true,false]
["Warmińsko-mazurskie"," ostródzki "," 15 - 19 ",5875,3001,2874,false,true,true,false]
["Warmińsko-mazurskie"," ostródzki "," 20 - 24 ",7313,3691,3622,false,true,true,false]
["Warmińsko-mazurskie"," ostródzki "," 25 - 29 ",7961,4122,3839,false,true,true,false]
["Warmińsko-mazurskie"," ostródzki "," 30 - 34 ",8581,4498,4083,false,true,true,false]
["Warmińsko-mazurskie"," ostródzki "," 35 - 39 ",8157,4258,3899,false,true,true,false]
["Warmińsko-mazurskie"," ostródzki "," 40 - 44 ",7385,3828,3557,false,true,true,false]
["Warmińsko-mazurskie"," ostródzki "," 45 - 49 ",6280,3213,3067,false,true,true,false]
["Warmińsko-mazurskie"," ostródzki "," 50 - 54 ",6871,3474,3397,false,true,true,false]
["Warmińsko-mazurskie"," ostródzki "," 55 - 59 ",8118,4027,4091,false,true,true,false]
["Warmińsko-mazurskie"," ostródzki "," 60 - 64 ",7529,3582,3947,false,true,true,false]
["Warmińsko-mazurskie"," ostródzki "," 65 - 69 ",5771,2658,3113,false,true,true,false]
["Warmińsko-mazurskie"," ostródzki "," 70 i więcej",9235,3253,5982,true,true,false,false]
["Warmińsko-mazurskie"," ostródzki ","65+",{"$f":"SUM(D5679:D5680)","v":15006},{"$f":"SUM(E5679:E5680)","v":5911},{"$f":"SUM(F5679:F5680)","v":9095},true,false,true,false]
["Warmińsko-mazurskie"," piski "," piski ",57445,28711,28734,true,true,true,true]
["Warmińsko-mazurskie"," piski "," 0 - 4 ",2682,1358,1324,false,true,true,false]
["Warmińsko-mazurskie"," piski "," 5 - 9 ",3156,1637,1519,false,true,true,false]
["Warmińsko-mazurskie"," piski "," 10 - 14 ",3051,1583,1468,false,true,true,false]
["Warmińsko-mazurskie"," piski "," 15 - 19 ",3434,1821,1613,false,true,true,false]
["Warmińsko-mazurskie"," piski "," 20 - 24 ",4322,2259,2063,false,true,true,false]
["Warmińsko-mazurskie",{"$f":"IF(C5687=\"65+\",C5688,B5687)","v":" piski "}," 25 - 29 ",4618,2463,2155,false,true,true,false]
["Warmińsko-mazurskie"," piski "," 30 - 34 ",4633,2481,2152,false,true,true,false]
["Warmińsko-mazurskie"," piski "," 35 - 39 ",4086,2116,1970,false,true,true,false]
["Warmińsko-mazurskie"," piski "," 40 - 44 ",4051,2101,1950,false,true,true,false]
["Warmińsko-mazurskie"," piski "," 45 - 49 ",3751,1906,1845,false,true,true,false]
["Warmińsko-mazurskie"," piski "," 50 - 54 ",3922,2059,1863,false,true,true,false]
["Warmińsko-mazurskie"," piski "," 55 - 59 ",4098,2067,2031,false,true,true,false]
["Warmińsko-mazurskie"," piski "," 60 - 64 ",3572,1737,1835,false,true,true,false]
["Warmińsko-mazurskie"," piski "," 65 - 69 ",2759,1253,1506,false,true,true,false]
["Warmińsko-mazurskie"," piski "," 70 i więcej",5310,1870,3440,{"$f":"IFERROR(IF(SEARCH(\" - \",C5697)>0,FALSE,TRUE),TRUE)","v":true},{"$f":"IFERROR(IF(SEARCH(\"65+\",C5697)>0,FALSE,TRUE),TRUE)","v":true},{"$f":"IFERROR(IF(SEARCH(\"70\",C5697)>0,FALSE,TRUE),TRUE)","v":false},{"$f":"AND(G5697:I5697)","v":false}]
["Warmińsko-mazurskie"," piski ","65+",{"$f":"SUM(D5696:D5697)","v":8069},{"$f":"SUM(E5696:E5697)","v":3123},{"$f":"SUM(F5696:F5697)","v":4946},true,false,true,false]
["Warmińsko-mazurskie"," szczycieński "," szczycieński ",70459,34936,35523,true,true,true,true]
["Warmińsko-mazurskie"," szczycieński "," 0 - 4 ",3323,1702,1621,false,true,true,false]
["Warmińsko-mazurskie"," szczycieński "," 5 - 9 ",4031,2087,1944,false,true,true,false]
["Warmińsko-mazurskie"," szczycieński "," 10 - 14 ",3704,1960,1744,false,true,true,false]
["Warmińsko-mazurskie"," szczycieński "," 15 - 19 ",3988,2047,1941,false,true,true,false]
["Warmińsko-mazurskie"," szczycieński "," 20 - 24 ",5307,2680,2627,false,true,true,false]
["Warmińsko-mazurskie"," szczycieński "," 25 - 29 ",5365,2812,2553,false,true,true,false]
["Warmińsko-mazurskie"," szczycieński "," 30 - 34 ",5690,2934,2756,false,true,true,false]
["Warmińsko-mazurskie"," szczycieński "," 35 - 39 ",5494,2911,2583,false,true,true,false]
["Warmińsko-mazurskie"," szczycieński "," 40 - 44 ",4882,2501,2381,false,true,true,false]
["Warmińsko-mazurskie"," szczycieński "," 45 - 49 ",4505,2302,2203,false,true,true,false]
["Warmińsko-mazurskie"," szczycieński "," 50 - 54 ",4775,2489,2286,false,true,true,false]
["Warmińsko-mazurskie"," szczycieński "," 55 - 59 ",5294,2665,2629,false,true,true,false]
["Warmińsko-mazurskie"," szczycieński "," 60 - 64 ",4589,2176,2413,false,true,true,false]
["Warmińsko-mazurskie"," szczycieński "," 65 - 69 ",3506,1587,1919,false,true,true,false]
["Warmińsko-mazurskie"," szczycieński "," 70 i więcej",6006,2083,3923,true,true,false,false]
["Warmińsko-mazurskie"," szczycieński ","65+",{"$f":"SUM(D5713:D5714)","v":9512},{"$f":"SUM(E5713:E5714)","v":3670},{"$f":"SUM(F5713:F5714)","v":5842},true,false,true,false]
["Warmińsko-mazurskie"," gołdapski "," gołdapski ",27191,13514,13677,true,true,true,true]
["Warmińsko-mazurskie"," gołdapski "," 0 - 4 ",1443,765,678,false,true,true,false]
["Warmińsko-mazurskie"," gołdapski "," 5 - 9 ",1638,841,797,false,true,true,false]
["Warmińsko-mazurskie"," gołdapski "," 10 - 14 ",1431,691,740,false,true,true,false]
["Warmińsko-mazurskie"," gołdapski "," 15 - 19 ",1415,722,693,false,true,true,false]
["Warmińsko-mazurskie"," gołdapski "," 20 - 24 ",1985,996,989,false,true,true,false]
["Warmińsko-mazurskie"," gołdapski "," 25 - 29 ",2155,1114,1041,false,true,true,false]
["Warmińsko-mazurskie"," gołdapski "," 30 - 34 ",2312,1246,1066,false,true,true,false]
["Warmińsko-mazurskie"," gołdapski "," 35 - 39 ",2065,1060,1005,false,true,true,false]
["Warmińsko-mazurskie"," gołdapski "," 40 - 44 ",1896,1010,886,false,true,true,false]
["Warmińsko-mazurskie"," gołdapski "," 45 - 49 ",1637,856,781,false,true,true,false]
["Warmińsko-mazurskie"," gołdapski "," 50 - 54 ",1767,919,848,false,true,true,false]
["Warmińsko-mazurskie"," gołdapski "," 55 - 59 ",1984,999,985,false,true,true,false]
["Warmińsko-mazurskie"," gołdapski "," 60 - 64 ",1741,857,884,false,true,true,false]
["Warmińsko-mazurskie"," gołdapski "," 65 - 69 ",1335,622,713,false,true,true,false]
["Warmińsko-mazurskie"," gołdapski "," 70 i więcej",2387,816,1571,true,true,false,false]
["Warmińsko-mazurskie"," gołdapski ","65+",{"$f":"SUM(D5730:D5731)","v":3722},{"$f":"SUM(E5730:E5731)","v":1438},{"$f":"SUM(F5730:F5731)","v":2284},true,false,true,false]
["Warmińsko-mazurskie"," węgorzewski "," węgorzewski ",23329,11672,11657,true,true,true,true]
["Warmińsko-mazurskie"," węgorzewski "," 0 - 4 ",1087,565,522,false,true,true,false]
["Warmińsko-mazurskie"," węgorzewski "," 5 - 9 ",1174,631,543,false,true,true,false]
["Warmińsko-mazurskie"," węgorzewski "," 10 - 14 ",1061,533,528,false,true,true,false]
["Warmińsko-mazurskie"," węgorzewski "," 15 - 19 ",1136,580,556,false,true,true,false]
["Warmińsko-mazurskie"," węgorzewski "," 20 - 24 ",1553,795,758,false,true,true,false]
["Warmińsko-mazurskie"," węgorzewski "," 25 - 29 ",1620,857,763,false,true,true,false]
["Warmińsko-mazurskie"," węgorzewski "," 30 - 34 ",1884,1008,876,false,true,true,false]
["Warmińsko-mazurskie"," węgorzewski "," 35 - 39 ",1697,892,805,false,true,true,false]
["Warmińsko-mazurskie"," węgorzewski "," 40 - 44 ",1646,893,753,false,true,true,false]
["Warmińsko-mazurskie"," węgorzewski "," 45 - 49 ",1451,752,699,false,true,true,false]
["Warmińsko-mazurskie"," węgorzewski "," 50 - 54 ",1566,830,736,false,true,true,false]
["Warmińsko-mazurskie"," węgorzewski "," 55 - 59 ",1934,990,944,false,true,true,false]
["Warmińsko-mazurskie"," węgorzewski "," 60 - 64 ",1716,851,865,false,true,true,false]
["Warmińsko-mazurskie"," węgorzewski "," 65 - 69 ",1362,657,705,false,true,true,false]
["Warmińsko-mazurskie"," węgorzewski "," 70 i więcej",2442,838,1604,true,true,false,false]
["Warmińsko-mazurskie"," węgorzewski ","65+",{"$f":"SUM(D5747:D5748)","v":3804},{"$f":"SUM(E5747:E5748)","v":1495},{"$f":"SUM(F5747:F5748)","v":2309},true,false,true,false]
["Wielkopolskie","Wszystkie","Wielkopolskie ",3477755,1692178,1785577,{"$f":"IFERROR(IF(SEARCH(\" - \",C5750)>0,FALSE,TRUE),TRUE)","v":true},{"$f":"IFERROR(IF(SEARCH(\"65+\",C5750)>0,FALSE,TRUE),TRUE)","v":true},{"$f":"IFERROR(IF(SEARCH(\"70\",C5750)>0,FALSE,TRUE),TRUE)","v":true},{"$f":"AND(G5750:I5750)","v":true}]
["Wielkopolskie","Wszystkie"," 0 - 4 ",185329,95402,89927,{"$f":"IFERROR(IF(SEARCH(\" - \",C5751)>0,FALSE,TRUE),TRUE)","v":false},{"$f":"IFERROR(IF(SEARCH(\"65+\",C5751)>0,FALSE,TRUE),TRUE)","v":true},{"$f":"IFERROR(IF(SEARCH(\"70\",C5751)>0,FALSE,TRUE),TRUE)","v":true},{"$f":"AND(G5751:I5751)","v":false}]
["Wielkopolskie",{"$f":"IF(C5751=\"65+\",C5752,B5751)","v":"Wszystkie"}," 5 - 9 ",202165,104233,97932,false,true,true,false]
["Wielkopolskie","Wszystkie"," 10 - 14 ",171958,88579,83379,false,true,true,false]
["Wielkopolskie","Wszystkie"," 15 - 19 ",181862,93456,88406,false,true,true,false]
["Wielkopolskie","Wszystkie"," 20 - 24 ",217093,111182,105911,false,true,true,false]
["Wielkopolskie","Wszystkie"," 25 - 29 ",260501,132122,128379,false,true,true,false]
["Wielkopolskie","Wszystkie"," 30 - 34 ",300389,152026,148363,false,true,true,false]
["Wielkopolskie","Wszystkie"," 35 - 39 ",287317,145697,141620,false,true,true,false]
["Wielkopolskie","Wszystkie"," 40 - 44 ",255257,128836,126421,false,true,true,false]
["Wielkopolskie","Wszystkie"," 45 - 49 ",210510,105417,105093,false,true,true,false]
["Wielkopolskie","Wszystkie"," 50 - 54 ",208401,102829,105572,false,true,true,false]
["Wielkopolskie","Wszystkie"," 55 - 59 ",242211,116665,125546,false,true,true,false]
["Wielkopolskie","Wszystkie"," 60 - 64 ",236290,110085,126205,false,true,true,false]
["Wielkopolskie","Wszystkie"," 65 - 69 ",203634,90875,112759,false,true,true,false]
["Wielkopolskie","Wszystkie"," 70 i więcej",314838,114774,200064,true,true,false,false]
["Wielkopolskie","Wszystkie","65+",{"$f":"SUM(D5764:D5765)","v":518472},{"$f":"SUM(E5764:E5765)","v":205649},{"$f":"SUM(F5764:F5765)","v":312823},true,false,true,false]
["Wielkopolskie"," Kalisz "," Kalisz ",102575,47754,54821,true,true,true,true]
["Wielkopolskie"," Kalisz "," 0 - 4 ",4607,2357,2250,false,true,true,false]
["Wielkopolskie"," Kalisz "," 5 - 9 ",5077,2586,2491,false,true,true,false]
["Wielkopolskie"," Kalisz "," 10 - 14 ",4500,2290,2210,false,true,true,false]
["Wielkopolskie"," Kalisz "," 15 - 19 ",5067,2519,2548,false,true,true,false]
["Wielkopolskie"," Kalisz "," 20 - 24 ",5705,2899,2806,false,true,true,false]
["Wielkopolskie"," Kalisz "," 25 - 29 ",6279,3179,3100,false,true,true,false]
["Wielkopolskie"," Kalisz "," 30 - 34 ",7823,3930,3893,false,true,true,false]
["Wielkopolskie"," Kalisz "," 35 - 39 ",8146,4101,4045,false,true,true,false]
["Wielkopolskie"," Kalisz "," 40 - 44 ",7780,3858,3922,false,true,true,false]
["Wielkopolskie"," Kalisz "," 45 - 49 ",6474,3074,3400,false,true,true,false]
["Wielkopolskie"," Kalisz "," 50 - 54 ",6083,2874,3209,false,true,true,false]
["Wielkopolskie"," Kalisz "," 55 - 59 ",7342,3282,4060,false,true,true,false]
["Wielkopolskie"," Kalisz "," 60 - 64 ",8111,3480,4631,false,true,true,false]
["Wielkopolskie"," Kalisz "," 65 - 69 ",7354,3018,4336,false,true,true,false]
["Wielkopolskie"," Kalisz "," 70 i więcej",12227,4307,7920,true,true,false,false]
["Wielkopolskie"," Kalisz ","65+",{"$f":"SUM(D5781:D5782)","v":19581},{"$f":"SUM(E5781:E5782)","v":7325},{"$f":"SUM(F5781:F5782)","v":12256},true,false,true,false]
["Wielkopolskie"," Konin "," Konin ",75607,35780,39827,true,true,true,true]
["Wielkopolskie"," Konin "," 0 - 4 ",3145,1622,1523,false,true,true,false]
["Wielkopolskie"," Konin "," 5 - 9 ",3524,1813,1711,false,true,true,false]
["Wielkopolskie"," Konin "," 10 - 14 ",3011,1554,1457,false,true,true,false]
["Wielkopolskie"," Konin "," 15 - 19 ",3695,1860,1835,false,true,true,false]
["Wielkopolskie"," Konin "," 20 - 24 ",4526,2302,2224,false,true,true,false]
["Wielkopolskie"," Konin "," 25 - 29 ",5006,2622,2384,false,true,true,false]
["Wielkopolskie"," Konin "," 30 - 34 ",5892,2957,2935,false,true,true,false]
["Wielkopolskie"," Konin "," 35 - 39 ",5894,2973,2921,false,true,true,false]
["Wielkopolskie"," Konin "," 40 - 44 ",5459,2701,2758,false,true,true,false]
["Wielkopolskie"," Konin "," 45 - 49 ",5025,2449,2576,false,true,true,false]
["Wielkopolskie"," Konin "," 50 - 54 ",4695,2247,2448,false,true,true,false]
["Wielkopolskie"," Konin "," 55 - 59 ",5583,2551,3032,false,true,true,false]
["Wielkopolskie"," Konin "," 60 - 64 ",5958,2584,3374,false,true,true,false]
["Wielkopolskie"," Konin "," 65 - 69 ",5537,2324,3213,false,true,true,false]
["Wielkopolskie"," Konin "," 70 i więcej",8657,3221,5436,true,true,false,false]
["Wielkopolskie"," Konin ","65+",{"$f":"SUM(D5798:D5799)","v":14194},{"$f":"SUM(E5798:E5799)","v":5545},{"$f":"SUM(F5798:F5799)","v":8649},true,false,true,false]
["Wielkopolskie"," Leszno "," Leszno ",64468,30822,33646,true,true,true,true]
["Wielkopolskie"," Leszno "," 0 - 4 ",3227,1684,1543,false,true,true,false]
["Wielkopolskie"," Leszno "," 5 - 9 ",3552,1792,1760,false,true,true,false]
["Wielkopolskie"," Leszno "," 10 - 14 ",3012,1519,1493,false,true,true,false]
["Wielkopolskie"," Leszno "," 15 - 19 ",3206,1628,1578,false,true,true,false]
["Wielkopolskie"," Leszno "," 20 - 24 ",3593,1857,1736,false,true,true,false]
["Wielkopolskie"," Leszno "," 25 - 29 ",4431,2260,2171,false,true,true,false]
["Wielkopolskie"," Leszno "," 30 - 34 ",5595,2813,2782,false,true,true,false]
["Wielkopolskie"," Leszno "," 35 - 39 ",5403,2703,2700,false,true,true,false]
["Wielkopolskie"," Leszno "," 40 - 44 ",4680,2268,2412,false,true,true,false]
["Wielkopolskie"," Leszno "," 45 - 49 ",3778,1898,1880,false,true,true,false]
["Wielkopolskie"," Leszno "," 50 - 54 ",3811,1814,1997,false,true,true,false]
["Wielkopolskie"," Leszno "," 55 - 59 ",4574,2122,2452,false,true,true,false]
["Wielkopolskie"," Leszno "," 60 - 64 ",4840,2144,2696,false,true,true,false]
["Wielkopolskie"," Leszno "," 65 - 69 ",4391,1921,2470,{"$f":"IFERROR(IF(SEARCH(\" - \",C5815)>0,FALSE,TRUE),TRUE)","v":false},{"$f":"IFERROR(IF(SEARCH(\"65+\",C5815)>0,FALSE,TRUE),TRUE)","v":true},{"$f":"IFERROR(IF(SEARCH(\"70\",C5815)>0,FALSE,TRUE),TRUE)","v":true},{"$f":"AND(G5815:I5815)","v":false}]
["Wielkopolskie",{"$f":"IF(C5815=\"65+\",C5816,B5815)","v":" Leszno "}," 70 i więcej",6375,2399,3976,true,true,false,false]
["Wielkopolskie"," Leszno ","65+",{"$f":"SUM(D5815:D5816)","v":10766},{"$f":"SUM(E5815:E5816)","v":4320},{"$f":"SUM(F5815:F5816)","v":6446},true,false,true,false]
["Wielkopolskie"," Poznań "," Poznań ",541561,252522,289039,true,true,true,true]
["Wielkopolskie"," Poznań "," 0 - 4 ",27833,14336,13497,false,true,true,false]
["Wielkopolskie"," Poznań "," 5 - 9 ",26267,13438,12829,false,true,true,false]
["Wielkopolskie"," Poznań "," 10 - 14 ",20439,10500,9939,false,true,true,false]
["Wielkopolskie"," Poznań "," 15 - 19 ",20478,10458,10020,false,true,true,false]
["Wielkopolskie"," Poznań "," 20 - 24 ",25150,12713,12437,false,true,true,false]
["Wielkopolskie"," Poznań "," 25 - 29 ",42574,20235,22339,false,true,true,false]
["Wielkopolskie"," Poznań "," 30 - 34 ",54634,26739,27895,false,true,true,false]
["Wielkopolskie"," Poznań "," 35 - 39 ",48162,23958,24204,false,true,true,false]
["Wielkopolskie"," Poznań "," 40 - 44 ",39353,19401,19952,false,true,true,false]
["Wielkopolskie"," Poznań "," 45 - 49 ",29337,14183,15154,false,true,true,false]
["Wielkopolskie"," Poznań "," 50 - 54 ",28700,13758,14942,false,true,true,false]
["Wielkopolskie"," Poznań "," 55 - 59 ",36196,16462,19734,false,true,true,false]
["Wielkopolskie"," Poznań "," 60 - 64 ",40775,17570,23205,false,true,true,false]
["Wielkopolskie"," Poznań "," 65 - 69 ",37698,15938,21760,false,true,true,false]
["Wielkopolskie"," Poznań "," 70 i więcej",63965,22833,41132,true,true,false,false]
["Wielkopolskie"," Poznań ","65+",{"$f":"SUM(D5832:D5833)","v":101663},{"$f":"SUM(E5832:E5833)","v":38771},{"$f":"SUM(F5832:F5833)","v":62892},true,false,true,false]
["Wielkopolskie"," chodzieski "," chodzieski ",47444,23314,24130,true,true,true,true]
["Wielkopolskie"," chodzieski "," 0 - 4 ",2326,1195,1131,false,true,true,false]
["Wielkopolskie"," chodzieski "," 5 - 9 ",2800,1499,1301,false,true,true,false]
["Wielkopolskie"," chodzieski "," 10 - 14 ",2466,1295,1171,false,true,true,false]
["Wielkopolskie"," chodzieski "," 15 - 19 ",2755,1412,1343,false,true,true,false]
["Wielkopolskie"," chodzieski "," 20 - 24 ",3097,1594,1503,false,true,true,false]
["Wielkopolskie"," chodzieski "," 25 - 29 ",3337,1744,1593,false,true,true,false]
["Wielkopolskie"," chodzieski "," 30 - 34 ",3944,2040,1904,false,true,true,false]
["Wielkopolskie"," chodzieski "," 35 - 39 ",4008,2020,1988,false,true,true,false]
["Wielkopolskie"," chodzieski "," 40 - 44 ",3473,1811,1662,false,true,true,false]
["Wielkopolskie"," chodzieski "," 45 - 49 ",2732,1371,1361,false,true,true,false]
["Wielkopolskie"," chodzieski "," 50 - 54 ",2844,1390,1454,false,true,true,false]
["Wielkopolskie"," chodzieski "," 55 - 59 ",3460,1688,1772,false,true,true,false]
["Wielkopolskie"," chodzieski "," 60 - 64 ",3336,1518,1818,false,true,true,false]
["Wielkopolskie"," chodzieski "," 65 - 69 ",2910,1330,1580,false,true,true,false]
["Wielkopolskie"," chodzieski "," 70 i więcej",3956,1407,2549,true,true,false,false]
["Wielkopolskie"," chodzieski ","65+",{"$f":"SUM(D5849:D5850)","v":6866},{"$f":"SUM(E5849:E5850)","v":2737},{"$f":"SUM(F5849:F5850)","v":4129},true,false,true,false]
["Wielkopolskie"," czarnkowsko-trzcianecki "," czarnkowsko-trzcianecki ",87755,43444,44311,true,true,true,true]
["Wielkopolskie"," czarnkowsko-trzcianecki "," 0 - 4 ",4490,2272,2218,false,true,true,false]
["Wielkopolskie"," czarnkowsko-trzcianecki "," 5 - 9 ",5277,2734,2543,false,true,true,false]
["Wielkopolskie"," czarnkowsko-trzcianecki "," 10 - 14 ",4548,2312,2236,false,true,true,false]
["Wielkopolskie"," czarnkowsko-trzcianecki "," 15 - 19 ",5161,2654,2507,false,true,true,false]
["Wielkopolskie"," czarnkowsko-trzcianecki "," 20 - 24 ",5799,2982,2817,false,true,true,false]
["Wielkopolskie"," czarnkowsko-trzcianecki "," 25 - 29 ",6402,3303,3099,false,true,true,false]
["Wielkopolskie"," czarnkowsko-trzcianecki "," 30 - 34 ",7058,3672,3386,false,true,true,false]
["Wielkopolskie"," czarnkowsko-trzcianecki "," 35 - 39 ",6871,3537,3334,false,true,true,false]
["Wielkopolskie"," czarnkowsko-trzcianecki "," 40 - 44 ",6405,3281,3124,false,true,true,false]
["Wielkopolskie"," czarnkowsko-trzcianecki "," 45 - 49 ",5520,2842,2678,false,true,true,false]
["Wielkopolskie"," czarnkowsko-trzcianecki "," 50 - 54 ",5361,2771,2590,false,true,true,false]
["Wielkopolskie"," czarnkowsko-trzcianecki "," 55 - 59 ",6313,3150,3163,false,true,true,false]
["Wielkopolskie"," czarnkowsko-trzcianecki "," 60 - 64 ",6052,2944,3108,false,true,true,false]
["Wielkopolskie"," czarnkowsko-trzcianecki "," 65 - 69 ",5121,2378,2743,false,true,true,false]
["Wielkopolskie"," czarnkowsko-trzcianecki "," 70 i więcej",7377,2612,4765,true,true,false,false]
["Wielkopolskie"," czarnkowsko-trzcianecki ","65+",{"$f":"SUM(D5866:D5867)","v":12498},{"$f":"SUM(E5866:E5867)","v":4990},{"$f":"SUM(F5866:F5867)","v":7508},true,false,true,false]
["Wielkopolskie"," gnieźnieński "," gnieźnieński ",145104,71188,73916,true,true,true,true]
["Wielkopolskie"," gnieźnieński "," 0 - 4 ",7914,4105,3809,false,true,true,false]
["Wielkopolskie"," gnieźnieński "," 5 - 9 ",8724,4546,4178,false,true,true,false]
["Wielkopolskie"," gnieźnieński "," 10 - 14 ",7419,3864,3555,false,true,true,false]
["Wielkopolskie"," gnieźnieński "," 15 - 19 ",7697,3966,3731,false,true,true,false]
["Wielkopolskie"," gnieźnieński "," 20 - 24 ",9256,4658,4598,false,true,true,false]
["Wielkopolskie"," gnieźnieński "," 25 - 29 ",10768,5538,5230,false,true,true,false]
["Wielkopolskie"," gnieźnieński "," 30 - 34 ",12273,6260,6013,false,true,true,false]
["Wielkopolskie"," gnieźnieński "," 35 - 39 ",11933,6158,5775,false,true,true,false]
["Wielkopolskie"," gnieźnieński "," 40 - 44 ",10524,5427,5097,false,true,true,false]
["Wielkopolskie"," gnieźnieński "," 45 - 49 ",8581,4335,4246,{"$f":"IFERROR(IF(SEARCH(\" - \",C5879)>0,FALSE,TRUE),TRUE)","v":false},{"$f":"IFERROR(IF(SEARCH(\"65+\",C5879)>0,FALSE,TRUE),TRUE)","v":true},{"$f":"IFERROR(IF(SEARCH(\"70\",C5879)>0,FALSE,TRUE),TRUE)","v":true},{"$f":"AND(G5879:I5879)","v":false}]
["Wielkopolskie",{"$f":"IF(C5879=\"65+\",C5880,B5879)","v":" gnieźnieński "}," 50 - 54 ",8634,4236,4398,false,true,true,false]
["Wielkopolskie"," gnieźnieński "," 55 - 59 ",10287,4944,5343,false,true,true,false]
["Wielkopolskie"," gnieźnieński "," 60 - 64 ",10151,4731,5420,false,true,true,false]
["Wielkopolskie"," gnieźnieński "," 65 - 69 ",8582,3900,4682,false,true,true,false]
["Wielkopolskie"," gnieźnieński "," 70 i więcej",12361,4520,7841,true,true,false,false]
["Wielkopolskie"," gnieźnieński ","65+",{"$f":"SUM(D5883:D5884)","v":20943},{"$f":"SUM(E5883:E5884)","v":8420},{"$f":"SUM(F5883:F5884)","v":12523},true,false,true,false]
["Wielkopolskie"," gostyński "," gostyński ",76105,37645,38460,true,true,true,true]
["Wielkopolskie"," gostyński "," 0 - 4 ",4230,2177,2053,false,true,true,false]
["Wielkopolskie"," gostyński "," 5 - 9 ",4433,2344,2089,false,true,true,false]
["Wielkopolskie"," gostyński "," 10 - 14 ",3806,1955,1851,false,true,true,false]
["Wielkopolskie"," gostyński "," 15 - 19 ",4144,2144,2000,false,true,true,false]
["Wielkopolskie"," gostyński "," 20 - 24 ",5425,2735,2690,false,true,true,false]
["Wielkopolskie"," gostyński "," 25 - 29 ",6240,3270,2970,false,true,true,false]
["Wielkopolskie"," gostyński "," 30 - 34 ",6323,3294,3029,false,true,true,false]
["Wielkopolskie"," gostyński "," 35 - 39 ",5622,2926,2696,false,true,true,false]
["Wielkopolskie"," gostyński "," 40 - 44 ",5182,2638,2544,false,true,true,false]
["Wielkopolskie"," gostyński "," 45 - 49 ",4596,2274,2322,false,true,true,false]
["Wielkopolskie"," gostyński "," 50 - 54 ",5075,2567,2508,false,true,true,false]
["Wielkopolskie"," gostyński "," 55 - 59 ",5461,2735,2726,false,true,true,false]
["Wielkopolskie"," gostyński "," 60 - 64 ",4806,2301,2505,false,true,true,false]
["Wielkopolskie"," gostyński "," 65 - 69 ",3987,1860,2127,false,true,true,false]
["Wielkopolskie"," gostyński "," 70 i więcej",6775,2425,4350,true,true,false,false]
["Wielkopolskie"," gostyński ","65+",{"$f":"SUM(D5900:D5901)","v":10762},{"$f":"SUM(E5900:E5901)","v":4285},{"$f":"SUM(F5900:F5901)","v":6477},true,false,true,false]
["Wielkopolskie"," grodziski "," grodziski ",51500,25651,25849,true,true,true,true]
["Wielkopolskie"," grodziski "," 0 - 4 ",3069,1611,1458,false,true,true,false]
["Wielkopolskie"," grodziski "," 5 - 9 ",3276,1643,1633,false,true,true,false]
["Wielkopolskie"," grodziski "," 10 - 14 ",2871,1471,1400,false,true,true,false]
["Wielkopolskie"," grodziski "," 15 - 19 ",3060,1614,1446,false,true,true,false]
["Wielkopolskie"," grodziski "," 20 - 24 ",3753,1872,1881,false,true,true,false]
["Wielkopolskie"," grodziski "," 25 - 29 ",4223,2150,2073,false,true,true,false]
["Wielkopolskie"," grodziski "," 30 - 34 ",4453,2332,2121,false,true,true,false]
["Wielkopolskie"," grodziski "," 35 - 39 ",3900,1997,1903,false,true,true,false]
["Wielkopolskie"," grodziski "," 40 - 44 ",3581,1832,1749,false,true,true,false]
["Wielkopolskie"," grodziski "," 45 - 49 ",3100,1574,1526,false,true,true,false]
["Wielkopolskie"," grodziski "," 50 - 54 ",3177,1587,1590,false,true,true,false]
["Wielkopolskie"," grodziski "," 55 - 59 ",3491,1748,1743,false,true,true,false]
["Wielkopolskie"," grodziski "," 60 - 64 ",3248,1655,1593,false,true,true,false]
["Wielkopolskie"," grodziski "," 65 - 69 ",2532,1154,1378,false,true,true,false]
["Wielkopolskie"," grodziski "," 70 i więcej",3766,1411,2355,true,true,false,false]
["Wielkopolskie"," grodziski ","65+",{"$f":"SUM(D5917:D5918)","v":6298},{"$f":"SUM(E5917:E5918)","v":2565},{"$f":"SUM(F5917:F5918)","v":3733},true,false,true,false]
["Wielkopolskie"," jarociński "," jarociński ",71761,35014,36747,true,true,true,true]
["Wielkopolskie"," jarociński "," 0 - 4 ",3891,1990,1901,false,true,true,false]
["Wielkopolskie"," jarociński "," 5 - 9 ",4185,2138,2047,false,true,true,false]
["Wielkopolskie"," jarociński "," 10 - 14 ",3558,1812,1746,false,true,true,false]
["Wielkopolskie"," jarociński "," 15 - 19 ",4001,2062,1939,false,true,true,false]
["Wielkopolskie"," jarociński "," 20 - 24 ",4693,2366,2327,false,true,true,false]
["Wielkopolskie"," jarociński "," 25 - 29 ",5620,2917,2703,false,true,true,false]
["Wielkopolskie"," jarociński "," 30 - 34 ",5984,3050,2934,false,true,true,false]
["Wielkopolskie"," jarociński "," 35 - 39 ",5391,2768,2623,false,true,true,false]
["Wielkopolskie"," jarociński "," 40 - 44 ",4935,2499,2436,false,true,true,false]
["Wielkopolskie"," jarociński "," 45 - 49 ",4437,2248,2189,false,true,true,false]
["Wielkopolskie"," jarociński "," 50 - 54 ",4463,2163,2300,false,true,true,false]
["Wielkopolskie"," jarociński "," 55 - 59 ",5274,2535,2739,false,true,true,false]
["Wielkopolskie"," jarociński "," 60 - 64 ",4843,2293,2550,false,true,true,false]
["Wielkopolskie"," jarociński "," 65 - 69 ",4083,1841,2242,false,true,true,false]
["Wielkopolskie"," jarociński "," 70 i więcej",6403,2332,4071,true,true,false,false]
["Wielkopolskie"," jarociński ","65+",{"$f":"SUM(D5934:D5935)","v":10486},{"$f":"SUM(E5934:E5935)","v":4173},{"$f":"SUM(F5934:F5935)","v":6313},true,false,true,false]
["Wielkopolskie"," kaliski "," kaliski ",82925,40795,42130,true,true,true,true]
["Wielkopolskie"," kaliski "," 0 - 4 ",4346,2213,2133,false,true,true,false]
["Wielkopolskie"," kaliski "," 5 - 9 ",4606,2374,2232,false,true,true,false]
["Wielkopolskie"," kaliski "," 10 - 14 ",4307,2175,2132,false,true,true,false]
["Wielkopolskie"," kaliski "," 15 - 19 ",4877,2461,2416,false,true,true,false]
["Wielkopolskie"," kaliski "," 20 - 24 ",5823,3018,2805,false,true,true,false]
["Wielkopolskie"," kaliski "," 25 - 29 ",6296,3178,3118,{"$f":"IFERROR(IF(SEARCH(\" - \",C5943)>0,FALSE,TRUE),TRUE)","v":false},{"$f":"IFERROR(IF(SEARCH(\"65+\",C5943)>0,FALSE,TRUE),TRUE)","v":true},{"$f":"IFERROR(IF(SEARCH(\"70\",C5943)>0,FALSE,TRUE),TRUE)","v":true},{"$f":"AND(G5943:I5943)","v":false}]
["Wielkopolskie",{"$f":"IF(C5943=\"65+\",C5944,B5943)","v":" kaliski "}," 30 - 34 ",6402,3310,3092,false,true,true,false]
["Wielkopolskie"," kaliski "," 35 - 39 ",6347,3272,3075,false,true,true,false]
["Wielkopolskie"," kaliski "," 40 - 44 ",6109,3114,2995,false,true,true,false]
["Wielkopolskie"," kaliski "," 45 - 49 ",5503,2793,2710,false,true,true,false]
["Wielkopolskie"," kaliski "," 50 - 54 ",5379,2708,2671,false,true,true,false]
["Wielkopolskie"," kaliski "," 55 - 59 ",5605,2873,2732,false,true,true,false]
["Wielkopolskie"," kaliski "," 60 - 64 ",5078,2447,2631,false,true,true,false]
["Wielkopolskie"," kaliski "," 65 - 69 ",4317,1957,2360,false,true,true,false]
["Wielkopolskie"," kaliski "," 70 i więcej",7930,2902,5028,true,true,false,false]
["Wielkopolskie"," kaliski ","65+",{"$f":"SUM(D5951:D5952)","v":12247},{"$f":"SUM(E5951:E5952)","v":4859},{"$f":"SUM(F5951:F5952)","v":7388},true,false,true,false]
["Wielkopolskie"," kępiński "," kępiński ",56412,27982,28430,true,true,true,true]
["Wielkopolskie"," kępiński "," 0 - 4 ",2979,1499,1480,false,true,true,false]
["Wielkopolskie"," kępiński "," 5 - 9 ",3237,1694,1543,false,true,true,false]
["Wielkopolskie"," kępiński "," 10 - 14 ",2969,1539,1430,false,true,true,false]
["Wielkopolskie"," kępiński "," 15 - 19 ",3152,1597,1555,false,true,true,false]
["Wielkopolskie"," kępiński "," 20 - 24 ",3884,1983,1901,false,true,true,false]
["Wielkopolskie"," kępiński "," 25 - 29 ",4326,2210,2116,false,true,true,false]
["Wielkopolskie"," kępiński "," 30 - 34 ",4669,2471,2198,false,true,true,false]
["Wielkopolskie"," kępiński "," 35 - 39 ",4406,2270,2136,false,true,true,false]
["Wielkopolskie"," kępiński "," 40 - 44 ",4196,2158,2038,false,true,true,false]
["Wielkopolskie"," kępiński "," 45 - 49 ",3549,1802,1747,false,true,true,false]
["Wielkopolskie"," kępiński "," 50 - 54 ",3487,1787,1700,false,true,true,false]
["Wielkopolskie"," kępiński "," 55 - 59 ",3894,1945,1949,false,true,true,false]
["Wielkopolskie"," kępiński "," 60 - 64 ",3653,1748,1905,false,true,true,false]
["Wielkopolskie"," kępiński "," 65 - 69 ",3145,1458,1687,false,true,true,false]
["Wielkopolskie"," kępiński "," 70 i więcej",4866,1821,3045,true,true,false,false]
["Wielkopolskie"," kępiński ","65+",{"$f":"SUM(D5968:D5969)","v":8011},{"$f":"SUM(E5968:E5969)","v":3279},{"$f":"SUM(F5968:F5969)","v":4732},true,false,true,false]
["Wielkopolskie"," kolski "," kolski ",88218,43255,44963,true,true,true,true]
["Wielkopolskie"," kolski "," 0 - 4 ",4232,2199,2033,false,true,true,false]
["Wielkopolskie"," kolski "," 5 - 9 ",4882,2506,2376,false,true,true,false]
["Wielkopolskie"," kolski "," 10 - 14 ",4321,2215,2106,false,true,true,false]
["Wielkopolskie"," kolski "," 15 - 19 ",4934,2544,2390,false,true,true,false]
["Wielkopolskie"," kolski "," 20 - 24 ",6091,3157,2934,false,true,true,false]
["Wielkopolskie"," kolski "," 25 - 29 ",6391,3344,3047,false,true,true,false]
["Wielkopolskie"," kolski "," 30 - 34 ",6704,3458,3246,false,true,true,false]
["Wielkopolskie"," kolski "," 35 - 39 ",6662,3450,3212,false,true,true,false]
["Wielkopolskie"," kolski "," 40 - 44 ",6408,3260,3148,false,true,true,false]
["Wielkopolskie"," kolski "," 45 - 49 ",5582,2849,2733,false,true,true,false]
["Wielkopolskie"," kolski "," 50 - 54 ",5502,2731,2771,false,true,true,false]
["Wielkopolskie"," kolski "," 55 - 59 ",6416,3163,3253,false,true,true,false]
["Wielkopolskie"," kolski "," 60 - 64 ",6162,2925,3237,false,true,true,false]
["Wielkopolskie"," kolski "," 65 - 69 ",5228,2324,2904,false,true,true,false]
["Wielkopolskie"," kolski "," 70 i więcej",8703,3130,5573,true,true,false,false]
["Wielkopolskie"," kolski ","65+",{"$f":"SUM(D5985:D5986)","v":13931},{"$f":"SUM(E5985:E5986)","v":5454},{"$f":"SUM(F5985:F5986)","v":8477},true,false,true,false]
["Wielkopolskie"," koniński "," koniński ",129330,64322,65008,true,true,true,true]
["Wielkopolskie"," koniński "," 0 - 4 ",6484,3411,3073,false,true,true,false]
["Wielkopolskie"," koniński "," 5 - 9 ",7415,3858,3557,false,true,true,false]
["Wielkopolskie"," koniński "," 10 - 14 ",7102,3636,3466,false,true,true,false]
["Wielkopolskie"," koniński "," 15 - 19 ",8033,4133,3900,false,true,true,false]
["Wielkopolskie"," koniński "," 20 - 24 ",10082,5100,4982,false,true,true,false]
["Wielkopolskie"," koniński "," 25 - 29 ",9890,5105,4785,false,true,true,false]
["Wielkopolskie"," koniński "," 30 - 34 ",10160,5243,4917,false,true,true,false]
["Wielkopolskie"," koniński "," 35 - 39 ",10050,5160,4890,false,true,true,false]
["Wielkopolskie"," koniński "," 40 - 44 ",9761,4965,4796,false,true,true,false]
["Wielkopolskie"," koniński "," 45 - 49 ",8638,4439,4199,false,true,true,false]
["Wielkopolskie"," koniński "," 50 - 54 ",8272,4221,4051,false,true,true,false]
["Wielkopolskie"," koniński "," 55 - 59 ",8846,4516,4330,false,true,true,false]
["Wielkopolskie"," koniński "," 60 - 64 ",7586,3793,3793,false,true,true,false]
["Wielkopolskie"," koniński "," 65 - 69 ",6166,2837,3329,false,true,true,false]
["Wielkopolskie"," koniński "," 70 i więcej",10845,3905,6940,true,true,false,false]
["Wielkopolskie"," koniński ","65+",{"$f":"SUM(D6002:D6003)","v":17011},{"$f":"SUM(E6002:E6003)","v":6742},{"$f":"SUM(F6002:F6003)","v":10269},true,false,true,false]
["Wielkopolskie"," kościański "," kościański ",79046,38797,40249,true,true,true,true]
["Wielkopolskie"," kościański "," 0 - 4 ",4220,2103,2117,false,true,true,false]
["Wielkopolskie"," kościański "," 5 - 9 ",4480,2336,2144,{"$f":"IFERROR(IF(SEARCH(\" - \",C6007)>0,FALSE,TRUE),TRUE)","v":false},{"$f":"IFERROR(IF(SEARCH(\"65+\",C6007)>0,FALSE,TRUE),TRUE)","v":true},{"$f":"IFERROR(IF(SEARCH(\"70\",C6007)>0,FALSE,TRUE),TRUE)","v":true},{"$f":"AND(G6007:I6007)","v":false}]
["Wielkopolskie",{"$f":"IF(C6007=\"65+\",C6008,B6007)","v":" kościański "}," 10 - 14 ",3748,1932,1816,false,true,true,false]
["Wielkopolskie"," kościański "," 15 - 19 ",4369,2277,2092,false,true,true,false]
["Wielkopolskie"," kościański "," 20 - 24 ",5410,2793,2617,false,true,true,false]
["Wielkopolskie"," kościański "," 25 - 29 ",6095,3178,2917,false,true,true,false]
["Wielkopolskie"," kościański "," 30 - 34 ",6619,3435,3184,false,true,true,false]
["Wielkopolskie"," kościański "," 35 - 39 ",6132,3097,3035,false,true,true,false]
["Wielkopolskie"," kościański "," 40 - 44 ",5457,2754,2703,false,true,true,false]
["Wielkopolskie"," kościański "," 45 - 49 ",4898,2387,2511,false,true,true,false]
["Wielkopolskie"," kościański "," 50 - 54 ",5138,2558,2580,false,true,true,false]
["Wielkopolskie"," kościański "," 55 - 59 ",5765,2840,2925,false,true,true,false]
["Wielkopolskie"," kościański "," 60 - 64 ",5363,2545,2818,false,true,true,false]
["Wielkopolskie"," kościański "," 65 - 69 ",4501,2074,2427,false,true,true,false]
["Wielkopolskie"," kościański "," 70 i więcej",6851,2488,4363,true,true,false,false]
["Wielkopolskie"," kościański ","65+",{"$f":"SUM(D6019:D6020)","v":11352},{"$f":"SUM(E6019:E6020)","v":4562},{"$f":"SUM(F6019:F6020)","v":6790},true,false,true,false]
["Wielkopolskie"," krotoszyński "," krotoszyński ",77618,38165,39453,true,true,true,true]
["Wielkopolskie"," krotoszyński "," 0 - 4 ",4238,2207,2031,false,true,true,false]
["Wielkopolskie"," krotoszyński "," 5 - 9 ",4555,2287,2268,false,true,true,false]
["Wielkopolskie"," krotoszyński "," 10 - 14 ",3991,2098,1893,false,true,true,false]
["Wielkopolskie"," krotoszyński "," 15 - 19 ",4429,2318,2111,false,true,true,false]
["Wielkopolskie"," krotoszyński "," 20 - 24 ",5348,2701,2647,false,true,true,false]
["Wielkopolskie"," krotoszyński "," 25 - 29 ",5900,3097,2803,false,true,true,false]
["Wielkopolskie"," krotoszyński "," 30 - 34 ",6468,3337,3131,false,true,true,false]
["Wielkopolskie"," krotoszyński "," 35 - 39 ",5878,2970,2908,false,true,true,false]
["Wielkopolskie"," krotoszyński "," 40 - 44 ",5347,2721,2626,false,true,true,false]
["Wielkopolskie"," krotoszyński "," 45 - 49 ",4620,2285,2335,false,true,true,false]
["Wielkopolskie"," krotoszyński "," 50 - 54 ",4923,2466,2457,false,true,true,false]
["Wielkopolskie"," krotoszyński "," 55 - 59 ",5611,2756,2855,false,true,true,false]
["Wielkopolskie"," krotoszyński "," 60 - 64 ",5138,2480,2658,false,true,true,false]
["Wielkopolskie"," krotoszyński "," 65 - 69 ",4309,1937,2372,false,true,true,false]
["Wielkopolskie"," krotoszyński "," 70 i więcej",6863,2505,4358,true,true,false,false]
["Wielkopolskie"," krotoszyński ","65+",{"$f":"SUM(D6036:D6037)","v":11172},{"$f":"SUM(E6036:E6037)","v":4442},{"$f":"SUM(F6036:F6037)","v":6730},true,false,true,false]
["Wielkopolskie"," leszczyński "," leszczyński ",55006,27481,27525,true,true,true,true]
["Wielkopolskie"," leszczyński "," 0 - 4 ",3151,1627,1524,false,true,true,false]
["Wielkopolskie"," leszczyński "," 5 - 9 ",3595,1862,1733,false,true,true,false]
["Wielkopolskie"," leszczyński "," 10 - 14 ",3187,1683,1504,false,true,true,false]
["Wielkopolskie"," leszczyński "," 15 - 19 ",3247,1682,1565,false,true,true,false]
["Wielkopolskie"," leszczyński "," 20 - 24 ",3765,1967,1798,false,true,true,false]
["Wielkopolskie"," leszczyński "," 25 - 29 ",4339,2235,2104,false,true,true,false]
["Wielkopolskie"," leszczyński "," 30 - 34 ",4539,2328,2211,false,true,true,false]
["Wielkopolskie"," leszczyński "," 35 - 39 ",4616,2325,2291,false,true,true,false]
["Wielkopolskie"," leszczyński "," 40 - 44 ",4043,2054,1989,false,true,true,false]
["Wielkopolskie"," leszczyński "," 45 - 49 ",3413,1746,1667,false,true,true,false]
["Wielkopolskie"," leszczyński "," 50 - 54 ",3256,1651,1605,false,true,true,false]
["Wielkopolskie"," leszczyński "," 55 - 59 ",3698,1838,1860,false,true,true,false]
["Wielkopolskie"," leszczyński "," 60 - 64 ",3287,1588,1699,false,true,true,false]
["Wielkopolskie"," leszczyński "," 65 - 69 ",2886,1336,1550,false,true,true,false]
["Wielkopolskie"," leszczyński "," 70 i więcej",3984,1559,2425,true,true,false,false]
["Wielkopolskie"," leszczyński ","65+",{"$f":"SUM(D6053:D6054)","v":6870},{"$f":"SUM(E6053:E6054)","v":2895},{"$f":"SUM(F6053:F6054)","v":3975},true,false,true,false]
["Wielkopolskie"," międzychodzki "," międzychodzki ",37068,18360,18708,true,true,true,true]
["Wielkopolskie"," międzychodzki "," 0 - 4 ",1978,1026,952,false,true,true,false]
["Wielkopolskie"," międzychodzki "," 5 - 9 ",2171,1114,1057,false,true,true,false]
["Wielkopolskie"," międzychodzki "," 10 - 14 ",1894,993,901,false,true,true,false]
["Wielkopolskie"," międzychodzki "," 15 - 19 ",2024,1028,996,false,true,true,false]
["Wielkopolskie"," międzychodzki "," 20 - 24 ",2549,1272,1277,false,true,true,false]
["Wielkopolskie"," międzychodzki "," 25 - 29 ",2771,1450,1321,false,true,true,false]
["Wielkopolskie"," międzychodzki "," 30 - 34 ",3064,1586,1478,false,true,true,false]
["Wielkopolskie"," międzychodzki "," 35 - 39 ",2866,1490,1376,false,true,true,false]
["Wielkopolskie"," międzychodzki "," 40 - 44 ",2644,1384,1260,false,true,true,false]
["Wielkopolskie"," międzychodzki "," 45 - 49 ",2214,1106,1108,false,true,true,false]
["Wielkopolskie"," międzychodzki "," 50 - 54 ",2208,1093,1115,false,true,true,false]
["Wielkopolskie"," międzychodzki "," 55 - 59 ",2684,1345,1339,false,true,true,false]
["Wielkopolskie"," międzychodzki "," 60 - 64 ",2714,1311,1403,false,true,true,false]
["Wielkopolskie"," międzychodzki "," 65 - 69 ",2249,1029,1220,false,true,true,false]
["Wielkopolskie"," międzychodzki "," 70 i więcej",3038,1133,1905,{"$f":"IFERROR(IF(SEARCH(\" - \",C6071)>0,FALSE,TRUE),TRUE)","v":true},{"$f":"IFERROR(IF(SEARCH(\"65+\",C6071)>0,FALSE,TRUE),TRUE)","v":true},{"$f":"IFERROR(IF(SEARCH(\"70\",C6071)>0,FALSE,TRUE),TRUE)","v":false},{"$f":"AND(G6071:I6071)","v":false}]
["Wielkopolskie",{"$f":"IF(C6071=\"65+\",C6072,B6071)","v":" międzychodzki "},"65+",{"$f":"SUM(D6070:D6071)","v":5287},{"$f":"SUM(E6070:E6071)","v":2162},{"$f":"SUM(F6070:F6071)","v":3125},true,false,true,false]
["Wielkopolskie"," nowotomyski "," nowotomyski ",74787,36719,38068,true,true,true,true]
["Wielkopolskie"," nowotomyski "," 0 - 4 ",4392,2284,2108,false,true,true,false]
["Wielkopolskie"," nowotomyski "," 5 - 9 ",4755,2468,2287,false,true,true,false]
["Wielkopolskie"," nowotomyski "," 10 - 14 ",3952,2008,1944,false,true,true,false]
["Wielkopolskie"," nowotomyski "," 15 - 19 ",4160,2100,2060,false,true,true,false]
["Wielkopolskie"," nowotomyski "," 20 - 24 ",4875,2538,2337,false,true,true,false]
["Wielkopolskie"," nowotomyski "," 25 - 29 ",5809,2980,2829,false,true,true,false]
["Wielkopolskie"," nowotomyski "," 30 - 34 ",6551,3282,3269,false,true,true,false]
["Wielkopolskie"," nowotomyski "," 35 - 39 ",6095,3126,2969,false,true,true,false]
["Wielkopolskie"," nowotomyski "," 40 - 44 ",5339,2757,2582,false,true,true,false]
["Wielkopolskie"," nowotomyski "," 45 - 49 ",4366,2204,2162,false,true,true,false]
["Wielkopolskie"," nowotomyski "," 50 - 54 ",4438,2136,2302,false,true,true,false]
["Wielkopolskie"," nowotomyski "," 55 - 59 ",5126,2564,2562,false,true,true,false]
["Wielkopolskie"," nowotomyski "," 60 - 64 ",4754,2251,2503,false,true,true,false]
["Wielkopolskie"," nowotomyski "," 65 - 69 ",4293,1943,2350,false,true,true,false]
["Wielkopolskie"," nowotomyski "," 70 i więcej",5882,2078,3804,true,true,false,false]
["Wielkopolskie"," nowotomyski ","65+",{"$f":"SUM(D6087:D6088)","v":10175},{"$f":"SUM(E6087:E6088)","v":4021},{"$f":"SUM(F6087:F6088)","v":6154},true,false,true,false]
["Wielkopolskie"," obornicki "," obornicki ",59525,29502,30023,true,true,true,true]
["Wielkopolskie"," obornicki "," 0 - 4 ",3368,1728,1640,false,true,true,false]
["Wielkopolskie"," obornicki "," 5 - 9 ",3823,1993,1830,false,true,true,false]
["Wielkopolskie"," obornicki "," 10 - 14 ",3220,1665,1555,false,true,true,false]
["Wielkopolskie"," obornicki "," 15 - 19 ",3229,1639,1590,false,true,true,false]
["Wielkopolskie"," obornicki "," 20 - 24 ",3852,2029,1823,false,true,true,false]
["Wielkopolskie"," obornicki "," 25 - 29 ",4475,2288,2187,false,true,true,false]
["Wielkopolskie"," obornicki "," 30 - 34 ",5383,2741,2642,false,true,true,false]
["Wielkopolskie"," obornicki "," 35 - 39 ",5004,2608,2396,false,true,true,false]
["Wielkopolskie"," obornicki "," 40 - 44 ",4218,2187,2031,false,true,true,false]
["Wielkopolskie"," obornicki "," 45 - 49 ",3457,1761,1696,false,true,true,false]
["Wielkopolskie"," obornicki "," 50 - 54 ",3463,1705,1758,false,true,true,false]
["Wielkopolskie"," obornicki "," 55 - 59 ",4266,2085,2181,false,true,true,false]
["Wielkopolskie"," obornicki "," 60 - 64 ",4038,1890,2148,false,true,true,false]
["Wielkopolskie"," obornicki "," 65 - 69 ",3313,1538,1775,false,true,true,false]
["Wielkopolskie"," obornicki "," 70 i więcej",4416,1645,2771,true,true,false,false]
["Wielkopolskie"," obornicki ","65+",{"$f":"SUM(D6104:D6105)","v":7729},{"$f":"SUM(E6104:E6105)","v":3183},{"$f":"SUM(F6104:F6105)","v":4546},true,false,true,false]
["Wielkopolskie"," ostrowski "," ostrowski ",161445,78966,82479,true,true,true,true]
["Wielkopolskie"," ostrowski "," 0 - 4 ",8187,4229,3958,false,true,true,false]
["Wielkopolskie"," ostrowski "," 5 - 9 ",8890,4574,4316,false,true,true,false]
["Wielkopolskie"," ostrowski "," 10 - 14 ",7844,4028,3816,false,true,true,false]
["Wielkopolskie"," ostrowski "," 15 - 19 ",8573,4360,4213,false,true,true,false]
["Wielkopolskie"," ostrowski "," 20 - 24 ",10515,5353,5162,false,true,true,false]
["Wielkopolskie"," ostrowski "," 25 - 29 ",12386,6471,5915,false,true,true,false]
["Wielkopolskie"," ostrowski "," 30 - 34 ",13113,6737,6376,false,true,true,false]
["Wielkopolskie"," ostrowski "," 35 - 39 ",12678,6457,6221,false,true,true,false]
["Wielkopolskie"," ostrowski "," 40 - 44 ",11517,5848,5669,false,true,true,false]
["Wielkopolskie"," ostrowski "," 45 - 49 ",10285,5138,5147,false,true,true,false]
["Wielkopolskie"," ostrowski "," 50 - 54 ",10329,5185,5144,false,true,true,false]
["Wielkopolskie"," ostrowski "," 55 - 59 ",11521,5542,5979,false,true,true,false]
["Wielkopolskie"," ostrowski "," 60 - 64 ",10920,5199,5721,false,true,true,false]
["Wielkopolskie"," ostrowski "," 65 - 69 ",9477,4213,5264,false,true,true,false]
["Wielkopolskie"," ostrowski "," 70 i więcej",15210,5632,9578,true,true,false,false]
["Wielkopolskie"," ostrowski ","65+",{"$f":"SUM(D6121:D6122)","v":24687},{"$f":"SUM(E6121:E6122)","v":9845},{"$f":"SUM(F6121:F6122)","v":14842},true,false,true,false]
["Wielkopolskie"," ostrzeszowski "," ostrzeszowski ",55404,27392,28012,true,true,true,true]
["Wielkopolskie"," ostrzeszowski "," 0 - 4 ",2839,1431,1408,false,true,true,false]
["Wielkopolskie"," ostrzeszowski "," 5 - 9 ",3273,1685,1588,false,true,true,false]
["Wielkopolskie"," ostrzeszowski "," 10 - 14 ",2872,1478,1394,false,true,true,false]
["Wielkopolskie"," ostrzeszowski "," 15 - 19 ",3180,1625,1555,false,true,true,false]
["Wielkopolskie"," ostrzeszowski "," 20 - 24 ",3923,2009,1914,false,true,true,false]
["Wielkopolskie"," ostrzeszowski "," 25 - 29 ",4267,2224,2043,false,true,true,false]
["Wielkopolskie"," ostrzeszowski "," 30 - 34 ",4433,2317,2116,false,true,true,false]
["Wielkopolskie"," ostrzeszowski "," 35 - 39 ",4212,2158,2054,false,true,true,false]
["Wielkopolskie"," ostrzeszowski "," 40 - 44 ",3939,2019,1920,false,true,true,false]
["Wielkopolskie"," ostrzeszowski "," 45 - 49 ",3496,1774,1722,false,true,true,false]
["Wielkopolskie"," ostrzeszowski "," 50 - 54 ",3537,1812,1725,{"$f":"IFERROR(IF(SEARCH(\" - \",C6135)>0,FALSE,TRUE),TRUE)","v":false},{"$f":"IFERROR(IF(SEARCH(\"65+\",C6135)>0,FALSE,TRUE),TRUE)","v":true},{"$f":"IFERROR(IF(SEARCH(\"70\",C6135)>0,FALSE,TRUE),TRUE)","v":true},{"$f":"AND(G6135:I6135)","v":false}]
["Wielkopolskie",{"$f":"IF(C6135=\"65+\",C6136,B6135)","v":" ostrzeszowski "}," 55 - 59 ",3843,1891,1952,false,true,true,false]
["Wielkopolskie"," ostrzeszowski "," 60 - 64 ",3572,1706,1866,false,true,true,false]
["Wielkopolskie"," ostrzeszowski "," 65 - 69 ",3194,1465,1729,false,true,true,false]
["Wielkopolskie"," ostrzeszowski "," 70 i więcej",4824,1798,3026,true,true,false,false]
["Wielkopolskie"," ostrzeszowski ","65+",{"$f":"SUM(D6138:D6139)","v":8018},{"$f":"SUM(E6138:E6139)","v":3263},{"$f":"SUM(F6138:F6139)","v":4755},true,false,true,false]
["Wielkopolskie"," pilski "," pilski ",137463,67309,70154,true,true,true,true]
["Wielkopolskie"," pilski "," 0 - 4 ",6588,3418,3170,false,true,true,false]
["Wielkopolskie"," pilski "," 5 - 9 ",7844,4070,3774,false,true,true,false]
["Wielkopolskie"," pilski "," 10 - 14 ",7056,3671,3385,false,true,true,false]
["Wielkopolskie"," pilski "," 15 - 19 ",7619,3867,3752,false,true,true,false]
["Wielkopolskie"," pilski "," 20 - 24 ",8917,4638,4279,false,true,true,false]
["Wielkopolskie"," pilski "," 25 - 29 ",10107,5261,4846,false,true,true,false]
["Wielkopolskie"," pilski "," 30 - 34 ",11693,5953,5740,false,true,true,false]
["Wielkopolskie"," pilski "," 35 - 39 ",11152,5741,5411,false,true,true,false]
["Wielkopolskie"," pilski "," 40 - 44 ",9691,4863,4828,false,true,true,false]
["Wielkopolskie"," pilski "," 45 - 49 ",8418,4200,4218,false,true,true,false]
["Wielkopolskie"," pilski "," 50 - 54 ",8508,4198,4310,false,true,true,false]
["Wielkopolskie"," pilski "," 55 - 59 ",10238,4801,5437,false,true,true,false]
["Wielkopolskie"," pilski "," 60 - 64 ",10002,4752,5250,false,true,true,false]
["Wielkopolskie"," pilski "," 65 - 69 ",7966,3614,4352,false,true,true,false]
["Wielkopolskie"," pilski "," 70 i więcej",11664,4262,7402,true,true,false,false]
["Wielkopolskie"," pilski ","65+",{"$f":"SUM(D6155:D6156)","v":19630},{"$f":"SUM(E6155:E6156)","v":7876},{"$f":"SUM(F6155:F6156)","v":11754},true,false,true,false]
["Wielkopolskie"," pleszewski "," pleszewski ",63147,31342,31805,true,true,true,true]
["Wielkopolskie"," pleszewski "," 0 - 4 ",3238,1671,1567,false,true,true,false]
["Wielkopolskie"," pleszewski "," 5 - 9 ",3673,1939,1734,false,true,true,false]
["Wielkopolskie"," pleszewski "," 10 - 14 ",3372,1786,1586,false,true,true,false]
["Wielkopolskie"," pleszewski "," 15 - 19 ",3568,1887,1681,false,true,true,false]
["Wielkopolskie"," pleszewski "," 20 - 24 ",4308,2273,2035,false,true,true,false]
["Wielkopolskie"," pleszewski "," 25 - 29 ",4660,2418,2242,false,true,true,false]
["Wielkopolskie"," pleszewski "," 30 - 34 ",5130,2641,2489,false,true,true,false]
["Wielkopolskie"," pleszewski "," 35 - 39 ",5114,2600,2514,false,true,true,false]
["Wielkopolskie"," pleszewski "," 40 - 44 ",4617,2375,2242,false,true,true,false]
["Wielkopolskie"," pleszewski "," 45 - 49 ",4042,2053,1989,false,true,true,false]
["Wielkopolskie"," pleszewski "," 50 - 54 ",3851,1914,1937,false,true,true,false]
["Wielkopolskie"," pleszewski "," 55 - 59 ",4245,2091,2154,false,true,true,false]
["Wielkopolskie"," pleszewski "," 60 - 64 ",4262,2011,2251,false,true,true,false]
["Wielkopolskie"," pleszewski "," 65 - 69 ",3626,1641,1985,false,true,true,false]
["Wielkopolskie"," pleszewski "," 70 i więcej",5441,2042,3399,true,true,false,false]
["Wielkopolskie"," pleszewski ","65+",{"$f":"SUM(D6172:D6173)","v":9067},{"$f":"SUM(E6172:E6173)","v":3683},{"$f":"SUM(F6172:F6173)","v":5384},true,false,true,false]
["Wielkopolskie"," poznański "," poznański ",369868,180223,189645,true,true,true,true]
["Wielkopolskie"," poznański "," 0 - 4 ",23321,11977,11344,false,true,true,false]
["Wielkopolskie"," poznański "," 5 - 9 ",26463,13564,12899,false,true,true,false]
["Wielkopolskie"," poznański "," 10 - 14 ",20793,10705,10088,false,true,true,false]
["Wielkopolskie"," poznański "," 15 - 19 ",18978,9828,9150,false,true,true,false]
["Wielkopolskie"," poznański "," 20 - 24 ",20617,10552,10065,false,true,true,false]
["Wielkopolskie"," poznański "," 25 - 29 ",25322,12584,12738,false,true,true,false]
["Wielkopolskie"," poznański "," 30 - 34 ",33863,16533,17330,false,true,true,false]
["Wielkopolskie"," poznański "," 35 - 39 ",35912,17509,18403,false,true,true,false]
["Wielkopolskie"," poznański "," 40 - 44 ",31570,15711,15859,false,true,true,false]
["Wielkopolskie"," poznański "," 45 - 49 ",22803,11510,11293,false,true,true,false]
["Wielkopolskie"," poznański "," 50 - 54 ",20949,10219,10730,false,true,true,false]
["Wielkopolskie"," poznański "," 55 - 59 ",23685,11279,12406,false,true,true,false]
["Wielkopolskie"," poznański "," 60 - 64 ",22457,10499,11958,false,true,true,false]
["Wielkopolskie"," poznański "," 65 - 69 ",18419,8383,10036,false,true,true,false]
["Wielkopolskie"," poznański "," 70 i więcej",24716,9370,15346,true,true,false,false]
["Wielkopolskie"," poznański ","65+",{"$f":"SUM(D6189:D6190)","v":43135},{"$f":"SUM(E6189:E6190)","v":17753},{"$f":"SUM(F6189:F6190)","v":25382},true,false,true,false]
["Wielkopolskie"," rawicki "," rawicki ",60255,29763,30492,true,true,true,true]
["Wielkopolskie"," rawicki "," 0 - 4 ",3153,1620,1533,false,true,true,false]
["Wielkopolskie"," rawicki "," 5 - 9 ",3760,1965,1795,false,true,true,false]
["Wielkopolskie"," rawicki "," 10 - 14 ",3246,1696,1550,false,true,true,false]
["Wielkopolskie"," rawicki "," 15 - 19 ",3287,1725,1562,false,true,true,false]
["Wielkopolskie"," rawicki "," 20 - 24 ",3989,2032,1957,false,true,true,false]
["Wielkopolskie"," rawicki "," 25 - 29 ",4559,2372,2187,false,true,true,false]
["Wielkopolskie"," rawicki "," 30 - 34 ",4873,2454,2419,{"$f":"IFERROR(IF(SEARCH(\" - \",C6199)>0,FALSE,TRUE),TRUE)","v":false},{"$f":"IFERROR(IF(SEARCH(\"65+\",C6199)>0,FALSE,TRUE),TRUE)","v":true},{"$f":"IFERROR(IF(SEARCH(\"70\",C6199)>0,FALSE,TRUE),TRUE)","v":true},{"$f":"AND(G6199:I6199)","v":false}]
["Wielkopolskie",{"$f":"IF(C6199=\"65+\",C6200,B6199)","v":" rawicki "}," 35 - 39 ",4920,2517,2403,false,true,true,false]
["Wielkopolskie"," rawicki "," 40 - 44 ",4322,2238,2084,false,true,true,false]
["Wielkopolskie"," rawicki "," 45 - 49 ",3500,1794,1706,false,true,true,false]
["Wielkopolskie"," rawicki "," 50 - 54 ",3591,1784,1807,false,true,true,false]
["Wielkopolskie"," rawicki "," 55 - 59 ",4154,2042,2112,false,true,true,false]
["Wielkopolskie"," rawicki "," 60 - 64 ",4034,1882,2152,false,true,true,false]
["Wielkopolskie"," rawicki "," 65 - 69 ",3616,1681,1935,false,true,true,false]
["Wielkopolskie"," rawicki "," 70 i więcej",5251,1961,3290,true,true,false,false]
["Wielkopolskie"," rawicki ","65+",{"$f":"SUM(D6206:D6207)","v":8867},{"$f":"SUM(E6206:E6207)","v":3642},{"$f":"SUM(F6206:F6207)","v":5225},true,false,true,false]
["Wielkopolskie"," słupecki "," słupecki ",59536,29603,29933,true,true,true,true]
["Wielkopolskie"," słupecki "," 0 - 4 ",2984,1537,1447,false,true,true,false]
["Wielkopolskie"," słupecki "," 5 - 9 ",3312,1743,1569,false,true,true,false]
["Wielkopolskie"," słupecki "," 10 - 14 ",2909,1516,1393,false,true,true,false]
["Wielkopolskie"," słupecki "," 15 - 19 ",3410,1818,1592,false,true,true,false]
["Wielkopolskie"," słupecki "," 20 - 24 ",4227,2217,2010,false,true,true,false]
["Wielkopolskie"," słupecki "," 25 - 29 ",4471,2289,2182,false,true,true,false]
["Wielkopolskie"," słupecki "," 30 - 34 ",4739,2433,2306,false,true,true,false]
["Wielkopolskie"," słupecki "," 35 - 39 ",4669,2376,2293,false,true,true,false]
["Wielkopolskie"," słupecki "," 40 - 44 ",4343,2231,2112,false,true,true,false]
["Wielkopolskie"," słupecki "," 45 - 49 ",3689,1908,1781,false,true,true,false]
["Wielkopolskie"," słupecki "," 50 - 54 ",3695,1887,1808,false,true,true,false]
["Wielkopolskie"," słupecki "," 55 - 59 ",4238,2118,2120,false,true,true,false]
["Wielkopolskie"," słupecki "," 60 - 64 ",3972,1927,2045,false,true,true,false]
["Wielkopolskie"," słupecki "," 65 - 69 ",3500,1609,1891,false,true,true,false]
["Wielkopolskie"," słupecki "," 70 i więcej",5378,1994,3384,true,true,false,false]
["Wielkopolskie"," słupecki ","65+",{"$f":"SUM(D6223:D6224)","v":8878},{"$f":"SUM(E6223:E6224)","v":3603},{"$f":"SUM(F6223:F6224)","v":5275},true,false,true,false]
["Wielkopolskie"," szamotulski "," szamotulski ",90254,44284,45970,true,true,true,true]
["Wielkopolskie"," szamotulski "," 0 - 4 ",4976,2544,2432,false,true,true,false]
["Wielkopolskie"," szamotulski "," 5 - 9 ",5558,2851,2707,false,true,true,false]
["Wielkopolskie"," szamotulski "," 10 - 14 ",4680,2401,2279,false,true,true,false]
["Wielkopolskie"," szamotulski "," 15 - 19 ",4785,2497,2288,false,true,true,false]
["Wielkopolskie"," szamotulski "," 20 - 24 ",5616,2926,2690,false,true,true,false]
["Wielkopolskie"," szamotulski "," 25 - 29 ",6701,3367,3334,false,true,true,false]
["Wielkopolskie"," szamotulski "," 30 - 34 ",7947,4064,3883,false,true,true,false]
["Wielkopolskie"," szamotulski "," 35 - 39 ",7689,3966,3723,false,true,true,false]
["Wielkopolskie"," szamotulski "," 40 - 44 ",6606,3308,3298,false,true,true,false]
["Wielkopolskie"," szamotulski "," 45 - 49 ",5400,2728,2672,false,true,true,false]
["Wielkopolskie"," szamotulski "," 50 - 54 ",5316,2605,2711,false,true,true,false]
["Wielkopolskie"," szamotulski "," 55 - 59 ",6478,3110,3368,false,true,true,false]
["Wielkopolskie"," szamotulski "," 60 - 64 ",6008,2913,3095,false,true,true,false]
["Wielkopolskie"," szamotulski "," 65 - 69 ",5130,2338,2792,false,true,true,false]
["Wielkopolskie"," szamotulski "," 70 i więcej",7364,2666,4698,true,true,false,false]
["Wielkopolskie"," szamotulski ","65+",{"$f":"SUM(D6240:D6241)","v":12494},{"$f":"SUM(E6240:E6241)","v":5004},{"$f":"SUM(F6240:F6241)","v":7490},true,false,true,false]
["Wielkopolskie"," średzki "," średzki ",57560,28318,29242,true,true,true,true]
["Wielkopolskie"," średzki "," 0 - 4 ",3396,1781,1615,false,true,true,false]
["Wielkopolskie"," średzki "," 5 - 9 ",3520,1818,1702,false,true,true,false]
["Wielkopolskie"," średzki "," 10 - 14 ",2857,1469,1388,false,true,true,false]
["Wielkopolskie"," średzki "," 15 - 19 ",3081,1579,1502,false,true,true,false]
["Wielkopolskie"," średzki "," 20 - 24 ",3800,1962,1838,false,true,true,false]
["Wielkopolskie"," średzki "," 25 - 29 ",4442,2269,2173,false,true,true,false]
["Wielkopolskie"," średzki "," 30 - 34 ",5024,2565,2459,false,true,true,false]
["Wielkopolskie"," średzki "," 35 - 39 ",4710,2423,2287,false,true,true,false]
["Wielkopolskie"," średzki "," 40 - 44 ",4133,2100,2033,false,true,true,false]
["Wielkopolskie"," średzki "," 45 - 49 ",3391,1742,1649,false,true,true,false]
["Wielkopolskie"," średzki "," 50 - 54 ",3571,1751,1820,false,true,true,false]
["Wielkopolskie"," średzki "," 55 - 59 ",4138,2007,2131,false,true,true,false]
["Wielkopolskie"," średzki "," 60 - 64 ",3768,1797,1971,false,true,true,false]
["Wielkopolskie"," średzki "," 65 - 69 ",3106,1410,1696,false,true,true,false]
["Wielkopolskie"," średzki "," 70 i więcej",4623,1645,2978,true,true,false,false]
["Wielkopolskie"," średzki ","65+",{"$f":"SUM(D6257:D6258)","v":7729},{"$f":"SUM(E6257:E6258)","v":3055},{"$f":"SUM(F6257:F6258)","v":4674},true,false,true,false]
["Wielkopolskie"," śremski "," śremski ",60974,29973,31001,true,true,true,true]
["Wielkopolskie"," śremski "," 0 - 4 ",3448,1771,1677,false,true,true,false]
["Wielkopolskie"," śremski "," 5 - 9 ",3696,1961,1735,false,true,true,false]
["Wielkopolskie"," śremski "," 10 - 14 ",3194,1599,1595,{"$f":"IFERROR(IF(SEARCH(\" - \",C6263)>0,FALSE,TRUE),TRUE)","v":false},{"$f":"IFERROR(IF(SEARCH(\"65+\",C6263)>0,FALSE,TRUE),TRUE)","v":true},{"$f":"IFERROR(IF(SEARCH(\"70\",C6263)>0,FALSE,TRUE),TRUE)","v":true},{"$f":"AND(G6263:I6263)","v":false}]
["Wielkopolskie",{"$f":"IF(C6263=\"65+\",C6264,B6263)","v":" śremski "}," 15 - 19 ",3349,1708,1641,false,true,true,false]
["Wielkopolskie"," śremski "," 20 - 24 ",4041,2073,1968,false,true,true,false]
["Wielkopolskie"," śremski "," 25 - 29 ",4761,2431,2330,false,true,true,false]
["Wielkopolskie"," śremski "," 30 - 34 ",5043,2576,2467,false,true,true,false]
["Wielkopolskie"," śremski "," 35 - 39 ",4915,2519,2396,false,true,true,false]
["Wielkopolskie"," śremski "," 40 - 44 ",4390,2240,2150,false,true,true,false]
["Wielkopolskie"," śremski "," 45 - 49 ",3751,1879,1872,false,true,true,false]
["Wielkopolskie"," śremski "," 50 - 54 ",3821,1876,1945,false,true,true,false]
["Wielkopolskie"," śremski "," 55 - 59 ",4240,2028,2212,false,true,true,false]
["Wielkopolskie"," śremski "," 60 - 64 ",4051,1910,2141,false,true,true,false]
["Wielkopolskie"," śremski "," 65 - 69 ",3515,1602,1913,false,true,true,false]
["Wielkopolskie"," śremski "," 70 i więcej",4759,1800,2959,true,true,false,false]
["Wielkopolskie"," śremski ","65+",{"$f":"SUM(D6274:D6275)","v":8274},{"$f":"SUM(E6274:E6275)","v":3402},{"$f":"SUM(F6274:F6275)","v":4872},true,false,true,false]
["Wielkopolskie"," turecki "," turecki ",84263,41215,43048,true,true,true,true]
["Wielkopolskie"," turecki "," 0 - 4 ",4347,2173,2174,false,true,true,false]
["Wielkopolskie"," turecki "," 5 - 9 ",4855,2503,2352,false,true,true,false]
["Wielkopolskie"," turecki "," 10 - 14 ",4277,2246,2031,false,true,true,false]
["Wielkopolskie"," turecki "," 15 - 19 ",4760,2403,2357,false,true,true,false]
["Wielkopolskie"," turecki "," 20 - 24 ",5851,3011,2840,false,true,true,false]
["Wielkopolskie"," turecki "," 25 - 29 ",6371,3287,3084,false,true,true,false]
["Wielkopolskie"," turecki "," 30 - 34 ",6760,3525,3235,false,true,true,false]
["Wielkopolskie"," turecki "," 35 - 39 ",6348,3260,3088,false,true,true,false]
["Wielkopolskie"," turecki "," 40 - 44 ",6057,3075,2982,false,true,true,false]
["Wielkopolskie"," turecki "," 45 - 49 ",5453,2754,2699,false,true,true,false]
["Wielkopolskie"," turecki "," 50 - 54 ",5390,2659,2731,false,true,true,false]
["Wielkopolskie"," turecki "," 55 - 59 ",5990,2956,3034,false,true,true,false]
["Wielkopolskie"," turecki "," 60 - 64 ",5369,2607,2762,false,true,true,false]
["Wielkopolskie"," turecki "," 65 - 69 ",4396,1898,2498,false,true,true,false]
["Wielkopolskie"," turecki "," 70 i więcej",8039,2858,5181,true,true,false,false]
["Wielkopolskie"," turecki ","65+",{"$f":"SUM(D6291:D6292)","v":12435},{"$f":"SUM(E6291:E6292)","v":4756},{"$f":"SUM(F6291:F6292)","v":7679},true,false,true,false]
["Wielkopolskie"," wągrowiecki "," wągrowiecki ",69900,34760,35140,true,true,true,true]
["Wielkopolskie"," wągrowiecki "," 0 - 4 ",3801,1982,1819,false,true,true,false]
["Wielkopolskie"," wągrowiecki "," 5 - 9 ",4364,2230,2134,false,true,true,false]
["Wielkopolskie"," wągrowiecki "," 10 - 14 ",3763,1928,1835,false,true,true,false]
["Wielkopolskie"," wągrowiecki "," 15 - 19 ",3994,2078,1916,false,true,true,false]
["Wielkopolskie"," wągrowiecki "," 20 - 24 ",4829,2522,2307,false,true,true,false]
["Wielkopolskie"," wągrowiecki "," 25 - 29 ",5561,2859,2702,false,true,true,false]
["Wielkopolskie"," wągrowiecki "," 30 - 34 ",5991,3084,2907,false,true,true,false]
["Wielkopolskie"," wągrowiecki "," 35 - 39 ",5399,2797,2602,false,true,true,false]
["Wielkopolskie"," wągrowiecki "," 40 - 44 ",4749,2457,2292,false,true,true,false]
["Wielkopolskie"," wągrowiecki "," 45 - 49 ",4152,2116,2036,false,true,true,false]
["Wielkopolskie"," wągrowiecki "," 50 - 54 ",4279,2110,2169,false,true,true,false]
["Wielkopolskie"," wągrowiecki "," 55 - 59 ",5136,2568,2568,false,true,true,false]
["Wielkopolskie"," wągrowiecki "," 60 - 64 ",4542,2221,2321,false,true,true,false]
["Wielkopolskie"," wągrowiecki "," 65 - 69 ",3740,1760,1980,false,true,true,false]
["Wielkopolskie"," wągrowiecki "," 70 i więcej",5600,2048,3552,true,true,false,false]
["Wielkopolskie"," wągrowiecki ","65+",{"$f":"SUM(D6308:D6309)","v":9340},{"$f":"SUM(E6308:E6309)","v":3808},{"$f":"SUM(F6308:F6309)","v":5532},true,false,true,false]
["Wielkopolskie"," wolsztyński "," wolsztyński ",57105,28212,28893,true,true,true,true]
["Wielkopolskie"," wolsztyński "," 0 - 4 ",3333,1700,1633,false,true,true,false]
["Wielkopolskie"," wolsztyński "," 5 - 9 ",3500,1795,1705,false,true,true,false]
["Wielkopolskie"," wolsztyński "," 10 - 14 ",3151,1622,1529,false,true,true,false]
["Wielkopolskie"," wolsztyński "," 15 - 19 ",3358,1772,1586,false,true,true,false]
["Wielkopolskie"," wolsztyński "," 20 - 24 ",3985,2060,1925,false,true,true,false]
["Wielkopolskie"," wolsztyński "," 25 - 29 ",4327,2173,2154,false,true,true,false]
["Wielkopolskie"," wolsztyński "," 30 - 34 ",4777,2472,2305,false,true,true,false]
["Wielkopolskie"," wolsztyński "," 35 - 39 ",4504,2326,2178,false,true,true,false]
["Wielkopolskie"," wolsztyński "," 40 - 44 ",4044,2041,2003,false,true,true,false]
["Wielkopolskie"," wolsztyński "," 45 - 49 ",3525,1784,1741,false,true,true,false]
["Wielkopolskie"," wolsztyński "," 50 - 54 ",3439,1720,1719,false,true,true,false]
["Wielkopolskie"," wolsztyński "," 55 - 59 ",3780,1868,1912,false,true,true,false]
["Wielkopolskie"," wolsztyński "," 60 - 64 ",3629,1728,1901,false,true,true,false]
["Wielkopolskie"," wolsztyński "," 65 - 69 ",3178,1433,1745,false,true,true,false]
["Wielkopolskie"," wolsztyński "," 70 i więcej",4575,1718,2857,true,true,false,false]
["Wielkopolskie"," wolsztyński ","65+",{"$f":"SUM(D6325:D6326)","v":7753},{"$f":"SUM(E6325:E6326)","v":3151},{"$f":"SUM(F6325:F6326)","v":4602},{"$f":"IFERROR(IF(SEARCH(\" - \",C6327)>0,FALSE,TRUE),TRUE)","v":true},{"$f":"IFERROR(IF(SEARCH(\"65+\",C6327)>0,FALSE,TRUE),TRUE)","v":false},{"$f":"IFERROR(IF(SEARCH(\"70\",C6327)>0,FALSE,TRUE),TRUE)","v":true},{"$f":"AND(G6327:I6327)","v":false}]
["Wielkopolskie",{"$f":"IF(C6327=\"65+\",C6328,B6327)","v":" wrzesiński "}," wrzesiński ",76965,37651,39314,true,true,true,true]
["Wielkopolskie"," wrzesiński "," 0 - 4 ",4086,2093,1993,false,true,true,false]
["Wielkopolskie"," wrzesiński "," 5 - 9 ",4705,2419,2286,false,true,true,false]
["Wielkopolskie"," wrzesiński "," 10 - 14 ",3869,1993,1876,false,true,true,false]
["Wielkopolskie"," wrzesiński "," 15 - 19 ",4242,2142,2100,false,true,true,false]
["Wielkopolskie"," wrzesiński "," 20 - 24 ",4788,2421,2367,false,true,true,false]
["Wielkopolskie"," wrzesiński "," 25 - 29 ",5884,3009,2875,false,true,true,false]
["Wielkopolskie"," wrzesiński "," 30 - 34 ",6612,3348,3264,false,true,true,false]
["Wielkopolskie"," wrzesiński "," 35 - 39 ",6248,3293,2955,false,true,true,false]
["Wielkopolskie"," wrzesiński "," 40 - 44 ",5601,2824,2777,false,true,true,false]
["Wielkopolskie"," wrzesiński "," 45 - 49 ",4682,2368,2314,false,true,true,false]
["Wielkopolskie"," wrzesiński "," 50 - 54 ",4707,2360,2347,false,true,true,false]
["Wielkopolskie"," wrzesiński "," 55 - 59 ",5467,2658,2809,false,true,true,false]
["Wielkopolskie"," wrzesiński "," 60 - 64 ",5115,2424,2691,false,true,true,false]
["Wielkopolskie"," wrzesiński "," 65 - 69 ",4415,1949,2466,false,true,true,false]
["Wielkopolskie"," wrzesiński "," 70 i więcej",6544,2350,4194,true,true,false,false]
["Wielkopolskie"," wrzesiński ","65+",{"$f":"SUM(D6342:D6343)","v":10959},{"$f":"SUM(E6342:E6343)","v":4299},{"$f":"SUM(F6342:F6343)","v":6660},true,false,true,false]
["Wielkopolskie"," złotowski "," złotowski ",69801,34655,35146,true,true,true,true]
["Wielkopolskie"," złotowski "," 0 - 4 ",3512,1829,1683,false,true,true,false]
["Wielkopolskie"," złotowski "," 5 - 9 ",4118,2091,2027,false,true,true,false]
["Wielkopolskie"," złotowski "," 10 - 14 ",3754,1925,1829,false,true,true,false]
["Wielkopolskie"," złotowski "," 15 - 19 ",3960,2071,1889,false,true,true,false]
["Wielkopolskie"," złotowski "," 20 - 24 ",5011,2597,2414,false,true,true,false]
["Wielkopolskie"," złotowski "," 25 - 29 ",5510,2825,2685,false,true,true,false]
["Wielkopolskie"," złotowski "," 30 - 34 ",5853,3046,2807,false,true,true,false]
["Wielkopolskie"," złotowski "," 35 - 39 ",5461,2846,2615,false,true,true,false]
["Wielkopolskie"," złotowski "," 40 - 44 ",4784,2436,2348,false,true,true,false]
["Wielkopolskie"," złotowski "," 45 - 49 ",4103,2049,2054,false,true,true,false]
["Wielkopolskie"," złotowski "," 50 - 54 ",4509,2286,2223,false,true,true,false]
["Wielkopolskie"," złotowski "," 55 - 59 ",5166,2564,2602,false,true,true,false]
["Wielkopolskie"," złotowski "," 60 - 64 ",4696,2311,2385,false,true,true,false]
["Wielkopolskie"," złotowski "," 65 - 69 ",3754,1782,1972,false,true,true,false]
["Wielkopolskie"," złotowski "," 70 i więcej",5610,1997,3613,true,true,false,false]
["Wielkopolskie"," złotowski ","65+",{"$f":"SUM(D6359:D6360)","v":9364},{"$f":"SUM(E6359:E6360)","v":3779},{"$f":"SUM(F6359:F6360)","v":5585},true,false,true,false]
["Zachodniopomorskie","Wszystkie","Zachodniopomorskie ",1708889,831261,877628,{"$f":"IFERROR(IF(SEARCH(\" - \",C6362)>0,FALSE,TRUE),TRUE)","v":true},{"$f":"IFERROR(IF(SEARCH(\"65+\",C6362)>0,FALSE,TRUE),TRUE)","v":true},{"$f":"IFERROR(IF(SEARCH(\"70\",C6362)>0,FALSE,TRUE),TRUE)","v":true},{"$f":"AND(G6362:I6362)","v":true}]
["Zachodniopomorskie","Wszystkie"," 0 - 4 ",77900,39824,38076,{"$f":"IFERROR(IF(SEARCH(\" - \",C6363)>0,FALSE,TRUE),TRUE)","v":false},{"$f":"IFERROR(IF(SEARCH(\"65+\",C6363)>0,FALSE,TRUE),TRUE)","v":true},{"$f":"IFERROR(IF(SEARCH(\"70\",C6363)>0,FALSE,TRUE),TRUE)","v":true},{"$f":"AND(G6363:I6363)","v":false}]
["Zachodniopomorskie","Wszystkie"," 5 - 9 ",89484,45639,43845,false,true,true,false]
["Zachodniopomorskie","Wszystkie"," 10 - 14 ",78864,40708,38156,false,true,true,false]
["Zachodniopomorskie","Wszystkie"," 15 - 19 ",85262,43613,41649,false,true,true,false]
["Zachodniopomorskie","Wszystkie"," 20 - 24 ",105627,53837,51790,false,true,true,false]
["Zachodniopomorskie","Wszystkie"," 25 - 29 ",119618,61345,58273,false,true,true,false]
["Zachodniopomorskie","Wszystkie"," 30 - 34 ",142872,72962,69910,false,true,true,false]
["Zachodniopomorskie","Wszystkie"," 35 - 39 ",139677,71062,68615,false,true,true,false]
["Zachodniopomorskie","Wszystkie"," 40 - 44 ",124970,63520,61450,false,true,true,false]
["Zachodniopomorskie","Wszystkie"," 45 - 49 ",102015,51450,50565,false,true,true,false]
["Zachodniopomorskie","Wszystkie"," 50 - 54 ",104906,52279,52627,false,true,true,false]
["Zachodniopomorskie","Wszystkie"," 55 - 59 ",133271,64345,68926,false,true,true,false]
["Zachodniopomorskie","Wszystkie"," 60 - 64 ",134488,63355,71133,false,true,true,false]
["Zachodniopomorskie","Wszystkie"," 65 - 69 ",107949,49451,58498,false,true,true,false]
["Zachodniopomorskie","Wszystkie"," 70 i więcej",161986,57871,104115,true,true,false,false]
["Zachodniopomorskie","Wszystkie","65+",{"$f":"SUM(D6376:D6377)","v":269935},{"$f":"SUM(E6376:E6377)","v":107322},{"$f":"SUM(F6376:F6377)","v":162613},true,false,true,false]
["Zachodniopomorskie"," Koszalin "," Koszalin ",107981,50932,57049,true,true,true,true]
["Zachodniopomorskie"," Koszalin "," 0 - 4 ",4909,2549,2360,false,true,true,false]
["Zachodniopomorskie"," Koszalin "," 5 - 9 ",5236,2754,2482,false,true,true,false]
["Zachodniopomorskie"," Koszalin "," 10 - 14 ",4254,2205,2049,false,true,true,false]
["Zachodniopomorskie"," Koszalin "," 15 - 19 ",4489,2294,2195,false,true,true,false]
["Zachodniopomorskie"," Koszalin "," 20 - 24 ",5674,2796,2878,false,true,true,false]
["Zachodniopomorskie"," Koszalin "," 25 - 29 ",7103,3502,3601,false,true,true,false]
["Zachodniopomorskie"," Koszalin "," 30 - 34 ",9519,4751,4768,false,true,true,false]
["Zachodniopomorskie"," Koszalin "," 35 - 39 ",9207,4625,4582,false,true,true,false]
["Zachodniopomorskie"," Koszalin "," 40 - 44 ",7699,3890,3809,false,true,true,false]
["Zachodniopomorskie"," Koszalin "," 45 - 49 ",6069,3021,3048,false,true,true,false]
["Zachodniopomorskie"," Koszalin "," 50 - 54 ",6064,2888,3176,false,true,true,false]
["Zachodniopomorskie"," Koszalin "," 55 - 59 ",8064,3626,4438,false,true,true,false]
["Zachodniopomorskie",{"$f":"IF(C6391=\"65+\",C6392,B6391)","v":" Koszalin "}," 60 - 64 ",9099,4012,5087,false,true,true,false]
["Zachodniopomorskie"," Koszalin "," 65 - 69 ",7998,3415,4583,false,true,true,false]
["Zachodniopomorskie"," Koszalin "," 70 i więcej",12597,4604,7993,true,true,false,false]
["Zachodniopomorskie"," Koszalin ","65+",{"$f":"SUM(D6393:D6394)","v":20595},{"$f":"SUM(E6393:E6394)","v":8019},{"$f":"SUM(F6393:F6394)","v":12576},true,false,true,false]
["Zachodniopomorskie"," Szczecin "," Szczecin ",405413,192632,212781,true,true,true,true]
["Zachodniopomorskie"," Szczecin "," 0 - 4 ",17713,9069,8644,false,true,true,false]
["Zachodniopomorskie"," Szczecin "," 5 - 9 ",19330,9911,9419,false,true,true,false]
["Zachodniopomorskie"," Szczecin "," 10 - 14 ",16124,8254,7870,false,true,true,false]
["Zachodniopomorskie"," Szczecin "," 15 - 19 ",17453,8970,8483,false,true,true,false]
["Zachodniopomorskie"," Szczecin "," 20 - 24 ",21641,10985,10656,false,true,true,false]
["Zachodniopomorskie"," Szczecin "," 25 - 29 ",26075,13073,13002,false,true,true,false]
["Zachodniopomorskie"," Szczecin "," 30 - 34 ",35983,17857,18126,false,true,true,false]
["Zachodniopomorskie"," Szczecin "," 35 - 39 ",34923,17442,17481,false,true,true,false]
["Zachodniopomorskie"," Szczecin "," 40 - 44 ",30885,15276,15609,false,true,true,false]
["Zachodniopomorskie"," Szczecin "," 45 - 49 ",23392,11710,11682,false,true,true,false]
["Zachodniopomorskie"," Szczecin "," 50 - 54 ",22734,11116,11618,false,true,true,false]
["Zachodniopomorskie"," Szczecin "," 55 - 59 ",30375,14260,16115,false,true,true,false]
["Zachodniopomorskie"," Szczecin "," 60 - 64 ",33182,15001,18181,false,true,true,false]
["Zachodniopomorskie"," Szczecin "," 65 - 69 ",27963,12332,15631,false,true,true,false]
["Zachodniopomorskie"," Szczecin "," 70 i więcej",47640,17376,30264,true,true,false,false]
["Zachodniopomorskie"," Szczecin ","65+",{"$f":"SUM(D6410:D6411)","v":75603},{"$f":"SUM(E6410:E6411)","v":29708},{"$f":"SUM(F6410:F6411)","v":45895},true,false,true,false]
["Zachodniopomorskie"," Świnoujście "," Świnoujście ",41134,19860,21274,true,true,true,true]
["Zachodniopomorskie"," Świnoujście "," 0 - 4 ",1463,759,704,false,true,true,false]
["Zachodniopomorskie"," Świnoujście "," 5 - 9 ",1849,924,925,false,true,true,false]
["Zachodniopomorskie"," Świnoujście "," 10 - 14 ",1583,799,784,false,true,true,false]
["Zachodniopomorskie"," Świnoujście "," 15 - 19 ",1695,884,811,false,true,true,false]
["Zachodniopomorskie"," Świnoujście "," 20 - 24 ",2146,1088,1058,false,true,true,false]
["Zachodniopomorskie"," Świnoujście "," 25 - 29 ",2641,1357,1284,false,true,true,false]
["Zachodniopomorskie"," Świnoujście "," 30 - 34 ",3211,1672,1539,false,true,true,false]
["Zachodniopomorskie"," Świnoujście "," 35 - 39 ",3399,1759,1640,false,true,true,false]
["Zachodniopomorskie"," Świnoujście "," 40 - 44 ",3158,1640,1518,false,true,true,false]
["Zachodniopomorskie"," Świnoujście "," 45 - 49 ",2530,1247,1283,false,true,true,false]
["Zachodniopomorskie"," Świnoujście "," 50 - 54 ",2682,1335,1347,false,true,true,false]
["Zachodniopomorskie"," Świnoujście "," 55 - 59 ",3446,1601,1845,false,true,true,false]
["Zachodniopomorskie"," Świnoujście "," 60 - 64 ",3599,1631,1968,false,true,true,false]
["Zachodniopomorskie"," Świnoujście "," 65 - 69 ",3038,1372,1666,{"$f":"IFERROR(IF(SEARCH(\" - \",C6427)>0,FALSE,TRUE),TRUE)","v":false},{"$f":"IFERROR(IF(SEARCH(\"65+\",C6427)>0,FALSE,TRUE),TRUE)","v":true},{"$f":"IFERROR(IF(SEARCH(\"70\",C6427)>0,FALSE,TRUE),TRUE)","v":true},{"$f":"AND(G6427:I6427)","v":false}]
["Zachodniopomorskie"," Świnoujście "," 70 i więcej",4694,1792,2902,true,true,false,false]
["Zachodniopomorskie"," Świnoujście ","65+",{"$f":"SUM(D6427:D6428)","v":7732},{"$f":"SUM(E6427:E6428)","v":3164},{"$f":"SUM(F6427:F6428)","v":4568},true,false,true,false]
["Zachodniopomorskie"," białogardzki "," białogardzki ",48338,23718,24620,true,true,true,true]
["Zachodniopomorskie"," białogardzki "," 0 - 4 ",2205,1133,1072,false,true,true,false]
["Zachodniopomorskie"," białogardzki "," 5 - 9 ",2717,1397,1320,false,true,true,false]
["Zachodniopomorskie"," białogardzki "," 10 - 14 ",2382,1233,1149,false,true,true,false]
["Zachodniopomorskie"," białogardzki "," 15 - 19 ",2684,1393,1291,false,true,true,false]
["Zachodniopomorskie"," białogardzki "," 20 - 24 ",3341,1674,1667,false,true,true,false]
["Zachodniopomorskie"," białogardzki "," 25 - 29 ",3578,1870,1708,false,true,true,false]
["Zachodniopomorskie"," białogardzki "," 30 - 34 ",3980,2072,1908,false,true,true,false]
["Zachodniopomorskie"," białogardzki "," 35 - 39 ",3742,1905,1837,false,true,true,false]
["Zachodniopomorskie"," białogardzki "," 40 - 44 ",3473,1811,1662,false,true,true,false]
["Zachodniopomorskie"," białogardzki "," 45 - 49 ",3028,1520,1508,false,true,true,false]
["Zachodniopomorskie"," białogardzki "," 50 - 54 ",2927,1471,1456,false,true,true,false]
["Zachodniopomorskie"," białogardzki "," 55 - 59 ",3721,1856,1865,false,true,true,false]
["Zachodniopomorskie"," białogardzki "," 60 - 64 ",3572,1707,1865,false,true,true,false]
["Zachodniopomorskie"," białogardzki "," 65 - 69 ",2836,1312,1524,false,true,true,false]
["Zachodniopomorskie"," białogardzki "," 70 i więcej",4152,1364,2788,true,true,false,false]
["Zachodniopomorskie"," białogardzki ","65+",{"$f":"SUM(D6444:D6445)","v":6988},{"$f":"SUM(E6444:E6445)","v":2676},{"$f":"SUM(F6444:F6445)","v":4312},true,false,true,false]
["Zachodniopomorskie"," choszczeński "," choszczeński ",49315,24650,24665,true,true,true,true]
["Zachodniopomorskie"," choszczeński "," 0 - 4 ",2284,1186,1098,false,true,true,false]
["Zachodniopomorskie"," choszczeński "," 5 - 9 ",2687,1389,1298,false,true,true,false]
["Zachodniopomorskie"," choszczeński "," 10 - 14 ",2462,1288,1174,false,true,true,false]
["Zachodniopomorskie"," choszczeński "," 15 - 19 ",2477,1302,1175,false,true,true,false]
["Zachodniopomorskie"," choszczeński "," 20 - 24 ",3555,1840,1715,false,true,true,false]
["Zachodniopomorskie"," choszczeński "," 25 - 29 ",3801,2032,1769,false,true,true,false]
["Zachodniopomorskie"," choszczeński "," 30 - 34 ",4030,2106,1924,false,true,true,false]
["Zachodniopomorskie"," choszczeński "," 35 - 39 ",3697,1928,1769,false,true,true,false]
["Zachodniopomorskie",{"$f":"IF(C6455=\"65+\",C6456,B6455)","v":" choszczeński "}," 40 - 44 ",3394,1786,1608,false,true,true,false]
["Zachodniopomorskie"," choszczeński "," 45 - 49 ",3022,1545,1477,false,true,true,false]
["Zachodniopomorskie"," choszczeński "," 50 - 54 ",3179,1570,1609,false,true,true,false]
["Zachodniopomorskie"," choszczeński "," 55 - 59 ",3863,1954,1909,false,true,true,false]
["Zachodniopomorskie"," choszczeński "," 60 - 64 ",3677,1822,1855,false,true,true,false]
["Zachodniopomorskie"," choszczeński "," 65 - 69 ",2961,1412,1549,false,true,true,false]
["Zachodniopomorskie"," choszczeński "," 70 i więcej",4226,1490,2736,true,true,false,false]
["Zachodniopomorskie"," choszczeński ","65+",{"$f":"SUM(D6461:D6462)","v":7187},{"$f":"SUM(E6461:E6462)","v":2902},{"$f":"SUM(F6461:F6462)","v":4285},true,false,true,false]
["Zachodniopomorskie"," drawski "," drawski ",57987,28412,29575,true,true,true,true]
["Zachodniopomorskie"," drawski "," 0 - 4 ",2852,1428,1424,false,true,true,false]
["Zachodniopomorskie"," drawski "," 5 - 9 ",3156,1603,1553,false,true,true,false]
["Zachodniopomorskie"," drawski "," 10 - 14 ",2783,1436,1347,false,true,true,false]
["Zachodniopomorskie"," drawski "," 15 - 19 ",3148,1546,1602,false,true,true,false]
["Zachodniopomorskie"," drawski "," 20 - 24 ",3884,1961,1923,false,true,true,false]
["Zachodniopomorskie"," drawski "," 25 - 29 ",4266,2195,2071,false,true,true,false]
["Zachodniopomorskie"," drawski "," 30 - 34 ",4684,2461,2223,false,true,true,false]
["Zachodniopomorskie"," drawski "," 35 - 39 ",4563,2349,2214,false,true,true,false]
["Zachodniopomorskie"," drawski "," 40 - 44 ",3973,2002,1971,false,true,true,false]
["Zachodniopomorskie"," drawski "," 45 - 49 ",3269,1631,1638,false,true,true,false]
["Zachodniopomorskie"," drawski "," 50 - 54 ",3723,1877,1846,false,true,true,false]
["Zachodniopomorskie"," drawski "," 55 - 59 ",4725,2354,2371,false,true,true,false]
["Zachodniopomorskie"," drawski "," 60 - 64 ",4415,2132,2283,false,true,true,false]
["Zachodniopomorskie"," drawski "," 65 - 69 ",3568,1665,1903,false,true,true,false]
["Zachodniopomorskie"," drawski "," 70 i więcej",4978,1772,3206,true,true,false,false]
["Zachodniopomorskie"," drawski ","65+",{"$f":"SUM(D6478:D6479)","v":8546},{"$f":"SUM(E6478:E6479)","v":3437},{"$f":"SUM(F6478:F6479)","v":5109},true,false,true,false]
["Zachodniopomorskie"," goleniowski "," goleniowski ",82360,40655,41705,true,true,true,true]
["Zachodniopomorskie"," goleniowski "," 0 - 4 ",4056,2050,2006,false,true,true,false]
["Zachodniopomorskie"," goleniowski "," 5 - 9 ",4718,2419,2299,false,true,true,false]
["Zachodniopomorskie"," goleniowski "," 10 - 14 ",4265,2200,2065,false,true,true,false]
["Zachodniopomorskie"," goleniowski "," 15 - 19 ",4442,2227,2215,false,true,true,false]
["Zachodniopomorskie"," goleniowski "," 20 - 24 ",5430,2783,2647,false,true,true,false]
["Zachodniopomorskie"," goleniowski "," 25 - 29 ",5980,3098,2882,false,true,true,false]
["Zachodniopomorskie"," goleniowski "," 30 - 34 ",6674,3426,3248,false,true,true,false]
["Zachodniopomorskie"," goleniowski "," 35 - 39 ",6865,3542,3323,false,true,true,false]
["Zachodniopomorskie"," goleniowski "," 40 - 44 ",6196,3186,3010,false,true,true,false]
["Zachodniopomorskie"," goleniowski "," 45 - 49 ",4999,2587,2412,{"$f":"IFERROR(IF(SEARCH(\" - \",C6491)>0,FALSE,TRUE),TRUE)","v":false},{"$f":"IFERROR(IF(SEARCH(\"65+\",C6491)>0,FALSE,TRUE),TRUE)","v":true},{"$f":"IFERROR(IF(SEARCH(\"70\",C6491)>0,FALSE,TRUE),TRUE)","v":true},{"$f":"AND(G6491:I6491)","v":false}]
["Zachodniopomorskie"," goleniowski "," 50 - 54 ",5036,2581,2455,false,true,true,false]
["Zachodniopomorskie"," goleniowski "," 55 - 59 ",6299,3084,3215,false,true,true,false]
["Zachodniopomorskie"," goleniowski "," 60 - 64 ",6100,2934,3166,false,true,true,false]
["Zachodniopomorskie"," goleniowski "," 65 - 69 ",4767,2191,2576,false,true,true,false]
["Zachodniopomorskie"," goleniowski "," 70 i więcej",6533,2347,4186,true,true,false,false]
["Zachodniopomorskie"," goleniowski ","65+",{"$f":"SUM(D6495:D6496)","v":11300},{"$f":"SUM(E6495:E6496)","v":4538},{"$f":"SUM(F6495:F6496)","v":6762},true,false,true,false]
["Zachodniopomorskie"," gryficki "," gryficki ",61187,30263,30924,true,true,true,true]
["Zachodniopomorskie"," gryficki "," 0 - 4 ",2845,1459,1386,false,true,true,false]
["Zachodniopomorskie"," gryficki "," 5 - 9 ",3384,1706,1678,false,true,true,false]
["Zachodniopomorskie"," gryficki "," 10 - 14 ",3019,1535,1484,false,true,true,false]
["Zachodniopomorskie"," gryficki "," 15 - 19 ",3242,1651,1591,false,true,true,false]
["Zachodniopomorskie"," gryficki "," 20 - 24 ",4144,2101,2043,false,true,true,false]
["Zachodniopomorskie"," gryficki "," 25 - 29 ",4589,2425,2164,false,true,true,false]
["Zachodniopomorskie"," gryficki "," 30 - 34 ",5035,2690,2345,false,true,true,false]
["Zachodniopomorskie"," gryficki "," 35 - 39 ",4852,2460,2392,false,true,true,false]
["Zachodniopomorskie"," gryficki "," 40 - 44 ",4235,2188,2047,false,true,true,false]
["Zachodniopomorskie"," gryficki "," 45 - 49 ",3608,1843,1765,false,true,true,false]
["Zachodniopomorskie"," gryficki "," 50 - 54 ",3972,2001,1971,false,true,true,false]
["Zachodniopomorskie"," gryficki "," 55 - 59 ",4928,2475,2453,false,true,true,false]
["Zachodniopomorskie"," gryficki "," 60 - 64 ",4780,2362,2418,false,true,true,false]
["Zachodniopomorskie"," gryficki "," 65 - 69 ",3513,1673,1840,false,true,true,false]
["Zachodniopomorskie"," gryficki "," 70 i więcej",5041,1694,3347,true,true,false,false]
["Zachodniopomorskie"," gryficki ","65+",{"$f":"SUM(D6512:D6513)","v":8554},{"$f":"SUM(E6512:E6513)","v":3367},{"$f":"SUM(F6512:F6513)","v":5187},true,false,true,false]
["Zachodniopomorskie"," gryfiński "," gryfiński ",83303,41264,42039,true,true,true,true]
["Zachodniopomorskie"," gryfiński "," 0 - 4 ",3954,1972,1982,false,true,true,false]
["Zachodniopomorskie"," gryfiński "," 5 - 9 ",4595,2377,2218,false,true,true,false]
["Zachodniopomorskie"," gryfiński "," 10 - 14 ",4173,2149,2024,false,true,true,false]
["Zachodniopomorskie"," gryfiński "," 15 - 19 ",4313,2210,2103,false,true,true,false]
["Zachodniopomorskie",{"$f":"IF(C6519=\"65+\",C6520,B6519)","v":" gryfiński "}," 20 - 24 ",5629,2891,2738,false,true,true,false]
["Zachodniopomorskie"," gryfiński "," 25 - 29 ",6093,3151,2942,false,true,true,false]
["Zachodniopomorskie"," gryfiński "," 30 - 34 ",6796,3552,3244,false,true,true,false]
["Zachodniopomorskie"," gryfiński "," 35 - 39 ",6788,3466,3322,false,true,true,false]
["Zachodniopomorskie"," gryfiński "," 40 - 44 ",6093,3151,2942,false,true,true,false]
["Zachodniopomorskie"," gryfiński "," 45 - 49 ",4992,2582,2410,false,true,true,false]
["Zachodniopomorskie"," gryfiński "," 50 - 54 ",5320,2716,2604,false,true,true,false]
["Zachodniopomorskie"," gryfiński "," 55 - 59 ",6517,3160,3357,false,true,true,false]
["Zachodniopomorskie"," gryfiński "," 60 - 64 ",6428,3166,3262,false,true,true,false]
["Zachodniopomorskie"," gryfiński "," 65 - 69 ",4903,2360,2543,false,true,true,false]
["Zachodniopomorskie"," gryfiński "," 70 i więcej",6709,2361,4348,true,true,false,false]
["Zachodniopomorskie"," gryfiński ","65+",{"$f":"SUM(D6529:D6530)","v":11612},{"$f":"SUM(E6529:E6530)","v":4721},{"$f":"SUM(F6529:F6530)","v":6891},true,false,true,false]
["Zachodniopomorskie"," kamieński "," kamieński ",47367,23271,24096,true,true,true,true]
["Zachodniopomorskie"," kamieński "," 0 - 4 ",1935,1005,930,false,true,true,false]
["Zachodniopomorskie"," kamieński "," 5 - 9 ",2340,1185,1155,false,true,true,false]
["Zachodniopomorskie"," kamieński "," 10 - 14 ",2197,1121,1076,false,true,true,false]
["Zachodniopomorskie"," kamieński "," 15 - 19 ",2157,1075,1082,false,true,true,false]
["Zachodniopomorskie"," kamieński "," 20 - 24 ",2998,1544,1454,false,true,true,false]
["Zachodniopomorskie"," kamieński "," 25 - 29 ",3483,1858,1625,false,true,true,false]
["Zachodniopomorskie"," kamieński "," 30 - 34 ",3900,2012,1888,false,true,true,false]
["Zachodniopomorskie"," kamieński "," 35 - 39 ",3716,1934,1782,false,true,true,false]
["Zachodniopomorskie"," kamieński "," 40 - 44 ",3277,1697,1580,false,true,true,false]
["Zachodniopomorskie"," kamieński "," 45 - 49 ",2748,1372,1376,false,true,true,false]
["Zachodniopomorskie"," kamieński "," 50 - 54 ",3055,1558,1497,false,true,true,false]
["Zachodniopomorskie"," kamieński "," 55 - 59 ",4130,1992,2138,false,true,true,false]
["Zachodniopomorskie"," kamieński "," 60 - 64 ",4187,2025,2162,false,true,true,false]
["Zachodniopomorskie"," kamieński "," 65 - 69 ",3121,1464,1657,false,true,true,false]
["Zachodniopomorskie"," kamieński "," 70 i więcej",4123,1429,2694,true,true,false,false]
["Zachodniopomorskie"," kamieński ","65+",{"$f":"SUM(D6546:D6547)","v":7244},{"$f":"SUM(E6546:E6547)","v":2893},{"$f":"SUM(F6546:F6547)","v":4351},true,false,true,false]
["Zachodniopomorskie"," kołobrzeski "," kołobrzeski ",79519,38189,41330,true,true,true,true]
["Zachodniopomorskie"," kołobrzeski "," 0 - 4 ",3404,1733,1671,false,true,true,false]
["Zachodniopomorskie"," kołobrzeski "," 5 - 9 ",3992,2027,1965,false,true,true,false]
["Zachodniopomorskie"," kołobrzeski "," 10 - 14 ",3571,1829,1742,false,true,true,false]
["Zachodniopomorskie"," kołobrzeski "," 15 - 19 ",4346,2196,2150,false,true,true,false]
["Zachodniopomorskie"," kołobrzeski "," 20 - 24 ",4492,2302,2190,false,true,true,false]
["Zachodniopomorskie"," kołobrzeski "," 25 - 29 ",5337,2704,2633,{"$f":"IFERROR(IF(SEARCH(\" - \",C6555)>0,FALSE,TRUE),TRUE)","v":false},{"$f":"IFERROR(IF(SEARCH(\"65+\",C6555)>0,FALSE,TRUE),TRUE)","v":true},{"$f":"IFERROR(IF(SEARCH(\"70\",C6555)>0,FALSE,TRUE),TRUE)","v":true},{"$f":"AND(G6555:I6555)","v":false}]
["Zachodniopomorskie"," kołobrzeski "," 30 - 34 ",6261,3141,3120,false,true,true,false]
["Zachodniopomorskie"," kołobrzeski "," 35 - 39 ",6431,3221,3210,false,true,true,false]
["Zachodniopomorskie"," kołobrzeski "," 40 - 44 ",5854,2976,2878,false,true,true,false]
["Zachodniopomorskie"," kołobrzeski "," 45 - 49 ",4935,2419,2516,false,true,true,false]
["Zachodniopomorskie"," kołobrzeski "," 50 - 54 ",5222,2541,2681,false,true,true,false]
["Zachodniopomorskie"," kołobrzeski "," 55 - 59 ",6377,3029,3348,false,true,true,false]
["Zachodniopomorskie"," kołobrzeski "," 60 - 64 ",6315,2914,3401,false,true,true,false]
["Zachodniopomorskie"," kołobrzeski "," 65 - 69 ",5258,2377,2881,false,true,true,false]
["Zachodniopomorskie"," kołobrzeski "," 70 i więcej",7724,2780,4944,true,true,false,false]
["Zachodniopomorskie"," kołobrzeski ","65+",{"$f":"SUM(D6563:D6564)","v":12982},{"$f":"SUM(E6563:E6564)","v":5157},{"$f":"SUM(F6563:F6564)","v":7825},true,false,true,false]
["Zachodniopomorskie"," koszaliński "," koszaliński ",65809,32826,32983,true,true,true,true]
["Zachodniopomorskie"," koszaliński "," 0 - 4 ",3024,1566,1458,false,true,true,false]
["Zachodniopomorskie"," koszaliński "," 5 - 9 ",3571,1777,1794,false,true,true,false]
["Zachodniopomorskie"," koszaliński "," 10 - 14 ",3334,1696,1638,false,true,true,false]
["Zachodniopomorskie"," koszaliński "," 15 - 19 ",3783,1946,1837,false,true,true,false]
["Zachodniopomorskie"," koszaliński "," 20 - 24 ",4694,2412,2282,false,true,true,false]
["Zachodniopomorskie"," koszaliński "," 25 - 29 ",4894,2559,2335,false,true,true,false]
["Zachodniopomorskie"," koszaliński "," 30 - 34 ",5383,2815,2568,false,true,true,false]
["Zachodniopomorskie"," koszaliński "," 35 - 39 ",5265,2694,2571,false,true,true,false]
["Zachodniopomorskie"," koszaliński "," 40 - 44 ",4764,2488,2276,false,true,true,false]
["Zachodniopomorskie"," koszaliński "," 45 - 49 ",4162,2111,2051,false,true,true,false]
["Zachodniopomorskie"," koszaliński "," 50 - 54 ",4352,2245,2107,false,true,true,false]
["Zachodniopomorskie"," koszaliński "," 55 - 59 ",5368,2633,2735,false,true,true,false]
["Zachodniopomorskie"," koszaliński "," 60 - 64 ",4854,2424,2430,false,true,true,false]
["Zachodniopomorskie"," koszaliński "," 65 - 69 ",3477,1720,1757,false,true,true,false]
["Zachodniopomorskie"," koszaliński "," 70 i więcej",4884,1740,3144,true,true,false,false]
["Zachodniopomorskie"," koszaliński ","65+",{"$f":"SUM(D6580:D6581)","v":8361},{"$f":"SUM(E6580:E6581)","v":3460},{"$f":"SUM(F6580:F6581)","v":4901},true,false,true,false]
["Zachodniopomorskie"," myśliborski "," myśliborski ",67077,32966,34111,true,true,true,true]
["Zachodniopomorskie",{"$f":"IF(C6583=\"65+\",C6584,B6583)","v":" myśliborski "}," 0 - 4 ",3111,1554,1557,false,true,true,false]
["Zachodniopomorskie"," myśliborski "," 5 - 9 ",3654,1871,1783,false,true,true,false]
["Zachodniopomorskie"," myśliborski "," 10 - 14 ",3359,1779,1580,false,true,true,false]
["Zachodniopomorskie"," myśliborski "," 15 - 19 ",3360,1749,1611,false,true,true,false]
["Zachodniopomorskie"," myśliborski "," 20 - 24 ",4329,2223,2106,false,true,true,false]
["Zachodniopomorskie"," myśliborski "," 25 - 29 ",4922,2512,2410,false,true,true,false]
["Zachodniopomorskie"," myśliborski "," 30 - 34 ",5621,2943,2678,false,true,true,false]
["Zachodniopomorskie"," myśliborski "," 35 - 39 ",5405,2775,2630,false,true,true,false]
["Zachodniopomorskie"," myśliborski "," 40 - 44 ",4613,2340,2273,false,true,true,false]
["Zachodniopomorskie"," myśliborski "," 45 - 49 ",4009,2018,1991,false,true,true,false]
["Zachodniopomorskie"," myśliborski "," 50 - 54 ",4206,2173,2033,false,true,true,false]
["Zachodniopomorskie"," myśliborski "," 55 - 59 ",5362,2587,2775,false,true,true,false]
["Zachodniopomorskie"," myśliborski "," 60 - 64 ",5234,2569,2665,false,true,true,false]
["Zachodniopomorskie"," myśliborski "," 65 - 69 ",4048,1852,2196,false,true,true,false]
["Zachodniopomorskie"," myśliborski "," 70 i więcej",5844,2021,3823,true,true,false,false]
["Zachodniopomorskie"," myśliborski ","65+",{"$f":"SUM(D6597:D6598)","v":9892},{"$f":"SUM(E6597:E6598)","v":3873},{"$f":"SUM(F6597:F6598)","v":6019},true,false,true,false]
["Zachodniopomorskie"," policki "," policki ",76731,37646,39085,true,true,true,true]
["Zachodniopomorskie"," policki "," 0 - 4 ",3930,2022,1908,false,true,true,false]
["Zachodniopomorskie"," policki "," 5 - 9 ",4914,2440,2474,false,true,true,false]
["Zachodniopomorskie"," policki "," 10 - 14 ",4170,2164,2006,false,true,true,false]
["Zachodniopomorskie"," policki "," 15 - 19 ",4278,2189,2089,false,true,true,false]
["Zachodniopomorskie"," policki "," 20 - 24 ",4423,2298,2125,false,true,true,false]
["Zachodniopomorskie"," policki "," 25 - 29 ",5028,2531,2497,false,true,true,false]
["Zachodniopomorskie"," policki "," 30 - 34 ",6728,3301,3427,false,true,true,false]
["Zachodniopomorskie"," policki "," 35 - 39 ",7046,3471,3575,false,true,true,false]
["Zachodniopomorskie"," policki "," 40 - 44 ",6695,3315,3380,false,true,true,false]
["Zachodniopomorskie"," policki "," 45 - 49 ",5068,2511,2557,false,true,true,false]
["Zachodniopomorskie"," policki "," 50 - 54 ",4800,2303,2497,false,true,true,false]
["Zachodniopomorskie"," policki "," 55 - 59 ",5834,2880,2954,false,true,true,false]
["Zachodniopomorskie"," policki "," 60 - 64 ",5519,2613,2906,false,true,true,false]
["Zachodniopomorskie"," policki "," 65 - 69 ",4031,1960,2071,false,true,true,false]
["Zachodniopomorskie"," policki "," 70 i więcej",4267,1648,2619,true,true,false,false]
["Zachodniopomorskie"," policki ","65+",{"$f":"SUM(D6614:D6615)","v":8298},{"$f":"SUM(E6614:E6615)","v":3608},{"$f":"SUM(F6614:F6615)","v":4690},true,false,true,false]
["Zachodniopomorskie"," pyrzycki "," pyrzycki ",40129,20081,20048,true,true,true,true]
["Zachodniopomorskie"," pyrzycki "," 0 - 4 ",1872,970,902,false,true,true,false]
["Zachodniopomorskie"," pyrzycki "," 5 - 9 ",2225,1136,1089,{"$f":"IFERROR(IF(SEARCH(\" - \",C6619)>0,FALSE,TRUE),TRUE)","v":false},{"$f":"IFERROR(IF(SEARCH(\"65+\",C6619)>0,FALSE,TRUE),TRUE)","v":true},{"$f":"IFERROR(IF(SEARCH(\"70\",C6619)>0,FALSE,TRUE),TRUE)","v":true},{"$f":"AND(G6619:I6619)","v":false}]
["Zachodniopomorskie"," pyrzycki "," 10 - 14 ",1931,1045,886,false,true,true,false]
["Zachodniopomorskie"," pyrzycki "," 15 - 19 ",2099,1055,1044,false,true,true,false]
["Zachodniopomorskie"," pyrzycki "," 20 - 24 ",2757,1438,1319,false,true,true,false]
["Zachodniopomorskie"," pyrzycki "," 25 - 29 ",2994,1554,1440,false,true,true,false]
["Zachodniopomorskie"," pyrzycki "," 30 - 34 ",3178,1670,1508,false,true,true,false]
["Zachodniopomorskie"," pyrzycki "," 35 - 39 ",3096,1712,1384,false,true,true,false]
["Zachodniopomorskie"," pyrzycki "," 40 - 44 ",2855,1484,1371,false,true,true,false]
["Zachodniopomorskie"," pyrzycki "," 45 - 49 ",2502,1309,1193,false,true,true,false]
["Zachodniopomorskie"," pyrzycki "," 50 - 54 ",2488,1286,1202,false,true,true,false]
["Zachodniopomorskie"," pyrzycki "," 55 - 59 ",3093,1546,1547,false,true,true,false]
["Zachodniopomorskie"," pyrzycki "," 60 - 64 ",3022,1490,1532,false,true,true,false]
["Zachodniopomorskie"," pyrzycki "," 65 - 69 ",2425,1130,1295,false,true,true,false]
["Zachodniopomorskie"," pyrzycki "," 70 i więcej",3592,1256,2336,true,true,false,false]
["Zachodniopomorskie"," pyrzycki ","65+",{"$f":"SUM(D6631:D6632)","v":6017},{"$f":"SUM(E6631:E6632)","v":2386},{"$f":"SUM(F6631:F6632)","v":3631},true,false,true,false]
["Zachodniopomorskie"," sławieński "," sławieński ",57011,28053,28958,true,true,true,true]
["Zachodniopomorskie"," sławieński "," 0 - 4 ",2771,1441,1330,false,true,true,false]
["Zachodniopomorskie"," sławieński "," 5 - 9 ",3071,1570,1501,false,true,true,false]
["Zachodniopomorskie"," sławieński "," 10 - 14 ",2845,1444,1401,false,true,true,false]
["Zachodniopomorskie"," sławieński "," 15 - 19 ",3309,1708,1601,false,true,true,false]
["Zachodniopomorskie"," sławieński "," 20 - 24 ",3973,2066,1907,false,true,true,false]
["Zachodniopomorskie"," sławieński "," 25 - 29 ",4180,2152,2028,false,true,true,false]
["Zachodniopomorskie"," sławieński "," 30 - 34 ",4467,2335,2132,false,true,true,false]
["Zachodniopomorskie"," sławieński "," 35 - 39 ",4342,2167,2175,false,true,true,false]
["Zachodniopomorskie"," sławieński "," 40 - 44 ",3903,2015,1888,false,true,true,false]
["Zachodniopomorskie"," sławieński "," 45 - 49 ",3500,1785,1715,false,true,true,false]
["Zachodniopomorskie"," sławieński "," 50 - 54 ",3657,1855,1802,false,true,true,false]
["Zachodniopomorskie"," sławieński "," 55 - 59 ",4498,2204,2294,false,true,true,false]
["Zachodniopomorskie"," sławieński "," 60 - 64 ",4194,2065,2129,false,true,true,false]
["Zachodniopomorskie",{"$f":"IF(C6647=\"65+\",C6648,B6647)","v":" sławieński "}," 65 - 69 ",3357,1545,1812,false,true,true,false]
["Zachodniopomorskie"," sławieński "," 70 i więcej",4944,1701,3243,true,true,false,false]
["Zachodniopomorskie"," sławieński ","65+",{"$f":"SUM(D6648:D6649)","v":8301},{"$f":"SUM(E6648:E6649)","v":3246},{"$f":"SUM(F6648:F6649)","v":5055},true,false,true,false]
["Zachodniopomorskie"," stargardzki "," stargardzki ",120280,58982,61298,true,true,true,true]
["Zachodniopomorskie"," stargardzki "," 0 - 4 ",5752,2913,2839,false,true,true,false]
["Zachodniopomorskie"," stargardzki "," 5 - 9 ",6525,3320,3205,false,true,true,false]
["Zachodniopomorskie"," stargardzki "," 10 - 14 ",5607,2913,2694,false,true,true,false]
["Zachodniopomorskie"," stargardzki "," 15 - 19 ",6103,3115,2988,false,true,true,false]
["Zachodniopomorskie"," stargardzki "," 20 - 24 ",7642,3863,3779,false,true,true,false]
["Zachodniopomorskie"," stargardzki "," 25 - 29 ",8827,4592,4235,false,true,true,false]
["Zachodniopomorskie"," stargardzki "," 30 - 34 ",10076,5196,4880,false,true,true,false]
["Zachodniopomorskie"," stargardzki "," 35 - 39 ",9786,5114,4672,false,true,true,false]
["Zachodniopomorskie"," stargardzki "," 40 - 44 ",8710,4479,4231,false,true,true,false]
["Zachodniopomorskie"," stargardzki "," 45 - 49 ",7116,3587,3529,false,true,true,false]
["Zachodniopomorskie"," stargardzki "," 50 - 54 ",7577,3721,3856,false,true,true,false]
["Zachodniopomorskie"," stargardzki "," 55 - 59 ",9326,4552,4774,false,true,true,false]
["Zachodniopomorskie"," stargardzki "," 60 - 64 ",9458,4453,5005,false,true,true,false]
["Zachodniopomorskie"," stargardzki "," 65 - 69 ",7363,3384,3979,false,true,true,false]
["Zachodniopomorskie"," stargardzki "," 70 i więcej",10412,3780,6632,true,true,false,false]
["Zachodniopomorskie"," stargardzki ","65+",{"$f":"SUM(D6665:D6666)","v":17775},{"$f":"SUM(E6665:E6666)","v":7164},{"$f":"SUM(F6665:F6666)","v":10611},true,false,true,false]
["Zachodniopomorskie"," szczecinecki "," szczecinecki ",78416,38194,40222,true,true,true,true]
["Zachodniopomorskie"," szczecinecki "," 0 - 4 ",3431,1772,1659,false,true,true,false]
["Zachodniopomorskie"," szczecinecki "," 5 - 9 ",4080,2063,2017,false,true,true,false]
["Zachodniopomorskie"," szczecinecki "," 10 - 14 ",3837,2009,1828,false,true,true,false]
["Zachodniopomorskie"," szczecinecki "," 15 - 19 ",4434,2259,2175,false,true,true,false]
["Zachodniopomorskie"," szczecinecki "," 20 - 24 ",5349,2722,2627,false,true,true,false]
["Zachodniopomorskie"," szczecinecki "," 25 - 29 ",5719,2926,2793,false,true,true,false]
["Zachodniopomorskie"," szczecinecki "," 30 - 34 ",6136,3124,3012,false,true,true,false]
["Zachodniopomorskie"," szczecinecki "," 35 - 39 ",5825,2950,2875,false,true,true,false]
["Zachodniopomorskie"," szczecinecki "," 40 - 44 ",5407,2727,2680,false,true,true,false]
["Zachodniopomorskie"," szczecinecki "," 45 - 49 ",4841,2419,2422,false,true,true,false]
["Zachodniopomorskie"," szczecinecki "," 50 - 54 ",5028,2568,2460,false,true,true,false]
["Zachodniopomorskie"," szczecinecki "," 55 - 59 ",6124,3000,3124,false,true,true,false]
["Zachodniopomorskie"," szczecinecki "," 60 - 64 ",5973,2801,3172,false,true,true,false]
["Zachodniopomorskie"," szczecinecki "," 65 - 69 ",4916,2282,2634,false,true,true,false]
["Zachodniopomorskie"," szczecinecki "," 70 i więcej",7316,2572,4744,{"$f":"IFERROR(IF(SEARCH(\" - \",C6683)>0,FALSE,TRUE),TRUE)","v":true},{"$f":"IFERROR(IF(SEARCH(\"65+\",C6683)>0,FALSE,TRUE),TRUE)","v":true},{"$f":"IFERROR(IF(SEARCH(\"70\",C6683)>0,FALSE,TRUE),TRUE)","v":false},{"$f":"AND(G6683:I6683)","v":false}]
["Zachodniopomorskie"," szczecinecki ","65+",{"$f":"SUM(D6682:D6683)","v":12232},{"$f":"SUM(E6682:E6683)","v":4854},{"$f":"SUM(F6682:F6683)","v":7378},true,false,true,false]
["Zachodniopomorskie"," świdwiński "," świdwiński ",47860,23600,24260,true,true,true,true]
["Zachodniopomorskie"," świdwiński "," 0 - 4 ",2115,1053,1062,false,true,true,false]
["Zachodniopomorskie"," świdwiński "," 5 - 9 ",2530,1295,1235,false,true,true,false]
["Zachodniopomorskie"," świdwiński "," 10 - 14 ",2327,1211,1116,false,true,true,false]
["Zachodniopomorskie"," świdwiński "," 15 - 19 ",2502,1305,1197,false,true,true,false]
["Zachodniopomorskie"," świdwiński "," 20 - 24 ",3274,1710,1564,false,true,true,false]
["Zachodniopomorskie"," świdwiński "," 25 - 29 ",3595,1850,1745,false,true,true,false]
["Zachodniopomorskie"," świdwiński "," 30 - 34 ",3795,1966,1829,false,true,true,false]
["Zachodniopomorskie"," świdwiński "," 35 - 39 ",3618,1856,1762,false,true,true,false]
["Zachodniopomorskie"," świdwiński "," 40 - 44 ",3305,1715,1590,false,true,true,false]
["Zachodniopomorskie"," świdwiński "," 45 - 49 ",2817,1428,1389,false,true,true,false]
["Zachodniopomorskie"," świdwiński "," 50 - 54 ",3067,1563,1504,false,true,true,false]
["Zachodniopomorskie"," świdwiński "," 55 - 59 ",3937,1954,1983,false,true,true,false]
["Zachodniopomorskie"," świdwiński "," 60 - 64 ",3805,1870,1935,false,true,true,false]
["Zachodniopomorskie"," świdwiński "," 65 - 69 ",2902,1383,1519,false,true,true,false]
["Zachodniopomorskie"," świdwiński "," 70 i więcej",4271,1441,2830,true,true,false,false]
["Zachodniopomorskie"," świdwiński ","65+",{"$f":"SUM(D6699:D6700)","v":7173},{"$f":"SUM(E6699:E6700)","v":2824},{"$f":"SUM(F6699:F6700)","v":4349},true,false,true,false]
["Zachodniopomorskie"," wałecki "," wałecki ",54059,26329,27730,true,true,true,true]
["Zachodniopomorskie"," wałecki "," 0 - 4 ",2493,1282,1211,false,true,true,false]
["Zachodniopomorskie"," wałecki "," 5 - 9 ",2852,1406,1446,false,true,true,false]
["Zachodniopomorskie"," wałecki "," 10 - 14 ",2814,1433,1381,false,true,true,false]
["Zachodniopomorskie"," wałecki "," 15 - 19 ",2908,1487,1421,false,true,true,false]
["Zachodniopomorskie"," wałecki "," 20 - 24 ",3655,1823,1832,false,true,true,false]
["Zachodniopomorskie"," wałecki "," 25 - 29 ",3813,1976,1837,false,true,true,false]
["Zachodniopomorskie"," wałecki "," 30 - 34 ",4427,2304,2123,false,true,true,false]
["Zachodniopomorskie"," wałecki "," 35 - 39 ",4245,2177,2068,false,true,true,false]
["Zachodniopomorskie"," wałecki "," 40 - 44 ",3973,2018,1955,false,true,true,false]
["Zachodniopomorskie",{"$f":"IF(C6711=\"65+\",C6712,B6711)","v":" wałecki "}," 45 - 49 ",3229,1648,1581,false,true,true,false]
["Zachodniopomorskie"," wałecki "," 50 - 54 ",3409,1687,1722,false,true,true,false]
["Zachodniopomorskie"," wałecki "," 55 - 59 ",4243,2059,2184,false,true,true,false]
["Zachodniopomorskie"," wałecki "," 60 - 64 ",4140,1930,2210,false,true,true,false]
["Zachodniopomorskie"," wałecki "," 65 - 69 ",3316,1543,1773,false,true,true,false]
["Zachodniopomorskie"," wałecki "," 70 i więcej",4542,1556,2986,true,true,false,false]
["Zachodniopomorskie"," wałecki ","65+",{"$f":"SUM(D6716:D6717)","v":7858},{"$f":"SUM(E6716:E6717)","v":3099},{"$f":"SUM(F6716:F6717)","v":4759},true,false,true,false]
["Zachodniopomorskie"," łobeski "," łobeski ",37613,18738,18875,true,true,true,true]
["Zachodniopomorskie"," łobeski "," 0 - 4 ",1781,908,873,false,true,true,false]
["Zachodniopomorskie"," łobeski "," 5 - 9 ",2058,1069,989,false,true,true,false]
["Zachodniopomorskie"," łobeski "," 10 - 14 ",1827,965,862,false,true,true,false]
["Zachodniopomorskie"," łobeski "," 15 - 19 ",2040,1052,988,false,true,true,false]
["Zachodniopomorskie"," łobeski "," 20 - 24 ",2597,1317,1280,false,true,true,false]
["Zachodniopomorskie"," łobeski "," 25 - 29 ",2700,1428,1272,false,true,true,false]
["Zachodniopomorskie"," łobeski "," 30 - 34 ",2988,1568,1420,false,true,true,false]
["Zachodniopomorskie"," łobeski "," 35 - 39 ",2866,1515,1351,false,true,true,false]
["Zachodniopomorskie"," łobeski "," 40 - 44 ",2508,1336,1172,false,true,true,false]
["Zachodniopomorskie"," łobeski "," 45 - 49 ",2179,1157,1022,false,true,true,false]
["Zachodniopomorskie"," łobeski "," 50 - 54 ",2408,1224,1184,false,true,true,false]
["Zachodniopomorskie"," łobeski "," 55 - 59 ",3041,1539,1502,false,true,true,false]
["Zachodniopomorskie"," łobeski "," 60 - 64 ",2935,1434,1501,false,true,true,false]
["Zachodniopomorskie"," łobeski "," 65 - 69 ",2188,1079,1109,false,true,true,false]
["Zachodniopomorskie"," łobeski "," 70 i więcej",3497,1147,2350,true,true,false,false]
["Zachodniopomorskie "," łobeski ","65+",{"$f":"SUM(D6733:D6734)","v":5685},{"$f":"SUM(E6733:E6734)","v":2226},{"$f":"SUM(F6733:F6734)","v":3459},true,false,true,false]

{"sheet":"Dolnośląskie","index":6,"n_rows":530,"n_cols":8,"rows_kept":530,"cut":false,"hidden":true,"merged":[[0,0,2,0],[0,1,2,1],[0,2,2,2],[0,3,2,3]]}
["Województwa\nPowiaty\nGrupy wieku ","Ogółem","Mężczyźni","Kobiety "]
[]
[]
["Dolnośląskie ",2903812,1396008,1507804,{"$f":"IFERROR(IF(SEARCH(\" - \",A4)>0,FALSE,TRUE),TRUE)","v":true},{"$f":"IFERROR(IF(SEARCH(\"70\",A4)>0,FALSE,TRUE),TRUE)","v":true},{"$f":"IFERROR(IF(SEARCH(\"65+\",A4)>0,FALSE,TRUE),TRUE)","v":true},{"$f":"AND(E4:G4)","v":true}]
[" 0 - 4 ",134844,69399,65445,{"$f":"IFERROR(IF(SEARCH(\" - \",A5)>0,FALSE,TRUE),TRUE)","v":false},{"$f":"IFERROR(IF(SEARCH(\"70\",A5)>0,FALSE,TRUE),TRUE)","v":true},{"$f":"IFERROR(IF(SEARCH(\"65+\",A5)>0,FALSE,TRUE),TRUE)","v":true},{"$f":"AND(E5:G5)","v":false}]
[" 5 - 9 ",149467,76437,73030,false,true,true,false]
[" 10 - 14 ",125044,64220,60824,false,true,true,false]
[" 15 - 19 ",134228,68615,65613,false,true,true,false]
[" 20 - 24 ",165968,84367,81601,false,true,true,false]
[" 25 - 29 ",206978,104098,102880,false,true,true,false]
[" 30 - 34 ",255384,128986,126398,false,true,true,false]
[" 35 - 39 ",244691,124016,120675,false,true,true,false]
[" 40 - 44 ",212062,107643,104419,false,true,true,false]
[" 45 - 49 ",168041,84678,83363,false,true,true,false]
[" 50 - 54 ",173873,85461,88412,false,true,true,false]
[" 55 - 59 ",221686,106311,115375,false,true,true,false]
[" 60 - 64 ",229985,106679,123306,false,true,true,false]
[" 65 - 69 ",185548,82887,102661,false,true,true,false]
[" 70 i więcej",296013,102211,193802,true,false,true,false]
["65+",{"$f":"SUM(B18:B19)","v":481561},{"$f":"SUM(C18:C19)","v":185098},{"$f":"SUM(D18:D19)","v":296463},true,true,false,false]
[" Jelenia Góra ",80889,37678,43211,true,true,true,true]
[" 0 - 4 ",3183,1618,1565,false,true,true,false]
[" 5 - 9 ",3523,1806,1717,false,true,true,false]
[" 10 - 14 ",3023,1562,1461,false,true,true,false]
[" 15 - 19 ",3241,1581,1660,false,true,true,false]
[" 20 - 24 ",3983,2014,1969,false,true,true,false]
[" 25 - 29 ",4920,2453,2467,false,true,true,false]
[" 30 - 34 ",6508,3347,3161,false,true,true,false]
[" 35 - 39 ",6547,3285,3262,false,true,true,false]
[" 40 - 44 ",5591,2767,2824,false,true,true,false]
[" 45 - 49 ",4561,2289,2272,false,true,true,false]
[" 50 - 54 ",4840,2282,2558,false,true,true,false]
[" 55 - 59 ",6747,3064,3683,false,true,true,false]
[" 60 - 64 ",7669,3408,4261,false,true,true,false]
[" 65 - 69 ",6113,2551,3562,false,true,true,false]
[" 70 i więcej",10440,3651,6789,true,false,true,false]
["65+",{"$f":"SUM(B35:B36)","v":16553},{"$f":"SUM(C35:C36)","v":6202},{"$f":"SUM(D35:D36)","v":10351},true,true,false,false]
[" Legnica ",100769,47653,53116,true,true,true,true]
[" 0 - 4 ",4552,2329,2223,false,true,true,false]
[" 5 - 9 ",4981,2589,2392,false,true,true,false]
[" 10 - 14 ",4158,2147,2011,false,true,true,false]
[" 15 - 19 ",4640,2401,2239,false,true,true,false]
[" 20 - 24 ",5708,2954,2754,false,true,true,false]
[" 25 - 29 ",6988,3511,3477,false,true,true,false]
[" 30 - 34 ",8503,4301,4202,false,true,true,false]
[" 35 - 39 ",8228,4102,4126,false,true,true,false]
[" 40 - 44 ",7239,3585,3654,false,true,true,false]
[" 45 - 49 ",5993,2928,3065,false,true,true,false]
[" 50 - 54 ",6103,2924,3179,false,true,true,false]
[" 55 - 59 ",7907,3599,4308,false,true,true,false]
[" 60 - 64 ",8566,3786,4780,false,true,true,false]
[" 65 - 69 ",6936,2981,3955,false,true,true,false]
[" 70 i więcej",10267,3516,6751,true,false,true,false]
["65+",{"$f":"SUM(B52:B53)","v":17203},{"$f":"SUM(C52:C53)","v":6497},{"$f":"SUM(D52:D53)","v":10706},true,true,false,false]
[" Wrocław ",637075,297249,339826,true,true,true,true]
[" 0 - 4 ",33184,17229,15955,false,true,true,false]
[" 5 - 9 ",30861,15760,15101,false,true,true,false]
[" 10 - 14 ",22113,11256,10857,false,true,true,false]
[" 15 - 19 ",23032,11688,11344,false,true,true,false]
[" 20 - 24 ",29838,14972,14866,false,true,true,false]
[" 25 - 29 ",49126,23333,25793,false,true,true,false]
[" 30 - 34 ",67222,32808,34414,false,true,true,false]
[" 35 - 39 ",57696,28691,29005,false,true,true,false]
[" 40 - 44 ",45928,22714,23214,false,true,true,false]
[" 45 - 49 ",33605,16581,17024,false,true,true,false]
[" 50 - 54 ",33188,15757,17431,false,true,true,false]
[" 55 - 59 ",43122,19795,23327,false,true,true,false]
[" 60 - 64 ",49355,21666,27689,false,true,true,false]
[" 65 - 69 ",41922,17842,24080,{"$f":"IFERROR(IF(SEARCH(\" - \",A69)>0,FALSE,TRUE),TRUE)","v":false},{"$f":"IFERROR(IF(SEARCH(\"70\",A69)>0,FALSE,TRUE),TRUE)","v":true},{"$f":"IFERROR(IF(SEARCH(\"65+\",A69)>0,FALSE,TRUE),TRUE)","v":true},{"$f":"AND(E69:G69)","v":false}]
[" 70 i więcej",76883,27157,49726,true,false,true,false]
["65+",{"$f":"SUM(B69:B70)","v":118805},{"$f":"SUM(C69:C70)","v":44999},{"$f":"SUM(D69:D70)","v":73806},true,true,false,false]
[" Wałbrzych ",114930,54112,60818,true,true,true,true]
[" 0 - 4 ",4390,2255,2135,false,true,true,false]
[" 5 - 9 ",5064,2551,2513,false,true,true,false]
[" 10 - 14 ",4536,2344,2192,false,true,true,false]
[" 15 - 19 ",4809,2422,2387,false,true,true,false]
[" 20 - 24 ",6043,3058,2985,false,true,true,false]
[" 25 - 29 ",7392,3820,3572,false,true,true,false]
[" 30 - 34 ",9377,4730,4647,false,true,true,false]
[" 35 - 39 ",9169,4750,4419,false,true,true,false]
[" 40 - 44 ",7514,3774,3740,false,true,true,false]
[" 45 - 49 ",6322,3148,3174,false,true,true,false]
[" 50 - 54 ",7339,3523,3816,false,true,true,false]
[" 55 - 59 ",10596,5005,5591,false,true,true,false]
[" 60 - 64 ",10467,4689,5778,false,true,true,false]
[" 65 - 69 ",7825,3310,4515,false,true,true,false]
[" 70 i więcej",14087,4733,9354,true,false,true,false]
["65+",{"$f":"SUM(B86:B87)","v":21912},{"$f":"SUM(C86:C87)","v":8043},{"$f":"SUM(D86:D87)","v":13869},true,true,false,false]
[" bolesławiecki ",90195,43801,46394,true,true,true,true]
[" 0 - 4 ",4148,2089,2059,false,true,true,false]
[" 5 - 9 ",4876,2507,2369,false,true,true,false]
[" 10 - 14 ",4292,2179,2113,false,true,true,false]
[" 15 - 19 ",4686,2480,2206,false,true,true,false]
[" 20 - 24 ",5522,2776,2746,false,true,true,false]
[" 25 - 29 ",6716,3415,3301,false,true,true,false]
[" 30 - 34 ",7369,3828,3541,false,true,true,false]
[" 35 - 39 ",7319,3711,3608,false,true,true,false]
[" 40 - 44 ",6737,3433,3304,false,true,true,false]
[" 45 - 49 ",5317,2701,2616,false,true,true,false]
[" 50 - 54 ",5640,2820,2820,false,true,true,false]
[" 55 - 59 ",7048,3446,3602,false,true,true,false]
[" 60 - 64 ",6749,3145,3604,false,true,true,false]
[" 65 - 69 ",5285,2330,2955,false,true,true,false]
[" 70 i więcej",8491,2941,5550,true,false,true,false]
["65+",{"$f":"SUM(B103:B104)","v":13776},{"$f":"SUM(C103:C104)","v":5271},{"$f":"SUM(D103:D104)","v":8505},true,true,false,false]
[" dzierżoniowski ",102977,49060,53917,true,true,true,true]
[" 0 - 4 ",4230,2181,2049,false,true,true,false]
[" 5 - 9 ",4813,2415,2398,false,true,true,false]
[" 10 - 14 ",4242,2178,2064,false,true,true,false]
[" 15 - 19 ",4645,2378,2267,false,true,true,false]
[" 20 - 24 ",5806,2974,2832,false,true,true,false]
[" 25 - 29 ",6953,3494,3459,false,true,true,false]
[" 30 - 34 ",8331,4268,4063,false,true,true,false]
[" 35 - 39 ",8280,4230,4050,false,true,true,false]
[" 40 - 44 ",7230,3683,3547,false,true,true,false]
[" 45 - 49 ",6052,3070,2982,false,true,true,false]
[" 50 - 54 ",6615,3266,3349,false,true,true,false]
[" 55 - 59 ",8616,4146,4470,false,true,true,false]
[" 60 - 64 ",8652,4005,4647,false,true,true,false]
[" 65 - 69 ",6656,2979,3677,false,true,true,false]
[" 70 i więcej",11856,3793,8063,true,false,true,false]
["65+",{"$f":"SUM(B120:B121)","v":18512},{"$f":"SUM(C120:C121)","v":6772},{"$f":"SUM(D120:D121)","v":11740},true,true,false,false]
[" głogowski ",90060,43769,46291,true,true,true,true]
[" 0 - 4 ",4349,2229,2120,false,true,true,false]
[" 5 - 9 ",5179,2565,2614,false,true,true,false]
[" 10 - 14 ",4323,2196,2127,false,true,true,false]
[" 15 - 19 ",4530,2289,2241,false,true,true,false]
[" 20 - 24 ",5028,2573,2455,false,true,true,false]
[" 25 - 29 ",6255,3183,3072,false,true,true,false]
[" 30 - 34 ",7526,3855,3671,false,true,true,false]
[" 35 - 39 ",7979,4060,3919,false,true,true,false]
[" 40 - 44 ",6791,3469,3322,false,true,true,false]
[" 45 - 49 ",4995,2507,2488,{"$f":"IFERROR(IF(SEARCH(\" - \",A133)>0,FALSE,TRUE),TRUE)","v":false},{"$f":"IFERROR(IF(SEARCH(\"70\",A133)>0,FALSE,TRUE),TRUE)","v":true},{"$f":"IFERROR(IF(SEARCH(\"65+\",A133)>0,FALSE,TRUE),TRUE)","v":true},{"$f":"AND(E133:G133)","v":false}]
[" 50 - 54 ",5063,2370,2693,false,true,true,false]
[" 55 - 59 ",6781,3180,3601,false,true,true,false]
[" 60 - 64 ",7697,3611,4086,false,true,true,false]
[" 65 - 69 ",6430,2993,3437,false,true,true,false]
[" 70 i więcej",7134,2689,4445,true,false,true,false]
["65+",{"$f":"SUM(B137:B138)","v":13564},{"$f":"SUM(C137:C138)","v":5682},{"$f":"SUM(D137:D138)","v":7882},true,true,false,false]
[" górowski ",35847,17735,18112,true,true,true,true]
[" 0 - 4 ",1702,868,834,false,true,true,false]
[" 5 - 9 ",1970,1025,945,false,true,true,false]
[" 10 - 14 ",1930,993,937,false,true,true,false]
[" 15 - 19 ",2062,1043,1019,false,true,true,false]
[" 20 - 24 ",2641,1311,1330,false,true,true,false]
[" 25 - 29 ",2662,1402,1260,false,true,true,false]
[" 30 - 34 ",2823,1484,1339,false,true,true,false]
[" 35 - 39 ",2643,1396,1247,false,true,true,false]
[" 40 - 44 ",2455,1236,1219,false,true,true,false]
[" 45 - 49 ",2134,1098,1036,false,true,true,false]
[" 50 - 54 ",2211,1101,1110,false,true,true,false]
[" 55 - 59 ",2707,1359,1348,false,true,true,false]
[" 60 - 64 ",2595,1296,1299,false,true,true,false]
[" 65 - 69 ",2059,999,1060,false,true,true,false]
[" 70 i więcej",3253,1124,2129,true,false,true,false]
["65+",{"$f":"SUM(B154:B155)","v":5312},{"$f":"SUM(C154:C155)","v":2123},{"$f":"SUM(D154:D155)","v":3189},true,true,false,false]
[" jaworski ",51324,25158,26166,true,true,true,true]
[" 0 - 4 ",2190,1125,1065,false,true,true,false]
[" 5 - 9 ",2612,1339,1273,false,true,true,false]
[" 10 - 14 ",2298,1202,1096,false,true,true,false]
[" 15 - 19 ",2600,1316,1284,false,true,true,false]
[" 20 - 24 ",3155,1613,1542,false,true,true,false]
[" 25 - 29 ",3746,1974,1772,false,true,true,false]
[" 30 - 34 ",4286,2129,2157,false,true,true,false]
[" 35 - 39 ",4080,2116,1964,false,true,true,false]
[" 40 - 44 ",3511,1830,1681,false,true,true,false]
[" 45 - 49 ",2989,1523,1466,false,true,true,false]
[" 50 - 54 ",3320,1652,1668,false,true,true,false]
[" 55 - 59 ",4237,2060,2177,false,true,true,false]
[" 60 - 64 ",4210,2093,2117,false,true,true,false]
[" 65 - 69 ",3235,1537,1698,false,true,true,false]
[" 70 i więcej",4855,1649,3206,true,false,true,false]
["65+",{"$f":"SUM(B171:B172)","v":8090},{"$f":"SUM(C171:C172)","v":3186},{"$f":"SUM(D171:D172)","v":4904},true,true,false,false]
[" jeleniogórski ",64430,31104,33326,true,true,true,true]
[" 0 - 4 ",2496,1303,1193,false,true,true,false]
[" 5 - 9 ",3024,1540,1484,false,true,true,false]
[" 10 - 14 ",2886,1502,1384,false,true,true,false]
[" 15 - 19 ",3146,1613,1533,false,true,true,false]
[" 20 - 24 ",3748,1909,1839,false,true,true,false]
[" 25 - 29 ",4221,2137,2084,false,true,true,false]
[" 30 - 34 ",5117,2550,2567,false,true,true,false]
[" 35 - 39 ",5287,2720,2567,false,true,true,false]
[" 40 - 44 ",4886,2503,2383,false,true,true,false]
[" 45 - 49 ",3908,1933,1975,false,true,true,false]
[" 50 - 54 ",4124,2029,2095,false,true,true,false]
[" 55 - 59 ",5499,2645,2854,false,true,true,false]
[" 60 - 64 ",5891,2785,3106,false,true,true,false]
[" 65 - 69 ",4263,1967,2296,false,true,true,false]
[" 70 i więcej",5934,1968,3966,true,false,true,false]
["65+",{"$f":"SUM(B188:B189)","v":10197},{"$f":"SUM(C188:C189)","v":3935},{"$f":"SUM(D188:D189)","v":6262},true,true,false,false]
[" kamiennogórski ",44280,21635,22645,true,true,true,true]
[" 0 - 4 ",1725,891,834,false,true,true,false]
[" 5 - 9 ",2204,1167,1037,false,true,true,false]
[" 10 - 14 ",2141,1121,1020,false,true,true,false]
[" 15 - 19 ",2291,1185,1106,false,true,true,false]
[" 20 - 24 ",2790,1462,1328,false,true,true,false]
[" 25 - 29 ",3007,1582,1425,{"$f":"IFERROR(IF(SEARCH(\" - \",A197)>0,FALSE,TRUE),TRUE)","v":false},{"$f":"IFERROR(IF(SEARCH(\"70\",A197)>0,FALSE,TRUE),TRUE)","v":true},{"$f":"IFERROR(IF(SEARCH(\"65+\",A197)>0,FALSE,TRUE),TRUE)","v":true},{"$f":"AND(E197:G197)","v":false}]
[" 30 - 34 ",3557,1869,1688,false,true,true,false]
[" 35 - 39 ",3510,1839,1671,false,true,true,false]
[" 40 - 44 ",3064,1564,1500,false,true,true,false]
[" 45 - 49 ",2582,1347,1235,false,true,true,false]
[" 50 - 54 ",2953,1501,1452,false,true,true,false]
[" 55 - 59 ",3597,1724,1873,false,true,true,false]
[" 60 - 64 ",3572,1741,1831,false,true,true,false]
[" 65 - 69 ",2806,1266,1540,false,true,true,false]
[" 70 i więcej",4481,1376,3105,true,false,true,false]
["65+",{"$f":"SUM(B205:B206)","v":7287},{"$f":"SUM(C205:C206)","v":2642},{"$f":"SUM(D205:D206)","v":4645},true,true,false,false]
[" kłodzki ",161856,78131,83725,true,true,true,true]
[" 0 - 4 ",6318,3344,2974,false,true,true,false]
[" 5 - 9 ",7657,3954,3703,false,true,true,false]
[" 10 - 14 ",6722,3438,3284,false,true,true,false]
[" 15 - 19 ",7389,3844,3545,false,true,true,false]
[" 20 - 24 ",9573,4904,4669,false,true,true,false]
[" 25 - 29 ",10810,5471,5339,false,true,true,false]
[" 30 - 34 ",13085,6767,6318,false,true,true,false]
[" 35 - 39 ",13084,6772,6312,false,true,true,false]
[" 40 - 44 ",11192,5732,5460,false,true,true,false]
[" 45 - 49 ",9301,4659,4642,false,true,true,false]
[" 50 - 54 ",10427,5177,5250,false,true,true,false]
[" 55 - 59 ",13713,6577,7136,false,true,true,false]
[" 60 - 64 ",13558,6397,7161,false,true,true,false]
[" 65 - 69 ",11266,5047,6219,false,true,true,false]
[" 70 i więcej",17761,6048,11713,true,false,true,false]
["65+",{"$f":"SUM(B222:B223)","v":29027},{"$f":"SUM(C222:C223)","v":11095},{"$f":"SUM(D222:D223)","v":17932},true,true,false,false]
[" legnicki ",55115,26975,28140,true,true,true,true]
[" 0 - 4 ",2595,1359,1236,false,true,true,false]
[" 5 - 9 ",2983,1504,1479,false,true,true,false]
[" 10 - 14 ",2675,1396,1279,false,true,true,false]
[" 15 - 19 ",2828,1463,1365,false,true,true,false]
[" 20 - 24 ",3630,1929,1701,false,true,true,false]
[" 25 - 29 ",3940,2025,1915,false,true,true,false]
[" 30 - 34 ",4593,2286,2307,false,true,true,false]
[" 35 - 39 ",4408,2231,2177,false,true,true,false]
[" 40 - 44 ",4016,2080,1936,false,true,true,false]
[" 45 - 49 ",3324,1688,1636,false,true,true,false]
[" 50 - 54 ",3530,1720,1810,false,true,true,false]
[" 55 - 59 ",4438,2182,2256,false,true,true,false]
[" 60 - 64 ",4156,2008,2148,false,true,true,false]
[" 65 - 69 ",3169,1499,1670,false,true,true,false]
[" 70 i więcej",4830,1605,3225,true,false,true,false]
["65+",{"$f":"SUM(B239:B240)","v":7999},{"$f":"SUM(C239:C240)","v":3104},{"$f":"SUM(D239:D240)","v":4895},true,true,false,false]
[" lubański ",55356,26996,28360,true,true,true,true]
[" 0 - 4 ",2224,1152,1072,false,true,true,false]
[" 5 - 9 ",2690,1381,1309,false,true,true,false]
[" 10 - 14 ",2538,1338,1200,false,true,true,false]
[" 15 - 19 ",2915,1532,1383,false,true,true,false]
[" 20 - 24 ",3527,1802,1725,false,true,true,false]
[" 25 - 29 ",3781,1954,1827,false,true,true,false]
[" 30 - 34 ",4451,2315,2136,false,true,true,false]
[" 35 - 39 ",4427,2261,2166,false,true,true,false]
[" 40 - 44 ",4232,2238,1994,false,true,true,false]
[" 45 - 49 ",3213,1650,1563,false,true,true,false]
[" 50 - 54 ",3365,1682,1683,false,true,true,false]
[" 55 - 59 ",4336,2104,2232,false,true,true,false]
[" 60 - 64 ",4663,2186,2477,false,true,true,false]
[" 65 - 69 ",3764,1700,2064,false,true,true,false]
[" 70 i więcej",5230,1701,3529,true,false,true,false]
["65+",{"$f":"SUM(B256:B257)","v":8994},{"$f":"SUM(C256:C257)","v":3401},{"$f":"SUM(D256:D257)","v":5593},true,true,false,false]
[" lubiński ",106267,51472,54795,true,true,true,true]
[" 0 - 4 ",5032,2532,2500,false,true,true,false]
[" 5 - 9 ",5569,2872,2697,{"$f":"IFERROR(IF(SEARCH(\" - \",A261)>0,FALSE,TRUE),TRUE)","v":false},{"$f":"IFERROR(IF(SEARCH(\"70\",A261)>0,FALSE,TRUE),TRUE)","v":true},{"$f":"IFERROR(IF(SEARCH(\"65+\",A261)>0,FALSE,TRUE),TRUE)","v":true},{"$f":"AND(E261:G261)","v":false}]
[" 10 - 14 ",4825,2493,2332,false,true,true,false]
[" 15 - 19 ",4973,2485,2488,false,true,true,false]
[" 20 - 24 ",6042,3060,2982,false,true,true,false]
[" 25 - 29 ",7055,3534,3521,false,true,true,false]
[" 30 - 34 ",8426,4311,4115,false,true,true,false]
[" 35 - 39 ",9181,4674,4507,false,true,true,false]
[" 40 - 44 ",8311,4240,4071,false,true,true,false]
[" 45 - 49 ",6221,3102,3119,false,true,true,false]
[" 50 - 54 ",6192,3013,3179,false,true,true,false]
[" 55 - 59 ",8075,3794,4281,false,true,true,false]
[" 60 - 64 ",8737,4017,4720,false,true,true,false]
[" 65 - 69 ",7668,3453,4215,false,true,true,false]
[" 70 i więcej",9960,3892,6068,true,false,true,false]
["65+",{"$f":"SUM(B273:B274)","v":17628},{"$f":"SUM(C273:C274)","v":7345},{"$f":"SUM(D273:D274)","v":10283},true,true,false,false]
[" lwówecki ",46536,22719,23817,true,true,true,true]
[" 0 - 4 ",1966,1018,948,false,true,true,false]
[" 5 - 9 ",2192,1086,1106,false,true,true,false]
[" 10 - 14 ",2100,1063,1037,false,true,true,false]
[" 15 - 19 ",2448,1213,1235,false,true,true,false]
[" 20 - 24 ",3154,1627,1527,false,true,true,false]
[" 25 - 29 ",3445,1759,1686,false,true,true,false]
[" 30 - 34 ",3809,1992,1817,false,true,true,false]
[" 35 - 39 ",3619,1920,1699,false,true,true,false]
[" 40 - 44 ",3140,1587,1553,false,true,true,false]
[" 45 - 49 ",2698,1354,1344,false,true,true,false]
[" 50 - 54 ",2967,1522,1445,false,true,true,false]
[" 55 - 59 ",3924,1944,1980,false,true,true,false]
[" 60 - 64 ",3898,1878,2020,false,true,true,false]
[" 65 - 69 ",2922,1377,1545,false,true,true,false]
[" 70 i więcej",4254,1379,2875,true,false,true,false]
["65+",{"$f":"SUM(B290:B291)","v":7176},{"$f":"SUM(C290:C291)","v":2756},{"$f":"SUM(D290:D291)","v":4420},true,true,false,false]
[" milicki ",37170,18404,18766,true,true,true,true]
[" 0 - 4 ",1932,962,970,false,true,true,false]
[" 5 - 9 ",2203,1137,1066,false,true,true,false]
[" 10 - 14 ",1960,1007,953,false,true,true,false]
[" 15 - 19 ",2202,1190,1012,false,true,true,false]
[" 20 - 24 ",2275,1125,1150,false,true,true,false]
[" 25 - 29 ",2691,1434,1257,false,true,true,false]
[" 30 - 34 ",3135,1643,1492,false,true,true,false]
[" 35 - 39 ",2951,1499,1452,false,true,true,false]
[" 40 - 44 ",2591,1370,1221,false,true,true,false]
[" 45 - 49 ",2079,1056,1023,false,true,true,false]
[" 50 - 54 ",2144,1110,1034,false,true,true,false]
[" 55 - 59 ",2682,1284,1398,false,true,true,false]
[" 60 - 64 ",2788,1379,1409,false,true,true,false]
[" 65 - 69 ",2280,1059,1221,false,true,true,false]
[" 70 i więcej",3257,1149,2108,true,false,true,false]
["65+",{"$f":"SUM(B307:B308)","v":5537},{"$f":"SUM(C307:C308)","v":2208},{"$f":"SUM(D307:D308)","v":3329},true,true,false,false]
[" oleśnicki ",106602,52105,54497,true,true,true,true]
[" 0 - 4 ",5392,2762,2630,false,true,true,false]
[" 5 - 9 ",5972,3088,2884,false,true,true,false]
[" 10 - 14 ",5193,2674,2519,false,true,true,false]
[" 15 - 19 ",5492,2769,2723,false,true,true,false]
[" 20 - 24 ",6827,3436,3391,false,true,true,false]
[" 25 - 29 ",7895,4039,3856,false,true,true,false]
[" 30 - 34 ",9155,4653,4502,false,true,true,false]
[" 35 - 39 ",8866,4563,4303,false,true,true,false]
[" 40 - 44 ",7900,4076,3824,false,true,true,false]
[" 45 - 49 ",6536,3305,3231,false,true,true,false]
[" 50 - 54 ",6519,3266,3253,false,true,true,false]
[" 55 - 59 ",7446,3683,3763,false,true,true,false]
[" 60 - 64 ",7517,3562,3955,false,true,true,false]
[" 65 - 69 ",6306,2835,3471,false,true,true,false]
[" 70 i więcej",9586,3394,6192,{"$f":"IFERROR(IF(SEARCH(\" - \",A325)>0,FALSE,TRUE),TRUE)","v":true},{"$f":"IFERROR(IF(SEARCH(\"70\",A325)>0,FALSE,TRUE),TRUE)","v":false},{"$f":"IFERROR(IF(SEARCH(\"65+\",A325)>0,FALSE,TRUE),TRUE)","v":true},{"$f":"AND(E325:G325)","v":false}]
["65+",{"$f":"SUM(B324:B325)","v":15892},{"$f":"SUM(C324:C325)","v":6229},{"$f":"SUM(D324:D325)","v":9663},true,true,false,false]
[" oławski ",76201,37171,39030,true,true,true,true]
[" 0 - 4 ",3747,1897,1850,false,true,true,false]
[" 5 - 9 ",4443,2307,2136,false,true,true,false]
[" 10 - 14 ",3556,1807,1749,false,true,true,false]
[" 15 - 19 ",3824,1907,1917,false,true,true,false]
[" 20 - 24 ",4375,2240,2135,false,true,true,false]
[" 25 - 29 ",5263,2696,2567,false,true,true,false]
[" 30 - 34 ",6552,3297,3255,false,true,true,false]
[" 35 - 39 ",6847,3525,3322,false,true,true,false]
[" 40 - 44 ",5878,3043,2835,false,true,true,false]
[" 45 - 49 ",4467,2261,2206,false,true,true,false]
[" 50 - 54 ",4451,2220,2231,false,true,true,false]
[" 55 - 59 ",5414,2577,2837,false,true,true,false]
[" 60 - 64 ",5759,2652,3107,false,true,true,false]
[" 65 - 69 ",4948,2274,2674,false,true,true,false]
[" 70 i więcej",6677,2468,4209,true,false,true,false]
["65+",{"$f":"SUM(B341:B342)","v":11625},{"$f":"SUM(C341:C342)","v":4742},{"$f":"SUM(D341:D342)","v":6883},true,true,false,false]
[" polkowicki ",63081,31207,31874,true,true,true,true]
[" 0 - 4 ",3202,1647,1555,false,true,true,false]
[" 5 - 9 ",3691,1903,1788,false,true,true,false]
[" 10 - 14 ",3195,1662,1533,false,true,true,false]
[" 15 - 19 ",3546,1787,1759,false,true,true,false]
[" 20 - 24 ",4621,2338,2283,false,true,true,false]
[" 25 - 29 ",4681,2406,2275,false,true,true,false]
[" 30 - 34 ",5097,2616,2481,false,true,true,false]
[" 35 - 39 ",4947,2496,2451,false,true,true,false]
[" 40 - 44 ",4743,2431,2312,false,true,true,false]
[" 45 - 49 ",4164,2148,2016,false,true,true,false]
[" 50 - 54 ",4076,2079,1997,false,true,true,false]
[" 55 - 59 ",4499,2302,2197,false,true,true,false]
[" 60 - 64 ",4134,2005,2129,false,true,true,false]
[" 65 - 69 ",3523,1597,1926,false,true,true,false]
[" 70 i więcej",4962,1790,3172,true,false,true,false]
["65+",{"$f":"SUM(B358:B359)","v":8485},{"$f":"SUM(C358:C359)","v":3387},{"$f":"SUM(D358:D359)","v":5098},true,true,false,false]
[" strzeliński ",44075,21822,22253,true,true,true,true]
[" 0 - 4 ",2088,1076,1012,false,true,true,false]
[" 5 - 9 ",2258,1186,1072,false,true,true,false]
[" 10 - 14 ",2010,1044,966,false,true,true,false]
[" 15 - 19 ",2295,1219,1076,false,true,true,false]
[" 20 - 24 ",2799,1466,1333,false,true,true,false]
[" 25 - 29 ",3148,1636,1512,false,true,true,false]
[" 30 - 34 ",3653,1939,1714,false,true,true,false]
[" 35 - 39 ",3494,1792,1702,false,true,true,false]
[" 40 - 44 ",3189,1625,1564,false,true,true,false]
[" 45 - 49 ",2691,1391,1300,false,true,true,false]
[" 50 - 54 ",2783,1435,1348,false,true,true,false]
[" 55 - 59 ",3452,1751,1701,false,true,true,false]
[" 60 - 64 ",3333,1651,1682,false,true,true,false]
[" 65 - 69 ",2639,1218,1421,false,true,true,false]
[" 70 i więcej",4243,1393,2850,true,false,true,false]
["65+",{"$f":"SUM(B375:B376)","v":6882},{"$f":"SUM(C375:C376)","v":2611},{"$f":"SUM(D375:D376)","v":4271},true,true,false,false]
[" średzki ",52969,26179,26790,true,true,true,true]
[" 0 - 4 ",2537,1324,1213,false,true,true,false]
[" 5 - 9 ",3104,1573,1531,false,true,true,false]
[" 10 - 14 ",2553,1338,1215,false,true,true,false]
[" 15 - 19 ",2734,1382,1352,false,true,true,false]
[" 20 - 24 ",3428,1742,1686,false,true,true,false]
[" 25 - 29 ",3869,2038,1831,false,true,true,false]
[" 30 - 34 ",4458,2336,2122,false,true,true,false]
[" 35 - 39 ",4602,2300,2302,false,true,true,false]
[" 40 - 44 ",4228,2208,2020,false,true,true,false]
[" 45 - 49 ",3353,1747,1606,false,true,true,false]
[" 50 - 54 ",3312,1668,1644,{"$f":"IFERROR(IF(SEARCH(\" - \",A389)>0,FALSE,TRUE),TRUE)","v":false},{"$f":"IFERROR(IF(SEARCH(\"70\",A389)>0,FALSE,TRUE),TRUE)","v":true},{"$f":"IFERROR(IF(SEARCH(\"65+\",A389)>0,FALSE,TRUE),TRUE)","v":true},{"$f":"AND(E389:G389)","v":false}]
[" 55 - 59 ",3982,1991,1991,false,true,true,false]
[" 60 - 64 ",3676,1812,1864,false,true,true,false]
[" 65 - 69 ",2781,1302,1479,false,true,true,false]
[" 70 i więcej",4352,1418,2934,true,false,true,false]
["65+",{"$f":"SUM(B392:B393)","v":7133},{"$f":"SUM(C392:C393)","v":2720},{"$f":"SUM(D392:D393)","v":4413},true,true,false,false]
[" świdnicki ",159259,76831,82428,true,true,true,true]
[" 0 - 4 ",6924,3612,3312,false,true,true,false]
[" 5 - 9 ",8034,4089,3945,false,true,true,false]
[" 10 - 14 ",6894,3570,3324,false,true,true,false]
[" 15 - 19 ",7664,3940,3724,false,true,true,false]
[" 20 - 24 ",9266,4695,4571,false,true,true,false]
[" 25 - 29 ",11169,5754,5415,false,true,true,false]
[" 30 - 34 ",13361,6817,6544,false,true,true,false]
[" 35 - 39 ",12908,6602,6306,false,true,true,false]
[" 40 - 44 ",11489,5870,5619,false,true,true,false]
[" 45 - 49 ",9468,4797,4671,false,true,true,false]
[" 50 - 54 ",10061,5050,5011,false,true,true,false]
[" 55 - 59 ",12495,6000,6495,false,true,true,false]
[" 60 - 64 ",13137,6123,7014,false,true,true,false]
[" 65 - 69 ",10308,4550,5758,false,true,true,false]
[" 70 i więcej",16081,5362,10719,true,false,true,false]
["65+",{"$f":"SUM(B409:B410)","v":26389},{"$f":"SUM(C409:C410)","v":9912},{"$f":"SUM(D409:D410)","v":16477},true,true,false,false]
[" trzebnicki ",83959,41183,42776,true,true,true,true]
[" 0 - 4 ",4056,2072,1984,false,true,true,false]
[" 5 - 9 ",4920,2480,2440,false,true,true,false]
[" 10 - 14 ",4255,2141,2114,false,true,true,false]
[" 15 - 19 ",4378,2247,2131,false,true,true,false]
[" 20 - 24 ",5334,2722,2612,false,true,true,false]
[" 25 - 29 ",6055,3076,2979,false,true,true,false]
[" 30 - 34 ",7144,3637,3507,false,true,true,false]
[" 35 - 39 ",7086,3564,3522,false,true,true,false]
[" 40 - 44 ",6438,3283,3155,false,true,true,false]
[" 45 - 49 ",5091,2608,2483,false,true,true,false]
[" 50 - 54 ",5059,2532,2527,false,true,true,false]
[" 55 - 59 ",6233,3142,3091,false,true,true,false]
[" 60 - 64 ",6123,2991,3132,false,true,true,false]
[" 65 - 69 ",4932,2310,2622,false,true,true,false]
[" 70 i więcej",6855,2378,4477,true,false,true,false]
["65+",{"$f":"SUM(B426:B427)","v":11787},{"$f":"SUM(C426:C427)","v":4688},{"$f":"SUM(D426:D427)","v":7099},true,true,false,false]
[" wałbrzyski ",56848,27416,29432,true,true,true,true]
[" 0 - 4 ",2220,1128,1092,false,true,true,false]
[" 5 - 9 ",2699,1381,1318,false,true,true,false]
[" 10 - 14 ",2497,1257,1240,false,true,true,false]
[" 15 - 19 ",2737,1334,1403,false,true,true,false]
[" 20 - 24 ",3451,1782,1669,false,true,true,false]
[" 25 - 29 ",3871,2022,1849,false,true,true,false]
[" 30 - 34 ",4633,2396,2237,false,true,true,false]
[" 35 - 39 ",4478,2267,2211,false,true,true,false]
[" 40 - 44 ",3934,2020,1914,false,true,true,false]
[" 45 - 49 ",3409,1736,1673,false,true,true,false]
[" 50 - 54 ",3659,1820,1839,false,true,true,false]
[" 55 - 59 ",4950,2440,2510,false,true,true,false]
[" 60 - 64 ",4605,2186,2419,false,true,true,false]
[" 65 - 69 ",3378,1586,1792,false,true,true,false]
[" 70 i więcej",6327,2061,4266,true,false,true,false]
["65+",{"$f":"SUM(B443:B444)","v":9705},{"$f":"SUM(C443:C444)","v":3647},{"$f":"SUM(D443:D444)","v":6058},true,true,false,false]
[" wołowski ",47128,23055,24073,true,true,true,true]
[" 0 - 4 ",2215,1127,1088,false,true,true,false]
[" 5 - 9 ",2354,1186,1168,false,true,true,false]
[" 10 - 14 ",2079,1057,1022,false,true,true,false]
[" 15 - 19 ",2213,1146,1067,false,true,true,false]
[" 20 - 24 ",2998,1501,1497,false,true,true,false]
[" 25 - 29 ",3555,1840,1715,false,true,true,false]
[" 30 - 34 ",3827,1984,1843,{"$f":"IFERROR(IF(SEARCH(\" - \",A453)>0,FALSE,TRUE),TRUE)","v":false},{"$f":"IFERROR(IF(SEARCH(\"70\",A453)>0,FALSE,TRUE),TRUE)","v":true},{"$f":"IFERROR(IF(SEARCH(\"65+\",A453)>0,FALSE,TRUE),TRUE)","v":true},{"$f":"AND(E453:G453)","v":false}]
[" 35 - 39 ",3796,1963,1833,false,true,true,false]
[" 40 - 44 ",3453,1778,1675,false,true,true,false]
[" 45 - 49 ",2959,1536,1423,false,true,true,false]
[" 50 - 54 ",2998,1515,1483,false,true,true,false]
[" 55 - 59 ",3694,1882,1812,false,true,true,false]
[" 60 - 64 ",3543,1704,1839,false,true,true,false]
[" 65 - 69 ",2765,1285,1480,false,true,true,false]
[" 70 i więcej",4679,1551,3128,true,false,true,false]
["65+",{"$f":"SUM(B460:B461)","v":7444},{"$f":"SUM(C460:C461)","v":2836},{"$f":"SUM(D460:D461)","v":4608},true,true,false,false]
[" wrocławski ",135837,66531,69306,true,true,true,true]
[" 0 - 4 ",7883,3990,3893,false,true,true,false]
[" 5 - 9 ",9520,4902,4618,false,true,true,false]
[" 10 - 14 ",7128,3614,3514,false,true,true,false]
[" 15 - 19 ",6942,3591,3351,false,true,true,false]
[" 20 - 24 ",7593,3909,3684,false,true,true,false]
[" 25 - 29 ",9336,4602,4734,false,true,true,false]
[" 30 - 34 ",12750,6212,6538,false,true,true,false]
[" 35 - 39 ",13195,6518,6677,false,true,true,false]
[" 40 - 44 ",11718,5889,5829,false,true,true,false]
[" 45 - 49 ",8589,4384,4205,false,true,true,false]
[" 50 - 54 ",7662,3855,3807,false,true,true,false]
[" 55 - 59 ",8963,4515,4448,false,true,true,false]
[" 60 - 64 ",8524,4086,4438,false,true,true,false]
[" 65 - 69 ",6476,3075,3401,false,true,true,false]
[" 70 i więcej",9558,3389,6169,true,false,true,false]
["65+",{"$f":"SUM(B477:B478)","v":16034},{"$f":"SUM(C477:C478)","v":6464},{"$f":"SUM(D477:D478)","v":9570},true,true,false,false]
[" ząbkowicki ",66758,32446,34312,true,true,true,true]
[" 0 - 4 ",2725,1410,1315,false,true,true,false]
[" 5 - 9 ",3208,1649,1559,false,true,true,false]
[" 10 - 14 ",2887,1483,1404,false,true,true,false]
[" 15 - 19 ",3341,1726,1615,false,true,true,false]
[" 20 - 24 ",4238,2146,2092,false,true,true,false]
[" 25 - 29 ",4818,2501,2317,false,true,true,false]
[" 30 - 34 ",5341,2750,2591,false,true,true,false]
[" 35 - 39 ",5060,2546,2514,false,true,true,false]
[" 40 - 44 ",4844,2511,2333,false,true,true,false]
[" 45 - 49 ",4008,2028,1980,false,true,true,false]
[" 50 - 54 ",4286,2136,2150,false,true,true,false]
[" 55 - 59 ",5336,2650,2686,false,true,true,false]
[" 60 - 64 ",5402,2578,2824,false,true,true,false]
[" 65 - 69 ",4427,2073,2354,false,true,true,false]
[" 70 i więcej",6837,2259,4578,true,false,true,false]
["65+",{"$f":"SUM(B494:B495)","v":11264},{"$f":"SUM(C494:C495)","v":4332},{"$f":"SUM(D494:D495)","v":6932},true,true,false,false]
[" zgorzelecki ",91579,44635,46944,true,true,true,true]
[" 0 - 4 ",3727,1896,1831,false,true,true,false]
[" 5 - 9 ",4486,2289,2197,false,true,true,false]
[" 10 - 14 ",4074,2140,1934,false,true,true,false]
[" 15 - 19 ",4414,2326,2088,false,true,true,false]
[" 20 - 24 ",5712,2893,2819,false,true,true,false]
[" 25 - 29 ",6271,3280,2991,false,true,true,false]
[" 30 - 34 ",7434,3881,3553,false,true,true,false]
[" 35 - 39 ",7372,3758,3614,false,true,true,false]
[" 40 - 44 ",6658,3444,3214,false,true,true,false]
[" 45 - 49 ",5533,2842,2691,false,true,true,false]
[" 50 - 54 ",6084,3008,3076,false,true,true,false]
[" 55 - 59 ",7536,3704,3832,false,true,true,false]
[" 60 - 64 ",7344,3390,3954,false,true,true,false]
[" 65 - 69 ",5760,2623,3137,false,true,true,false]
[" 70 i więcej",9174,3161,6013,true,false,true,false]
["65+",{"$f":"SUM(B511:B512)","v":14934},{"$f":"SUM(C511:C512)","v":5784},{"$f":"SUM(D511:D512)","v":9150},true,true,false,false]
[" złotoryjski ",44440,21776,22664,true,true,true,true]
[" 0 - 4 ",1912,974,938,false,true,true,false]
[" 5 - 9 ",2377,1206,1171,false,true,true,false]
[" 10 - 14 ",1961,1018,943,{"$f":"IFERROR(IF(SEARCH(\" - \",A517)>0,FALSE,TRUE),TRUE)","v":false},{"$f":"IFERROR(IF(SEARCH(\"70\",A517)>0,FALSE,TRUE),TRUE)","v":true},{"$f":"IFERROR(IF(SEARCH(\"65+\",A517)>0,FALSE,TRUE),TRUE)","v":true},{"$f":"AND(E517:G517)","v":false}]
[" 15 - 19 ",2211,1118,1093,false,true,true,false]
[" 20 - 24 ",2863,1434,1429,false,true,true,false]
[" 25 - 29 ",3339,1727,1612,false,true,true,false]
[" 30 - 34 ",3861,1985,1876,false,true,true,false]
[" 35 - 39 ",3632,1865,1767,false,true,true,false]
[" 40 - 44 ",3162,1660,1502,false,true,true,false]
[" 45 - 49 ",2479,1261,1218,false,true,true,false]
[" 50 - 54 ",2902,1428,1474,false,true,true,false]
[" 55 - 59 ",3661,1766,1895,false,true,true,false]
[" 60 - 64 ",3665,1849,1816,false,true,true,false]
[" 65 - 69 ",2706,1269,1437,false,true,true,false]
[" 70 i więcej",3709,1216,2493,true,false,true,false]
["65+",{"$f":"SUM(B528:B529)","v":6415},{"$f":"SUM(C528:C529)","v":2485},{"$f":"SUM(D528:D529)","v":3930},true,true,false,false]

{"sheet":"Kujawsko-pomorskie","index":7,"n_rows":411,"n_cols":8,"rows_kept":411,"cut":false,"hidden":true,"merged":[[0,0,2,0],[0,1,2,1],[0,2,2,2],[0,3,2,3]]}
["Województwa\nPowiaty\nGrupy wieku ","Ogółem","Mężczyźni","Kobiety "]
[]
[]
["Kujawsko-pomorskie ",2084524,1010102,1074422,{"$f":"IFERROR(IF(SEARCH(\" - \",A4)>0,FALSE,TRUE),TRUE)","v":true},{"$f":"IFERROR(IF(SEARCH(\"70\",A4)>0,FALSE,TRUE),TRUE)","v":true},{"$f":"IFERROR(IF(SEARCH(\"65+\",A4)>0,FALSE,TRUE),TRUE)","v":true},{"$f":"AND(E4:G4)","v":true}]
[" 0 - 4 ",99362,51276,48086,{"$f":"IFERROR(IF(SEARCH(\" - \",A5)>0,FALSE,TRUE),TRUE)","v":false},{"$f":"IFERROR(IF(SEARCH(\"70\",A5)>0,FALSE,TRUE),TRUE)","v":true},{"$f":"IFERROR(IF(SEARCH(\"65+\",A5)>0,FALSE,TRUE),TRUE)","v":true},{"$f":"AND(E5:G5)","v":false}]
[" 5 - 9 ",113956,58353,55603,false,true,true,false]
[" 10 - 14 ",100283,51457,48826,false,true,true,false]
[" 15 - 19 ",110268,56611,53657,false,true,true,false]
[" 20 - 24 ",133515,67711,65804,false,true,true,false]
[" 25 - 29 ",151784,77181,74603,false,true,true,false]
[" 30 - 34 ",172960,88242,84718,false,true,true,false]
[" 35 - 39 ",164228,83407,80821,false,true,true,false]
[" 40 - 44 ",150711,76016,74695,false,true,true,false]
[" 45 - 49 ",128755,64072,64683,false,true,true,false]
[" 50 - 54 ",130323,64229,66094,false,true,true,false]
[" 55 - 59 ",154119,74357,79762,false,true,true,false]
[" 60 - 64 ",148542,69574,78968,false,true,true,false]
[" 65 - 69 ",123556,54761,68795,false,true,true,false]
[" 70 i więcej",202162,72855,129307,true,false,true,false]
["65+",{"$f":"SUM(B18:B19)","v":325718},{"$f":"SUM(C18:C19)","v":127616},{"$f":"SUM(D18:D19)","v":198102},true,true,false,false]
[" Bydgoszcz ",354990,166985,188005,true,true,true,true]
[" 0 - 4 ",15713,8106,7607,false,true,true,false]
[" 5 - 9 ",17067,8780,8287,false,true,true,false]
[" 10 - 14 ",13943,7175,6768,false,true,true,false]
[" 15 - 19 ",15430,7888,7542,false,true,true,false]
[" 20 - 24 ",19017,9481,9536,false,true,true,false]
[" 25 - 29 ",24790,12190,12600,false,true,true,false]
[" 30 - 34 ",31061,15475,15586,false,true,true,false]
[" 35 - 39 ",28940,14486,14454,false,true,true,false]
[" 40 - 44 ",25198,12434,12764,false,true,true,false]
[" 45 - 49 ",20827,10058,10769,false,true,true,false]
[" 50 - 54 ",20739,9963,10776,false,true,true,false]
[" 55 - 59 ",26125,12124,14001,false,true,true,false]
[" 60 - 64 ",28127,12527,15600,false,true,true,false]
[" 65 - 69 ",24681,10427,14254,false,true,true,false]
[" 70 i więcej",43332,15871,27461,true,false,true,false]
["65+",{"$f":"SUM(B35:B36)","v":68013},{"$f":"SUM(C35:C36)","v":26298},{"$f":"SUM(D35:D36)","v":41715},true,true,false,false]
[" Grudziądz ",96111,45728,50383,true,true,true,true]
[" 0 - 4 ",4388,2239,2149,false,true,true,false]
[" 5 - 9 ",5162,2684,2478,false,true,true,false]
[" 10 - 14 ",4287,2213,2074,false,true,true,false]
[" 15 - 19 ",4775,2408,2367,false,true,true,false]
[" 20 - 24 ",5168,2580,2588,false,true,true,false]
[" 25 - 29 ",6710,3422,3288,false,true,true,false]
[" 30 - 34 ",7864,4018,3846,false,true,true,false]
[" 35 - 39 ",7414,3791,3623,false,true,true,false]
[" 40 - 44 ",6511,3323,3188,false,true,true,false]
[" 45 - 49 ",5606,2723,2883,false,true,true,false]
[" 50 - 54 ",6315,2990,3325,false,true,true,false]
[" 55 - 59 ",7746,3582,4164,false,true,true,false]
[" 60 - 64 ",7621,3488,4133,false,true,true,false]
[" 65 - 69 ",6080,2624,3456,false,true,true,false]
[" 70 i więcej",10464,3643,6821,true,false,true,false]
["65+",{"$f":"SUM(B52:B53)","v":16544},{"$f":"SUM(C52:C53)","v":6267},{"$f":"SUM(D52:D53)","v":10277},true,true,false,false]
[" Toruń ",202591,94223,108368,true,true,true,true]
[" 0 - 4 ",9553,4873,4680,false,true,true,false]
[" 5 - 9 ",9978,5048,4930,false,true,true,false]
[" 10 - 14 ",8335,4238,4097,false,true,true,false]
[" 15 - 19 ",9521,4805,4716,false,true,true,false]
[" 20 - 24 ",11461,5629,5832,false,true,true,false]
[" 25 - 29 ",14720,7186,7534,false,true,true,false]
[" 30 - 34 ",18897,9320,9577,false,true,true,false]
[" 35 - 39 ",17129,8485,8644,false,true,true,false]
[" 40 - 44 ",14531,7090,7441,false,true,true,false]
[" 45 - 49 ",11551,5486,6065,false,true,true,false]
[" 50 - 54 ",11649,5392,6257,false,true,true,false]
[" 55 - 59 ",14878,6627,8251,false,true,true,false]
[" 60 - 64 ",15475,6692,8783,false,true,true,false]
[" 65 - 69 ",13538,5733,7805,{"$f":"IFERROR(IF(SEARCH(\" - \",A69)>0,FALSE,TRUE),TRUE)","v":false},{"$f":"IFERROR(IF(SEARCH(\"70\",A69)>0,FALSE,TRUE),TRUE)","v":true},{"$f":"IFERROR(IF(SEARCH(\"65+\",A69)>0,FALSE,TRUE),TRUE)","v":true},{"$f":"AND(E69:G69)","v":false}]
[" 70 i więcej",21375,7619,13756,true,false,true,false]
["65+",{"$f":"SUM(B69:B70)","v":34913},{"$f":"SUM(C69:C70)","v":13352},{"$f":"SUM(D69:D70)","v":21561},true,true,false,false]
[" Włocławek ",112635,53071,59564,true,true,true,true]
[" 0 - 4 ",4663,2399,2264,false,true,true,false]
[" 5 - 9 ",5345,2730,2615,false,true,true,false]
[" 10 - 14 ",4856,2458,2398,false,true,true,false]
[" 15 - 19 ",5475,2862,2613,false,true,true,false]
[" 20 - 24 ",6342,3250,3092,false,true,true,false]
[" 25 - 29 ",7228,3671,3557,false,true,true,false]
[" 30 - 34 ",8635,4451,4184,false,true,true,false]
[" 35 - 39 ",8952,4491,4461,false,true,true,false]
[" 40 - 44 ",8497,4268,4229,false,true,true,false]
[" 45 - 49 ",7210,3511,3699,false,true,true,false]
[" 50 - 54 ",6958,3220,3738,false,true,true,false]
[" 55 - 59 ",8865,4019,4846,false,true,true,false]
[" 60 - 64 ",9357,4051,5306,false,true,true,false]
[" 65 - 69 ",8189,3446,4743,false,true,true,false]
[" 70 i więcej",12063,4244,7819,true,false,true,false]
["65+",{"$f":"SUM(B86:B87)","v":20252},{"$f":"SUM(C86:C87)","v":7690},{"$f":"SUM(D86:D87)","v":12562},true,true,false,false]
[" aleksandrowski ",55477,26898,28579,true,true,true,true]
[" 0 - 4 ",2455,1261,1194,false,true,true,false]
[" 5 - 9 ",2934,1468,1466,false,true,true,false]
[" 10 - 14 ",2682,1396,1286,false,true,true,false]
[" 15 - 19 ",2928,1556,1372,false,true,true,false]
[" 20 - 24 ",3513,1777,1736,false,true,true,false]
[" 25 - 29 ",4058,2072,1986,false,true,true,false]
[" 30 - 34 ",4492,2345,2147,false,true,true,false]
[" 35 - 39 ",4174,2110,2064,false,true,true,false]
[" 40 - 44 ",3992,2074,1918,false,true,true,false]
[" 45 - 49 ",3387,1695,1692,false,true,true,false]
[" 50 - 54 ",3483,1682,1801,false,true,true,false]
[" 55 - 59 ",4260,2068,2192,false,true,true,false]
[" 60 - 64 ",4008,1913,2095,false,true,true,false]
[" 65 - 69 ",3353,1450,1903,false,true,true,false]
[" 70 i więcej",5758,2031,3727,true,false,true,false]
["65+",{"$f":"SUM(B103:B104)","v":9111},{"$f":"SUM(C103:C104)","v":3481},{"$f":"SUM(D103:D104)","v":5630},true,true,false,false]
[" brodnicki ",78411,38886,39525,true,true,true,true]
[" 0 - 4 ",4301,2215,2086,false,true,true,false]
[" 5 - 9 ",4858,2536,2322,false,true,true,false]
[" 10 - 14 ",4149,2166,1983,false,true,true,false]
[" 15 - 19 ",4587,2408,2179,false,true,true,false]
[" 20 - 24 ",5552,2815,2737,false,true,true,false]
[" 25 - 29 ",6218,3210,3008,false,true,true,false]
[" 30 - 34 ",6626,3458,3168,false,true,true,false]
[" 35 - 39 ",6054,3160,2894,false,true,true,false]
[" 40 - 44 ",5514,2788,2726,false,true,true,false]
[" 45 - 49 ",4695,2385,2310,false,true,true,false]
[" 50 - 54 ",4963,2509,2454,false,true,true,false]
[" 55 - 59 ",5448,2746,2702,false,true,true,false]
[" 60 - 64 ",4924,2391,2533,false,true,true,false]
[" 65 - 69 ",3928,1774,2154,false,true,true,false]
[" 70 i więcej",6594,2325,4269,true,false,true,false]
["65+",{"$f":"SUM(B120:B121)","v":10522},{"$f":"SUM(C120:C121)","v":4099},{"$f":"SUM(D120:D121)","v":6423},true,true,false,false]
[" bydgoski ",113680,56262,57418,true,true,true,true]
[" 0 - 4 ",5604,2947,2657,false,true,true,false]
[" 5 - 9 ",7271,3715,3556,false,true,true,false]
[" 10 - 14 ",6571,3433,3138,false,true,true,false]
[" 15 - 19 ",6652,3384,3268,false,true,true,false]
[" 20 - 24 ",7674,3923,3751,false,true,true,false]
[" 25 - 29 ",7916,4021,3895,false,true,true,false]
[" 30 - 34 ",9191,4600,4591,false,true,true,false]
[" 35 - 39 ",9583,4711,4872,false,true,true,false]
[" 40 - 44 ",9399,4778,4621,false,true,true,false]
[" 45 - 49 ",7848,4010,3838,{"$f":"IFERROR(IF(SEARCH(\" - \",A133)>0,FALSE,TRUE),TRUE)","v":false},{"$f":"IFERROR(IF(SEARCH(\"70\",A133)>0,FALSE,TRUE),TRUE)","v":true},{"$f":"IFERROR(IF(SEARCH(\"65+\",A133)>0,FALSE,TRUE),TRUE)","v":true},{"$f":"AND(E133:G133)","v":false}]
[" 50 - 54 ",7189,3614,3575,false,true,true,false]
[" 55 - 59 ",7849,3952,3897,false,true,true,false]
[" 60 - 64 ",6985,3391,3594,false,true,true,false]
[" 65 - 69 ",5699,2664,3035,false,true,true,false]
[" 70 i więcej",8249,3119,5130,true,false,true,false]
["65+",{"$f":"SUM(B137:B138)","v":13948},{"$f":"SUM(C137:C138)","v":5783},{"$f":"SUM(D137:D138)","v":8165},true,true,false,false]
[" chełmiński ",52345,25713,26632,true,true,true,true]
[" 0 - 4 ",2591,1343,1248,false,true,true,false]
[" 5 - 9 ",3057,1588,1469,false,true,true,false]
[" 10 - 14 ",2753,1400,1353,false,true,true,false]
[" 15 - 19 ",2929,1493,1436,false,true,true,false]
[" 20 - 24 ",3582,1832,1750,false,true,true,false]
[" 25 - 29 ",3915,2031,1884,false,true,true,false]
[" 30 - 34 ",4493,2295,2198,false,true,true,false]
[" 35 - 39 ",4034,2047,1987,false,true,true,false]
[" 40 - 44 ",3739,1903,1836,false,true,true,false]
[" 45 - 49 ",3263,1647,1616,false,true,true,false]
[" 50 - 54 ",3358,1668,1690,false,true,true,false]
[" 55 - 59 ",3847,1903,1944,false,true,true,false]
[" 60 - 64 ",3520,1686,1834,false,true,true,false]
[" 65 - 69 ",2746,1238,1508,false,true,true,false]
[" 70 i więcej",4518,1639,2879,true,false,true,false]
["65+",{"$f":"SUM(B154:B155)","v":7264},{"$f":"SUM(C154:C155)","v":2877},{"$f":"SUM(D154:D155)","v":4387},true,true,false,false]
[" golubsko-dobrzyński ",45290,22408,22882,true,true,true,true]
[" 0 - 4 ",2336,1165,1171,false,true,true,false]
[" 5 - 9 ",2582,1350,1232,false,true,true,false]
[" 10 - 14 ",2431,1257,1174,false,true,true,false]
[" 15 - 19 ",2658,1366,1292,false,true,true,false]
[" 20 - 24 ",3343,1676,1667,false,true,true,false]
[" 25 - 29 ",3564,1785,1779,false,true,true,false]
[" 30 - 34 ",3674,1965,1709,false,true,true,false]
[" 35 - 39 ",3376,1762,1614,false,true,true,false]
[" 40 - 44 ",3048,1537,1511,false,true,true,false]
[" 45 - 49 ",2886,1463,1423,false,true,true,false]
[" 50 - 54 ",2954,1561,1393,false,true,true,false]
[" 55 - 59 ",3157,1589,1568,false,true,true,false]
[" 60 - 64 ",2912,1406,1506,false,true,true,false]
[" 65 - 69 ",2268,1055,1213,false,true,true,false]
[" 70 i więcej",4101,1471,2630,true,false,true,false]
["65+",{"$f":"SUM(B171:B172)","v":6369},{"$f":"SUM(C171:C172)","v":2526},{"$f":"SUM(D171:D172)","v":3843},true,true,false,false]
[" grudziądzki ",40316,20166,20150,true,true,true,true]
[" 0 - 4 ",2113,1058,1055,false,true,true,false]
[" 5 - 9 ",2552,1289,1263,false,true,true,false]
[" 10 - 14 ",2302,1220,1082,false,true,true,false]
[" 15 - 19 ",2403,1279,1124,false,true,true,false]
[" 20 - 24 ",3053,1549,1504,false,true,true,false]
[" 25 - 29 ",3026,1577,1449,false,true,true,false]
[" 30 - 34 ",3048,1571,1477,false,true,true,false]
[" 35 - 39 ",3028,1550,1478,false,true,true,false]
[" 40 - 44 ",3002,1533,1469,false,true,true,false]
[" 45 - 49 ",2632,1355,1277,false,true,true,false]
[" 50 - 54 ",2660,1359,1301,false,true,true,false]
[" 55 - 59 ",2828,1468,1360,false,true,true,false]
[" 60 - 64 ",2477,1218,1259,false,true,true,false]
[" 65 - 69 ",2024,979,1045,false,true,true,false]
[" 70 i więcej",3168,1161,2007,true,false,true,false]
["65+",{"$f":"SUM(B188:B189)","v":5192},{"$f":"SUM(C188:C189)","v":2140},{"$f":"SUM(D188:D189)","v":3052},true,true,false,false]
[" inowrocławski ",162157,78648,83509,true,true,true,true]
[" 0 - 4 ",7075,3665,3410,false,true,true,false]
[" 5 - 9 ",8204,4192,4012,false,true,true,false]
[" 10 - 14 ",7344,3756,3588,false,true,true,false]
[" 15 - 19 ",8307,4178,4129,false,true,true,false]
[" 20 - 24 ",10417,5369,5048,false,true,true,false]
[" 25 - 29 ",11762,6123,5639,{"$f":"IFERROR(IF(SEARCH(\" - \",A197)>0,FALSE,TRUE),TRUE)","v":false},{"$f":"IFERROR(IF(SEARCH(\"70\",A197)>0,FALSE,TRUE),TRUE)","v":true},{"$f":"IFERROR(IF(SEARCH(\"65+\",A197)>0,FALSE,TRUE),TRUE)","v":true},{"$f":"AND(E197:G197)","v":false}]
[" 30 - 34 ",13295,6913,6382,false,true,true,false]
[" 35 - 39 ",12598,6470,6128,false,true,true,false]
[" 40 - 44 ",11722,5943,5779,false,true,true,false]
[" 45 - 49 ",10370,5139,5231,false,true,true,false]
[" 50 - 54 ",10949,5304,5645,false,true,true,false]
[" 55 - 59 ",12805,6130,6675,false,true,true,false]
[" 60 - 64 ",11767,5562,6205,false,true,true,false]
[" 65 - 69 ",9986,4374,5612,false,true,true,false]
[" 70 i więcej",15556,5530,10026,true,false,true,false]
["65+",{"$f":"SUM(B205:B206)","v":25542},{"$f":"SUM(C205:C206)","v":9904},{"$f":"SUM(D205:D206)","v":15638},true,true,false,false]
[" lipnowski ",66658,33179,33479,true,true,true,true]
[" 0 - 4 ",3425,1802,1623,false,true,true,false]
[" 5 - 9 ",3944,2026,1918,false,true,true,false]
[" 10 - 14 ",3589,1836,1753,false,true,true,false]
[" 15 - 19 ",4142,2143,1999,false,true,true,false]
[" 20 - 24 ",5109,2671,2438,false,true,true,false]
[" 25 - 29 ",5176,2739,2437,false,true,true,false]
[" 30 - 34 ",5236,2753,2483,false,true,true,false]
[" 35 - 39 ",4952,2559,2393,false,true,true,false]
[" 40 - 44 ",4674,2416,2258,false,true,true,false]
[" 45 - 49 ",4239,2163,2076,false,true,true,false]
[" 50 - 54 ",4238,2177,2061,false,true,true,false]
[" 55 - 59 ",4653,2323,2330,false,true,true,false]
[" 60 - 64 ",4272,2129,2143,false,true,true,false]
[" 65 - 69 ",3211,1455,1756,false,true,true,false]
[" 70 i więcej",5798,1987,3811,true,false,true,false]
["65+",{"$f":"SUM(B222:B223)","v":9009},{"$f":"SUM(C222:C223)","v":3442},{"$f":"SUM(D222:D223)","v":5567},true,true,false,false]
[" mogileński ",46181,22615,23566,true,true,true,true]
[" 0 - 4 ",2156,1092,1064,false,true,true,false]
[" 5 - 9 ",2483,1262,1221,false,true,true,false]
[" 10 - 14 ",2200,1099,1101,false,true,true,false]
[" 15 - 19 ",2729,1418,1311,false,true,true,false]
[" 20 - 24 ",3114,1571,1543,false,true,true,false]
[" 25 - 29 ",3523,1813,1710,false,true,true,false]
[" 30 - 34 ",3735,1923,1812,false,true,true,false]
[" 35 - 39 ",3497,1812,1685,false,true,true,false]
[" 40 - 44 ",3252,1683,1569,false,true,true,false]
[" 45 - 49 ",2849,1449,1400,false,true,true,false]
[" 50 - 54 ",3059,1509,1550,false,true,true,false]
[" 55 - 59 ",3503,1730,1773,false,true,true,false]
[" 60 - 64 ",3167,1562,1605,false,true,true,false]
[" 65 - 69 ",2668,1194,1474,false,true,true,false]
[" 70 i więcej",4246,1498,2748,true,false,true,false]
["65+",{"$f":"SUM(B239:B240)","v":6914},{"$f":"SUM(C239:C240)","v":2692},{"$f":"SUM(D239:D240)","v":4222},true,true,false,false]
[" nakielski ",86784,43020,43764,true,true,true,true]
[" 0 - 4 ",4492,2345,2147,false,true,true,false]
[" 5 - 9 ",5179,2715,2464,false,true,true,false]
[" 10 - 14 ",4633,2352,2281,false,true,true,false]
[" 15 - 19 ",5011,2566,2445,false,true,true,false]
[" 20 - 24 ",6142,3168,2974,false,true,true,false]
[" 25 - 29 ",6656,3453,3203,false,true,true,false]
[" 30 - 34 ",7356,3783,3573,false,true,true,false]
[" 35 - 39 ",6548,3400,3148,false,true,true,false]
[" 40 - 44 ",6169,3102,3067,false,true,true,false]
[" 45 - 49 ",5405,2717,2688,false,true,true,false]
[" 50 - 54 ",5432,2786,2646,false,true,true,false]
[" 55 - 59 ",6292,3129,3163,false,true,true,false]
[" 60 - 64 ",5722,2781,2941,false,true,true,false]
[" 65 - 69 ",4686,2163,2523,false,true,true,false]
[" 70 i więcej",7061,2560,4501,true,false,true,false]
["65+",{"$f":"SUM(B256:B257)","v":11747},{"$f":"SUM(C256:C257)","v":4723},{"$f":"SUM(D256:D257)","v":7024},true,true,false,false]
[" radziejowski ",41242,20418,20824,true,true,true,true]
[" 0 - 4 ",1869,965,904,false,true,true,false]
[" 5 - 9 ",2063,1001,1062,{"$f":"IFERROR(IF(SEARCH(\" - \",A261)>0,FALSE,TRUE),TRUE)","v":false},{"$f":"IFERROR(IF(SEARCH(\"70\",A261)>0,FALSE,TRUE),TRUE)","v":true},{"$f":"IFERROR(IF(SEARCH(\"65+\",A261)>0,FALSE,TRUE),TRUE)","v":true},{"$f":"AND(E261:G261)","v":false}]
[" 10 - 14 ",1912,975,937,false,true,true,false]
[" 15 - 19 ",2195,1144,1051,false,true,true,false]
[" 20 - 24 ",3128,1590,1538,false,true,true,false]
[" 25 - 29 ",3098,1637,1461,false,true,true,false]
[" 30 - 34 ",3072,1639,1433,false,true,true,false]
[" 35 - 39 ",2864,1529,1335,false,true,true,false]
[" 40 - 44 ",2907,1479,1428,false,true,true,false]
[" 45 - 49 ",2705,1357,1348,false,true,true,false]
[" 50 - 54 ",2835,1461,1374,false,true,true,false]
[" 55 - 59 ",3140,1587,1553,false,true,true,false]
[" 60 - 64 ",2794,1412,1382,false,true,true,false]
[" 65 - 69 ",2286,1079,1207,false,true,true,false]
[" 70 i więcej",4374,1563,2811,true,false,true,false]
["65+",{"$f":"SUM(B273:B274)","v":6660},{"$f":"SUM(C273:C274)","v":2642},{"$f":"SUM(D273:D274)","v":4018},true,true,false,false]
[" rypiński ",44234,21873,22361,true,true,true,true]
[" 0 - 4 ",2204,1167,1037,false,true,true,false]
[" 5 - 9 ",2565,1315,1250,false,true,true,false]
[" 10 - 14 ",2354,1217,1137,false,true,true,false]
[" 15 - 19 ",2502,1296,1206,false,true,true,false]
[" 20 - 24 ",3218,1666,1552,false,true,true,false]
[" 25 - 29 ",3251,1677,1574,false,true,true,false]
[" 30 - 34 ",3371,1751,1620,false,true,true,false]
[" 35 - 39 ",3308,1696,1612,false,true,true,false]
[" 40 - 44 ",2995,1525,1470,false,true,true,false]
[" 45 - 49 ",2672,1350,1322,false,true,true,false]
[" 50 - 54 ",2864,1496,1368,false,true,true,false]
[" 55 - 59 ",3330,1669,1661,false,true,true,false]
[" 60 - 64 ",2970,1434,1536,false,true,true,false]
[" 65 - 69 ",2372,1094,1278,false,true,true,false]
[" 70 i więcej",4258,1520,2738,true,false,true,false]
["65+",{"$f":"SUM(B290:B291)","v":6630},{"$f":"SUM(C290:C291)","v":2614},{"$f":"SUM(D290:D291)","v":4016},true,true,false,false]
[" sępoleński ",41446,20651,20795,true,true,true,true]
[" 0 - 4 ",2074,1099,975,false,true,true,false]
[" 5 - 9 ",2616,1374,1242,false,true,true,false]
[" 10 - 14 ",2179,1107,1072,false,true,true,false]
[" 15 - 19 ",2371,1216,1155,false,true,true,false]
[" 20 - 24 ",2923,1513,1410,false,true,true,false]
[" 25 - 29 ",3289,1716,1573,false,true,true,false]
[" 30 - 34 ",3318,1727,1591,false,true,true,false]
[" 35 - 39 ",3080,1570,1510,false,true,true,false]
[" 40 - 44 ",2842,1459,1383,false,true,true,false]
[" 45 - 49 ",2416,1227,1189,false,true,true,false]
[" 50 - 54 ",2596,1326,1270,false,true,true,false]
[" 55 - 59 ",3078,1563,1515,false,true,true,false]
[" 60 - 64 ",2722,1349,1373,false,true,true,false]
[" 65 - 69 ",2185,1018,1167,false,true,true,false]
[" 70 i więcej",3757,1387,2370,true,false,true,false]
["65+",{"$f":"SUM(B307:B308)","v":5942},{"$f":"SUM(C307:C308)","v":2405},{"$f":"SUM(D307:D308)","v":3537},true,true,false,false]
[" świecki ",99699,49164,50535,true,true,true,true]
[" 0 - 4 ",5080,2614,2466,false,true,true,false]
[" 5 - 9 ",5860,3048,2812,false,true,true,false]
[" 10 - 14 ",5181,2595,2586,false,true,true,false]
[" 15 - 19 ",5415,2773,2642,false,true,true,false]
[" 20 - 24 ",6828,3470,3358,false,true,true,false]
[" 25 - 29 ",7319,3783,3536,false,true,true,false]
[" 30 - 34 ",8298,4207,4091,false,true,true,false]
[" 35 - 39 ",7771,3970,3801,false,true,true,false]
[" 40 - 44 ",7147,3678,3469,false,true,true,false]
[" 45 - 49 ",6246,3169,3077,false,true,true,false]
[" 50 - 54 ",6257,3129,3128,false,true,true,false]
[" 55 - 59 ",7429,3691,3738,false,true,true,false]
[" 60 - 64 ",6962,3361,3601,false,true,true,false]
[" 65 - 69 ",5624,2597,3027,false,true,true,false]
[" 70 i więcej",8282,3079,5203,{"$f":"IFERROR(IF(SEARCH(\" - \",A325)>0,FALSE,TRUE),TRUE)","v":true},{"$f":"IFERROR(IF(SEARCH(\"70\",A325)>0,FALSE,TRUE),TRUE)","v":false},{"$f":"IFERROR(IF(SEARCH(\"65+\",A325)>0,FALSE,TRUE),TRUE)","v":true},{"$f":"AND(E325:G325)","v":false}]
["65+",{"$f":"SUM(B324:B325)","v":13906},{"$f":"SUM(C324:C325)","v":5676},{"$f":"SUM(D324:D325)","v":8230},true,true,false,false]
[" toruński ",103898,51206,52692,true,true,true,true]
[" 0 - 4 ",5622,2922,2700,false,true,true,false]
[" 5 - 9 ",6835,3465,3370,false,true,true,false]
[" 10 - 14 ",6290,3270,3020,false,true,true,false]
[" 15 - 19 ",6229,3150,3079,false,true,true,false]
[" 20 - 24 ",7108,3593,3515,false,true,true,false]
[" 25 - 29 ",7652,3796,3856,false,true,true,false]
[" 30 - 34 ",8679,4286,4393,false,true,true,false]
[" 35 - 39 ",8965,4542,4423,false,true,true,false]
[" 40 - 44 ",8427,4217,4210,false,true,true,false]
[" 45 - 49 ",6560,3341,3219,false,true,true,false]
[" 50 - 54 ",6305,3178,3127,false,true,true,false]
[" 55 - 59 ",6965,3484,3481,false,true,true,false]
[" 60 - 64 ",6322,3111,3211,false,true,true,false]
[" 65 - 69 ",4629,2181,2448,false,true,true,false]
[" 70 i więcej",7310,2670,4640,true,false,true,false]
["65+",{"$f":"SUM(B341:B342)","v":11939},{"$f":"SUM(C341:C342)","v":4851},{"$f":"SUM(D341:D342)","v":7088},true,true,false,false]
[" tucholski ",48384,24133,24251,true,true,true,true]
[" 0 - 4 ",2562,1346,1216,false,true,true,false]
[" 5 - 9 ",2919,1477,1442,false,true,true,false]
[" 10 - 14 ",2591,1348,1243,false,true,true,false]
[" 15 - 19 ",3119,1633,1486,false,true,true,false]
[" 20 - 24 ",3258,1641,1617,false,true,true,false]
[" 25 - 29 ",3786,1986,1800,false,true,true,false]
[" 30 - 34 ",3913,2093,1820,false,true,true,false]
[" 35 - 39 ",3517,1803,1714,false,true,true,false]
[" 40 - 44 ",3175,1582,1593,false,true,true,false]
[" 45 - 49 ",2949,1492,1457,false,true,true,false]
[" 50 - 54 ",3100,1566,1534,false,true,true,false]
[" 55 - 59 ",3687,1880,1807,false,true,true,false]
[" 60 - 64 ",3185,1574,1611,false,true,true,false]
[" 65 - 69 ",2569,1219,1350,false,true,true,false]
[" 70 i więcej",4054,1493,2561,true,false,true,false]
["65+",{"$f":"SUM(B358:B359)","v":6623},{"$f":"SUM(C358:C359)","v":2712},{"$f":"SUM(D358:D359)","v":3911},true,true,false,false]
[" wąbrzeski ",34823,17095,17728,true,true,true,true]
[" 0 - 4 ",1757,888,869,false,true,true,false]
[" 5 - 9 ",1965,983,982,false,true,true,false]
[" 10 - 14 ",1780,896,884,false,true,true,false]
[" 15 - 19 ",1946,1002,944,false,true,true,false]
[" 20 - 24 ",2503,1256,1247,false,true,true,false]
[" 25 - 29 ",2571,1302,1269,false,true,true,false]
[" 30 - 34 ",2722,1401,1321,false,true,true,false]
[" 35 - 39 ",2609,1371,1238,false,true,true,false]
[" 40 - 44 ",2470,1296,1174,false,true,true,false]
[" 45 - 49 ",2221,1140,1081,false,true,true,false]
[" 50 - 54 ",2241,1153,1088,false,true,true,false]
[" 55 - 59 ",2467,1197,1270,false,true,true,false]
[" 60 - 64 ",2398,1203,1195,false,true,true,false]
[" 65 - 69 ",1917,876,1041,false,true,true,false]
[" 70 i więcej",3256,1131,2125,true,false,true,false]
["65+",{"$f":"SUM(B375:B376)","v":5173},{"$f":"SUM(C375:C376)","v":2007},{"$f":"SUM(D375:D376)","v":3166},true,true,false,false]
[" włocławski ",86624,42884,43740,true,true,true,true]
[" 0 - 4 ",3836,1964,1872,false,true,true,false]
[" 5 - 9 ",4510,2304,2206,false,true,true,false]
[" 10 - 14 ",4364,2219,2145,false,true,true,false]
[" 15 - 19 ",5064,2603,2461,false,true,true,false]
[" 20 - 24 ",6255,3233,3022,false,true,true,false]
[" 25 - 29 ",6383,3327,3056,false,true,true,false]
[" 30 - 34 ",6302,3307,2995,false,true,true,false]
[" 35 - 39 ",6352,3257,3095,false,true,true,false]
[" 40 - 44 ",6404,3273,3131,false,true,true,false]
[" 45 - 49 ",5997,3046,2951,false,true,true,false]
[" 50 - 54 ",5802,2999,2803,{"$f":"IFERROR(IF(SEARCH(\" - \",A389)>0,FALSE,TRUE),TRUE)","v":false},{"$f":"IFERROR(IF(SEARCH(\"70\",A389)>0,FALSE,TRUE),TRUE)","v":true},{"$f":"IFERROR(IF(SEARCH(\"65+\",A389)>0,FALSE,TRUE),TRUE)","v":true},{"$f":"AND(E389:G389)","v":false}]
[" 55 - 59 ",6557,3370,3187,false,true,true,false]
[" 60 - 64 ",5727,2882,2845,false,true,true,false]
[" 65 - 69 ",4692,2150,2542,false,true,true,false]
[" 70 i więcej",8379,2950,5429,true,false,true,false]
["65+",{"$f":"SUM(B392:B393)","v":13071},{"$f":"SUM(C392:C393)","v":5100},{"$f":"SUM(D392:D393)","v":7971},true,true,false,false]
[" żniński ",70548,34876,35672,true,true,true,true]
[" 0 - 4 ",3493,1801,1692,false,true,true,false]
[" 5 - 9 ",4007,2003,2004,false,true,true,false]
[" 10 - 14 ",3557,1831,1726,false,true,true,false]
[" 15 - 19 ",3880,2040,1840,false,true,true,false]
[" 20 - 24 ",4807,2458,2349,false,true,true,false]
[" 25 - 29 ",5173,2664,2509,false,true,true,false]
[" 30 - 34 ",5682,2961,2721,false,true,true,false]
[" 35 - 39 ",5483,2835,2648,false,true,true,false]
[" 40 - 44 ",5096,2635,2461,false,true,true,false]
[" 45 - 49 ",4221,2149,2072,false,true,true,false]
[" 50 - 54 ",4377,2187,2190,false,true,true,false]
[" 55 - 59 ",5210,2526,2684,false,true,true,false]
[" 60 - 64 ",5128,2451,2677,false,true,true,false]
[" 65 - 69 ",4225,1971,2254,false,true,true,false]
[" 70 i więcej",6209,2364,3845,true,false,true,false]
["65+",{"$f":"SUM(B409:B410)","v":10434},{"$f":"SUM(C409:C410)","v":4335},{"$f":"SUM(D409:D410)","v":6099},true,true,false,false]

{"sheet":"Lubelskie","index":8,"n_rows":428,"n_cols":8,"rows_kept":428,"cut":false,"hidden":true,"merged":[[0,0,2,0],[0,1,2,1],[0,2,2,2],[0,3,2,3]]}
["Województwa\nPowiaty\nGrupy wieku ","Ogółem","Mężczyźni","Kobiety "]
[]
[]
["Lubelskie ",2135715,1034911,1100804,{"$f":"IFERROR(IF(SEARCH(\" - \",A4)>0,FALSE,TRUE),TRUE)","v":true},{"$f":"IFERROR(IF(SEARCH(\" 70 \",A4)>0,FALSE,TRUE),TRUE)","v":true},{"$f":"IFERROR(IF(SEARCH(\"65+\",A4)>0,FALSE,TRUE),TRUE)","v":true},{"$f":"AND(E4:G4)","v":true}]
[" 0 - 4 ",98952,50350,48602,{"$f":"IFERROR(IF(SEARCH(\" - \",A5)>0,FALSE,TRUE),TRUE)","v":false},{"$f":"IFERROR(IF(SEARCH(\" 70 \",A5)>0,FALSE,TRUE),TRUE)","v":true},{"$f":"IFERROR(IF(SEARCH(\" 65+ \",A5)>0,FALSE,TRUE),TRUE)","v":true},{"$f":"AND(E5:G5)","v":false}]
[" 5 - 9 ",111204,56772,54432,false,true,true,false]
[" 10 - 14 ",102783,52759,50024,false,true,true,false]
[" 15 - 19 ",116259,59596,56663,false,true,true,false]
[" 20 - 24 ",141054,72041,69013,false,true,true,false]
[" 25 - 29 ",159367,82407,76960,false,true,true,false]
[" 30 - 34 ",173253,89846,83407,false,true,true,false]
[" 35 - 39 ",163050,84003,79047,false,true,true,false]
[" 40 - 44 ",149100,76112,72988,false,true,true,false]
[" 45 - 49 ",131321,66235,65086,false,true,true,false]
[" 50 - 54 ",133476,66383,67093,false,true,true,false]
[" 55 - 59 ",152026,73801,78225,false,true,true,false]
[" 60 - 64 ",148679,69529,79150,false,true,true,false]
[" 65 - 69 ",119104,51977,67127,false,true,true,false]
[" 70 i więcej",236087,83100,152987,true,false,true,false]
["65+",{"$f":"SUM(B18:B19)","v":355191},{"$f":"SUM(C18:C19)","v":135077},{"$f":"SUM(D18:D19)","v":220114},true,true,{"$f":"IFERROR(IF(SEARCH(\"65+\",A20)>0,FALSE,TRUE),TRUE)","v":false},false]
[" Biała Podlaska ",57389,27527,29862,true,true,true,true]
[" 0 - 4 ",2778,1401,1377,false,true,true,false]
[" 5 - 9 ",3075,1574,1501,false,true,true,false]
[" 10 - 14 ",2564,1318,1246,false,true,true,false]
[" 15 - 19 ",3162,1558,1604,false,true,true,false]
[" 20 - 24 ",3526,1783,1743,false,true,true,false]
[" 25 - 29 ",4794,2584,2210,false,true,true,false]
[" 30 - 34 ",4959,2599,2360,false,true,true,false]
[" 35 - 39 ",4441,2236,2205,false,true,true,false]
[" 40 - 44 ",4020,2017,2003,false,true,true,false]
[" 45 - 49 ",3422,1637,1785,false,true,true,false]
[" 50 - 54 ",3688,1691,1997,false,true,true,false]
[" 55 - 59 ",4602,2081,2521,false,true,true,false]
[" 60 - 64 ",4527,1930,2597,false,true,true,false]
[" 65 - 69 ",3157,1402,1755,false,true,true,false]
[" 70 i więcej",4674,1716,2958,true,false,true,false]
["65+",{"$f":"SUM(B35:B36)","v":7831},{"$f":"SUM(C35:C36)","v":3118},{"$f":"SUM(D35:D36)","v":4713},true,true,{"$f":"IFERROR(IF(SEARCH(\"65+\",A37)>0,FALSE,TRUE),TRUE)","v":false},false]
[" Chełm ",63949,30070,33879,true,true,true,true]
[" 0 - 4 ",2555,1278,1277,false,true,true,false]
[" 5 - 9 ",3022,1530,1492,false,true,true,false]
[" 10 - 14 ",2604,1371,1233,false,true,true,false]
[" 15 - 19 ",2960,1512,1448,false,true,true,false]
[" 20 - 24 ",3775,1974,1801,false,true,true,false]
[" 25 - 29 ",4668,2408,2260,false,true,true,false]
[" 30 - 34 ",5300,2737,2563,false,true,true,false]
[" 35 - 39 ",5052,2546,2506,false,true,true,false]
[" 40 - 44 ",4498,2233,2265,false,true,true,false]
[" 45 - 49 ",3952,1876,2076,false,true,true,false]
[" 50 - 54 ",4250,1970,2280,false,true,true,false]
[" 55 - 59 ",5194,2274,2920,false,true,true,false]
[" 60 - 64 ",5428,2316,3112,false,true,true,false]
[" 65 - 69 ",4133,1715,2418,false,true,true,false]
[" 70 i więcej",6558,2330,4228,true,false,true,false]
["65+",{"$f":"SUM(B52:B53)","v":10691},{"$f":"SUM(C52:C53)","v":4045},{"$f":"SUM(D52:D53)","v":6646},true,true,{"$f":"IFERROR(IF(SEARCH(\"65+\",A54)>0,FALSE,TRUE),TRUE)","v":false},false]
[" Lublin ",340745,156905,183840,true,true,true,true]
[" 0 - 4 ",16551,8388,8163,false,true,true,false]
[" 5 - 9 ",16840,8510,8330,false,true,true,false]
[" 10 - 14 ",14135,7165,6970,false,true,true,false]
[" 15 - 19 ",14884,7357,7527,false,true,true,false]
[" 20 - 24 ",16735,8388,8347,false,true,true,false]
[" 25 - 29 ",26552,12667,13885,false,true,true,false]
[" 30 - 34 ",31055,15215,15840,false,true,true,false]
[" 35 - 39 ",27941,13780,14161,false,true,true,false]
[" 40 - 44 ",24982,12127,12855,false,true,true,false]
[" 45 - 49 ",20340,9787,10553,false,true,true,false]
[" 50 - 54 ",20009,9323,10686,false,true,true,false]
[" 55 - 59 ",23803,10617,13186,false,true,true,false]
[" 60 - 64 ",25738,10944,14794,false,true,true,false]
[" 65 - 69 ",21161,8638,12523,{"$f":"IFERROR(IF(SEARCH(\" - \",A69)>0,FALSE,TRUE),TRUE)","v":false},{"$f":"IFERROR(IF(SEARCH(\" 70 \",A69)>0,FALSE,TRUE),TRUE)","v":true},{"$f":"IFERROR(IF(SEARCH(\" 65+ \",A69)>0,FALSE,TRUE),TRUE)","v":true},{"$f":"AND(E69:G69)","v":false}]
[" 70 i więcej",40019,13999,26020,true,false,true,false]
["65+",{"$f":"SUM(B69:B70)","v":61180},{"$f":"SUM(C69:C70)","v":22637},{"$f":"SUM(D69:D70)","v":38543},true,true,{"$f":"IFERROR(IF(SEARCH(\"65+\",A71)>0,FALSE,TRUE),TRUE)","v":false},false]
[" Zamość ",64746,30544,34202,true,true,true,true]
[" 0 - 4 ",2848,1426,1422,false,true,true,false]
[" 5 - 9 ",3170,1624,1546,false,true,true,false]
[" 10 - 14 ",2684,1380,1304,false,true,true,false]
[" 15 - 19 ",3571,1815,1756,false,true,true,false]
[" 20 - 24 ",3779,1921,1858,false,true,true,false]
[" 25 - 29 ",4814,2419,2395,false,true,true,false]
[" 30 - 34 ",5790,2982,2808,false,true,true,false]
[" 35 - 39 ",5045,2580,2465,false,true,true,false]
[" 40 - 44 ",4246,2089,2157,false,true,true,false]
[" 45 - 49 ",3814,1753,2061,false,true,true,false]
[" 50 - 54 ",4119,1862,2257,false,true,true,false]
[" 55 - 59 ",5435,2401,3034,false,true,true,false]
[" 60 - 64 ",5298,2371,2927,false,true,true,false]
[" 65 - 69 ",3747,1593,2154,false,true,true,false]
[" 70 i więcej",6386,2328,4058,true,false,true,false]
["65+",{"$f":"SUM(B86:B87)","v":10133},{"$f":"SUM(C86:C87)","v":3921},{"$f":"SUM(D86:D87)","v":6212},true,true,{"$f":"IFERROR(IF(SEARCH(\"65+\",A88)>0,FALSE,TRUE),TRUE)","v":false},false]
[" bialski ",112330,55703,56627,true,true,true,true]
[" 0 - 4 ",5566,2882,2684,false,true,true,false]
[" 5 - 9 ",6217,3176,3041,false,true,true,false]
[" 10 - 14 ",5929,3044,2885,false,true,true,false]
[" 15 - 19 ",6946,3543,3403,false,true,true,false]
[" 20 - 24 ",8665,4381,4284,false,true,true,false]
[" 25 - 29 ",8535,4472,4063,false,true,true,false]
[" 30 - 34 ",8483,4591,3892,false,true,true,false]
[" 35 - 39 ",7933,4175,3758,false,true,true,false]
[" 40 - 44 ",7624,4023,3601,false,true,true,false]
[" 45 - 49 ",7151,3669,3482,false,true,true,false]
[" 50 - 54 ",7078,3701,3377,false,true,true,false]
[" 55 - 59 ",7578,3885,3693,false,true,true,false]
[" 60 - 64 ",6754,3360,3394,false,true,true,false]
[" 65 - 69 ",5502,2442,3060,false,true,true,false]
[" 70 i więcej",12369,4359,8010,true,false,true,false]
["65+",{"$f":"SUM(B103:B104)","v":17871},{"$f":"SUM(C103:C104)","v":6801},{"$f":"SUM(D103:D104)","v":11070},true,true,{"$f":"IFERROR(IF(SEARCH(\"65+\",A105)>0,FALSE,TRUE),TRUE)","v":false},false]
[" biłgorajski ",102341,50440,51901,true,true,true,true]
[" 0 - 4 ",4619,2424,2195,false,true,true,false]
[" 5 - 9 ",5350,2729,2621,false,true,true,false]
[" 10 - 14 ",5197,2652,2545,false,true,true,false]
[" 15 - 19 ",5988,3162,2826,false,true,true,false]
[" 20 - 24 ",6976,3521,3455,false,true,true,false]
[" 25 - 29 ",7634,4048,3586,false,true,true,false]
[" 30 - 34 ",8339,4421,3918,false,true,true,false]
[" 35 - 39 ",7917,4058,3859,false,true,true,false]
[" 40 - 44 ",7132,3742,3390,false,true,true,false]
[" 45 - 49 ",6133,3189,2944,false,true,true,false]
[" 50 - 54 ",6593,3369,3224,false,true,true,false]
[" 55 - 59 ",7222,3614,3608,false,true,true,false]
[" 60 - 64 ",6594,3127,3467,false,true,true,false]
[" 65 - 69 ",5521,2519,3002,false,true,true,false]
[" 70 i więcej",11126,3865,7261,true,false,true,false]
["65+",{"$f":"SUM(B120:B121)","v":16647},{"$f":"SUM(C120:C121)","v":6384},{"$f":"SUM(D120:D121)","v":10263},true,true,{"$f":"IFERROR(IF(SEARCH(\"65+\",A122)>0,FALSE,TRUE),TRUE)","v":false},false]
[" chełmski ",79239,39045,40194,true,true,true,true]
[" 0 - 4 ",3627,1801,1826,false,true,true,false]
[" 5 - 9 ",4300,2210,2090,false,true,true,false]
[" 10 - 14 ",3933,2009,1924,false,true,true,false]
[" 15 - 19 ",4620,2374,2246,false,true,true,false]
[" 20 - 24 ",5902,3024,2878,false,true,true,false]
[" 25 - 29 ",6128,3250,2878,false,true,true,false]
[" 30 - 34 ",6351,3349,3002,false,true,true,false]
[" 35 - 39 ",6006,3165,2841,false,true,true,false]
[" 40 - 44 ",5504,2874,2630,false,true,true,false]
[" 45 - 49 ",4876,2453,2423,{"$f":"IFERROR(IF(SEARCH(\" - \",A133)>0,FALSE,TRUE),TRUE)","v":false},{"$f":"IFERROR(IF(SEARCH(\" 70 \",A133)>0,FALSE,TRUE),TRUE)","v":true},{"$f":"IFERROR(IF(SEARCH(\" 65+ \",A133)>0,FALSE,TRUE),TRUE)","v":true},{"$f":"AND(E133:G133)","v":false}]
[" 50 - 54 ",5012,2620,2392,false,true,true,false]
[" 55 - 59 ",5664,2877,2787,false,true,true,false]
[" 60 - 64 ",5259,2662,2597,false,true,true,false]
[" 65 - 69 ",3993,1814,2179,false,true,true,false]
[" 70 i więcej",8064,2563,5501,true,false,true,false]
["65+",{"$f":"SUM(B137:B138)","v":12057},{"$f":"SUM(C137:C138)","v":4377},{"$f":"SUM(D137:D138)","v":7680},true,true,{"$f":"IFERROR(IF(SEARCH(\"65+\",A139)>0,FALSE,TRUE),TRUE)","v":false},false]
[" hrubieszowski ",65562,32140,33422,true,true,true,true]
[" 0 - 4 ",2692,1369,1323,false,true,true,false]
[" 5 - 9 ",3139,1617,1522,false,true,true,false]
[" 10 - 14 ",3038,1554,1484,false,true,true,false]
[" 15 - 19 ",3569,1809,1760,false,true,true,false]
[" 20 - 24 ",4616,2380,2236,false,true,true,false]
[" 25 - 29 ",4633,2444,2189,false,true,true,false]
[" 30 - 34 ",5060,2728,2332,false,true,true,false]
[" 35 - 39 ",4728,2529,2199,false,true,true,false]
[" 40 - 44 ",4370,2267,2103,false,true,true,false]
[" 45 - 49 ",4022,2086,1936,false,true,true,false]
[" 50 - 54 ",4228,2090,2138,false,true,true,false]
[" 55 - 59 ",4928,2477,2451,false,true,true,false]
[" 60 - 64 ",4702,2290,2412,false,true,true,false]
[" 65 - 69 ",3875,1711,2164,false,true,true,false]
[" 70 i więcej",7962,2789,5173,true,false,true,false]
["65+",{"$f":"SUM(B154:B155)","v":11837},{"$f":"SUM(C154:C155)","v":4500},{"$f":"SUM(D154:D155)","v":7337},true,true,{"$f":"IFERROR(IF(SEARCH(\"65+\",A156)>0,FALSE,TRUE),TRUE)","v":false},false]
[" janowski ",46742,23135,23607,true,true,true,true]
[" 0 - 4 ",2042,996,1046,false,true,true,false]
[" 5 - 9 ",2348,1211,1137,false,true,true,false]
[" 10 - 14 ",2407,1242,1165,false,true,true,false]
[" 15 - 19 ",2756,1416,1340,false,true,true,false]
[" 20 - 24 ",3529,1820,1709,false,true,true,false]
[" 25 - 29 ",3315,1743,1572,false,true,true,false]
[" 30 - 34 ",3414,1837,1577,false,true,true,false]
[" 35 - 39 ",3444,1762,1682,false,true,true,false]
[" 40 - 44 ",3322,1733,1589,false,true,true,false]
[" 45 - 49 ",3017,1608,1409,false,true,true,false]
[" 50 - 54 ",3065,1591,1474,false,true,true,false]
[" 55 - 59 ",3164,1617,1547,false,true,true,false]
[" 60 - 64 ",2874,1428,1446,false,true,true,false]
[" 65 - 69 ",2537,1159,1378,false,true,true,false]
[" 70 i więcej",5508,1972,3536,true,false,true,false]
["65+",{"$f":"SUM(B171:B172)","v":8045},{"$f":"SUM(C171:C172)","v":3131},{"$f":"SUM(D171:D172)","v":4914},true,true,{"$f":"IFERROR(IF(SEARCH(\"65+\",A173)>0,FALSE,TRUE),TRUE)","v":false},false]
[" krasnostawski ",65142,31696,33446,true,true,true,true]
[" 0 - 4 ",2572,1261,1311,false,true,true,false]
[" 5 - 9 ",2903,1504,1399,false,true,true,false]
[" 10 - 14 ",2939,1553,1386,false,true,true,false]
[" 15 - 19 ",3369,1774,1595,false,true,true,false]
[" 20 - 24 ",4372,2237,2135,false,true,true,false]
[" 25 - 29 ",4416,2311,2105,false,true,true,false]
[" 30 - 34 ",4930,2583,2347,false,true,true,false]
[" 35 - 39 ",4938,2609,2329,false,true,true,false]
[" 40 - 44 ",4395,2339,2056,false,true,true,false]
[" 45 - 49 ",3782,1918,1864,false,true,true,false]
[" 50 - 54 ",3944,1974,1970,false,true,true,false]
[" 55 - 59 ",4901,2479,2422,false,true,true,false]
[" 60 - 64 ",4979,2365,2614,false,true,true,false]
[" 65 - 69 ",3967,1743,2224,false,true,true,false]
[" 70 i więcej",8735,3046,5689,true,false,true,false]
["65+",{"$f":"SUM(B188:B189)","v":12702},{"$f":"SUM(C188:C189)","v":4789},{"$f":"SUM(D188:D189)","v":7913},true,true,{"$f":"IFERROR(IF(SEARCH(\"65+\",A190)>0,FALSE,TRUE),TRUE)","v":false},false]
[" kraśnicki ",97244,47321,49923,true,true,true,true]
[" 0 - 4 ",3977,2038,1939,false,true,true,false]
[" 5 - 9 ",4845,2453,2392,false,true,true,false]
[" 10 - 14 ",4699,2425,2274,false,true,true,false]
[" 15 - 19 ",5261,2731,2530,false,true,true,false]
[" 20 - 24 ",6589,3443,3146,false,true,true,false]
[" 25 - 29 ",6868,3557,3311,{"$f":"IFERROR(IF(SEARCH(\" - \",A197)>0,FALSE,TRUE),TRUE)","v":false},{"$f":"IFERROR(IF(SEARCH(\" 70 \",A197)>0,FALSE,TRUE),TRUE)","v":true},{"$f":"IFERROR(IF(SEARCH(\" 65+ \",A197)>0,FALSE,TRUE),TRUE)","v":true},{"$f":"AND(E197:G197)","v":false}]
[" 30 - 34 ",7643,3920,3723,false,true,true,false]
[" 35 - 39 ",7526,3893,3633,false,true,true,false]
[" 40 - 44 ",6693,3389,3304,false,true,true,false]
[" 45 - 49 ",5976,3041,2935,false,true,true,false]
[" 50 - 54 ",6031,3040,2991,false,true,true,false]
[" 55 - 59 ",6951,3451,3500,false,true,true,false]
[" 60 - 64 ",6932,3321,3611,false,true,true,false]
[" 65 - 69 ",5379,2396,2983,false,true,true,false]
[" 70 i więcej",11874,4223,7651,true,false,true,false]
["65+",{"$f":"SUM(B205:B206)","v":17253},{"$f":"SUM(C205:C206)","v":6619},{"$f":"SUM(D205:D206)","v":10634},true,true,{"$f":"IFERROR(IF(SEARCH(\"65+\",A207)>0,FALSE,TRUE),TRUE)","v":false},false]
[" lubartowski ",89332,43675,45657,true,true,true,true]
[" 0 - 4 ",4363,2223,2140,false,true,true,false]
[" 5 - 9 ",4989,2480,2509,false,true,true,false]
[" 10 - 14 ",4637,2403,2234,false,true,true,false]
[" 15 - 19 ",4901,2553,2348,false,true,true,false]
[" 20 - 24 ",6276,3201,3075,false,true,true,false]
[" 25 - 29 ",6618,3428,3190,false,true,true,false]
[" 30 - 34 ",7214,3769,3445,false,true,true,false]
[" 35 - 39 ",6901,3592,3309,false,true,true,false]
[" 40 - 44 ",6265,3269,2996,false,true,true,false]
[" 45 - 49 ",5576,2915,2661,false,true,true,false]
[" 50 - 54 ",5415,2741,2674,false,true,true,false]
[" 55 - 59 ",6024,2953,3071,false,true,true,false]
[" 60 - 64 ",5972,2891,3081,false,true,true,false]
[" 65 - 69 ",4747,2122,2625,false,true,true,false]
[" 70 i więcej",9434,3135,6299,true,false,true,false]
["65+",{"$f":"SUM(B222:B223)","v":14181},{"$f":"SUM(C222:C223)","v":5257},{"$f":"SUM(D222:D223)","v":8924},true,true,{"$f":"IFERROR(IF(SEARCH(\"65+\",A224)>0,FALSE,TRUE),TRUE)","v":false},false]
[" lubelski ",151679,74250,77429,true,true,true,true]
[" 0 - 4 ",7476,3821,3655,false,true,true,false]
[" 5 - 9 ",9048,4668,4380,false,true,true,false]
[" 10 - 14 ",8141,4213,3928,false,true,true,false]
[" 15 - 19 ",9099,4720,4379,false,true,true,false]
[" 20 - 24 ",10596,5340,5256,false,true,true,false]
[" 25 - 29 ",10871,5541,5330,false,true,true,false]
[" 30 - 34 ",11981,6119,5862,false,true,true,false]
[" 35 - 39 ",12126,6170,5956,false,true,true,false]
[" 40 - 44 ",11762,5903,5859,false,true,true,false]
[" 45 - 49 ",10031,5188,4843,false,true,true,false]
[" 50 - 54 ",9205,4649,4556,false,true,true,false]
[" 55 - 59 ",9893,4933,4960,false,true,true,false]
[" 60 - 64 ",9448,4563,4885,false,true,true,false]
[" 65 - 69 ",7318,3277,4041,false,true,true,false]
[" 70 i więcej",14684,5145,9539,true,false,true,false]
["65+",{"$f":"SUM(B239:B240)","v":22002},{"$f":"SUM(C239:C240)","v":8422},{"$f":"SUM(D239:D240)","v":13580},true,true,{"$f":"IFERROR(IF(SEARCH(\"65+\",A241)>0,FALSE,TRUE),TRUE)","v":false},false]
[" łęczyński ",57367,28154,29213,true,true,true,true]
[" 0 - 4 ",3118,1565,1553,false,true,true,false]
[" 5 - 9 ",3188,1600,1588,false,true,true,false]
[" 10 - 14 ",2952,1463,1489,false,true,true,false]
[" 15 - 19 ",3094,1551,1543,false,true,true,false]
[" 20 - 24 ",4120,2147,1973,false,true,true,false]
[" 25 - 29 ",4904,2591,2313,false,true,true,false]
[" 30 - 34 ",5196,2713,2483,false,true,true,false]
[" 35 - 39 ",4477,2315,2162,false,true,true,false]
[" 40 - 44 ",3720,1907,1813,false,true,true,false]
[" 45 - 49 ",3388,1673,1715,false,true,true,false]
[" 50 - 54 ",3996,1911,2085,false,true,true,false]
[" 55 - 59 ",4414,2171,2243,false,true,true,false]
[" 60 - 64 ",3764,1830,1934,false,true,true,false]
[" 65 - 69 ",2610,1220,1390,false,true,true,false]
[" 70 i więcej",4426,1497,2929,true,false,true,false]
["65+",{"$f":"SUM(B256:B257)","v":7036},{"$f":"SUM(C256:C257)","v":2717},{"$f":"SUM(D256:D257)","v":4319},true,true,{"$f":"IFERROR(IF(SEARCH(\"65+\",A258)>0,FALSE,TRUE),TRUE)","v":false},false]
[" łukowski ",108382,53924,54458,true,true,true,true]
[" 0 - 4 ",6065,3109,2956,false,true,true,false]
[" 5 - 9 ",6496,3310,3186,{"$f":"IFERROR(IF(SEARCH(\" - \",A261)>0,FALSE,TRUE),TRUE)","v":false},{"$f":"IFERROR(IF(SEARCH(\" 70 \",A261)>0,FALSE,TRUE),TRUE)","v":true},{"$f":"IFERROR(IF(SEARCH(\" 65+ \",A261)>0,FALSE,TRUE),TRUE)","v":true},{"$f":"AND(E261:G261)","v":false}]
[" 10 - 14 ",6038,3115,2923,false,true,true,false]
[" 15 - 19 ",6849,3509,3340,false,true,true,false]
[" 20 - 24 ",8171,4236,3935,false,true,true,false]
[" 25 - 29 ",8711,4590,4121,false,true,true,false]
[" 30 - 34 ",8596,4596,4000,false,true,true,false]
[" 35 - 39 ",7899,4201,3698,false,true,true,false]
[" 40 - 44 ",7177,3730,3447,false,true,true,false]
[" 45 - 49 ",6311,3283,3028,false,true,true,false]
[" 50 - 54 ",6434,3353,3081,false,true,true,false]
[" 55 - 59 ",6903,3472,3431,false,true,true,false]
[" 60 - 64 ",6559,3118,3441,false,true,true,false]
[" 65 - 69 ",5342,2373,2969,false,true,true,false]
[" 70 i więcej",10831,3929,6902,true,false,true,false]
["65+",{"$f":"SUM(B273:B274)","v":16173},{"$f":"SUM(C273:C274)","v":6302},{"$f":"SUM(D273:D274)","v":9871},true,true,{"$f":"IFERROR(IF(SEARCH(\"65+\",A275)>0,FALSE,TRUE),TRUE)","v":false},false]
[" opolski ",60764,29707,31057,true,true,true,true]
[" 0 - 4 ",2762,1412,1350,false,true,true,false]
[" 5 - 9 ",3195,1630,1565,false,true,true,false]
[" 10 - 14 ",2993,1494,1499,false,true,true,false]
[" 15 - 19 ",2990,1542,1448,false,true,true,false]
[" 20 - 24 ",4519,2314,2205,false,true,true,false]
[" 25 - 29 ",4518,2381,2137,false,true,true,false]
[" 30 - 34 ",4661,2419,2242,false,true,true,false]
[" 35 - 39 ",4572,2379,2193,false,true,true,false]
[" 40 - 44 ",4161,2135,2026,false,true,true,false]
[" 45 - 49 ",3655,1889,1766,false,true,true,false]
[" 50 - 54 ",3695,1877,1818,false,true,true,false]
[" 55 - 59 ",4348,2137,2211,false,true,true,false]
[" 60 - 64 ",4381,2136,2245,false,true,true,false]
[" 65 - 69 ",3481,1567,1914,false,true,true,false]
[" 70 i więcej",6833,2395,4438,true,false,true,false]
["65+",{"$f":"SUM(B290:B291)","v":10314},{"$f":"SUM(C290:C291)","v":3962},{"$f":"SUM(D290:D291)","v":6352},true,true,{"$f":"IFERROR(IF(SEARCH(\"65+\",A292)>0,FALSE,TRUE),TRUE)","v":false},false]
[" parczewski ",35500,17572,17928,true,true,true,true]
[" 0 - 4 ",1757,889,868,false,true,true,false]
[" 5 - 9 ",1781,910,871,false,true,true,false]
[" 10 - 14 ",1738,886,852,false,true,true,false]
[" 15 - 19 ",1945,1027,918,false,true,true,false]
[" 20 - 24 ",2481,1264,1217,false,true,true,false]
[" 25 - 29 ",2633,1385,1248,false,true,true,false]
[" 30 - 34 ",2871,1592,1279,false,true,true,false]
[" 35 - 39 ",2531,1359,1172,false,true,true,false]
[" 40 - 44 ",2334,1249,1085,false,true,true,false]
[" 45 - 49 ",2154,1070,1084,false,true,true,false]
[" 50 - 54 ",2212,1161,1051,false,true,true,false]
[" 55 - 59 ",2581,1277,1304,false,true,true,false]
[" 60 - 64 ",2454,1202,1252,false,true,true,false]
[" 65 - 69 ",1962,882,1080,false,true,true,false]
[" 70 i więcej",4066,1419,2647,true,false,true,false]
["65+",{"$f":"SUM(B307:B308)","v":6028},{"$f":"SUM(C307:C308)","v":2301},{"$f":"SUM(D307:D308)","v":3727},true,true,{"$f":"IFERROR(IF(SEARCH(\"65+\",A309)>0,FALSE,TRUE),TRUE)","v":false},false]
[" puławski ",114859,55112,59747,true,true,true,true]
[" 0 - 4 ",4833,2477,2356,false,true,true,false]
[" 5 - 9 ",5588,2893,2695,false,true,true,false]
[" 10 - 14 ",5341,2747,2594,false,true,true,false]
[" 15 - 19 ",6603,3379,3224,false,true,true,false]
[" 20 - 24 ",6944,3631,3313,false,true,true,false]
[" 25 - 29 ",7652,3959,3693,false,true,true,false]
[" 30 - 34 ",8384,4256,4128,false,true,true,false]
[" 35 - 39 ",8364,4282,4082,false,true,true,false]
[" 40 - 44 ",8072,4102,3970,false,true,true,false]
[" 45 - 49 ",7637,3844,3793,false,true,true,false]
[" 50 - 54 ",7367,3623,3744,false,true,true,false]
[" 55 - 59 ",8100,3841,4259,false,true,true,false]
[" 60 - 64 ",8224,3795,4429,false,true,true,false]
[" 65 - 69 ",7231,2974,4257,false,true,true,false]
[" 70 i więcej",14519,5309,9210,{"$f":"IFERROR(IF(SEARCH(\" - \",A325)>0,FALSE,TRUE),TRUE)","v":true},{"$f":"IFERROR(IF(SEARCH(\" 70 \",A325)>0,FALSE,TRUE),TRUE)","v":false},{"$f":"IFERROR(IF(SEARCH(\" 65+ \",A325)>0,FALSE,TRUE),TRUE)","v":true},{"$f":"AND(E325:G325)","v":false}]
["65+",{"$f":"SUM(B324:B325)","v":21750},{"$f":"SUM(C324:C325)","v":8283},{"$f":"SUM(D324:D325)","v":13467},true,true,{"$f":"IFERROR(IF(SEARCH(\"65+\",A326)>0,FALSE,TRUE),TRUE)","v":false},false]
[" radzyński ",60119,30003,30116,true,true,true,true]
[" 0 - 4 ",2965,1531,1434,false,true,true,false]
[" 5 - 9 ",3354,1740,1614,false,true,true,false]
[" 10 - 14 ",3304,1661,1643,false,true,true,false]
[" 15 - 19 ",3586,1852,1734,false,true,true,false]
[" 20 - 24 ",4457,2291,2166,false,true,true,false]
[" 25 - 29 ",4418,2424,1994,false,true,true,false]
[" 30 - 34 ",4696,2482,2214,false,true,true,false]
[" 35 - 39 ",4433,2387,2046,false,true,true,false]
[" 40 - 44 ",4017,2119,1898,false,true,true,false]
[" 45 - 49 ",3603,1915,1688,false,true,true,false]
[" 50 - 54 ",3853,1932,1921,false,true,true,false]
[" 55 - 59 ",4197,2134,2063,false,true,true,false]
[" 60 - 64 ",3844,1876,1968,false,true,true,false]
[" 65 - 69 ",3064,1376,1688,false,true,true,false]
[" 70 i więcej",6328,2283,4045,true,false,true,false]
["65+",{"$f":"SUM(B341:B342)","v":9392},{"$f":"SUM(C341:C342)","v":3659},{"$f":"SUM(D341:D342)","v":5733},true,true,{"$f":"IFERROR(IF(SEARCH(\"65+\",A343)>0,FALSE,TRUE),TRUE)","v":false},false]
[" rycki ",57233,28552,28681,true,true,true,true]
[" 0 - 4 ",2739,1411,1328,false,true,true,false]
[" 5 - 9 ",2912,1495,1417,false,true,true,false]
[" 10 - 14 ",2762,1421,1341,false,true,true,false]
[" 15 - 19 ",3307,1852,1455,false,true,true,false]
[" 20 - 24 ",4039,2031,2008,false,true,true,false]
[" 25 - 29 ",4460,2492,1968,false,true,true,false]
[" 30 - 34 ",4453,2443,2010,false,true,true,false]
[" 35 - 39 ",4139,2226,1913,false,true,true,false]
[" 40 - 44 ",3666,1940,1726,false,true,true,false]
[" 45 - 49 ",3385,1730,1655,false,true,true,false]
[" 50 - 54 ",3521,1759,1762,false,true,true,false]
[" 55 - 59 ",4250,2050,2200,false,true,true,false]
[" 60 - 64 ",4116,1952,2164,false,true,true,false]
[" 65 - 69 ",3308,1522,1786,false,true,true,false]
[" 70 i więcej",6176,2228,3948,true,false,true,false]
["65+",{"$f":"SUM(B358:B359)","v":9484},{"$f":"SUM(C358:C359)","v":3750},{"$f":"SUM(D358:D359)","v":5734},true,true,{"$f":"IFERROR(IF(SEARCH(\"65+\",A360)>0,FALSE,TRUE),TRUE)","v":false},false]
[" świdnicki ",72509,34840,37669,true,true,true,true]
[" 0 - 4 ",3254,1652,1602,false,true,true,false]
[" 5 - 9 ",3749,1905,1844,false,true,true,false]
[" 10 - 14 ",3410,1794,1616,false,true,true,false]
[" 15 - 19 ",3595,1829,1766,false,true,true,false]
[" 20 - 24 ",4111,2053,2058,false,true,true,false]
[" 25 - 29 ",5045,2625,2420,false,true,true,false]
[" 30 - 34 ",5825,2943,2882,false,true,true,false]
[" 35 - 39 ",5933,2989,2944,false,true,true,false]
[" 40 - 44 ",5305,2695,2610,false,true,true,false]
[" 45 - 49 ",4508,2265,2243,false,true,true,false]
[" 50 - 54 ",4394,2191,2203,false,true,true,false]
[" 55 - 59 ",5140,2445,2695,false,true,true,false]
[" 60 - 64 ",5365,2436,2929,false,true,true,false]
[" 65 - 69 ",4445,1903,2542,false,true,true,false]
[" 70 i więcej",8430,3115,5315,true,false,true,false]
["65+",{"$f":"SUM(B375:B376)","v":12875},{"$f":"SUM(C375:C376)","v":5018},{"$f":"SUM(D375:D376)","v":7857},true,true,{"$f":"IFERROR(IF(SEARCH(\"65+\",A377)>0,FALSE,TRUE),TRUE)","v":false},false]
[" tomaszowski ",85356,42075,43281,true,true,true,true]
[" 0 - 4 ",3669,1831,1838,false,true,true,false]
[" 5 - 9 ",4236,2179,2057,false,true,true,false]
[" 10 - 14 ",4104,2119,1985,false,true,true,false]
[" 15 - 19 ",4656,2380,2276,false,true,true,false]
[" 20 - 24 ",6128,3166,2962,false,true,true,false]
[" 25 - 29 ",6222,3324,2898,false,true,true,false]
[" 30 - 34 ",6785,3607,3178,false,true,true,false]
[" 35 - 39 ",6258,3296,2962,false,true,true,false]
[" 40 - 44 ",5778,2993,2785,false,true,true,false]
[" 45 - 49 ",5228,2640,2588,false,true,true,false]
[" 50 - 54 ",5695,2979,2716,{"$f":"IFERROR(IF(SEARCH(\" - \",A389)>0,FALSE,TRUE),TRUE)","v":false},{"$f":"IFERROR(IF(SEARCH(\" 70 \",A389)>0,FALSE,TRUE),TRUE)","v":true},{"$f":"IFERROR(IF(SEARCH(\" 65+ \",A389)>0,FALSE,TRUE),TRUE)","v":true},{"$f":"AND(E389:G389)","v":false}]
[" 55 - 59 ",6299,3226,3073,false,true,true,false]
[" 60 - 64 ",5729,2785,2944,false,true,true,false]
[" 65 - 69 ",4653,2078,2575,false,true,true,false]
[" 70 i więcej",9916,3472,6444,true,false,true,false]
["65+",{"$f":"SUM(B392:B393)","v":14569},{"$f":"SUM(C392:C393)","v":5550},{"$f":"SUM(D392:D393)","v":9019},true,true,{"$f":"IFERROR(IF(SEARCH(\"65+\",A394)>0,FALSE,TRUE),TRUE)","v":false},false]
[" włodawski ",39148,19344,19804,true,true,true,true]
[" 0 - 4 ",1817,975,842,false,true,true,false]
[" 5 - 9 ",2036,1043,993,false,true,true,false]
[" 10 - 14 ",1831,971,860,false,true,true,false]
[" 15 - 19 ",2131,1082,1049,false,true,true,false]
[" 20 - 24 ",2689,1366,1323,false,true,true,false]
[" 25 - 29 ",2962,1583,1379,false,true,true,false]
[" 30 - 34 ",3139,1689,1450,false,true,true,false]
[" 35 - 39 ",2877,1515,1362,false,true,true,false]
[" 40 - 44 ",2662,1385,1277,false,true,true,false]
[" 45 - 49 ",2385,1211,1174,false,true,true,false]
[" 50 - 54 ",2549,1317,1232,false,true,true,false]
[" 55 - 59 ",2825,1403,1422,false,true,true,false]
[" 60 - 64 ",2892,1377,1515,false,true,true,false]
[" 65 - 69 ",2330,1040,1290,false,true,true,false]
[" 70 i więcej",4023,1387,2636,true,false,true,false]
["65+",{"$f":"SUM(B409:B410)","v":6353},{"$f":"SUM(C409:C410)","v":2427},{"$f":"SUM(D409:D410)","v":3926},true,true,{"$f":"IFERROR(IF(SEARCH(\"65+\",A411)>0,FALSE,TRUE),TRUE)","v":false},false]
[" zamojski ",108038,53177,54861,true,true,true,true]
[" 0 - 4 ",4307,2190,2117,false,true,true,false]
[" 5 - 9 ",5423,2781,2642,false,true,true,false]
[" 10 - 14 ",5403,2759,2644,false,true,true,false]
[" 15 - 19 ",6417,3269,3148,false,true,true,false]
[" 20 - 24 ",8059,4129,3930,false,true,true,false]
[" 25 - 29 ",7996,4181,3815,false,true,true,false]
[" 30 - 34 ",8128,4256,3872,false,true,true,false]
[" 35 - 39 ",7569,3959,3610,false,true,true,false]
[" 40 - 44 ",7395,3852,3543,false,true,true,false]
[" 45 - 49 ",6975,3595,3380,false,true,true,false]
[" 50 - 54 ",7123,3659,3464,false,true,true,false]
[" 55 - 59 ",7610,3986,3624,false,true,true,false]
[" 60 - 64 ",6846,3454,3392,false,true,true,false]
[" 65 - 69 ",5641,2511,3130,false,true,true,false]
[" 70 i więcej",13146,4596,8550,true,false,true,false]
["65+",{"$f":"SUM(B426:B427)","v":18787},{"$f":"SUM(C426:C427)","v":7107},{"$f":"SUM(D426:D427)","v":11680},true,true,{"$f":"IFERROR(IF(SEARCH(\"65+\",A428)>0,FALSE,TRUE),TRUE)","v":false},false]

{"sheet":"Lubuskie","index":9,"n_rows":258,"n_cols":8,"rows_kept":258,"cut":false,"hidden":true,"merged":[[0,0,2,0],[0,1,2,1],[0,2,2,2],[0,3,2,3]]}
["Województwa\nPowiaty\nGrupy wieku ","Ogółem","Mężczyźni","Kobiety "]
[]
[]
["Lubuskie ",1017450,495223,522227,{"$f":"IFERROR(IF(SEARCH(\" - \",A4)>0,FALSE,TRUE),TRUE)","v":true},{"$f":"IFERROR(IF(SEARCH(\"65+\",A4)>0,FALSE,TRUE),TRUE)","v":true},{"$f":"IFERROR(IF(SEARCH(\"70\",A4)>0,FALSE,TRUE),TRUE)","v":true},{"$f":"AND(E4:G4)","v":true}]
[" 0 - 4 ",49362,25234,24128,{"$f":"IFERROR(IF(SEARCH(\" - \",A5)>0,FALSE,TRUE),TRUE)","v":false},{"$f":"IFERROR(IF(SEARCH(\"65+\",A5)>0,FALSE,TRUE),TRUE)","v":true},{"$f":"IFERROR(IF(SEARCH(\"70\",A5)>0,FALSE,TRUE),TRUE)","v":true},{"$f":"AND(E5:G5)","v":false}]
[" 5 - 9 ",56462,28894,27568,false,true,true,false]
[" 10 - 14 ",48135,24658,23477,false,true,true,false]
[" 15 - 19 ",51974,26759,25215,false,true,true,false]
[" 20 - 24 ",62341,31657,30684,false,true,true,false]
[" 25 - 29 ",73181,37404,35777,false,true,true,false]
[" 30 - 34 ",87258,44488,42770,false,true,true,false]
[" 35 - 39 ",84314,43133,41181,false,true,true,false]
[" 40 - 44 ",74216,37941,36275,false,true,true,false]
[" 45 - 49 ",59644,30061,29583,false,true,true,false]
[" 50 - 54 ",62240,30941,31299,false,true,true,false]
[" 55 - 59 ",77542,37662,39880,false,true,true,false]
[" 60 - 64 ",76928,36130,40798,false,true,true,false]
[" 65 - 69 ",62251,28379,33872,false,true,true,false]
[" 70 i więcej",91602,31882,59720,true,true,false,false]
["65+",{"$f":"SUM(B18:B19)","v":153853},{"$f":"SUM(C18:C19)","v":60261},{"$f":"SUM(D18:D19)","v":93592},true,false,true,false]
[" Gorzów Wielkopolski ",123911,58980,64931,true,true,true,true]
[" 0 - 4 ",6038,3098,2940,false,true,true,false]
[" 5 - 9 ",6601,3403,3198,false,true,true,false]
[" 10 - 14 ",5272,2761,2511,false,true,true,false]
[" 15 - 19 ",5609,2879,2730,false,true,true,false]
[" 20 - 24 ",6033,3145,2888,false,true,true,false]
[" 25 - 29 ",8483,4234,4249,false,true,true,false]
[" 30 - 34 ",10929,5497,5432,false,true,true,false]
[" 35 - 39 ",10859,5353,5506,false,true,true,false]
[" 40 - 44 ",9042,4506,4536,false,true,true,false]
[" 45 - 49 ",7250,3620,3630,false,true,true,false]
[" 50 - 54 ",7091,3475,3616,false,true,true,false]
[" 55 - 59 ",9274,4280,4994,false,true,true,false]
[" 60 - 64 ",10366,4533,5833,false,true,true,false]
[" 65 - 69 ",8611,3779,4832,false,true,true,false]
[" 70 i więcej",12453,4417,8036,true,true,false,false]
["65+",{"$f":"SUM(B35:B36)","v":21064},{"$f":"SUM(C35:C36)","v":8196},{"$f":"SUM(D35:D36)","v":12868},true,false,true,false]
[" Zielona Góra ",138898,65952,72946,true,true,true,true]
[" 0 - 4 ",6960,3543,3417,false,true,true,false]
[" 5 - 9 ",7398,3780,3618,false,true,true,false]
[" 10 - 14 ",5880,2960,2920,false,true,true,false]
[" 15 - 19 ",6435,3254,3181,false,true,true,false]
[" 20 - 24 ",6743,3464,3279,false,true,true,false]
[" 25 - 29 ",8896,4406,4490,false,true,true,false]
[" 30 - 34 ",12790,6280,6510,false,true,true,false]
[" 35 - 39 ",12710,6312,6398,false,true,true,false]
[" 40 - 44 ",10658,5334,5324,false,true,true,false]
[" 45 - 49 ",7758,3833,3925,false,true,true,false]
[" 50 - 54 ",7906,3836,4070,false,true,true,false]
[" 55 - 59 ",10202,4717,5485,false,true,true,false]
[" 60 - 64 ",10856,4844,6012,false,true,true,false]
[" 65 - 69 ",9220,4046,5174,false,true,true,false]
[" 70 i więcej",14486,5343,9143,true,true,false,false]
["65+",{"$f":"SUM(B52:B53)","v":23706},{"$f":"SUM(C52:C53)","v":9389},{"$f":"SUM(D52:D53)","v":14317},true,false,true,false]
[" gorzowski ",70990,35193,35797,true,true,true,true]
[" 0 - 4 ",3485,1804,1681,false,true,true,false]
[" 5 - 9 ",4321,2219,2102,false,true,true,false]
[" 10 - 14 ",3857,1984,1873,false,true,true,false]
[" 15 - 19 ",3957,2024,1933,false,true,true,false]
[" 20 - 24 ",4796,2428,2368,false,true,true,false]
[" 25 - 29 ",5213,2682,2531,false,true,true,false]
[" 30 - 34 ",5758,2927,2831,false,true,true,false]
[" 35 - 39 ",5889,3012,2877,false,true,true,false]
[" 40 - 44 ",5410,2764,2646,false,true,true,false]
[" 45 - 49 ",4621,2368,2253,false,true,true,false]
[" 50 - 54 ",4583,2331,2252,false,true,true,false]
[" 55 - 59 ",5368,2700,2668,false,true,true,false]
[" 60 - 64 ",4802,2373,2429,false,true,true,false]
[" 65 - 69 ",3705,1751,1954,{"$f":"IFERROR(IF(SEARCH(\" - \",A69)>0,FALSE,TRUE),TRUE)","v":false},{"$f":"IFERROR(IF(SEARCH(\"65+\",A69)>0,FALSE,TRUE),TRUE)","v":true},{"$f":"IFERROR(IF(SEARCH(\"70\",A69)>0,FALSE,TRUE),TRUE)","v":true},{"$f":"AND(E69:G69)","v":false}]
[" 70 i więcej",5225,1826,3399,true,true,false,false]
["65+",{"$f":"SUM(B69:B70)","v":8930},{"$f":"SUM(C69:C70)","v":3577},{"$f":"SUM(D69:D70)","v":5353},true,false,true,false]
[" krośnieński ",55855,27403,28452,true,true,true,true]
[" 0 - 4 ",2593,1322,1271,false,true,true,false]
[" 5 - 9 ",2992,1529,1463,false,true,true,false]
[" 10 - 14 ",2565,1308,1257,false,true,true,false]
[" 15 - 19 ",2995,1544,1451,false,true,true,false]
[" 20 - 24 ",3704,1847,1857,false,true,true,false]
[" 25 - 29 ",4013,2100,1913,false,true,true,false]
[" 30 - 34 ",4743,2434,2309,false,true,true,false]
[" 35 - 39 ",4561,2355,2206,false,true,true,false]
[" 40 - 44 ",4081,2120,1961,false,true,true,false]
[" 45 - 49 ",3333,1700,1633,false,true,true,false]
[" 50 - 54 ",3505,1778,1727,false,true,true,false]
[" 55 - 59 ",4333,2102,2231,false,true,true,false]
[" 60 - 64 ",4369,2104,2265,false,true,true,false]
[" 65 - 69 ",3410,1594,1816,false,true,true,false]
[" 70 i więcej",4658,1566,3092,true,true,false,false]
["65+",{"$f":"SUM(B86:B87)","v":8068},{"$f":"SUM(C86:C87)","v":3160},{"$f":"SUM(D86:D87)","v":4908},true,false,true,false]
[" międzyrzecki ",58375,28832,29543,true,true,true,true]
[" 0 - 4 ",2833,1441,1392,false,true,true,false]
[" 5 - 9 ",3209,1626,1583,false,true,true,false]
[" 10 - 14 ",2679,1431,1248,false,true,true,false]
[" 15 - 19 ",2812,1446,1366,false,true,true,false]
[" 20 - 24 ",3716,1905,1811,false,true,true,false]
[" 25 - 29 ",4480,2295,2185,false,true,true,false]
[" 30 - 34 ",5032,2569,2463,false,true,true,false]
[" 35 - 39 ",4636,2408,2228,false,true,true,false]
[" 40 - 44 ",4154,2191,1963,false,true,true,false]
[" 45 - 49 ",3443,1742,1701,false,true,true,false]
[" 50 - 54 ",3788,1917,1871,false,true,true,false]
[" 55 - 59 ",4552,2272,2280,false,true,true,false]
[" 60 - 64 ",4340,2086,2254,false,true,true,false]
[" 65 - 69 ",3603,1671,1932,false,true,true,false]
[" 70 i więcej",5098,1832,3266,true,true,false,false]
["65+",{"$f":"SUM(B103:B104)","v":8701},{"$f":"SUM(C103:C104)","v":3503},{"$f":"SUM(D103:D104)","v":5198},true,false,true,false]
[" nowosolski ",87213,42444,44769,true,true,true,true]
[" 0 - 4 ",4188,2182,2006,false,true,true,false]
[" 5 - 9 ",4971,2523,2448,false,true,true,false]
[" 10 - 14 ",4258,2173,2085,false,true,true,false]
[" 15 - 19 ",4520,2362,2158,false,true,true,false]
[" 20 - 24 ",5584,2807,2777,false,true,true,false]
[" 25 - 29 ",6077,3111,2966,false,true,true,false]
[" 30 - 34 ",7259,3715,3544,false,true,true,false]
[" 35 - 39 ",7069,3660,3409,false,true,true,false]
[" 40 - 44 ",6112,3172,2940,false,true,true,false]
[" 45 - 49 ",4992,2511,2481,false,true,true,false]
[" 50 - 54 ",5125,2580,2545,false,true,true,false]
[" 55 - 59 ",6557,3139,3418,false,true,true,false]
[" 60 - 64 ",6699,3090,3609,false,true,true,false]
[" 65 - 69 ",5587,2579,3008,false,true,true,false]
[" 70 i więcej",8215,2840,5375,true,true,false,false]
["65+",{"$f":"SUM(B120:B121)","v":13802},{"$f":"SUM(C120:C121)","v":5419},{"$f":"SUM(D120:D121)","v":8383},true,false,true,false]
[" słubicki ",47247,23202,24045,true,true,true,true]
[" 0 - 4 ",2292,1158,1134,false,true,true,false]
[" 5 - 9 ",2728,1342,1386,false,true,true,false]
[" 10 - 14 ",2438,1280,1158,false,true,true,false]
[" 15 - 19 ",2590,1347,1243,false,true,true,false]
[" 20 - 24 ",3042,1606,1436,false,true,true,false]
[" 25 - 29 ",3571,1823,1748,false,true,true,false]
[" 30 - 34 ",4086,2081,2005,false,true,true,false]
[" 35 - 39 ",3808,1956,1852,false,true,true,false]
[" 40 - 44 ",3487,1768,1719,false,true,true,false]
[" 45 - 49 ",2981,1515,1466,{"$f":"IFERROR(IF(SEARCH(\" - \",A133)>0,FALSE,TRUE),TRUE)","v":false},{"$f":"IFERROR(IF(SEARCH(\"65+\",A133)>0,FALSE,TRUE),TRUE)","v":true},{"$f":"IFERROR(IF(SEARCH(\"70\",A133)>0,FALSE,TRUE),TRUE)","v":true},{"$f":"AND(E133:G133)","v":false}]
[" 50 - 54 ",3114,1546,1568,false,true,true,false]
[" 55 - 59 ",3700,1854,1846,false,true,true,false]
[" 60 - 64 ",3176,1529,1647,false,true,true,false]
[" 65 - 69 ",2475,1121,1354,false,true,true,false]
[" 70 i więcej",3759,1276,2483,true,true,false,false]
["65+",{"$f":"SUM(B137:B138)","v":6234},{"$f":"SUM(C137:C138)","v":2397},{"$f":"SUM(D137:D138)","v":3837},true,false,true,false]
[" strzelecko-drezdenecki ",49936,24589,25347,true,true,true,true]
[" 0 - 4 ",2506,1287,1219,false,true,true,false]
[" 5 - 9 ",2853,1428,1425,false,true,true,false]
[" 10 - 14 ",2502,1264,1238,false,true,true,false]
[" 15 - 19 ",2605,1343,1262,false,true,true,false]
[" 20 - 24 ",3335,1628,1707,false,true,true,false]
[" 25 - 29 ",3698,1905,1793,false,true,true,false]
[" 30 - 34 ",4054,2136,1918,false,true,true,false]
[" 35 - 39 ",3864,2028,1836,false,true,true,false]
[" 40 - 44 ",3460,1760,1700,false,true,true,false]
[" 45 - 49 ",2972,1514,1458,false,true,true,false]
[" 50 - 54 ",3088,1569,1519,false,true,true,false]
[" 55 - 59 ",3796,1940,1856,false,true,true,false]
[" 60 - 64 ",3679,1790,1889,false,true,true,false]
[" 65 - 69 ",3048,1457,1591,false,true,true,false]
[" 70 i więcej",4476,1540,2936,true,true,false,false]
["65+",{"$f":"SUM(B154:B155)","v":7524},{"$f":"SUM(C154:C155)","v":2997},{"$f":"SUM(D154:D155)","v":4527},true,false,true,false]
[" sulęciński ",35457,17620,17837,true,true,true,true]
[" 0 - 4 ",1796,931,865,false,true,true,false]
[" 5 - 9 ",2116,1078,1038,false,true,true,false]
[" 10 - 14 ",1741,874,867,false,true,true,false]
[" 15 - 19 ",1758,896,862,false,true,true,false]
[" 20 - 24 ",2399,1248,1151,false,true,true,false]
[" 25 - 29 ",2834,1481,1353,false,true,true,false]
[" 30 - 34 ",3123,1669,1454,false,true,true,false]
[" 35 - 39 ",2706,1421,1285,false,true,true,false]
[" 40 - 44 ",2483,1311,1172,false,true,true,false]
[" 45 - 49 ",2027,1013,1014,false,true,true,false]
[" 50 - 54 ",2255,1157,1098,false,true,true,false]
[" 55 - 59 ",2721,1362,1359,false,true,true,false]
[" 60 - 64 ",2553,1273,1280,false,true,true,false]
[" 65 - 69 ",1908,919,989,false,true,true,false]
[" 70 i więcej",3037,987,2050,true,true,false,false]
["65+",{"$f":"SUM(B171:B172)","v":4945},{"$f":"SUM(C171:C172)","v":1906},{"$f":"SUM(D171:D172)","v":3039},true,false,true,false]
[" świebodziński ",56232,27533,28699,true,true,true,true]
[" 0 - 4 ",2909,1456,1453,false,true,true,false]
[" 5 - 9 ",3126,1640,1486,false,true,true,false]
[" 10 - 14 ",2715,1363,1352,false,true,true,false]
[" 15 - 19 ",3013,1542,1471,false,true,true,false]
[" 20 - 24 ",3650,1817,1833,false,true,true,false]
[" 25 - 29 ",4176,2159,2017,false,true,true,false]
[" 30 - 34 ",4817,2474,2343,false,true,true,false]
[" 35 - 39 ",4477,2353,2124,false,true,true,false]
[" 40 - 44 ",3943,2024,1919,false,true,true,false]
[" 45 - 49 ",3240,1662,1578,false,true,true,false]
[" 50 - 54 ",3568,1759,1809,false,true,true,false]
[" 55 - 59 ",4316,2154,2162,false,true,true,false]
[" 60 - 64 ",4073,1932,2141,false,true,true,false]
[" 65 - 69 ",3372,1530,1842,false,true,true,false]
[" 70 i więcej",4837,1668,3169,true,true,false,false]
["65+",{"$f":"SUM(B188:B189)","v":8209},{"$f":"SUM(C188:C189)","v":3198},{"$f":"SUM(D188:D189)","v":5011},true,false,true,false]
[" zielonogórski ",75283,37145,38138,true,true,true,true]
[" 0 - 4 ",3710,1914,1796,false,true,true,false]
[" 5 - 9 ",4169,2123,2046,false,true,true,false]
[" 10 - 14 ",3571,1777,1794,false,true,true,false]
[" 15 - 19 ",4110,2142,1968,false,true,true,false]
[" 20 - 24 ",5061,2532,2529,false,true,true,false]
[" 25 - 29 ",5844,3033,2811,{"$f":"IFERROR(IF(SEARCH(\" - \",A197)>0,FALSE,TRUE),TRUE)","v":false},{"$f":"IFERROR(IF(SEARCH(\"65+\",A197)>0,FALSE,TRUE),TRUE)","v":true},{"$f":"IFERROR(IF(SEARCH(\"70\",A197)>0,FALSE,TRUE),TRUE)","v":true},{"$f":"AND(E197:G197)","v":false}]
[" 30 - 34 ",6432,3301,3131,false,true,true,false]
[" 35 - 39 ",6209,3249,2960,false,true,true,false]
[" 40 - 44 ",5513,2806,2707,false,true,true,false]
[" 45 - 49 ",4422,2244,2178,false,true,true,false]
[" 50 - 54 ",4631,2298,2333,false,true,true,false]
[" 55 - 59 ",5658,2818,2840,false,true,true,false]
[" 60 - 64 ",5607,2727,2880,false,true,true,false]
[" 65 - 69 ",4323,2051,2272,false,true,true,false]
[" 70 i więcej",6023,2130,3893,true,true,false,false]
["65+",{"$f":"SUM(B205:B206)","v":10346},{"$f":"SUM(C205:C206)","v":4181},{"$f":"SUM(D205:D206)","v":6165},true,false,true,false]
[" żagański ",80834,39384,41450,true,true,true,true]
[" 0 - 4 ",3616,1832,1784,false,true,true,false]
[" 5 - 9 ",4368,2280,2088,false,true,true,false]
[" 10 - 14 ",3789,1959,1830,false,true,true,false]
[" 15 - 19 ",4240,2216,2024,false,true,true,false]
[" 20 - 24 ",5114,2547,2567,false,true,true,false]
[" 25 - 29 ",5736,2929,2807,false,true,true,false]
[" 30 - 34 ",6901,3548,3353,false,true,true,false]
[" 35 - 39 ",6466,3388,3078,false,true,true,false]
[" 40 - 44 ",5848,3026,2822,false,true,true,false]
[" 45 - 49 ",4694,2382,2312,false,true,true,false]
[" 50 - 54 ",5094,2555,2539,false,true,true,false]
[" 55 - 59 ",6452,3109,3343,false,true,true,false]
[" 60 - 64 ",6185,2960,3225,false,true,true,false]
[" 65 - 69 ",4910,2263,2647,false,true,true,false]
[" 70 i więcej",7421,2390,5031,true,true,false,false]
["65+",{"$f":"SUM(B222:B223)","v":12331},{"$f":"SUM(C222:C223)","v":4653},{"$f":"SUM(D222:D223)","v":7678},true,false,true,false]
[" żarski ",97942,47542,50400,true,true,true,true]
[" 0 - 4 ",4432,2249,2183,false,true,true,false]
[" 5 - 9 ",5325,2729,2596,false,true,true,false]
[" 10 - 14 ",4727,2425,2302,false,true,true,false]
[" 15 - 19 ",5137,2623,2514,false,true,true,false]
[" 20 - 24 ",6437,3274,3163,false,true,true,false]
[" 25 - 29 ",7146,3715,3431,false,true,true,false]
[" 30 - 34 ",8058,4164,3894,false,true,true,false]
[" 35 - 39 ",8010,4047,3963,false,true,true,false]
[" 40 - 44 ",7246,3725,3521,false,true,true,false]
[" 45 - 49 ",5635,2807,2828,false,true,true,false]
[" 50 - 54 ",6114,2960,3154,false,true,true,false]
[" 55 - 59 ",7684,3769,3915,false,true,true,false]
[" 60 - 64 ",7502,3588,3914,false,true,true,false]
[" 65 - 69 ",5787,2589,3198,false,true,true,false]
[" 70 i więcej",8702,2878,5824,true,true,false,false]
["65+",{"$f":"SUM(B239:B240)","v":14489},{"$f":"SUM(C239:C240)","v":5467},{"$f":"SUM(D239:D240)","v":9022},true,false,true,false]
[" wschowski ",39277,19404,19873,true,true,true,true]
[" 0 - 4 ",2004,1017,987,false,true,true,false]
[" 5 - 9 ",2285,1194,1091,false,true,true,false]
[" 10 - 14 ",2141,1099,1042,false,true,true,false]
[" 15 - 19 ",2193,1141,1052,false,true,true,false]
[" 20 - 24 ",2727,1409,1318,false,true,true,false]
[" 25 - 29 ",3014,1531,1483,false,true,true,false]
[" 30 - 34 ",3276,1693,1583,false,true,true,false]
[" 35 - 39 ",3050,1591,1459,false,true,true,false]
[" 40 - 44 ",2779,1434,1345,false,true,true,false]
[" 45 - 49 ",2276,1150,1126,false,true,true,false]
[" 50 - 54 ",2378,1180,1198,false,true,true,false]
[" 55 - 59 ",2929,1446,1483,false,true,true,false]
[" 60 - 64 ",2721,1301,1420,false,true,true,false]
[" 65 - 69 ",2292,1029,1263,false,true,true,false]
[" 70 i więcej",3212,1189,2023,true,true,false,false]
["65+",{"$f":"SUM(B256:B257)","v":5504},{"$f":"SUM(C256:C257)","v":2218},{"$f":"SUM(D256:D257)","v":3286},true,false,true,false]

{"sheet":"Łódzkie ","index":10,"n_rows":428,"n_cols":8,"rows_kept":428,"cut":false,"hidden":true,"merged":[[0,0,2,0],[0,1,2,1],[0,2,2,2],[0,3,2,3]]}
["Województwa\nPowiaty\nGrupy wieku ","Ogółem","Mężczyźni","Kobiety "]
[]
[]
["Łódzkie ",2488417,1185645,1302772,{"$f":"IFERROR(IF(SEARCH(\" - \",A4)>0,FALSE,TRUE),TRUE)","v":true},{"$f":"IFERROR(IF(SEARCH(\"65+\",A4)>0,FALSE,TRUE),TRUE)","v":true},{"$f":"IFERROR(IF(SEARCH(\"70\",A4)>0,FALSE,TRUE),TRUE)","v":true},{"$f":"AND(E4:G4)","v":true}]
[" 0 - 4 ",113494,58489,55005,{"$f":"IFERROR(IF(SEARCH(\" - \",A5)>0,FALSE,TRUE),TRUE)","v":false},{"$f":"IFERROR(IF(SEARCH(\"65+\",A5)>0,FALSE,TRUE),TRUE)","v":true},{"$f":"IFERROR(IF(SEARCH(\"70\",A5)>0,FALSE,TRUE),TRUE)","v":true},{"$f":"AND(E5:G5)","v":false}]
[" 5 - 9 ",125557,64470,61087,false,true,true,false]
[" 10 - 14 ",110034,56539,53495,false,true,true,false]
[" 15 - 19 ",118793,61012,57781,false,true,true,false]
[" 20 - 24 ",147447,75192,72255,false,true,true,false]
[" 25 - 29 ",168890,86245,82645,false,true,true,false]
[" 30 - 34 ",197422,101148,96274,false,true,true,false]
[" 35 - 39 ",196029,99453,96576,false,true,true,false]
[" 40 - 44 ",178790,89935,88855,false,true,true,false]
[" 45 - 49 ",153358,76056,77302,false,true,true,false]
[" 50 - 54 ",152629,74259,78370,false,true,true,false]
[" 55 - 59 ",187082,88011,99071,false,true,true,false]
[" 60 - 64 ",191861,87592,104269,false,true,true,false]
[" 65 - 69 ",162273,69634,92639,false,true,true,false]
[" 70 i więcej",284758,97610,187148,true,true,false,false]
["65+",{"$f":"SUM(B18:B19)","v":447031},{"$f":"SUM(C18:C19)","v":167244},{"$f":"SUM(D18:D19)","v":279787},true,false,true,false]
[" Łódź ",698688,318043,380645,true,true,true,true]
[" 0 - 4 ",28973,14938,14035,false,true,true,false]
[" 5 - 9 ",30589,15705,14884,false,true,true,false]
[" 10 - 14 ",25652,13246,12406,false,true,true,false]
[" 15 - 19 ",26216,13334,12882,false,true,true,false]
[" 20 - 24 ",34262,17089,17173,false,true,true,false]
[" 25 - 29 ",43930,21742,22188,false,true,true,false]
[" 30 - 34 ",58085,28930,29155,false,true,true,false]
[" 35 - 39 ",57607,28504,29103,false,true,true,false]
[" 40 - 44 ",49965,24621,25344,false,true,true,false]
[" 45 - 49 ",40062,19222,20840,false,true,true,false]
[" 50 - 54 ",39976,18479,21497,false,true,true,false]
[" 55 - 59 ",54098,23654,30444,false,true,true,false]
[" 60 - 64 ",61735,26206,35529,false,true,true,false]
[" 65 - 69 ",54048,22091,31957,false,true,true,false]
[" 70 i więcej",93490,30282,63208,true,true,false,false]
["65+",{"$f":"SUM(B35:B36)","v":147538},{"$f":"SUM(C35:C36)","v":52373},{"$f":"SUM(D35:D36)","v":95165},true,false,true,false]
[" Piotrków Trybunalski ",74905,35171,39734,true,true,true,true]
[" 0 - 4 ",3518,1821,1697,false,true,true,false]
[" 5 - 9 ",3945,2020,1925,false,true,true,false]
[" 10 - 14 ",3510,1734,1776,false,true,true,false]
[" 15 - 19 ",3586,1828,1758,false,true,true,false]
[" 20 - 24 ",4043,2093,1950,false,true,true,false]
[" 25 - 29 ",4875,2435,2440,false,true,true,false]
[" 30 - 34 ",5891,3000,2891,false,true,true,false]
[" 35 - 39 ",6220,3128,3092,false,true,true,false]
[" 40 - 44 ",5498,2788,2710,false,true,true,false]
[" 45 - 49 ",4548,2188,2360,false,true,true,false]
[" 50 - 54 ",4387,2092,2295,false,true,true,false]
[" 55 - 59 ",5459,2401,3058,false,true,true,false]
[" 60 - 64 ",6170,2653,3517,false,true,true,false]
[" 65 - 69 ",5114,2124,2990,false,true,true,false]
[" 70 i więcej",8141,2866,5275,true,true,false,false]
["65+",{"$f":"SUM(B52:B53)","v":13255},{"$f":"SUM(C52:C53)","v":4990},{"$f":"SUM(D52:D53)","v":8265},true,false,true,false]
[" Skierniewice ",48304,23073,25231,true,true,true,true]
[" 0 - 4 ",2541,1336,1205,false,true,true,false]
[" 5 - 9 ",2712,1392,1320,false,true,true,false]
[" 10 - 14 ",2198,1141,1057,false,true,true,false]
[" 15 - 19 ",2197,1192,1005,false,true,true,false]
[" 20 - 24 ",2659,1378,1281,false,true,true,false]
[" 25 - 29 ",3253,1647,1606,false,true,true,false]
[" 30 - 34 ",4073,2060,2013,false,true,true,false]
[" 35 - 39 ",3953,1965,1988,false,true,true,false]
[" 40 - 44 ",3327,1677,1650,false,true,true,false]
[" 45 - 49 ",2865,1378,1487,false,true,true,false]
[" 50 - 54 ",2987,1386,1601,false,true,true,false]
[" 55 - 59 ",3814,1734,2080,false,true,true,false]
[" 60 - 64 ",3980,1766,2214,false,true,true,false]
[" 65 - 69 ",3105,1350,1755,{"$f":"IFERROR(IF(SEARCH(\" - \",A69)>0,FALSE,TRUE),TRUE)","v":false},{"$f":"IFERROR(IF(SEARCH(\"65+\",A69)>0,FALSE,TRUE),TRUE)","v":true},{"$f":"IFERROR(IF(SEARCH(\"70\",A69)>0,FALSE,TRUE),TRUE)","v":true},{"$f":"AND(E69:G69)","v":false}]
[" 70 i więcej",4640,1671,2969,true,true,false,false]
["65+",{"$f":"SUM(B69:B70)","v":7745},{"$f":"SUM(C69:C70)","v":3021},{"$f":"SUM(D69:D70)","v":4724},true,false,true,false]
[" bełchatowski ",112853,55410,57443,true,true,true,true]
[" 0 - 4 ",5914,3076,2838,false,true,true,false]
[" 5 - 9 ",6417,3310,3107,false,true,true,false]
[" 10 - 14 ",5110,2610,2500,false,true,true,false]
[" 15 - 19 ",5668,2899,2769,false,true,true,false]
[" 20 - 24 ",7162,3642,3520,false,true,true,false]
[" 25 - 29 ",8657,4445,4212,false,true,true,false]
[" 30 - 34 ",10277,5334,4943,false,true,true,false]
[" 35 - 39 ",9437,4811,4626,false,true,true,false]
[" 40 - 44 ",7501,3793,3708,false,true,true,false]
[" 45 - 49 ",6371,3093,3278,false,true,true,false]
[" 50 - 54 ",7559,3547,4012,false,true,true,false]
[" 55 - 59 ",9796,4748,5048,false,true,true,false]
[" 60 - 64 ",8583,4211,4372,false,true,true,false]
[" 65 - 69 ",5855,2801,3054,false,true,true,false]
[" 70 i więcej",8546,3090,5456,true,true,false,false]
["65+",{"$f":"SUM(B86:B87)","v":14401},{"$f":"SUM(C86:C87)","v":5891},{"$f":"SUM(D86:D87)","v":8510},true,false,true,false]
[" kutnowski ",98825,47496,51329,true,true,true,true]
[" 0 - 4 ",4232,2123,2109,false,true,true,false]
[" 5 - 9 ",4545,2352,2193,false,true,true,false]
[" 10 - 14 ",4062,2108,1954,false,true,true,false]
[" 15 - 19 ",4702,2418,2284,false,true,true,false]
[" 20 - 24 ",6153,3171,2982,false,true,true,false]
[" 25 - 29 ",6731,3573,3158,false,true,true,false]
[" 30 - 34 ",7330,3847,3483,false,true,true,false]
[" 35 - 39 ",7385,3880,3505,false,true,true,false]
[" 40 - 44 ",6759,3461,3298,false,true,true,false]
[" 45 - 49 ",6432,3150,3282,false,true,true,false]
[" 50 - 54 ",6748,3279,3469,false,true,true,false]
[" 55 - 59 ",7957,3840,4117,false,true,true,false]
[" 60 - 64 ",7856,3581,4275,false,true,true,false]
[" 65 - 69 ",6528,2818,3710,false,true,true,false]
[" 70 i więcej",11405,3895,7510,true,true,false,false]
["65+",{"$f":"SUM(B103:B104)","v":17933},{"$f":"SUM(C103:C104)","v":6713},{"$f":"SUM(D103:D104)","v":11220},true,false,true,false]
[" łaski ",50232,24458,25774,true,true,true,true]
[" 0 - 4 ",2314,1232,1082,false,true,true,false]
[" 5 - 9 ",2500,1250,1250,false,true,true,false]
[" 10 - 14 ",2274,1188,1086,false,true,true,false]
[" 15 - 19 ",2555,1310,1245,false,true,true,false]
[" 20 - 24 ",3257,1679,1578,false,true,true,false]
[" 25 - 29 ",3559,1822,1737,false,true,true,false]
[" 30 - 34 ",4072,2148,1924,false,true,true,false]
[" 35 - 39 ",3822,1975,1847,false,true,true,false]
[" 40 - 44 ",3620,1897,1723,false,true,true,false]
[" 45 - 49 ",3215,1591,1624,false,true,true,false]
[" 50 - 54 ",3164,1577,1587,false,true,true,false]
[" 55 - 59 ",3766,1839,1927,false,true,true,false]
[" 60 - 64 ",3619,1710,1909,false,true,true,false]
[" 65 - 69 ",3059,1344,1715,false,true,true,false]
[" 70 i więcej",5436,1896,3540,true,true,false,false]
["65+",{"$f":"SUM(B120:B121)","v":8495},{"$f":"SUM(C120:C121)","v":3240},{"$f":"SUM(D120:D121)","v":5255},true,false,true,false]
[" łęczycki ",50888,24783,26105,true,true,true,true]
[" 0 - 4 ",2304,1187,1117,false,true,true,false]
[" 5 - 9 ",2525,1301,1224,false,true,true,false]
[" 10 - 14 ",2309,1170,1139,false,true,true,false]
[" 15 - 19 ",2638,1423,1215,false,true,true,false]
[" 20 - 24 ",3390,1739,1651,false,true,true,false]
[" 25 - 29 ",3513,1839,1674,false,true,true,false]
[" 30 - 34 ",3881,2065,1816,false,true,true,false]
[" 35 - 39 ",3610,1880,1730,false,true,true,false]
[" 40 - 44 ",3456,1784,1672,false,true,true,false]
[" 45 - 49 ",3209,1597,1612,{"$f":"IFERROR(IF(SEARCH(\" - \",A133)>0,FALSE,TRUE),TRUE)","v":false},{"$f":"IFERROR(IF(SEARCH(\"65+\",A133)>0,FALSE,TRUE),TRUE)","v":true},{"$f":"IFERROR(IF(SEARCH(\"70\",A133)>0,FALSE,TRUE),TRUE)","v":true},{"$f":"AND(E133:G133)","v":false}]
[" 50 - 54 ",3365,1692,1673,false,true,true,false]
[" 55 - 59 ",3892,1896,1996,false,true,true,false]
[" 60 - 64 ",3533,1715,1818,false,true,true,false]
[" 65 - 69 ",3096,1354,1742,false,true,true,false]
[" 70 i więcej",6167,2141,4026,true,true,false,false]
["65+",{"$f":"SUM(B137:B138)","v":9263},{"$f":"SUM(C137:C138)","v":3495},{"$f":"SUM(D137:D138)","v":5768},true,false,true,false]
[" łowicki ",79426,38512,40914,true,true,true,true]
[" 0 - 4 ",3754,1906,1848,false,true,true,false]
[" 5 - 9 ",4096,2103,1993,false,true,true,false]
[" 10 - 14 ",3709,1856,1853,false,true,true,false]
[" 15 - 19 ",4345,2258,2087,false,true,true,false]
[" 20 - 24 ",5019,2520,2499,false,true,true,false]
[" 25 - 29 ",5621,2925,2696,false,true,true,false]
[" 30 - 34 ",6181,3216,2965,false,true,true,false]
[" 35 - 39 ",5897,3063,2834,false,true,true,false]
[" 40 - 44 ",5429,2765,2664,false,true,true,false]
[" 45 - 49 ",4931,2465,2466,false,true,true,false]
[" 50 - 54 ",5098,2521,2577,false,true,true,false]
[" 55 - 59 ",5813,2875,2938,false,true,true,false]
[" 60 - 64 ",5812,2764,3048,false,true,true,false]
[" 65 - 69 ",4687,2090,2597,false,true,true,false]
[" 70 i więcej",9034,3185,5849,true,true,false,false]
["65+",{"$f":"SUM(B154:B155)","v":13721},{"$f":"SUM(C154:C155)","v":5275},{"$f":"SUM(D154:D155)","v":8446},true,false,true,false]
[" łódzki wschodni ",70619,33916,36703,true,true,true,true]
[" 0 - 4 ",3439,1758,1681,false,true,true,false]
[" 5 - 9 ",4047,2029,2018,false,true,true,false]
[" 10 - 14 ",3566,1800,1766,false,true,true,false]
[" 15 - 19 ",3510,1798,1712,false,true,true,false]
[" 20 - 24 ",4225,2170,2055,false,true,true,false]
[" 25 - 29 ",4662,2353,2309,false,true,true,false]
[" 30 - 34 ",5427,2728,2699,false,true,true,false]
[" 35 - 39 ",5729,2852,2877,false,true,true,false]
[" 40 - 44 ",5521,2751,2770,false,true,true,false]
[" 45 - 49 ",4768,2333,2435,false,true,true,false]
[" 50 - 54 ",4582,2234,2348,false,true,true,false]
[" 55 - 59 ",5114,2419,2695,false,true,true,false]
[" 60 - 64 ",5166,2464,2702,false,true,true,false]
[" 65 - 69 ",4095,1828,2267,false,true,true,false]
[" 70 i więcej",6768,2399,4369,true,true,false,false]
["65+",{"$f":"SUM(B171:B172)","v":10863},{"$f":"SUM(C171:C172)","v":4227},{"$f":"SUM(D171:D172)","v":6636},true,false,true,false]
[" opoczyński ",77313,38263,39050,true,true,true,true]
[" 0 - 4 ",3850,1968,1882,false,true,true,false]
[" 5 - 9 ",4483,2280,2203,false,true,true,false]
[" 10 - 14 ",4037,2016,2021,false,true,true,false]
[" 15 - 19 ",4516,2383,2133,false,true,true,false]
[" 20 - 24 ",5382,2763,2619,false,true,true,false]
[" 25 - 29 ",5825,3032,2793,false,true,true,false]
[" 30 - 34 ",6031,3206,2825,false,true,true,false]
[" 35 - 39 ",5600,2999,2601,false,true,true,false]
[" 40 - 44 ",5206,2712,2494,false,true,true,false]
[" 45 - 49 ",4674,2350,2324,false,true,true,false]
[" 50 - 54 ",4888,2525,2363,false,true,true,false]
[" 55 - 59 ",5541,2861,2680,false,true,true,false]
[" 60 - 64 ",5179,2584,2595,false,true,true,false]
[" 65 - 69 ",4025,1826,2199,false,true,true,false]
[" 70 i więcej",8076,2758,5318,true,true,false,false]
["65+",{"$f":"SUM(B188:B189)","v":12101},{"$f":"SUM(C188:C189)","v":4584},{"$f":"SUM(D188:D189)","v":7517},true,false,true,false]
[" pabianicki ",119484,56056,63428,true,true,true,true]
[" 0 - 4 ",5397,2792,2605,false,true,true,false]
[" 5 - 9 ",5923,3015,2908,false,true,true,false]
[" 10 - 14 ",5029,2609,2420,false,true,true,false]
[" 15 - 19 ",5382,2789,2593,false,true,true,false]
[" 20 - 24 ",6559,3331,3228,false,true,true,false]
[" 25 - 29 ",7604,3905,3699,{"$f":"IFERROR(IF(SEARCH(\" - \",A197)>0,FALSE,TRUE),TRUE)","v":false},{"$f":"IFERROR(IF(SEARCH(\"65+\",A197)>0,FALSE,TRUE),TRUE)","v":true},{"$f":"IFERROR(IF(SEARCH(\"70\",A197)>0,FALSE,TRUE),TRUE)","v":true},{"$f":"AND(E197:G197)","v":false}]
[" 30 - 34 ",9491,4783,4708,false,true,true,false]
[" 35 - 39 ",9867,4894,4973,false,true,true,false]
[" 40 - 44 ",9149,4470,4679,false,true,true,false]
[" 45 - 49 ",7573,3717,3856,false,true,true,false]
[" 50 - 54 ",7270,3460,3810,false,true,true,false]
[" 55 - 59 ",8905,4054,4851,false,true,true,false]
[" 60 - 64 ",9109,4069,5040,false,true,true,false]
[" 65 - 69 ",8038,3365,4673,false,true,true,false]
[" 70 i więcej",14188,4803,9385,true,true,false,false]
["65+",{"$f":"SUM(B205:B206)","v":22226},{"$f":"SUM(C205:C206)","v":8168},{"$f":"SUM(D205:D206)","v":14058},true,false,true,false]
[" pajęczański ",51908,25784,26124,true,true,true,true]
[" 0 - 4 ",2386,1212,1174,false,true,true,false]
[" 5 - 9 ",2592,1320,1272,false,true,true,false]
[" 10 - 14 ",2499,1286,1213,false,true,true,false]
[" 15 - 19 ",2850,1433,1417,false,true,true,false]
[" 20 - 24 ",3629,1864,1765,false,true,true,false]
[" 25 - 29 ",3907,2065,1842,false,true,true,false]
[" 30 - 34 ",3841,2013,1828,false,true,true,false]
[" 35 - 39 ",3845,2004,1841,false,true,true,false]
[" 40 - 44 ",3687,1912,1775,false,true,true,false]
[" 45 - 49 ",3416,1782,1634,false,true,true,false]
[" 50 - 54 ",3264,1737,1527,false,true,true,false]
[" 55 - 59 ",3711,1902,1809,false,true,true,false]
[" 60 - 64 ",3508,1731,1777,false,true,true,false]
[" 65 - 69 ",2949,1395,1554,false,true,true,false]
[" 70 i więcej",5824,2128,3696,true,true,false,false]
["65+",{"$f":"SUM(B222:B223)","v":8773},{"$f":"SUM(C222:C223)","v":3523},{"$f":"SUM(D222:D223)","v":5250},true,false,true,false]
[" piotrkowski ",91275,45016,46259,true,true,true,true]
[" 0 - 4 ",4578,2356,2222,false,true,true,false]
[" 5 - 9 ",5198,2700,2498,false,true,true,false]
[" 10 - 14 ",4899,2534,2365,false,true,true,false]
[" 15 - 19 ",5411,2775,2636,false,true,true,false]
[" 20 - 24 ",6267,3240,3027,false,true,true,false]
[" 25 - 29 ",6511,3362,3149,false,true,true,false]
[" 30 - 34 ",6957,3567,3390,false,true,true,false]
[" 35 - 39 ",7084,3634,3450,false,true,true,false]
[" 40 - 44 ",6636,3422,3214,false,true,true,false]
[" 45 - 49 ",5789,3010,2779,false,true,true,false]
[" 50 - 54 ",5364,2812,2552,false,true,true,false]
[" 55 - 59 ",6211,3084,3127,false,true,true,false]
[" 60 - 64 ",6019,2990,3029,false,true,true,false]
[" 65 - 69 ",4833,2184,2649,false,true,true,false]
[" 70 i więcej",9518,3346,6172,true,true,false,false]
["65+",{"$f":"SUM(B239:B240)","v":14351},{"$f":"SUM(C239:C240)","v":5530},{"$f":"SUM(D239:D240)","v":8821},true,false,true,false]
[" poddębicki ",41555,20582,20973,true,true,true,true]
[" 0 - 4 ",1948,1072,876,false,true,true,false]
[" 5 - 9 ",2083,1084,999,false,true,true,false]
[" 10 - 14 ",1879,962,917,false,true,true,false]
[" 15 - 19 ",2038,1040,998,false,true,true,false]
[" 20 - 24 ",2850,1466,1384,false,true,true,false]
[" 25 - 29 ",2984,1537,1447,false,true,true,false]
[" 30 - 34 ",3066,1652,1414,false,true,true,false]
[" 35 - 39 ",3043,1572,1471,false,true,true,false]
[" 40 - 44 ",2926,1501,1425,false,true,true,false]
[" 45 - 49 ",2838,1480,1358,false,true,true,false]
[" 50 - 54 ",2631,1363,1268,false,true,true,false]
[" 55 - 59 ",3028,1553,1475,false,true,true,false]
[" 60 - 64 ",2870,1397,1473,false,true,true,false]
[" 65 - 69 ",2556,1150,1406,false,true,true,false]
[" 70 i więcej",4815,1753,3062,true,true,false,false]
["65+",{"$f":"SUM(B256:B257)","v":7371},{"$f":"SUM(C256:C257)","v":2903},{"$f":"SUM(D256:D257)","v":4468},true,false,true,false]
[" radomszczański ",114675,56181,58494,true,true,true,true]
[" 0 - 4 ",4884,2517,2367,false,true,true,false]
[" 5 - 9 ",5822,2993,2829,{"$f":"IFERROR(IF(SEARCH(\" - \",A261)>0,FALSE,TRUE),TRUE)","v":false},{"$f":"IFERROR(IF(SEARCH(\"65+\",A261)>0,FALSE,TRUE),TRUE)","v":true},{"$f":"IFERROR(IF(SEARCH(\"70\",A261)>0,FALSE,TRUE),TRUE)","v":true},{"$f":"AND(E261:G261)","v":false}]
[" 10 - 14 ",5361,2810,2551,false,true,true,false]
[" 15 - 19 ",6174,3184,2990,false,true,true,false]
[" 20 - 24 ",7753,3957,3796,false,true,true,false]
[" 25 - 29 ",7935,4156,3779,false,true,true,false]
[" 30 - 34 ",8349,4334,4015,false,true,true,false]
[" 35 - 39 ",8493,4390,4103,false,true,true,false]
[" 40 - 44 ",8444,4328,4116,false,true,true,false]
[" 45 - 49 ",7501,3823,3678,false,true,true,false]
[" 50 - 54 ",7272,3701,3571,false,true,true,false]
[" 55 - 59 ",8242,4134,4108,false,true,true,false]
[" 60 - 64 ",8301,3990,4311,false,true,true,false]
[" 65 - 69 ",7051,3104,3947,false,true,true,false]
[" 70 i więcej",13093,4760,8333,true,true,false,false]
["65+",{"$f":"SUM(B273:B274)","v":20144},{"$f":"SUM(C273:C274)","v":7864},{"$f":"SUM(D273:D274)","v":12280},true,false,true,false]
[" rawski ",49161,24296,24865,true,true,true,true]
[" 0 - 4 ",2518,1326,1192,false,true,true,false]
[" 5 - 9 ",2680,1372,1308,false,true,true,false]
[" 10 - 14 ",2423,1228,1195,false,true,true,false]
[" 15 - 19 ",2638,1326,1312,false,true,true,false]
[" 20 - 24 ",3232,1670,1562,false,true,true,false]
[" 25 - 29 ",3635,1876,1759,false,true,true,false]
[" 30 - 34 ",3753,1991,1762,false,true,true,false]
[" 35 - 39 ",3704,1944,1760,false,true,true,false]
[" 40 - 44 ",3331,1700,1631,false,true,true,false]
[" 45 - 49 ",2968,1518,1450,false,true,true,false]
[" 50 - 54 ",3185,1637,1548,false,true,true,false]
[" 55 - 59 ",3705,1811,1894,false,true,true,false]
[" 60 - 64 ",3480,1721,1759,false,true,true,false]
[" 65 - 69 ",2864,1300,1564,false,true,true,false]
[" 70 i więcej",5045,1876,3169,true,true,false,false]
["65+",{"$f":"SUM(B290:B291)","v":7909},{"$f":"SUM(C290:C291)","v":3176},{"$f":"SUM(D290:D291)","v":4733},true,false,true,false]
[" sieradzki ",118993,58141,60852,true,true,true,true]
[" 0 - 4 ",5602,2839,2763,false,true,true,false]
[" 5 - 9 ",6237,3223,3014,false,true,true,false]
[" 10 - 14 ",5653,2932,2721,false,true,true,false]
[" 15 - 19 ",6533,3308,3225,false,true,true,false]
[" 20 - 24 ",8368,4275,4093,false,true,true,false]
[" 25 - 29 ",8851,4535,4316,false,true,true,false]
[" 30 - 34 ",9082,4798,4284,false,true,true,false]
[" 35 - 39 ",8601,4454,4147,false,true,true,false]
[" 40 - 44 ",8441,4275,4166,false,true,true,false]
[" 45 - 49 ",7655,3849,3806,false,true,true,false]
[" 50 - 54 ",7894,3969,3925,false,true,true,false]
[" 55 - 59 ",8465,4149,4316,false,true,true,false]
[" 60 - 64 ",7985,3865,4120,false,true,true,false]
[" 65 - 69 ",6986,3107,3879,false,true,true,false]
[" 70 i więcej",12640,4563,8077,true,true,false,false]
["65+",{"$f":"SUM(B307:B308)","v":19626},{"$f":"SUM(C307:C308)","v":7670},{"$f":"SUM(D307:D308)","v":11956},true,false,true,false]
[" skierniewicki ",38159,18888,19271,true,true,true,true]
[" 0 - 4 ",1968,1013,955,false,true,true,false]
[" 5 - 9 ",2198,1160,1038,false,true,true,false]
[" 10 - 14 ",1964,992,972,false,true,true,false]
[" 15 - 19 ",2114,1092,1022,false,true,true,false]
[" 20 - 24 ",2658,1368,1290,false,true,true,false]
[" 25 - 29 ",2896,1481,1415,false,true,true,false]
[" 30 - 34 ",2921,1528,1393,false,true,true,false]
[" 35 - 39 ",2716,1462,1254,false,true,true,false]
[" 40 - 44 ",2558,1296,1262,false,true,true,false]
[" 45 - 49 ",2352,1230,1122,false,true,true,false]
[" 50 - 54 ",2402,1226,1176,false,true,true,false]
[" 55 - 59 ",2628,1368,1260,false,true,true,false]
[" 60 - 64 ",2413,1242,1171,false,true,true,false]
[" 65 - 69 ",1965,896,1069,false,true,true,false]
[" 70 i więcej",4406,1534,2872,{"$f":"IFERROR(IF(SEARCH(\" - \",A325)>0,FALSE,TRUE),TRUE)","v":true},{"$f":"IFERROR(IF(SEARCH(\"65+\",A325)>0,FALSE,TRUE),TRUE)","v":true},{"$f":"IFERROR(IF(SEARCH(\"70\",A325)>0,FALSE,TRUE),TRUE)","v":false},{"$f":"AND(E325:G325)","v":false}]
["65+",{"$f":"SUM(B324:B325)","v":6371},{"$f":"SUM(C324:C325)","v":2430},{"$f":"SUM(D324:D325)","v":3941},true,false,true,false]
[" tomaszowski ",118400,56868,61532,true,true,true,true]
[" 0 - 4 ",5624,2931,2693,false,true,true,false]
[" 5 - 9 ",6476,3340,3136,false,true,true,false]
[" 10 - 14 ",5705,2927,2778,false,true,true,false]
[" 15 - 19 ",5978,3049,2929,false,true,true,false]
[" 20 - 24 ",7148,3766,3382,false,true,true,false]
[" 25 - 29 ",7890,4062,3828,false,true,true,false]
[" 30 - 34 ",9067,4671,4396,false,true,true,false]
[" 35 - 39 ",9245,4764,4481,false,true,true,false]
[" 40 - 44 ",8724,4428,4296,false,true,true,false]
[" 45 - 49 ",7278,3685,3593,false,true,true,false]
[" 50 - 54 ",6948,3352,3596,false,true,true,false]
[" 55 - 59 ",8760,4143,4617,false,true,true,false]
[" 60 - 64 ",8945,4083,4862,false,true,true,false]
[" 65 - 69 ",7528,3247,4281,false,true,true,false]
[" 70 i więcej",13084,4420,8664,true,true,false,false]
["65+",{"$f":"SUM(B341:B342)","v":20612},{"$f":"SUM(C341:C342)","v":7667},{"$f":"SUM(D341:D342)","v":12945},true,false,true,false]
[" wieluński ",77189,37802,39387,true,true,true,true]
[" 0 - 4 ",3645,1843,1802,false,true,true,false]
[" 5 - 9 ",4110,2133,1977,false,true,true,false]
[" 10 - 14 ",3743,1950,1793,false,true,true,false]
[" 15 - 19 ",4378,2235,2143,false,true,true,false]
[" 20 - 24 ",4989,2543,2446,false,true,true,false]
[" 25 - 29 ",5492,2884,2608,false,true,true,false]
[" 30 - 34 ",5856,3081,2775,false,true,true,false]
[" 35 - 39 ",5874,2997,2877,false,true,true,false]
[" 40 - 44 ",5491,2819,2672,false,true,true,false]
[" 45 - 49 ",4848,2457,2391,false,true,true,false]
[" 50 - 54 ",4940,2511,2429,false,true,true,false]
[" 55 - 59 ",5726,2862,2864,false,true,true,false]
[" 60 - 64 ",5332,2592,2740,false,true,true,false]
[" 65 - 69 ",4554,2003,2551,false,true,true,false]
[" 70 i więcej",8211,2892,5319,true,true,false,false]
["65+",{"$f":"SUM(B358:B359)","v":12765},{"$f":"SUM(C358:C359)","v":4895},{"$f":"SUM(D358:D359)","v":7870},true,false,true,false]
[" wieruszowski ",42169,20841,21328,true,true,true,true]
[" 0 - 4 ",2004,1022,982,false,true,true,false]
[" 5 - 9 ",2376,1208,1168,false,true,true,false]
[" 10 - 14 ",2192,1130,1062,false,true,true,false]
[" 15 - 19 ",2392,1216,1176,false,true,true,false]
[" 20 - 24 ",2989,1505,1484,false,true,true,false]
[" 25 - 29 ",2982,1607,1375,false,true,true,false]
[" 30 - 34 ",3323,1751,1572,false,true,true,false]
[" 35 - 39 ",3241,1680,1561,false,true,true,false]
[" 40 - 44 ",3081,1575,1506,false,true,true,false]
[" 45 - 49 ",2747,1447,1300,false,true,true,false]
[" 50 - 54 ",2625,1361,1264,false,true,true,false]
[" 55 - 59 ",2993,1493,1500,false,true,true,false]
[" 60 - 64 ",2800,1360,1440,false,true,true,false]
[" 65 - 69 ",2357,1064,1293,false,true,true,false]
[" 70 i więcej",4067,1422,2645,true,true,false,false]
["65+",{"$f":"SUM(B375:B376)","v":6424},{"$f":"SUM(C375:C376)","v":2486},{"$f":"SUM(D375:D376)","v":3938},true,false,true,false]
[" zduńskowolski ",67277,32524,34753,true,true,true,true]
[" 0 - 4 ",3137,1588,1549,false,true,true,false]
[" 5 - 9 ",3615,1856,1759,false,true,true,false]
[" 10 - 14 ",3237,1659,1578,false,true,true,false]
[" 15 - 19 ",3522,1816,1706,false,true,true,false]
[" 20 - 24 ",4119,2124,1995,false,true,true,false]
[" 25 - 29 ",4879,2506,2373,false,true,true,false]
[" 30 - 34 ",5393,2837,2556,false,true,true,false]
[" 35 - 39 ",5253,2721,2532,false,true,true,false]
[" 40 - 44 ",4879,2444,2435,false,true,true,false]
[" 45 - 49 ",4264,2129,2135,false,true,true,false]
[" 50 - 54 ",4195,2009,2186,{"$f":"IFERROR(IF(SEARCH(\" - \",A389)>0,FALSE,TRUE),TRUE)","v":false},{"$f":"IFERROR(IF(SEARCH(\"65+\",A389)>0,FALSE,TRUE),TRUE)","v":true},{"$f":"IFERROR(IF(SEARCH(\"70\",A389)>0,FALSE,TRUE),TRUE)","v":true},{"$f":"AND(E389:G389)","v":false}]
[" 55 - 59 ",4992,2424,2568,false,true,true,false]
[" 60 - 64 ",4748,2196,2552,false,true,true,false]
[" 65 - 69 ",4145,1755,2390,false,true,true,false]
[" 70 i więcej",6899,2460,4439,true,true,false,false]
["65+",{"$f":"SUM(B392:B393)","v":11044},{"$f":"SUM(C392:C393)","v":4215},{"$f":"SUM(D392:D393)","v":6829},true,false,true,false]
[" zgierski ",165187,78569,86618,true,true,true,true]
[" 0 - 4 ",7475,3877,3598,false,true,true,false]
[" 5 - 9 ",8748,4478,4270,false,true,true,false]
[" 10 - 14 ",7589,3909,3680,false,true,true,false]
[" 15 - 19 ",7895,4120,3775,false,true,true,false]
[" 20 - 24 ",9399,4821,4578,false,true,true,false]
[" 25 - 29 ",10568,5325,5243,false,true,true,false]
[" 30 - 34 ",12715,6404,6311,false,true,true,false]
[" 35 - 39 ",13353,6619,6734,false,true,true,false]
[" 40 - 44 ",12875,6383,6492,false,true,true,false]
[" 45 - 49 ",10979,5504,5475,false,true,true,false]
[" 50 - 54 ",9990,4857,5133,false,true,true,false]
[" 55 - 59 ",12233,5683,6550,false,true,true,false]
[" 60 - 64 ",12419,5636,6783,false,true,true,false]
[" 65 - 69 ",11027,4643,6384,false,true,true,false]
[" 70 i więcej",17922,6310,11612,true,true,false,false]
["65+",{"$f":"SUM(B409:B410)","v":28949},{"$f":"SUM(C409:C410)","v":10953},{"$f":"SUM(D409:D410)","v":17996},true,false,true,false]
[" brzeziński ",30932,14972,15960,true,true,true,true]
[" 0 - 4 ",1489,756,733,false,true,true,false]
[" 5 - 9 ",1640,846,794,false,true,true,false]
[" 10 - 14 ",1434,742,692,false,true,true,false]
[" 15 - 19 ",1555,786,769,false,true,true,false]
[" 20 - 24 ",1935,1018,917,false,true,true,false]
[" 25 - 29 ",2130,1131,999,false,true,true,false]
[" 30 - 34 ",2360,1204,1156,false,true,true,false]
[" 35 - 39 ",2450,1261,1189,false,true,true,false]
[" 40 - 44 ",2286,1133,1153,false,true,true,false]
[" 45 - 49 ",2075,1058,1017,false,true,true,false]
[" 50 - 54 ",1895,932,963,false,true,true,false]
[" 55 - 59 ",2233,1084,1149,false,true,true,false]
[" 60 - 64 ",2299,1066,1233,false,true,true,false]
[" 65 - 69 ",1808,795,1013,false,true,true,false]
[" 70 i więcej",3343,1160,2183,true,true,false,false]
["65+",{"$f":"SUM(B426:B427)","v":5151},{"$f":"SUM(C426:C427)","v":1955},{"$f":"SUM(D426:D427)","v":3196},true,false,true,false]

{"sheet":"Małopolskie","index":11,"n_rows":394,"n_cols":8,"rows_kept":394,"cut":false,"hidden":true,"merged":[[0,0,2,0],[0,1,2,1],[0,2,2,2],[0,3,2,3]]}
["Województwa\nPowiaty\nGrupy wieku ","Ogółem","Mężczyźni","Kobiety "]
[]
[]
["Małopolskie ",3376329,1638593,1737736,{"$f":"IFERROR(IF(SEARCH(\" - \",A4)>0,FALSE,TRUE),TRUE)","v":true},{"$f":"IFERROR(IF(SEARCH(\"65+\",A4)>0,FALSE,TRUE),TRUE)","v":true},{"$f":"IFERROR(IF(SEARCH(\"70\",A4)>0,FALSE,TRUE),TRUE)","v":true},{"$f":"AND(E4:G4)","v":true}]
[" 0 - 4 ",175648,90482,85166,{"$f":"IFERROR(IF(SEARCH(\" - \",A5)>0,FALSE,TRUE),TRUE)","v":false},{"$f":"IFERROR(IF(SEARCH(\"65+\",A5)>0,FALSE,TRUE),TRUE)","v":true},{"$f":"IFERROR(IF(SEARCH(\"70\",A5)>0,FALSE,TRUE),TRUE)","v":true},{"$f":"AND(E5:G5)","v":false}]
[" 5 - 9 ",188870,96829,92041,false,true,true,false]
[" 10 - 14 ",166431,85289,81142,false,true,true,false]
[" 15 - 19 ",182579,93301,89278,false,true,true,false]
[" 20 - 24 ",217178,110792,106386,false,true,true,false]
[" 25 - 29 ",258413,130356,128057,false,true,true,false]
[" 30 - 34 ",289451,145166,144285,false,true,true,false]
[" 35 - 39 ",272149,137197,134952,false,true,true,false]
[" 40 - 44 ",242357,121356,121001,false,true,true,false]
[" 45 - 49 ",210746,105862,104884,false,true,true,false]
[" 50 - 54 ",208580,103844,104736,false,true,true,false]
[" 55 - 59 ",226070,110267,115803,false,true,true,false]
[" 60 - 64 ",214540,101181,113359,false,true,true,false]
[" 65 - 69 ",173082,77344,95738,false,true,true,false]
[" 70 i więcej",350235,129327,220908,true,true,false,false]
["65+",{"$f":"SUM(B18:B19)","v":523317},{"$f":"SUM(C18:C19)","v":206671},{"$f":"SUM(D18:D19)","v":316646},true,false,true,false]
[" Kraków ",762448,355687,406761,true,true,true,true]
[" 0 - 4 ",38744,19893,18851,false,true,true,false]
[" 5 - 9 ",36638,18868,17770,false,true,true,false]
[" 10 - 14 ",28764,14784,13980,false,true,true,false]
[" 15 - 19 ",30194,15291,14903,false,true,true,false]
[" 20 - 24 ",37662,19113,18549,false,true,true,false]
[" 25 - 29 ",59501,28256,31245,false,true,true,false]
[" 30 - 34 ",76364,36630,39734,false,true,true,false]
[" 35 - 39 ",67644,33301,34343,false,true,true,false]
[" 40 - 44 ",56065,27353,28712,false,true,true,false]
[" 45 - 49 ",44080,21486,22594,false,true,true,false]
[" 50 - 54 ",41871,19891,21980,false,true,true,false]
[" 55 - 59 ",50316,22806,27510,false,true,true,false]
[" 60 - 64 ",54392,23811,30581,false,true,true,false]
[" 65 - 69 ",46089,19388,26701,false,true,true,false]
[" 70 i więcej",94124,34816,59308,true,true,false,false]
["65+",{"$f":"SUM(B35:B36)","v":140213},{"$f":"SUM(C35:C36)","v":54204},{"$f":"SUM(D35:D36)","v":86009},true,false,true,false]
[" Nowy Sącz ",83829,40083,43746,true,true,true,true]
[" 0 - 4 ",4180,2157,2023,false,true,true,false]
[" 5 - 9 ",4597,2332,2265,false,true,true,false]
[" 10 - 14 ",4120,2133,1987,false,true,true,false]
[" 15 - 19 ",4670,2343,2327,false,true,true,false]
[" 20 - 24 ",4970,2563,2407,false,true,true,false]
[" 25 - 29 ",6313,3163,3150,false,true,true,false]
[" 30 - 34 ",7277,3723,3554,false,true,true,false]
[" 35 - 39 ",6779,3408,3371,false,true,true,false]
[" 40 - 44 ",5751,2807,2944,false,true,true,false]
[" 45 - 49 ",5052,2466,2586,false,true,true,false]
[" 50 - 54 ",5382,2529,2853,false,true,true,false]
[" 55 - 59 ",5873,2753,3120,false,true,true,false]
[" 60 - 64 ",5569,2496,3073,false,true,true,false]
[" 65 - 69 ",4778,2024,2754,false,true,true,false]
[" 70 i więcej",8518,3186,5332,true,true,false,false]
["65+",{"$f":"SUM(B52:B53)","v":13296},{"$f":"SUM(C52:C53)","v":5210},{"$f":"SUM(D52:D53)","v":8086},true,false,true,false]
[" Tarnów ",110381,52173,58208,true,true,true,true]
[" 0 - 4 ",4455,2315,2140,false,true,true,false]
[" 5 - 9 ",4987,2573,2414,false,true,true,false]
[" 10 - 14 ",4570,2355,2215,false,true,true,false]
[" 15 - 19 ",5774,2874,2900,false,true,true,false]
[" 20 - 24 ",5916,3086,2830,false,true,true,false]
[" 25 - 29 ",7559,3761,3798,false,true,true,false]
[" 30 - 34 ",9256,4714,4542,false,true,true,false]
[" 35 - 39 ",8816,4505,4311,false,true,true,false]
[" 40 - 44 ",7724,3849,3875,false,true,true,false]
[" 45 - 49 ",6888,3417,3471,false,true,true,false]
[" 50 - 54 ",7125,3412,3713,false,true,true,false]
[" 55 - 59 ",8359,3777,4582,false,true,true,false]
[" 60 - 64 ",8220,3535,4685,false,true,true,false]
[" 65 - 69 ",6915,2911,4004,{"$f":"IFERROR(IF(SEARCH(\" - \",A69)>0,FALSE,TRUE),TRUE)","v":false},{"$f":"IFERROR(IF(SEARCH(\"65+\",A69)>0,FALSE,TRUE),TRUE)","v":true},{"$f":"IFERROR(IF(SEARCH(\"70\",A69)>0,FALSE,TRUE),TRUE)","v":true},{"$f":"AND(E69:G69)","v":false}]
[" 70 i więcej",13817,5089,8728,true,true,false,false]
["65+",{"$f":"SUM(B69:B70)","v":20732},{"$f":"SUM(C69:C70)","v":8000},{"$f":"SUM(D69:D70)","v":12732},true,false,true,false]
[" bocheński ",105577,52064,53513,true,true,true,true]
[" 0 - 4 ",6149,3182,2967,false,true,true,false]
[" 5 - 9 ",6531,3350,3181,false,true,true,false]
[" 10 - 14 ",5730,2846,2884,false,true,true,false]
[" 15 - 19 ",6236,3211,3025,false,true,true,false]
[" 20 - 24 ",7498,3845,3653,false,true,true,false]
[" 25 - 29 ",8559,4397,4162,false,true,true,false]
[" 30 - 34 ",8789,4453,4336,false,true,true,false]
[" 35 - 39 ",8275,4209,4066,false,true,true,false]
[" 40 - 44 ",7378,3714,3664,false,true,true,false]
[" 45 - 49 ",6441,3217,3224,false,true,true,false]
[" 50 - 54 ",6433,3203,3230,false,true,true,false]
[" 55 - 59 ",6730,3390,3340,false,true,true,false]
[" 60 - 64 ",6337,3117,3220,false,true,true,false]
[" 65 - 69 ",5040,2385,2655,false,true,true,false]
[" 70 i więcej",9451,3545,5906,true,true,false,false]
["65+",{"$f":"SUM(B86:B87)","v":14491},{"$f":"SUM(C86:C87)","v":5930},{"$f":"SUM(D86:D87)","v":8561},true,false,true,false]
[" brzeski ",92963,46003,46960,true,true,true,true]
[" 0 - 4 ",4823,2498,2325,false,true,true,false]
[" 5 - 9 ",5509,2793,2716,false,true,true,false]
[" 10 - 14 ",4989,2529,2460,false,true,true,false]
[" 15 - 19 ",5558,2964,2594,false,true,true,false]
[" 20 - 24 ",6870,3453,3417,false,true,true,false]
[" 25 - 29 ",7471,3983,3488,false,true,true,false]
[" 30 - 34 ",7544,3856,3688,false,true,true,false]
[" 35 - 39 ",7223,3671,3552,false,true,true,false]
[" 40 - 44 ",6597,3330,3267,false,true,true,false]
[" 45 - 49 ",5989,3012,2977,false,true,true,false]
[" 50 - 54 ",5966,3055,2911,false,true,true,false]
[" 55 - 59 ",5926,3010,2916,false,true,true,false]
[" 60 - 64 ",5349,2641,2708,false,true,true,false]
[" 65 - 69 ",4346,1971,2375,false,true,true,false]
[" 70 i więcej",8803,3237,5566,true,true,false,false]
["65+",{"$f":"SUM(B103:B104)","v":13149},{"$f":"SUM(C103:C104)","v":5208},{"$f":"SUM(D103:D104)","v":7941},true,false,true,false]
[" chrzanowski ",126222,61100,65122,true,true,true,true]
[" 0 - 4 ",5688,2872,2816,false,true,true,false]
[" 5 - 9 ",6172,3131,3041,false,true,true,false]
[" 10 - 14 ",5403,2769,2634,false,true,true,false]
[" 15 - 19 ",5666,2915,2751,false,true,true,false]
[" 20 - 24 ",7256,3671,3585,false,true,true,false]
[" 25 - 29 ",8750,4547,4203,false,true,true,false]
[" 30 - 34 ",10551,5411,5140,false,true,true,false]
[" 35 - 39 ",10139,5166,4973,false,true,true,false]
[" 40 - 44 ",8666,4424,4242,false,true,true,false]
[" 45 - 49 ",7798,3940,3858,false,true,true,false]
[" 50 - 54 ",8644,4254,4390,false,true,true,false]
[" 55 - 59 ",10215,4947,5268,false,true,true,false]
[" 60 - 64 ",9486,4464,5022,false,true,true,false]
[" 65 - 69 ",7361,3277,4084,false,true,true,false]
[" 70 i więcej",14427,5312,9115,true,true,false,false]
["65+",{"$f":"SUM(B120:B121)","v":21788},{"$f":"SUM(C120:C121)","v":8589},{"$f":"SUM(D120:D121)","v":13199},true,false,true,false]
[" dąbrowski ",59314,29561,29753,true,true,true,true]
[" 0 - 4 ",2827,1501,1326,false,true,true,false]
[" 5 - 9 ",3048,1615,1433,false,true,true,false]
[" 10 - 14 ",2937,1502,1435,false,true,true,false]
[" 15 - 19 ",3391,1722,1669,false,true,true,false]
[" 20 - 24 ",4483,2274,2209,false,true,true,false]
[" 25 - 29 ",4728,2444,2284,false,true,true,false]
[" 30 - 34 ",5053,2606,2447,false,true,true,false]
[" 35 - 39 ",4651,2363,2288,false,true,true,false]
[" 40 - 44 ",4351,2224,2127,false,true,true,false]
[" 45 - 49 ",3990,2076,1914,{"$f":"IFERROR(IF(SEARCH(\" - \",A133)>0,FALSE,TRUE),TRUE)","v":false},{"$f":"IFERROR(IF(SEARCH(\"65+\",A133)>0,FALSE,TRUE),TRUE)","v":true},{"$f":"IFERROR(IF(SEARCH(\"70\",A133)>0,FALSE,TRUE),TRUE)","v":true},{"$f":"AND(E133:G133)","v":false}]
[" 50 - 54 ",3951,2042,1909,false,true,true,false]
[" 55 - 59 ",3867,2015,1852,false,true,true,false]
[" 60 - 64 ",3370,1709,1661,false,true,true,false]
[" 65 - 69 ",2669,1240,1429,false,true,true,false]
[" 70 i więcej",5998,2228,3770,true,true,false,false]
["65+",{"$f":"SUM(B137:B138)","v":8667},{"$f":"SUM(C137:C138)","v":3468},{"$f":"SUM(D137:D138)","v":5199},true,false,true,false]
[" gorlicki ",109072,53985,55087,true,true,true,true]
[" 0 - 4 ",5654,2878,2776,false,true,true,false]
[" 5 - 9 ",6419,3285,3134,false,true,true,false]
[" 10 - 14 ",5717,2984,2733,false,true,true,false]
[" 15 - 19 ",6358,3303,3055,false,true,true,false]
[" 20 - 24 ",7521,3900,3621,false,true,true,false]
[" 25 - 29 ",8506,4458,4048,false,true,true,false]
[" 30 - 34 ",8799,4556,4243,false,true,true,false]
[" 35 - 39 ",8093,4140,3953,false,true,true,false]
[" 40 - 44 ",7461,3890,3571,false,true,true,false]
[" 45 - 49 ",6841,3450,3391,false,true,true,false]
[" 50 - 54 ",7243,3720,3523,false,true,true,false]
[" 55 - 59 ",7495,3754,3741,false,true,true,false]
[" 60 - 64 ",6673,3238,3435,false,true,true,false]
[" 65 - 69 ",5235,2373,2862,false,true,true,false]
[" 70 i więcej",11057,4056,7001,true,true,false,false]
["65+",{"$f":"SUM(B154:B155)","v":16292},{"$f":"SUM(C154:C155)","v":6429},{"$f":"SUM(D154:D155)","v":9863},true,false,true,false]
[" krakowski ",271529,132986,138543,true,true,true,true]
[" 0 - 4 ",14020,7340,6680,false,true,true,false]
[" 5 - 9 ",16213,8343,7870,false,true,true,false]
[" 10 - 14 ",14237,7329,6908,false,true,true,false]
[" 15 - 19 ",15448,7752,7696,false,true,true,false]
[" 20 - 24 ",16908,8628,8280,false,true,true,false]
[" 25 - 29 ",19602,9835,9767,false,true,true,false]
[" 30 - 34 ",22141,11180,10961,false,true,true,false]
[" 35 - 39 ",22748,11304,11444,false,true,true,false]
[" 40 - 44 ",20886,10508,10378,false,true,true,false]
[" 45 - 49 ",17649,8969,8680,false,true,true,false]
[" 50 - 54 ",16851,8361,8490,false,true,true,false]
[" 55 - 59 ",18441,9121,9320,false,true,true,false]
[" 60 - 64 ",17474,8494,8980,false,true,true,false]
[" 65 - 69 ",13524,6332,7192,false,true,true,false]
[" 70 i więcej",25387,9490,15897,true,true,false,false]
["65+",{"$f":"SUM(B171:B172)","v":38911},{"$f":"SUM(C171:C172)","v":15822},{"$f":"SUM(D171:D172)","v":23089},true,false,true,false]
[" limanowski ",129936,64967,64969,true,true,true,true]
[" 0 - 4 ",8168,4215,3953,false,true,true,false]
[" 5 - 9 ",8825,4548,4277,false,true,true,false]
[" 10 - 14 ",8258,4200,4058,false,true,true,false]
[" 15 - 19 ",9191,4697,4494,false,true,true,false]
[" 20 - 24 ",10185,5175,5010,false,true,true,false]
[" 25 - 29 ",10281,5280,5001,false,true,true,false]
[" 30 - 34 ",10349,5290,5059,false,true,true,false]
[" 35 - 39 ",9434,4829,4605,false,true,true,false]
[" 40 - 44 ",8921,4562,4359,false,true,true,false]
[" 45 - 49 ",8163,4271,3892,false,true,true,false]
[" 50 - 54 ",8121,4256,3865,false,true,true,false]
[" 55 - 59 ",7667,4068,3599,false,true,true,false]
[" 60 - 64 ",6258,3174,3084,false,true,true,false]
[" 65 - 69 ",5093,2360,2733,false,true,true,false]
[" 70 i więcej",11022,4042,6980,true,true,false,false]
["65+",{"$f":"SUM(B188:B189)","v":16115},{"$f":"SUM(C188:C189)","v":6402},{"$f":"SUM(D188:D189)","v":9713},true,false,true,false]
[" miechowski ",49521,24360,25161,true,true,true,true]
[" 0 - 4 ",2296,1185,1111,false,true,true,false]
[" 5 - 9 ",2450,1227,1223,false,true,true,false]
[" 10 - 14 ",2314,1181,1133,false,true,true,false]
[" 15 - 19 ",2444,1251,1193,false,true,true,false]
[" 20 - 24 ",3314,1683,1631,false,true,true,false]
[" 25 - 29 ",3474,1797,1677,{"$f":"IFERROR(IF(SEARCH(\" - \",A197)>0,FALSE,TRUE),TRUE)","v":false},{"$f":"IFERROR(IF(SEARCH(\"65+\",A197)>0,FALSE,TRUE),TRUE)","v":true},{"$f":"IFERROR(IF(SEARCH(\"70\",A197)>0,FALSE,TRUE),TRUE)","v":true},{"$f":"AND(E197:G197)","v":false}]
[" 30 - 34 ",3773,1985,1788,false,true,true,false]
[" 35 - 39 ",3789,1952,1837,false,true,true,false]
[" 40 - 44 ",3358,1777,1581,false,true,true,false]
[" 45 - 49 ",2900,1504,1396,false,true,true,false]
[" 50 - 54 ",3037,1476,1561,false,true,true,false]
[" 55 - 59 ",3486,1757,1729,false,true,true,false]
[" 60 - 64 ",3610,1781,1829,false,true,true,false]
[" 65 - 69 ",3138,1471,1667,false,true,true,false]
[" 70 i więcej",6138,2333,3805,true,true,false,false]
["65+",{"$f":"SUM(B205:B206)","v":9276},{"$f":"SUM(C205:C206)","v":3804},{"$f":"SUM(D205:D206)","v":5472},true,false,true,false]
[" myślenicki ",125315,62162,63153,true,true,true,true]
[" 0 - 4 ",7382,3777,3605,false,true,true,false]
[" 5 - 9 ",8015,4121,3894,false,true,true,false]
[" 10 - 14 ",7118,3572,3546,false,true,true,false]
[" 15 - 19 ",7692,3933,3759,false,true,true,false]
[" 20 - 24 ",9243,4692,4551,false,true,true,false]
[" 25 - 29 ",10021,5110,4911,false,true,true,false]
[" 30 - 34 ",10537,5379,5158,false,true,true,false]
[" 35 - 39 ",9724,5040,4684,false,true,true,false]
[" 40 - 44 ",8931,4503,4428,false,true,true,false]
[" 45 - 49 ",7774,3992,3782,false,true,true,false]
[" 50 - 54 ",7928,4046,3882,false,true,true,false]
[" 55 - 59 ",8165,4152,4013,false,true,true,false]
[" 60 - 64 ",7104,3574,3530,false,true,true,false]
[" 65 - 69 ",5204,2468,2736,false,true,true,false]
[" 70 i więcej",10477,3803,6674,true,true,false,false]
["65+",{"$f":"SUM(B222:B223)","v":15681},{"$f":"SUM(C222:C223)","v":6271},{"$f":"SUM(D222:D223)","v":9410},true,false,true,false]
[" nowosądecki ",213420,106408,107012,true,true,true,true]
[" 0 - 4 ",13027,6684,6343,false,true,true,false]
[" 5 - 9 ",14237,7329,6908,false,true,true,false]
[" 10 - 14 ",13365,6880,6485,false,true,true,false]
[" 15 - 19 ",14872,7639,7233,false,true,true,false]
[" 20 - 24 ",16828,8668,8160,false,true,true,false]
[" 25 - 29 ",17451,9033,8418,false,true,true,false]
[" 30 - 34 ",16882,8593,8289,false,true,true,false]
[" 35 - 39 ",15672,7893,7779,false,true,true,false]
[" 40 - 44 ",14800,7471,7329,false,true,true,false]
[" 45 - 49 ",13785,7018,6767,false,true,true,false]
[" 50 - 54 ",13510,6996,6514,false,true,true,false]
[" 55 - 59 ",12701,6605,6096,false,true,true,false]
[" 60 - 64 ",10376,5192,5184,false,true,true,false]
[" 65 - 69 ",8217,3831,4386,false,true,true,false]
[" 70 i więcej",17697,6576,11121,true,true,false,false]
["65+",{"$f":"SUM(B239:B240)","v":25914},{"$f":"SUM(C239:C240)","v":10407},{"$f":"SUM(D239:D240)","v":15507},true,false,true,false]
[" nowotarski ",190592,93277,97315,true,true,true,true]
[" 0 - 4 ",9989,5044,4945,false,true,true,false]
[" 5 - 9 ",11605,5957,5648,false,true,true,false]
[" 10 - 14 ",10722,5440,5282,false,true,true,false]
[" 15 - 19 ",12029,6154,5875,false,true,true,false]
[" 20 - 24 ",14395,7310,7085,false,true,true,false]
[" 25 - 29 ",14940,7583,7357,false,true,true,false]
[" 30 - 34 ",15496,7726,7770,false,true,true,false]
[" 35 - 39 ",14441,7270,7171,false,true,true,false]
[" 40 - 44 ",13615,6787,6828,false,true,true,false]
[" 45 - 49 ",12741,6413,6328,false,true,true,false]
[" 50 - 54 ",12155,6169,5986,false,true,true,false]
[" 55 - 59 ",11729,5902,5827,false,true,true,false]
[" 60 - 64 ",10459,5075,5384,false,true,true,false]
[" 65 - 69 ",8548,3866,4682,false,true,true,false]
[" 70 i więcej",17728,6581,11147,true,true,false,false]
["65+",{"$f":"SUM(B256:B257)","v":26276},{"$f":"SUM(C256:C257)","v":10447},{"$f":"SUM(D256:D257)","v":15829},true,false,true,false]
[" olkuski ",113004,54939,58065,true,true,true,true]
[" 0 - 4 ",4936,2550,2386,false,true,true,false]
[" 5 - 9 ",5702,2896,2806,{"$f":"IFERROR(IF(SEARCH(\" - \",A261)>0,FALSE,TRUE),TRUE)","v":false},{"$f":"IFERROR(IF(SEARCH(\"65+\",A261)>0,FALSE,TRUE),TRUE)","v":true},{"$f":"IFERROR(IF(SEARCH(\"70\",A261)>0,FALSE,TRUE),TRUE)","v":true},{"$f":"AND(E261:G261)","v":false}]
[" 10 - 14 ",4945,2496,2449,false,true,true,false]
[" 15 - 19 ",5432,2778,2654,false,true,true,false]
[" 20 - 24 ",6629,3367,3262,false,true,true,false]
[" 25 - 29 ",7902,4093,3809,false,true,true,false]
[" 30 - 34 ",9104,4715,4389,false,true,true,false]
[" 35 - 39 ",9272,4789,4483,false,true,true,false]
[" 40 - 44 ",8154,4137,4017,false,true,true,false]
[" 45 - 49 ",6698,3320,3378,false,true,true,false]
[" 50 - 54 ",7066,3393,3673,false,true,true,false]
[" 55 - 59 ",8825,4210,4615,false,true,true,false]
[" 60 - 64 ",8804,4187,4617,false,true,true,false]
[" 65 - 69 ",6970,3292,3678,false,true,true,false]
[" 70 i więcej",12565,4716,7849,true,true,false,false]
["65+",{"$f":"SUM(B273:B274)","v":19535},{"$f":"SUM(C273:C274)","v":8008},{"$f":"SUM(D273:D274)","v":11527},true,false,true,false]
[" oświęcimski ",154715,75216,79499,true,true,true,true]
[" 0 - 4 ",7431,3839,3592,false,true,true,false]
[" 5 - 9 ",8207,4161,4046,false,true,true,false]
[" 10 - 14 ",7088,3685,3403,false,true,true,false]
[" 15 - 19 ",7717,4013,3704,false,true,true,false]
[" 20 - 24 ",9522,4779,4743,false,true,true,false]
[" 25 - 29 ",11223,5832,5391,false,true,true,false]
[" 30 - 34 ",12357,6318,6039,false,true,true,false]
[" 35 - 39 ",12180,6262,5918,false,true,true,false]
[" 40 - 44 ",10814,5427,5387,false,true,true,false]
[" 45 - 49 ",9877,4963,4914,false,true,true,false]
[" 50 - 54 ",10090,5015,5075,false,true,true,false]
[" 55 - 59 ",11714,5710,6004,false,true,true,false]
[" 60 - 64 ",10648,5006,5642,false,true,true,false]
[" 65 - 69 ",8418,3672,4746,false,true,true,false]
[" 70 i więcej",17429,6534,10895,true,true,false,false]
["65+",{"$f":"SUM(B290:B291)","v":25847},{"$f":"SUM(C290:C291)","v":10206},{"$f":"SUM(D290:D291)","v":15641},true,false,true,false]
[" proszowicki ",43696,21526,22170,true,true,true,true]
[" 0 - 4 ",2080,1077,1003,false,true,true,false]
[" 5 - 9 ",2245,1099,1146,false,true,true,false]
[" 10 - 14 ",2112,1090,1022,false,true,true,false]
[" 15 - 19 ",2312,1190,1122,false,true,true,false]
[" 20 - 24 ",3146,1595,1551,false,true,true,false]
[" 25 - 29 ",3282,1715,1567,false,true,true,false]
[" 30 - 34 ",3465,1787,1678,false,true,true,false]
[" 35 - 39 ",3405,1733,1672,false,true,true,false]
[" 40 - 44 ",3078,1610,1468,false,true,true,false]
[" 45 - 49 ",2779,1386,1393,false,true,true,false]
[" 50 - 54 ",2630,1354,1276,false,true,true,false]
[" 55 - 59 ",3085,1582,1503,false,true,true,false]
[" 60 - 64 ",2932,1394,1538,false,true,true,false]
[" 65 - 69 ",2424,1136,1288,false,true,true,false]
[" 70 i więcej",4721,1778,2943,true,true,false,false]
["65+",{"$f":"SUM(B307:B308)","v":7145},{"$f":"SUM(C307:C308)","v":2914},{"$f":"SUM(D307:D308)","v":4231},true,false,true,false]
[" suski ",84142,41722,42420,true,true,true,true]
[" 0 - 4 ",4414,2311,2103,false,true,true,false]
[" 5 - 9 ",4993,2540,2453,false,true,true,false]
[" 10 - 14 ",4600,2332,2268,false,true,true,false]
[" 15 - 19 ",5144,2658,2486,false,true,true,false]
[" 20 - 24 ",6154,3151,3003,false,true,true,false]
[" 25 - 29 ",6535,3412,3123,false,true,true,false]
[" 30 - 34 ",6694,3444,3250,false,true,true,false]
[" 35 - 39 ",6277,3215,3062,false,true,true,false]
[" 40 - 44 ",5855,2948,2907,false,true,true,false]
[" 45 - 49 ",5367,2762,2605,false,true,true,false]
[" 50 - 54 ",5354,2783,2571,false,true,true,false]
[" 55 - 59 ",5460,2836,2624,false,true,true,false]
[" 60 - 64 ",4949,2461,2488,false,true,true,false]
[" 65 - 69 ",4017,1921,2096,false,true,true,false]
[" 70 i więcej",8329,2948,5381,{"$f":"IFERROR(IF(SEARCH(\" - \",A325)>0,FALSE,TRUE),TRUE)","v":true},{"$f":"IFERROR(IF(SEARCH(\"65+\",A325)>0,FALSE,TRUE),TRUE)","v":true},{"$f":"IFERROR(IF(SEARCH(\"70\",A325)>0,FALSE,TRUE),TRUE)","v":false},{"$f":"AND(E325:G325)","v":false}]
["65+",{"$f":"SUM(B324:B325)","v":12346},{"$f":"SUM(C324:C325)","v":4869},{"$f":"SUM(D324:D325)","v":7477},true,false,true,false]
[" tarnowski ",200677,99586,101091,true,true,true,true]
[" 0 - 4 ",10424,5333,5091,false,true,true,false]
[" 5 - 9 ",11412,5869,5543,false,true,true,false]
[" 10 - 14 ",10877,5578,5299,false,true,true,false]
[" 15 - 19 ",12708,6480,6228,false,true,true,false]
[" 20 - 24 ",15364,7879,7485,false,true,true,false]
[" 25 - 29 ",16156,8406,7750,false,true,true,false]
[" 30 - 34 ",16105,8253,7852,false,true,true,false]
[" 35 - 39 ",15156,7698,7458,false,true,true,false]
[" 40 - 44 ",14255,7142,7113,false,true,true,false]
[" 45 - 49 ",13451,6940,6511,false,true,true,false]
[" 50 - 54 ",13370,6979,6391,false,true,true,false]
[" 55 - 59 ",12624,6431,6193,false,true,true,false]
[" 60 - 64 ",10755,5476,5279,false,true,true,false]
[" 65 - 69 ",8369,3872,4497,false,true,true,false]
[" 70 i więcej",19651,7250,12401,true,true,false,false]
["65+",{"$f":"SUM(B341:B342)","v":28020},{"$f":"SUM(C341:C342)","v":11122},{"$f":"SUM(D341:D342)","v":16898},true,false,true,false]
[" tatrzański ",67935,32756,35179,true,true,true,true]
[" 0 - 4 ",3584,1838,1746,false,true,true,false]
[" 5 - 9 ",3713,1926,1787,false,true,true,false]
[" 10 - 14 ",3504,1797,1707,false,true,true,false]
[" 15 - 19 ",3869,1992,1877,false,true,true,false]
[" 20 - 24 ",4695,2471,2224,false,true,true,false]
[" 25 - 29 ",5116,2598,2518,false,true,true,false]
[" 30 - 34 ",5407,2683,2724,false,true,true,false]
[" 35 - 39 ",5127,2591,2536,false,true,true,false]
[" 40 - 44 ",4677,2287,2390,false,true,true,false]
[" 45 - 49 ",4366,2159,2207,false,true,true,false]
[" 50 - 54 ",4430,2191,2239,false,true,true,false]
[" 55 - 59 ",4554,2154,2400,false,true,true,false]
[" 60 - 64 ",4272,2012,2260,false,true,true,false]
[" 65 - 69 ",3489,1544,1945,false,true,true,false]
[" 70 i więcej",7132,2513,4619,true,true,false,false]
["65+",{"$f":"SUM(B358:B359)","v":10621},{"$f":"SUM(C358:C359)","v":4057},{"$f":"SUM(D358:D359)","v":6564},true,false,true,false]
[" wadowicki ",159593,78213,81380,true,true,true,true]
[" 0 - 4 ",8510,4436,4074,false,true,true,false]
[" 5 - 9 ",9379,4722,4657,false,true,true,false]
[" 10 - 14 ",8457,4346,4111,false,true,true,false]
[" 15 - 19 ",9107,4685,4422,false,true,true,false]
[" 20 - 24 ",10841,5551,5290,false,true,true,false]
[" 25 - 29 ",12280,6302,5978,false,true,true,false]
[" 30 - 34 ",12796,6555,6241,false,true,true,false]
[" 35 - 39 ",12464,6392,6072,false,true,true,false]
[" 40 - 44 ",11577,5897,5680,false,true,true,false]
[" 45 - 49 ",10267,5206,5061,false,true,true,false]
[" 50 - 54 ",10223,5157,5066,false,true,true,false]
[" 55 - 59 ",10843,5337,5506,false,true,true,false]
[" 60 - 64 ",9860,4688,5172,false,true,true,false]
[" 65 - 69 ",7578,3456,4122,false,true,true,false]
[" 70 i więcej",15411,5483,9928,true,true,false,false]
["65+",{"$f":"SUM(B375:B376)","v":22989},{"$f":"SUM(C375:C376)","v":8939},{"$f":"SUM(D375:D376)","v":14050},true,false,true,false]
[" wielicki ",122448,59819,62629,true,true,true,true]
[" 0 - 4 ",6867,3557,3310,false,true,true,false]
[" 5 - 9 ",7973,4144,3829,false,true,true,false]
[" 10 - 14 ",6604,3461,3143,false,true,true,false]
[" 15 - 19 ",6767,3456,3311,false,true,true,false]
[" 20 - 24 ",7778,3938,3840,false,true,true,false]
[" 25 - 29 ",8763,4351,4412,false,true,true,false]
[" 30 - 34 ",10712,5309,5403,false,true,true,false]
[" 35 - 39 ",10840,5466,5374,false,true,true,false]
[" 40 - 44 ",9443,4709,4734,false,true,true,false]
[" 45 - 49 ",7850,3895,3955,false,true,true,false]
[" 50 - 54 ",7200,3562,3638,{"$f":"IFERROR(IF(SEARCH(\" - \",A389)>0,FALSE,TRUE),TRUE)","v":false},{"$f":"IFERROR(IF(SEARCH(\"65+\",A389)>0,FALSE,TRUE),TRUE)","v":true},{"$f":"IFERROR(IF(SEARCH(\"70\",A389)>0,FALSE,TRUE),TRUE)","v":true},{"$f":"AND(E389:G389)","v":false}]
[" 55 - 59 ",7995,3950,4045,false,true,true,false]
[" 60 - 64 ",7643,3656,3987,false,true,true,false]
[" 65 - 69 ",5660,2554,3106,false,true,true,false]
[" 70 i więcej",10353,3811,6542,true,true,false,false]
["65+",{"$f":"SUM(B392:B393)","v":16013},{"$f":"SUM(C392:C393)","v":6365},{"$f":"SUM(D392:D393)","v":9648},true,false,true,false]

{"sheet":"Mazowieckie","index":12,"n_rows":734,"n_cols":8,"rows_kept":734,"cut":false,"hidden":true,"merged":[[0,0,2,0],[0,1,2,1],[0,2,2,2],[0,3,2,3]]}
["Województwa\nPowiaty\nGrupy wieku ","Ogółem","Mężczyźni","Kobiety "]
[]
[]
["Mazowieckie ",5356838,2562757,2794081,{"$f":"IFERROR(IF(SEARCH(\" - \",A4)>0,FALSE,TRUE),TRUE)","v":true},{"$f":"IFERROR(IF(SEARCH(\"65+\",A4)>0,FALSE,TRUE),TRUE)","v":true},{"$f":"IFERROR(IF(SEARCH(\"70\",A4)>0,FALSE,TRUE),TRUE)","v":true},{"$f":"AND(E4:G4)","v":true}]
[" 0 - 4 ",286725,147453,139272,{"$f":"IFERROR(IF(SEARCH(\" - \",A5)>0,FALSE,TRUE),TRUE)","v":false},{"$f":"IFERROR(IF(SEARCH(\"65+\",A5)>0,FALSE,TRUE),TRUE)","v":true},{"$f":"IFERROR(IF(SEARCH(\"70\",A5)>0,FALSE,TRUE),TRUE)","v":true},{"$f":"AND(E5:G5)","v":false}]
[" 5 - 9 ",305015,156623,148392,false,true,true,false]
[" 10 - 14 ",255216,130537,124679,false,true,true,false]
[" 15 - 19 ",257829,132168,125661,false,true,true,false]
[" 20 - 24 ",303394,154481,148913,false,true,true,false]
[" 25 - 29 ",373808,187444,186364,false,true,true,false]
[" 30 - 34 ",459675,227867,231808,false,true,true,false]
[" 35 - 39 ",457504,226892,230612,false,true,true,false]
[" 40 - 44 ",403196,200707,202489,false,true,true,false]
[" 45 - 49 ",319849,159493,160356,false,true,true,false]
[" 50 - 54 ",307642,151043,156599,false,true,true,false]
[" 55 - 59 ",366590,174489,192101,false,true,true,false]
[" 60 - 64 ",378276,173501,204775,false,true,true,false]
[" 65 - 69 ",299080,130681,168399,false,true,true,false]
[" 70 i więcej",583039,209378,373661,true,true,false,false]
["65+",{"$f":"SUM(B18:B19)","v":882119},{"$f":"SUM(C18:C19)","v":340059},{"$f":"SUM(D18:D19)","v":542060},true,false,true,false]
[" Ostrołęka ",52408,25077,27331,true,true,true,true]
[" 0 - 4 ",2609,1325,1284,false,true,true,false]
[" 5 - 9 ",2748,1399,1349,false,true,true,false]
[" 10 - 14 ",2363,1209,1154,false,true,true,false]
[" 15 - 19 ",3046,1518,1528,false,true,true,false]
[" 20 - 24 ",2980,1519,1461,false,true,true,false]
[" 25 - 29 ",3752,1901,1851,false,true,true,false]
[" 30 - 34 ",4594,2390,2204,false,true,true,false]
[" 35 - 39 ",4275,2202,2073,false,true,true,false]
[" 40 - 44 ",3401,1708,1693,false,true,true,false]
[" 45 - 49 ",3132,1504,1628,false,true,true,false]
[" 50 - 54 ",3331,1507,1824,false,true,true,false]
[" 55 - 59 ",4337,1900,2437,false,true,true,false]
[" 60 - 64 ",4384,1934,2450,false,true,true,false]
[" 65 - 69 ",3023,1379,1644,false,true,true,false]
[" 70 i więcej",4433,1682,2751,true,true,false,false]
["65+",{"$f":"SUM(B35:B36)","v":7456},{"$f":"SUM(C35:C36)","v":3061},{"$f":"SUM(D35:D36)","v":4395},true,false,true,false]
[" Płock ",121468,57376,64092,true,true,true,true]
[" 0 - 4 ",5880,3079,2801,false,true,true,false]
[" 5 - 9 ",6223,3253,2970,false,true,true,false]
[" 10 - 14 ",5178,2637,2541,false,true,true,false]
[" 15 - 19 ",5935,2921,3014,false,true,true,false]
[" 20 - 24 ",6814,3458,3356,false,true,true,false]
[" 25 - 29 ",7770,4004,3766,false,true,true,false]
[" 30 - 34 ",9939,5001,4938,false,true,true,false]
[" 35 - 39 ",10306,5136,5170,false,true,true,false]
[" 40 - 44 ",9078,4496,4582,false,true,true,false]
[" 45 - 49 ",7646,3697,3949,false,true,true,false]
[" 50 - 54 ",7272,3455,3817,false,true,true,false]
[" 55 - 59 ",8576,3771,4805,false,true,true,false]
[" 60 - 64 ",9673,4112,5561,false,true,true,false]
[" 65 - 69 ",8533,3668,4865,false,true,true,false]
[" 70 i więcej",12645,4688,7957,true,true,false,false]
["65+",{"$f":"SUM(B52:B53)","v":21178},{"$f":"SUM(C52:C53)","v":8356},{"$f":"SUM(D52:D53)","v":12822},true,false,true,false]
[" Radom ",215653,102481,113172,true,true,true,true]
[" 0 - 4 ",9889,5069,4820,false,true,true,false]
[" 5 - 9 ",10965,5724,5241,false,true,true,false]
[" 10 - 14 ",9787,5048,4739,false,true,true,false]
[" 15 - 19 ",10814,5544,5270,false,true,true,false]
[" 20 - 24 ",12836,6544,6292,false,true,true,false]
[" 25 - 29 ",15305,7942,7363,false,true,true,false]
[" 30 - 34 ",17962,9340,8622,false,true,true,false]
[" 35 - 39 ",17437,8930,8507,false,true,true,false]
[" 40 - 44 ",14945,7425,7520,false,true,true,false]
[" 45 - 49 ",12634,6179,6455,false,true,true,false]
[" 50 - 54 ",13122,6154,6968,false,true,true,false]
[" 55 - 59 ",16400,7462,8938,false,true,true,false]
[" 60 - 64 ",17248,7652,9596,false,true,true,false]
[" 65 - 69 ",12762,5247,7515,{"$f":"IFERROR(IF(SEARCH(\" - \",A69)>0,FALSE,TRUE),TRUE)","v":false},{"$f":"IFERROR(IF(SEARCH(\"65+\",A69)>0,FALSE,TRUE),TRUE)","v":true},{"$f":"IFERROR(IF(SEARCH(\"70\",A69)>0,FALSE,TRUE),TRUE)","v":true},{"$f":"AND(E69:G69)","v":false}]
[" 70 i więcej",23547,8221,15326,true,true,false,false]
["65+",{"$f":"SUM(B69:B70)","v":36309},{"$f":"SUM(C69:C70)","v":13468},{"$f":"SUM(D69:D70)","v":22841},true,false,true,false]
[" Siedlce ",77072,36479,40593,true,true,true,true]
[" 0 - 4 ",4533,2342,2191,false,true,true,false]
[" 5 - 9 ",4492,2312,2180,false,true,true,false]
[" 10 - 14 ",3728,1925,1803,false,true,true,false]
[" 15 - 19 ",3791,1967,1824,false,true,true,false]
[" 20 - 24 ",4217,2203,2014,false,true,true,false]
[" 25 - 29 ",5727,2790,2937,false,true,true,false]
[" 30 - 34 ",7097,3585,3512,false,true,true,false]
[" 35 - 39 ",6551,3258,3293,false,true,true,false]
[" 40 - 44 ",5243,2554,2689,false,true,true,false]
[" 45 - 49 ",4140,2018,2122,false,true,true,false]
[" 50 - 54 ",4272,1909,2363,false,true,true,false]
[" 55 - 59 ",5469,2369,3100,false,true,true,false]
[" 60 - 64 ",6038,2604,3434,false,true,true,false]
[" 65 - 69 ",4601,2024,2577,false,true,true,false]
[" 70 i więcej",7173,2619,4554,true,true,false,false]
["65+",{"$f":"SUM(B86:B87)","v":11774},{"$f":"SUM(C86:C87)","v":4643},{"$f":"SUM(D86:D87)","v":7131},true,false,true,false]
[" Warszawa ",1748916,802969,945947,true,true,true,true]
[" 0 - 4 ",96652,49697,46955,false,true,true,false]
[" 5 - 9 ",94143,48418,45725,false,true,true,false]
[" 10 - 14 ",69217,35241,33976,false,true,true,false]
[" 15 - 19 ",59908,30371,29537,false,true,true,false]
[" 20 - 24 ",69616,35159,34457,false,true,true,false]
[" 25 - 29 ",119015,55949,63066,false,true,true,false]
[" 30 - 34 ",169791,79696,90095,false,true,true,false]
[" 35 - 39 ",166245,78778,87467,false,true,true,false]
[" 40 - 44 ",138402,66283,72119,false,true,true,false]
[" 45 - 49 ",95804,46458,49346,false,true,true,false]
[" 50 - 54 ",88182,41831,46351,false,true,true,false]
[" 55 - 59 ",114060,51300,62760,false,true,true,false]
[" 60 - 64 ",131481,57295,74186,false,true,true,false]
[" 65 - 69 ",107241,44832,62409,false,true,true,false]
[" 70 i więcej",229159,81661,147498,true,true,false,false]
["65+",{"$f":"SUM(B103:B104)","v":336400},{"$f":"SUM(C103:C104)","v":126493},{"$f":"SUM(D103:D104)","v":209907},true,false,true,false]
[" białobrzeski ",33553,16955,16598,true,true,true,true]
[" 0 - 4 ",1828,963,865,false,true,true,false]
[" 5 - 9 ",1970,1021,949,false,true,true,false]
[" 10 - 14 ",1913,950,963,false,true,true,false]
[" 15 - 19 ",2002,1056,946,false,true,true,false]
[" 20 - 24 ",2642,1399,1243,false,true,true,false]
[" 25 - 29 ",2556,1357,1199,false,true,true,false]
[" 30 - 34 ",2598,1392,1206,false,true,true,false]
[" 35 - 39 ",2540,1413,1127,false,true,true,false]
[" 40 - 44 ",2265,1151,1114,false,true,true,false]
[" 45 - 49 ",2066,1048,1018,false,true,true,false]
[" 50 - 54 ",2003,1059,944,false,true,true,false]
[" 55 - 59 ",2257,1162,1095,false,true,true,false]
[" 60 - 64 ",2154,1121,1033,false,true,true,false]
[" 65 - 69 ",1635,714,921,false,true,true,false]
[" 70 i więcej",3124,1149,1975,true,true,false,false]
["65+",{"$f":"SUM(B120:B121)","v":4759},{"$f":"SUM(C120:C121)","v":1863},{"$f":"SUM(D120:D121)","v":2896},true,false,true,false]
[" ciechanowski ",90256,44332,45924,true,true,true,true]
[" 0 - 4 ",4547,2275,2272,false,true,true,false]
[" 5 - 9 ",4711,2457,2254,false,true,true,false]
[" 10 - 14 ",4329,2234,2095,false,true,true,false]
[" 15 - 19 ",5030,2623,2407,false,true,true,false]
[" 20 - 24 ",6168,3176,2992,false,true,true,false]
[" 25 - 29 ",6895,3610,3285,false,true,true,false]
[" 30 - 34 ",7031,3790,3241,false,true,true,false]
[" 35 - 39 ",6580,3442,3138,false,true,true,false]
[" 40 - 44 ",5878,2994,2884,false,true,true,false]
[" 45 - 49 ",5533,2756,2777,{"$f":"IFERROR(IF(SEARCH(\" - \",A133)>0,FALSE,TRUE),TRUE)","v":false},{"$f":"IFERROR(IF(SEARCH(\"65+\",A133)>0,FALSE,TRUE),TRUE)","v":true},{"$f":"IFERROR(IF(SEARCH(\"70\",A133)>0,FALSE,TRUE),TRUE)","v":true},{"$f":"AND(E133:G133)","v":false}]
[" 50 - 54 ",6132,3008,3124,false,true,true,false]
[" 55 - 59 ",7283,3592,3691,false,true,true,false]
[" 60 - 64 ",6711,3158,3553,false,true,true,false]
[" 65 - 69 ",4975,2278,2697,false,true,true,false]
[" 70 i więcej",8453,2939,5514,true,true,false,false]
["65+",{"$f":"SUM(B137:B138)","v":13428},{"$f":"SUM(C137:C138)","v":5217},{"$f":"SUM(D137:D138)","v":8211},true,false,true,false]
[" garwoliński ",108765,54012,54753,true,true,true,true]
[" 0 - 4 ",6513,3341,3172,false,true,true,false]
[" 5 - 9 ",6542,3342,3200,false,true,true,false]
[" 10 - 14 ",6099,3126,2973,false,true,true,false]
[" 15 - 19 ",6753,3427,3326,false,true,true,false]
[" 20 - 24 ",8208,4186,4022,false,true,true,false]
[" 25 - 29 ",8403,4392,4011,false,true,true,false]
[" 30 - 34 ",8735,4623,4112,false,true,true,false]
[" 35 - 39 ",8157,4277,3880,false,true,true,false]
[" 40 - 44 ",7376,3834,3542,false,true,true,false]
[" 45 - 49 ",6437,3292,3145,false,true,true,false]
[" 50 - 54 ",6491,3302,3189,false,true,true,false]
[" 55 - 59 ",7196,3684,3512,false,true,true,false]
[" 60 - 64 ",6491,3157,3334,false,true,true,false]
[" 65 - 69 ",4988,2273,2715,false,true,true,false]
[" 70 i więcej",10376,3756,6620,true,true,false,false]
["65+",{"$f":"SUM(B154:B155)","v":15364},{"$f":"SUM(C154:C155)","v":6029},{"$f":"SUM(D154:D155)","v":9335},true,false,true,false]
[" gostyniński ",45869,22325,23544,true,true,true,true]
[" 0 - 4 ",1967,985,982,false,true,true,false]
[" 5 - 9 ",2314,1216,1098,false,true,true,false]
[" 10 - 14 ",2122,1107,1015,false,true,true,false]
[" 15 - 19 ",2518,1314,1204,false,true,true,false]
[" 20 - 24 ",3066,1587,1479,false,true,true,false]
[" 25 - 29 ",3253,1661,1592,false,true,true,false]
[" 30 - 34 ",3530,1846,1684,false,true,true,false]
[" 35 - 39 ",3341,1756,1585,false,true,true,false]
[" 40 - 44 ",3334,1719,1615,false,true,true,false]
[" 45 - 49 ",2894,1450,1444,false,true,true,false]
[" 50 - 54 ",2935,1430,1505,false,true,true,false]
[" 55 - 59 ",3576,1719,1857,false,true,true,false]
[" 60 - 64 ",3233,1539,1694,false,true,true,false]
[" 65 - 69 ",2850,1249,1601,false,true,true,false]
[" 70 i więcej",4936,1747,3189,true,true,false,false]
["65+",{"$f":"SUM(B171:B172)","v":7786},{"$f":"SUM(C171:C172)","v":2996},{"$f":"SUM(D171:D172)","v":4790},true,false,true,false]
[" grodziski ",91289,43731,47558,true,true,true,true]
[" 0 - 4 ",5080,2618,2462,false,true,true,false]
[" 5 - 9 ",6028,3121,2907,false,true,true,false]
[" 10 - 14 ",4862,2565,2297,false,true,true,false]
[" 15 - 19 ",4715,2386,2329,false,true,true,false]
[" 20 - 24 ",5069,2589,2480,false,true,true,false]
[" 25 - 29 ",5554,2806,2748,false,true,true,false]
[" 30 - 34 ",7135,3452,3683,false,true,true,false]
[" 35 - 39 ",7939,3810,4129,false,true,true,false]
[" 40 - 44 ",7444,3635,3809,false,true,true,false]
[" 45 - 49 ",5838,2893,2945,false,true,true,false]
[" 50 - 54 ",5277,2580,2697,false,true,true,false]
[" 55 - 59 ",6176,2923,3253,false,true,true,false]
[" 60 - 64 ",6428,3003,3425,false,true,true,false]
[" 65 - 69 ",4875,2145,2730,false,true,true,false]
[" 70 i więcej",8869,3205,5664,true,true,false,false]
["65+",{"$f":"SUM(B188:B189)","v":13744},{"$f":"SUM(C188:C189)","v":5350},{"$f":"SUM(D188:D189)","v":8394},true,false,true,false]
[" grójecki ",98551,48480,50071,true,true,true,true]
[" 0 - 4 ",5134,2643,2491,false,true,true,false]
[" 5 - 9 ",5501,2823,2678,false,true,true,false]
[" 10 - 14 ",5015,2601,2414,false,true,true,false]
[" 15 - 19 ",5076,2698,2378,false,true,true,false]
[" 20 - 24 ",6437,3283,3154,false,true,true,false]
[" 25 - 29 ",6687,3391,3296,{"$f":"IFERROR(IF(SEARCH(\" - \",A197)>0,FALSE,TRUE),TRUE)","v":false},{"$f":"IFERROR(IF(SEARCH(\"65+\",A197)>0,FALSE,TRUE),TRUE)","v":true},{"$f":"IFERROR(IF(SEARCH(\"70\",A197)>0,FALSE,TRUE),TRUE)","v":true},{"$f":"AND(E197:G197)","v":false}]
[" 30 - 34 ",7715,3977,3738,false,true,true,false]
[" 35 - 39 ",7875,4049,3826,false,true,true,false]
[" 40 - 44 ",7180,3761,3419,false,true,true,false]
[" 45 - 49 ",6000,3027,2973,false,true,true,false]
[" 50 - 54 ",5930,2971,2959,false,true,true,false]
[" 55 - 59 ",7186,3552,3634,false,true,true,false]
[" 60 - 64 ",7233,3504,3729,false,true,true,false]
[" 65 - 69 ",5350,2484,2866,false,true,true,false]
[" 70 i więcej",10232,3716,6516,true,true,false,false]
["65+",{"$f":"SUM(B205:B206)","v":15582},{"$f":"SUM(C205:C206)","v":6200},{"$f":"SUM(D205:D206)","v":9382},true,false,true,false]
[" kozienicki ",61128,30388,30740,true,true,true,true]
[" 0 - 4 ",2876,1468,1408,false,true,true,false]
[" 5 - 9 ",3082,1587,1495,false,true,true,false]
[" 10 - 14 ",2924,1515,1409,false,true,true,false]
[" 15 - 19 ",3348,1755,1593,false,true,true,false]
[" 20 - 24 ",4367,2223,2144,false,true,true,false]
[" 25 - 29 ",4462,2383,2079,false,true,true,false]
[" 30 - 34 ",4738,2541,2197,false,true,true,false]
[" 35 - 39 ",4503,2422,2081,false,true,true,false]
[" 40 - 44 ",4152,2151,2001,false,true,true,false]
[" 45 - 49 ",3633,1860,1773,false,true,true,false]
[" 50 - 54 ",3651,1829,1822,false,true,true,false]
[" 55 - 59 ",4742,2350,2392,false,true,true,false]
[" 60 - 64 ",4947,2376,2571,false,true,true,false]
[" 65 - 69 ",3606,1721,1885,false,true,true,false]
[" 70 i więcej",6097,2207,3890,true,true,false,false]
["65+",{"$f":"SUM(B222:B223)","v":9703},{"$f":"SUM(C222:C223)","v":3928},{"$f":"SUM(D222:D223)","v":5775},true,false,true,false]
[" legionowski ",113842,54916,58926,true,true,true,true]
[" 0 - 4 ",6243,3221,3022,false,true,true,false]
[" 5 - 9 ",7887,4059,3828,false,true,true,false]
[" 10 - 14 ",6245,3262,2983,false,true,true,false]
[" 15 - 19 ",5808,2986,2822,false,true,true,false]
[" 20 - 24 ",5847,3040,2807,false,true,true,false]
[" 25 - 29 ",6698,3403,3295,false,true,true,false]
[" 30 - 34 ",9343,4554,4789,false,true,true,false]
[" 35 - 39 ",11470,5503,5967,false,true,true,false]
[" 40 - 44 ",9830,4877,4953,false,true,true,false]
[" 45 - 49 ",6930,3500,3430,false,true,true,false]
[" 50 - 54 ",6173,3047,3126,false,true,true,false]
[" 55 - 59 ",7108,3264,3844,false,true,true,false]
[" 60 - 64 ",8309,3753,4556,false,true,true,false]
[" 65 - 69 ",6660,2977,3683,false,true,true,false]
[" 70 i więcej",9291,3470,5821,true,true,false,false]
["65+",{"$f":"SUM(B239:B240)","v":15951},{"$f":"SUM(C239:C240)","v":6447},{"$f":"SUM(D239:D240)","v":9504},true,false,true,false]
[" lipski ",34887,17341,17546,true,true,true,true]
[" 0 - 4 ",1567,805,762,false,true,true,false]
[" 5 - 9 ",1652,815,837,false,true,true,false]
[" 10 - 14 ",1570,783,787,false,true,true,false]
[" 15 - 19 ",1778,927,851,false,true,true,false]
[" 20 - 24 ",2443,1274,1169,false,true,true,false]
[" 25 - 29 ",2531,1419,1112,false,true,true,false]
[" 30 - 34 ",2596,1391,1205,false,true,true,false]
[" 35 - 39 ",2438,1328,1110,false,true,true,false]
[" 40 - 44 ",2220,1143,1077,false,true,true,false]
[" 45 - 49 ",2136,1121,1015,false,true,true,false]
[" 50 - 54 ",2336,1203,1133,false,true,true,false]
[" 55 - 59 ",2722,1394,1328,false,true,true,false]
[" 60 - 64 ",2577,1262,1315,false,true,true,false]
[" 65 - 69 ",2080,964,1116,false,true,true,false]
[" 70 i więcej",4241,1512,2729,true,true,false,false]
["65+",{"$f":"SUM(B256:B257)","v":6321},{"$f":"SUM(C256:C257)","v":2476},{"$f":"SUM(D256:D257)","v":3845},true,false,true,false]
[" łosicki ",31628,15765,15863,true,true,true,true]
[" 0 - 4 ",1599,816,783,false,true,true,false]
[" 5 - 9 ",1672,873,799,{"$f":"IFERROR(IF(SEARCH(\" - \",A261)>0,FALSE,TRUE),TRUE)","v":false},{"$f":"IFERROR(IF(SEARCH(\"65+\",A261)>0,FALSE,TRUE),TRUE)","v":true},{"$f":"IFERROR(IF(SEARCH(\"70\",A261)>0,FALSE,TRUE),TRUE)","v":true},{"$f":"AND(E261:G261)","v":false}]
[" 10 - 14 ",1508,750,758,false,true,true,false]
[" 15 - 19 ",1733,891,842,false,true,true,false]
[" 20 - 24 ",2415,1206,1209,false,true,true,false]
[" 25 - 29 ",2468,1358,1110,false,true,true,false]
[" 30 - 34 ",2344,1261,1083,false,true,true,false]
[" 35 - 39 ",2088,1132,956,false,true,true,false]
[" 40 - 44 ",1968,1042,926,false,true,true,false]
[" 45 - 49 ",1836,961,875,false,true,true,false]
[" 50 - 54 ",2036,1053,983,false,true,true,false]
[" 55 - 59 ",2304,1184,1120,false,true,true,false]
[" 60 - 64 ",2039,1024,1015,false,true,true,false]
[" 65 - 69 ",1769,808,961,false,true,true,false]
[" 70 i więcej",3849,1406,2443,true,true,false,false]
["65+",{"$f":"SUM(B273:B274)","v":5618},{"$f":"SUM(C273:C274)","v":2214},{"$f":"SUM(D273:D274)","v":3404},true,false,true,false]
[" makowski ",45845,22829,23016,true,true,true,true]
[" 0 - 4 ",2343,1205,1138,false,true,true,false]
[" 5 - 9 ",2505,1254,1251,false,true,true,false]
[" 10 - 14 ",2437,1229,1208,false,true,true,false]
[" 15 - 19 ",2668,1395,1273,false,true,true,false]
[" 20 - 24 ",3415,1749,1666,false,true,true,false]
[" 25 - 29 ",3383,1793,1590,false,true,true,false]
[" 30 - 34 ",3467,1852,1615,false,true,true,false]
[" 35 - 39 ",3196,1705,1491,false,true,true,false]
[" 40 - 44 ",2861,1513,1348,false,true,true,false]
[" 45 - 49 ",2788,1457,1331,false,true,true,false]
[" 50 - 54 ",2958,1504,1454,false,true,true,false]
[" 55 - 59 ",3363,1729,1634,false,true,true,false]
[" 60 - 64 ",3154,1560,1594,false,true,true,false]
[" 65 - 69 ",2506,1179,1327,false,true,true,false]
[" 70 i więcej",4801,1705,3096,true,true,false,false]
["65+",{"$f":"SUM(B290:B291)","v":7307},{"$f":"SUM(C290:C291)","v":2884},{"$f":"SUM(D290:D291)","v":4423},true,false,true,false]
[" miński ",151847,73986,77861,true,true,true,true]
[" 0 - 4 ",8725,4481,4244,false,true,true,false]
[" 5 - 9 ",9510,4830,4680,false,true,true,false]
[" 10 - 14 ",7896,3995,3901,false,true,true,false]
[" 15 - 19 ",8464,4347,4117,false,true,true,false]
[" 20 - 24 ",9432,4793,4639,false,true,true,false]
[" 25 - 29 ",10536,5378,5158,false,true,true,false]
[" 30 - 34 ",12492,6255,6237,false,true,true,false]
[" 35 - 39 ",12643,6392,6251,false,true,true,false]
[" 40 - 44 ",11427,5762,5665,false,true,true,false]
[" 45 - 49 ",9286,4686,4600,false,true,true,false]
[" 50 - 54 ",9047,4536,4511,false,true,true,false]
[" 55 - 59 ",10281,5120,5161,false,true,true,false]
[" 60 - 64 ",9908,4740,5168,false,true,true,false]
[" 65 - 69 ",7500,3402,4098,false,true,true,false]
[" 70 i więcej",14700,5269,9431,true,true,false,false]
["65+",{"$f":"SUM(B307:B308)","v":22200},{"$f":"SUM(C307:C308)","v":8671},{"$f":"SUM(D307:D308)","v":13529},true,false,true,false]
[" mławski ",73703,36159,37544,true,true,true,true]
[" 0 - 4 ",3601,1840,1761,false,true,true,false]
[" 5 - 9 ",4032,2019,2013,false,true,true,false]
[" 10 - 14 ",3687,1869,1818,false,true,true,false]
[" 15 - 19 ",4419,2254,2165,false,true,true,false]
[" 20 - 24 ",5459,2828,2631,false,true,true,false]
[" 25 - 29 ",5603,2895,2708,false,true,true,false]
[" 30 - 34 ",5871,3062,2809,false,true,true,false]
[" 35 - 39 ",5338,2795,2543,false,true,true,false]
[" 40 - 44 ",4902,2550,2352,false,true,true,false]
[" 45 - 49 ",4647,2399,2248,false,true,true,false]
[" 50 - 54 ",4844,2434,2410,false,true,true,false]
[" 55 - 59 ",5432,2752,2680,false,true,true,false]
[" 60 - 64 ",4714,2227,2487,false,true,true,false]
[" 65 - 69 ",3856,1703,2153,false,true,true,false]
[" 70 i więcej",7298,2532,4766,{"$f":"IFERROR(IF(SEARCH(\" - \",A325)>0,FALSE,TRUE),TRUE)","v":true},{"$f":"IFERROR(IF(SEARCH(\"65+\",A325)>0,FALSE,TRUE),TRUE)","v":true},{"$f":"IFERROR(IF(SEARCH(\"70\",A325)>0,FALSE,TRUE),TRUE)","v":false},{"$f":"AND(E325:G325)","v":false}]
["65+",{"$f":"SUM(B324:B325)","v":11154},{"$f":"SUM(C324:C325)","v":4235},{"$f":"SUM(D324:D325)","v":6919},true,false,true,false]
[" nowodworski ",78843,38589,40254,true,true,true,true]
[" 0 - 4 ",4043,2136,1907,false,true,true,false]
[" 5 - 9 ",4541,2371,2170,false,true,true,false]
[" 10 - 14 ",3880,1938,1942,false,true,true,false]
[" 15 - 19 ",4080,2134,1946,false,true,true,false]
[" 20 - 24 ",4872,2445,2427,false,true,true,false]
[" 25 - 29 ",5595,2886,2709,false,true,true,false]
[" 30 - 34 ",6756,3393,3363,false,true,true,false]
[" 35 - 39 ",6443,3291,3152,false,true,true,false]
[" 40 - 44 ",5869,2989,2880,false,true,true,false]
[" 45 - 49 ",4750,2413,2337,false,true,true,false]
[" 50 - 54 ",4843,2372,2471,false,true,true,false]
[" 55 - 59 ",5978,2913,3065,false,true,true,false]
[" 60 - 64 ",5744,2754,2990,false,true,true,false]
[" 65 - 69 ",4302,1974,2328,false,true,true,false]
[" 70 i więcej",7147,2580,4567,true,true,false,false]
["65+",{"$f":"SUM(B341:B342)","v":11449},{"$f":"SUM(C341:C342)","v":4554},{"$f":"SUM(D341:D342)","v":6895},true,false,true,false]
[" ostrołęcki ",88522,44881,43641,true,true,true,true]
[" 0 - 4 ",4762,2471,2291,false,true,true,false]
[" 5 - 9 ",5328,2736,2592,false,true,true,false]
[" 10 - 14 ",5091,2608,2483,false,true,true,false]
[" 15 - 19 ",5614,2990,2624,false,true,true,false]
[" 20 - 24 ",7402,3860,3542,false,true,true,false]
[" 25 - 29 ",7183,3863,3320,false,true,true,false]
[" 30 - 34 ",6875,3626,3249,false,true,true,false]
[" 35 - 39 ",6260,3302,2958,false,true,true,false]
[" 40 - 44 ",5979,3133,2846,false,true,true,false]
[" 45 - 49 ",5938,3120,2818,false,true,true,false]
[" 50 - 54 ",6101,3276,2825,false,true,true,false]
[" 55 - 59 ",5790,3099,2691,false,true,true,false]
[" 60 - 64 ",4642,2386,2256,false,true,true,false]
[" 65 - 69 ",3339,1578,1761,false,true,true,false]
[" 70 i więcej",8218,2833,5385,true,true,false,false]
["65+",{"$f":"SUM(B358:B359)","v":11557},{"$f":"SUM(C358:C359)","v":4411},{"$f":"SUM(D358:D359)","v":7146},true,false,true,false]
[" ostrowski ",73747,36597,37150,true,true,true,true]
[" 0 - 4 ",3477,1812,1665,false,true,true,false]
[" 5 - 9 ",3909,2023,1886,false,true,true,false]
[" 10 - 14 ",3714,1895,1819,false,true,true,false]
[" 15 - 19 ",4411,2247,2164,false,true,true,false]
[" 20 - 24 ",5361,2681,2680,false,true,true,false]
[" 25 - 29 ",5529,2877,2652,false,true,true,false]
[" 30 - 34 ",5589,2989,2600,false,true,true,false]
[" 35 - 39 ",5246,2809,2437,false,true,true,false]
[" 40 - 44 ",4898,2532,2366,false,true,true,false]
[" 45 - 49 ",4590,2352,2238,false,true,true,false]
[" 50 - 54 ",4721,2445,2276,false,true,true,false]
[" 55 - 59 ",5392,2743,2649,false,true,true,false]
[" 60 - 64 ",4886,2414,2472,false,true,true,false]
[" 65 - 69 ",3743,1690,2053,false,true,true,false]
[" 70 i więcej",8281,3088,5193,true,true,false,false]
["65+",{"$f":"SUM(B375:B376)","v":12024},{"$f":"SUM(C375:C376)","v":4778},{"$f":"SUM(D375:D376)","v":7246},true,false,true,false]
[" otwocki ",123294,59012,64282,true,true,true,true]
[" 0 - 4 ",6631,3400,3231,false,true,true,false]
[" 5 - 9 ",7503,3809,3694,false,true,true,false]
[" 10 - 14 ",6343,3238,3105,false,true,true,false]
[" 15 - 19 ",6056,3134,2922,false,true,true,false]
[" 20 - 24 ",7184,3682,3502,false,true,true,false]
[" 25 - 29 ",8070,4167,3903,false,true,true,false]
[" 30 - 34 ",9600,4751,4849,false,true,true,false]
[" 35 - 39 ",10064,4939,5125,false,true,true,false]
[" 40 - 44 ",9458,4708,4750,false,true,true,false]
[" 45 - 49 ",7855,3871,3984,false,true,true,false]
[" 50 - 54 ",7403,3618,3785,{"$f":"IFERROR(IF(SEARCH(\" - \",A389)>0,FALSE,TRUE),TRUE)","v":false},{"$f":"IFERROR(IF(SEARCH(\"65+\",A389)>0,FALSE,TRUE),TRUE)","v":true},{"$f":"IFERROR(IF(SEARCH(\"70\",A389)>0,FALSE,TRUE),TRUE)","v":true},{"$f":"AND(E389:G389)","v":false}]
[" 55 - 59 ",8679,4134,4545,false,true,true,false]
[" 60 - 64 ",8383,3944,4439,false,true,true,false]
[" 65 - 69 ",6656,2889,3767,false,true,true,false]
[" 70 i więcej",13409,4728,8681,true,true,false,false]
["65+",{"$f":"SUM(B392:B393)","v":20065},{"$f":"SUM(C392:C393)","v":7617},{"$f":"SUM(D392:D393)","v":12448},true,false,true,false]
[" piaseczyński ",178449,85425,93024,true,true,true,true]
[" 0 - 4 ",10592,5448,5144,false,true,true,false]
[" 5 - 9 ",12630,6475,6155,false,true,true,false]
[" 10 - 14 ",10451,5292,5159,false,true,true,false]
[" 15 - 19 ",8995,4609,4386,false,true,true,false]
[" 20 - 24 ",9317,4684,4633,false,true,true,false]
[" 25 - 29 ",10528,5208,5320,false,true,true,false]
[" 30 - 34 ",14532,6917,7615,false,true,true,false]
[" 35 - 39 ",17175,8131,9044,false,true,true,false]
[" 40 - 44 ",16176,7843,8333,false,true,true,false]
[" 45 - 49 ",11909,5946,5963,false,true,true,false]
[" 50 - 54 ",9797,4809,4988,false,true,true,false]
[" 55 - 59 ",10940,5192,5748,false,true,true,false]
[" 60 - 64 ",11259,5170,6089,false,true,true,false]
[" 65 - 69 ",9032,3982,5050,false,true,true,false]
[" 70 i więcej",15116,5719,9397,true,true,false,false]
["65+",{"$f":"SUM(B409:B410)","v":24148},{"$f":"SUM(C409:C410)","v":9701},{"$f":"SUM(D409:D410)","v":14447},true,false,true,false]
[" płocki ",111103,55148,55955,true,true,true,true]
[" 0 - 4 ",5215,2659,2556,false,true,true,false]
[" 5 - 9 ",6163,3132,3031,false,true,true,false]
[" 10 - 14 ",5910,3064,2846,false,true,true,false]
[" 15 - 19 ",6557,3424,3133,false,true,true,false]
[" 20 - 24 ",8354,4300,4054,false,true,true,false]
[" 25 - 29 ",8257,4277,3980,false,true,true,false]
[" 30 - 34 ",8372,4403,3969,false,true,true,false]
[" 35 - 39 ",8446,4376,4070,false,true,true,false]
[" 40 - 44 ",8501,4422,4079,false,true,true,false]
[" 45 - 49 ",7692,3898,3794,false,true,true,false]
[" 50 - 54 ",7089,3603,3486,false,true,true,false]
[" 55 - 59 ",7410,3798,3612,false,true,true,false]
[" 60 - 64 ",6854,3370,3484,false,true,true,false]
[" 65 - 69 ",5812,2649,3163,false,true,true,false]
[" 70 i więcej",10471,3773,6698,true,true,false,false]
["65+",{"$f":"SUM(B426:B427)","v":16283},{"$f":"SUM(C426:C427)","v":6422},{"$f":"SUM(D426:D427)","v":9861},true,false,true,false]
[" płoński ",88062,43416,44646,true,true,true,true]
[" 0 - 4 ",4259,2161,2098,false,true,true,false]
[" 5 - 9 ",4819,2443,2376,false,true,true,false]
[" 10 - 14 ",4513,2355,2158,false,true,true,false]
[" 15 - 19 ",5085,2654,2431,false,true,true,false]
[" 20 - 24 ",6140,3103,3037,false,true,true,false]
[" 25 - 29 ",6317,3268,3049,false,true,true,false]
[" 30 - 34 ",6878,3621,3257,false,true,true,false]
[" 35 - 39 ",6720,3589,3131,false,true,true,false]
[" 40 - 44 ",6142,3163,2979,false,true,true,false]
[" 45 - 49 ",5430,2793,2637,false,true,true,false]
[" 50 - 54 ",5606,2811,2795,false,true,true,false]
[" 55 - 59 ",6402,3200,3202,false,true,true,false]
[" 60 - 64 ",6177,2925,3252,false,true,true,false]
[" 65 - 69 ",4826,2199,2627,false,true,true,false]
[" 70 i więcej",8748,3131,5617,true,true,false,false]
["65+",{"$f":"SUM(B443:B444)","v":13574},{"$f":"SUM(C443:C444)","v":5330},{"$f":"SUM(D443:D444)","v":8244},true,false,true,false]
[" pruszkowski ",161319,76704,84615,true,true,true,true]
[" 0 - 4 ",8929,4580,4349,false,true,true,false]
[" 5 - 9 ",9876,5120,4756,false,true,true,false]
[" 10 - 14 ",7988,4112,3876,false,true,true,false]
[" 15 - 19 ",7461,3833,3628,false,true,true,false]
[" 20 - 24 ",8162,4155,4007,false,true,true,false]
[" 25 - 29 ",9643,4892,4751,false,true,true,false]
[" 30 - 34 ",13502,6532,6970,{"$f":"IFERROR(IF(SEARCH(\" - \",A453)>0,FALSE,TRUE),TRUE)","v":false},{"$f":"IFERROR(IF(SEARCH(\"65+\",A453)>0,FALSE,TRUE),TRUE)","v":true},{"$f":"IFERROR(IF(SEARCH(\"70\",A453)>0,FALSE,TRUE),TRUE)","v":true},{"$f":"AND(E453:G453)","v":false}]
[" 35 - 39 ",14615,7040,7575,false,true,true,false]
[" 40 - 44 ",13082,6393,6689,false,true,true,false]
[" 45 - 49 ",10260,5058,5202,false,true,true,false]
[" 50 - 54 ",9205,4432,4773,false,true,true,false]
[" 55 - 59 ",10834,5036,5798,false,true,true,false]
[" 60 - 64 ",11437,5132,6305,false,true,true,false]
[" 65 - 69 ",9249,3998,5251,false,true,true,false]
[" 70 i więcej",17076,6391,10685,true,true,false,false]
["65+",{"$f":"SUM(B460:B461)","v":26325},{"$f":"SUM(C460:C461)","v":10389},{"$f":"SUM(D460:D461)","v":15936},true,false,true,false]
[" przasnyski ",53030,26499,26531,true,true,true,true]
[" 0 - 4 ",2821,1459,1362,false,true,true,false]
[" 5 - 9 ",3103,1576,1527,false,true,true,false]
[" 10 - 14 ",2917,1440,1477,false,true,true,false]
[" 15 - 19 ",3155,1613,1542,false,true,true,false]
[" 20 - 24 ",3861,1981,1880,false,true,true,false]
[" 25 - 29 ",4082,2222,1860,false,true,true,false]
[" 30 - 34 ",4078,2142,1936,false,true,true,false]
[" 35 - 39 ",3767,2017,1750,false,true,true,false]
[" 40 - 44 ",3467,1858,1609,false,true,true,false]
[" 45 - 49 ",3231,1712,1519,false,true,true,false]
[" 50 - 54 ",3507,1828,1679,false,true,true,false]
[" 55 - 59 ",3789,1926,1863,false,true,true,false]
[" 60 - 64 ",3427,1692,1735,false,true,true,false]
[" 65 - 69 ",2637,1223,1414,false,true,true,false]
[" 70 i więcej",5188,1810,3378,true,true,false,false]
["65+",{"$f":"SUM(B477:B478)","v":7825},{"$f":"SUM(C477:C478)","v":3033},{"$f":"SUM(D477:D478)","v":4792},true,false,true,false]
[" przysuski ",42395,21058,21337,true,true,true,true]
[" 0 - 4 ",1935,976,959,false,true,true,false]
[" 5 - 9 ",2027,1044,983,false,true,true,false]
[" 10 - 14 ",2030,1014,1016,false,true,true,false]
[" 15 - 19 ",2716,1348,1368,false,true,true,false]
[" 20 - 24 ",3115,1622,1493,false,true,true,false]
[" 25 - 29 ",3181,1693,1488,false,true,true,false]
[" 30 - 34 ",3174,1713,1461,false,true,true,false]
[" 35 - 39 ",2901,1587,1314,false,true,true,false]
[" 40 - 44 ",2760,1471,1289,false,true,true,false]
[" 45 - 49 ",2595,1340,1255,false,true,true,false]
[" 50 - 54 ",2842,1497,1345,false,true,true,false]
[" 55 - 59 ",3154,1672,1482,false,true,true,false]
[" 60 - 64 ",2686,1364,1322,false,true,true,false]
[" 65 - 69 ",2148,978,1170,false,true,true,false]
[" 70 i więcej",5131,1739,3392,true,true,false,false]
["65+",{"$f":"SUM(B494:B495)","v":7279},{"$f":"SUM(C494:C495)","v":2717},{"$f":"SUM(D494:D495)","v":4562},true,false,true,false]
[" pułtuski ",51584,25498,26086,true,true,true,true]
[" 0 - 4 ",2731,1423,1308,false,true,true,false]
[" 5 - 9 ",2866,1491,1375,false,true,true,false]
[" 10 - 14 ",2673,1350,1323,false,true,true,false]
[" 15 - 19 ",3006,1550,1456,false,true,true,false]
[" 20 - 24 ",3760,1849,1911,false,true,true,false]
[" 25 - 29 ",3913,2027,1886,false,true,true,false]
[" 30 - 34 ",4054,2107,1947,false,true,true,false]
[" 35 - 39 ",3953,2053,1900,false,true,true,false]
[" 40 - 44 ",3589,1876,1713,false,true,true,false]
[" 45 - 49 ",3127,1640,1487,false,true,true,false]
[" 50 - 54 ",3171,1616,1555,false,true,true,false]
[" 55 - 59 ",3745,1884,1861,false,true,true,false]
[" 60 - 64 ",3330,1599,1731,false,true,true,false]
[" 65 - 69 ",2741,1248,1493,false,true,true,false]
[" 70 i więcej",4925,1785,3140,true,true,false,false]
["65+",{"$f":"SUM(B511:B512)","v":7666},{"$f":"SUM(C511:C512)","v":3033},{"$f":"SUM(D511:D512)","v":4633},true,false,true,false]
[" radomski ",151453,75462,75991,true,true,true,true]
[" 0 - 4 ",7919,4131,3788,false,true,true,false]
[" 5 - 9 ",9044,4636,4408,false,true,true,false]
[" 10 - 14 ",8463,4355,4108,{"$f":"IFERROR(IF(SEARCH(\" - \",A517)>0,FALSE,TRUE),TRUE)","v":false},{"$f":"IFERROR(IF(SEARCH(\"65+\",A517)>0,FALSE,TRUE),TRUE)","v":true},{"$f":"IFERROR(IF(SEARCH(\"70\",A517)>0,FALSE,TRUE),TRUE)","v":true},{"$f":"AND(E517:G517)","v":false}]
[" 15 - 19 ",9489,4893,4596,false,true,true,false]
[" 20 - 24 ",11277,5743,5534,false,true,true,false]
[" 25 - 29 ",11785,6187,5598,false,true,true,false]
[" 30 - 34 ",12560,6554,6006,false,true,true,false]
[" 35 - 39 ",11801,6196,5605,false,true,true,false]
[" 40 - 44 ",10892,5655,5237,false,true,true,false]
[" 45 - 49 ",9266,4749,4517,false,true,true,false]
[" 50 - 54 ",9060,4598,4462,false,true,true,false]
[" 55 - 59 ",10275,5176,5099,false,true,true,false]
[" 60 - 64 ",9771,4712,5059,false,true,true,false]
[" 65 - 69 ",7025,3301,3724,false,true,true,false]
[" 70 i więcej",12826,4576,8250,true,true,false,false]
["65+",{"$f":"SUM(B528:B529)","v":19851},{"$f":"SUM(C528:C529)","v":7877},{"$f":"SUM(D528:D529)","v":11974},true,false,true,false]
[" siedlecki ",81449,40975,40474,true,true,true,true]
[" 0 - 4 ",4388,2234,2154,false,true,true,false]
[" 5 - 9 ",4604,2352,2252,false,true,true,false]
[" 10 - 14 ",4428,2254,2174,false,true,true,false]
[" 15 - 19 ",5177,2710,2467,false,true,true,false]
[" 20 - 24 ",6340,3260,3080,false,true,true,false]
[" 25 - 29 ",6393,3365,3028,false,true,true,false]
[" 30 - 34 ",6106,3274,2832,false,true,true,false]
[" 35 - 39 ",5867,3092,2775,false,true,true,false]
[" 40 - 44 ",5510,2950,2560,false,true,true,false]
[" 45 - 49 ",5057,2615,2442,false,true,true,false]
[" 50 - 54 ",5173,2722,2451,false,true,true,false]
[" 55 - 59 ",5161,2720,2441,false,true,true,false]
[" 60 - 64 ",4870,2478,2392,false,true,true,false]
[" 65 - 69 ",3700,1738,1962,false,true,true,false]
[" 70 i więcej",8675,3211,5464,true,true,false,false]
["65+",{"$f":"SUM(B545:B546)","v":12375},{"$f":"SUM(C545:C546)","v":4949},{"$f":"SUM(D545:D546)","v":7426},true,false,true,false]
[" sierpecki ",52776,25898,26878,true,true,true,true]
[" 0 - 4 ",2515,1264,1251,false,true,true,false]
[" 5 - 9 ",2778,1371,1407,false,true,true,false]
[" 10 - 14 ",2736,1429,1307,false,true,true,false]
[" 15 - 19 ",3320,1699,1621,false,true,true,false]
[" 20 - 24 ",3914,2022,1892,false,true,true,false]
[" 25 - 29 ",4099,2105,1994,false,true,true,false]
[" 30 - 34 ",3881,2062,1819,false,true,true,false]
[" 35 - 39 ",3822,2013,1809,false,true,true,false]
[" 40 - 44 ",3479,1785,1694,false,true,true,false]
[" 45 - 49 ",3493,1776,1717,false,true,true,false]
[" 50 - 54 ",3539,1796,1743,false,true,true,false]
[" 55 - 59 ",3850,1967,1883,false,true,true,false]
[" 60 - 64 ",3387,1644,1743,false,true,true,false]
[" 65 - 69 ",2713,1206,1507,false,true,true,false]
[" 70 i więcej",5250,1759,3491,true,true,false,false]
["65+",{"$f":"SUM(B562:B563)","v":7963},{"$f":"SUM(C562:C563)","v":2965},{"$f":"SUM(D562:D563)","v":4998},true,false,true,false]
[" sochaczewski ",85158,41421,43737,true,true,true,true]
[" 0 - 4 ",4415,2276,2139,false,true,true,false]
[" 5 - 9 ",4798,2407,2391,false,true,true,false]
[" 10 - 14 ",4211,2170,2041,false,true,true,false]
[" 15 - 19 ",4501,2289,2212,false,true,true,false]
[" 20 - 24 ",5409,2724,2685,false,true,true,false]
[" 25 - 29 ",6281,3228,3053,false,true,true,false]
[" 30 - 34 ",6899,3532,3367,false,true,true,false]
[" 35 - 39 ",6731,3443,3288,false,true,true,false]
[" 40 - 44 ",6011,3106,2905,false,true,true,false]
[" 45 - 49 ",5287,2680,2607,false,true,true,false]
[" 50 - 54 ",5289,2576,2713,false,true,true,false]
[" 55 - 59 ",6429,3119,3310,false,true,true,false]
[" 60 - 64 ",5894,2760,3134,false,true,true,false]
[" 65 - 69 ",4558,2023,2535,false,true,true,false]
[" 70 i więcej",8445,3088,5357,true,true,false,false]
["65+",{"$f":"SUM(B579:B580)","v":13003},{"$f":"SUM(C579:C580)","v":5111},{"$f":"SUM(D579:D580)","v":7892},{"$f":"IFERROR(IF(SEARCH(\" - \",A581)>0,FALSE,TRUE),TRUE)","v":true},{"$f":"IFERROR(IF(SEARCH(\"65+\",A581)>0,FALSE,TRUE),TRUE)","v":false},{"$f":"IFERROR(IF(SEARCH(\"70\",A581)>0,FALSE,TRUE),TRUE)","v":true},{"$f":"AND(E581:G581)","v":false}]
[" sokołowski ",54965,27225,27740,true,true,true,true]
[" 0 - 4 ",2603,1328,1275,false,true,true,false]
[" 5 - 9 ",2735,1360,1375,false,true,true,false]
[" 10 - 14 ",2538,1332,1206,false,true,true,false]
[" 15 - 19 ",3099,1576,1523,false,true,true,false]
[" 20 - 24 ",3897,2017,1880,false,true,true,false]
[" 25 - 29 ",4041,2085,1956,false,true,true,false]
[" 30 - 34 ",4020,2219,1801,false,true,true,false]
[" 35 - 39 ",3694,1980,1714,false,true,true,false]
[" 40 - 44 ",3572,1890,1682,false,true,true,false]
[" 45 - 49 ",3358,1693,1665,false,true,true,false]
[" 50 - 54 ",3534,1776,1758,false,true,true,false]
[" 55 - 59 ",4078,2085,1993,false,true,true,false]
[" 60 - 64 ",3987,1944,2043,false,true,true,false]
[" 65 - 69 ",3023,1404,1619,false,true,true,false]
[" 70 i więcej",6786,2536,4250,true,true,false,false]
["65+",{"$f":"SUM(B596:B597)","v":9809},{"$f":"SUM(C596:C597)","v":3940},{"$f":"SUM(D596:D597)","v":5869},true,false,true,false]
[" szydłowiecki ",40163,20020,20143,true,true,true,true]
[" 0 - 4 ",1942,1018,924,false,true,true,false]
[" 5 - 9 ",2155,1109,1046,false,true,true,false]
[" 10 - 14 ",2068,1063,1005,false,true,true,false]
[" 15 - 19 ",2390,1246,1144,false,true,true,false]
[" 20 - 24 ",2873,1504,1369,false,true,true,false]
[" 25 - 29 ",3006,1625,1381,false,true,true,false]
[" 30 - 34 ",3344,1754,1590,false,true,true,false]
[" 35 - 39 ",3064,1640,1424,false,true,true,false]
[" 40 - 44 ",2917,1520,1397,false,true,true,false]
[" 45 - 49 ",2321,1197,1124,false,true,true,false]
[" 50 - 54 ",2460,1264,1196,false,true,true,false]
[" 55 - 59 ",2866,1497,1369,false,true,true,false]
[" 60 - 64 ",2701,1292,1409,false,true,true,false]
[" 65 - 69 ",2085,959,1126,false,true,true,false]
[" 70 i więcej",3971,1332,2639,true,true,false,false]
["65+",{"$f":"SUM(B613:B614)","v":6056},{"$f":"SUM(C613:C614)","v":2291},{"$f":"SUM(D613:D614)","v":3765},true,false,true,false]
[" warszawski zachodni ",113689,54769,58920,true,true,true,true]
[" 0 - 4 ",5739,2889,2850,false,true,true,false]
[" 5 - 9 ",7340,3738,3602,false,true,true,false]
[" 10 - 14 ",6206,3207,2999,false,true,true,false]
[" 15 - 19 ",5893,3057,2836,false,true,true,false]
[" 20 - 24 ",6349,3233,3116,false,true,true,false]
[" 25 - 29 ",7142,3620,3522,false,true,true,false]
[" 30 - 34 ",8551,4224,4327,false,true,true,false]
[" 35 - 39 ",9614,4621,4993,false,true,true,false]
[" 40 - 44 ",9375,4669,4706,false,true,true,false]
[" 45 - 49 ",7489,3687,3802,false,true,true,false]
[" 50 - 54 ",6812,3356,3456,false,true,true,false]
[" 55 - 59 ",8101,3828,4273,false,true,true,false]
[" 60 - 64 ",8052,3767,4285,false,true,true,false]
[" 65 - 69 ",6308,2845,3463,false,true,true,false]
[" 70 i więcej",10718,4028,6690,true,true,false,false]
["65+",{"$f":"SUM(B630:B631)","v":17026},{"$f":"SUM(C630:C631)","v":6873},{"$f":"SUM(D630:D631)","v":10153},true,false,true,false]
[" węgrowski ",66907,33415,33492,true,true,true,true]
[" 0 - 4 ",3561,1862,1699,false,true,true,false]
[" 5 - 9 ",3618,1823,1795,false,true,true,false]
[" 10 - 14 ",3272,1666,1606,false,true,true,false]
[" 15 - 19 ",3889,1924,1965,false,true,true,false]
[" 20 - 24 ",4852,2478,2374,false,true,true,false]
[" 25 - 29 ",5080,2692,2388,false,true,true,false]
[" 30 - 34 ",5052,2659,2393,false,true,true,false]
[" 35 - 39 ",4930,2693,2237,false,true,true,false]
[" 40 - 44 ",4471,2441,2030,false,true,true,false]
[" 45 - 49 ",4002,2069,1933,false,true,true,false]
[" 50 - 54 ",4097,2156,1941,false,true,true,false]
[" 55 - 59 ",4571,2316,2255,{"$f":"IFERROR(IF(SEARCH(\" - \",A645)>0,FALSE,TRUE),TRUE)","v":false},{"$f":"IFERROR(IF(SEARCH(\"65+\",A645)>0,FALSE,TRUE),TRUE)","v":true},{"$f":"IFERROR(IF(SEARCH(\"70\",A645)>0,FALSE,TRUE),TRUE)","v":true},{"$f":"AND(E645:G645)","v":false}]
[" 60 - 64 ",4614,2305,2309,false,true,true,false]
[" 65 - 69 ",3610,1686,1924,false,true,true,false]
[" 70 i więcej",7288,2645,4643,true,true,false,false]
["65+",{"$f":"SUM(B647:B648)","v":10898},{"$f":"SUM(C647:C648)","v":4331},{"$f":"SUM(D647:D648)","v":6567},true,false,true,false]
[" wołomiński ",236912,114257,122655,true,true,true,true]
[" 0 - 4 ",14740,7596,7144,false,true,true,false]
[" 5 - 9 ",16178,8298,7880,false,true,true,false]
[" 10 - 14 ",13428,6888,6540,false,true,true,false]
[" 15 - 19 ",12541,6441,6100,false,true,true,false]
[" 20 - 24 ",13994,7062,6932,false,true,true,false]
[" 25 - 29 ",16347,8040,8307,false,true,true,false]
[" 30 - 34 ",20967,10116,10851,false,true,true,false]
[" 35 - 39 ",22219,10765,11454,false,true,true,false]
[" 40 - 44 ",19320,9582,9738,false,true,true,false]
[" 45 - 49 ",14670,7375,7295,false,true,true,false]
[" 50 - 54 ",13330,6619,6711,false,true,true,false]
[" 55 - 59 ",14717,7051,7666,false,true,true,false]
[" 60 - 64 ",14358,6634,7724,false,true,true,false]
[" 65 - 69 ",10776,4766,6010,false,true,true,false]
[" 70 i więcej",19327,7024,12303,true,true,false,false]
["65+",{"$f":"SUM(B664:B665)","v":30103},{"$f":"SUM(C664:C665)","v":11790},{"$f":"SUM(D664:D665)","v":18313},true,false,true,false]
[" wyszkowski ",73972,36699,37273,true,true,true,true]
[" 0 - 4 ",4134,2186,1948,false,true,true,false]
[" 5 - 9 ",4467,2349,2118,false,true,true,false]
[" 10 - 14 ",3899,2002,1897,false,true,true,false]
[" 15 - 19 ",4425,2233,2192,false,true,true,false]
[" 20 - 24 ",5256,2658,2598,false,true,true,false]
[" 25 - 29 ",5786,2987,2799,false,true,true,false]
[" 30 - 34 ",6089,3190,2899,false,true,true,false]
[" 35 - 39 ",5513,2923,2590,false,true,true,false]
[" 40 - 44 ",5163,2681,2482,false,true,true,false]
[" 45 - 49 ",4659,2368,2291,false,true,true,false]
[" 50 - 54 ",4644,2360,2284,false,true,true,false]
[" 55 - 59 ",5128,2561,2567,false,true,true,false]
[" 60 - 64 ",4512,2204,2308,false,true,true,false]
[" 65 - 69 ",3473,1522,1951,false,true,true,false]
[" 70 i więcej",6824,2475,4349,true,true,false,false]
["65+",{"$f":"SUM(B681:B682)","v":10297},{"$f":"SUM(C681:C682)","v":3997},{"$f":"SUM(D681:D682)","v":6300},true,false,true,false]
[" zwoleński ",36704,18275,18429,true,true,true,true]
[" 0 - 4 ",1862,976,886,false,true,true,false]
[" 5 - 9 ",1986,1068,918,false,true,true,false]
[" 10 - 14 ",1868,943,925,false,true,true,false]
[" 15 - 19 ",2116,1080,1036,false,true,true,false]
[" 20 - 24 ",2806,1417,1389,false,true,true,false]
[" 25 - 29 ",2801,1491,1310,false,true,true,false]
[" 30 - 34 ",2846,1460,1386,false,true,true,false]
[" 35 - 39 ",2694,1452,1242,false,true,true,false]
[" 40 - 44 ",2460,1274,1186,false,true,true,false]
[" 45 - 49 ",2284,1185,1099,false,true,true,false]
[" 50 - 54 ",2271,1176,1095,false,true,true,false]
[" 55 - 59 ",2591,1334,1257,false,true,true,false]
[" 60 - 64 ",2381,1197,1184,false,true,true,false]
[" 65 - 69 ",1848,826,1022,false,true,true,false]
[" 70 i więcej",3890,1396,2494,true,true,false,false]
["65+",{"$f":"SUM(B698:B699)","v":5738},{"$f":"SUM(C698:C699)","v":2222},{"$f":"SUM(D698:D699)","v":3516},true,false,true,false]
[" żuromiński ",39613,19545,20068,true,true,true,true]
[" 0 - 4 ",1950,974,976,false,true,true,false]
[" 5 - 9 ",2147,1078,1069,false,true,true,false]
[" 10 - 14 ",2049,1048,1001,false,true,true,false]
[" 15 - 19 ",2291,1183,1108,false,true,true,false]
[" 20 - 24 ",2972,1519,1453,false,true,true,false]
[" 25 - 29 ",3099,1615,1484,false,true,true,false]
[" 30 - 34 ",2874,1550,1324,false,true,true,false]
[" 35 - 39 ",2623,1384,1239,{"$f":"IFERROR(IF(SEARCH(\" - \",A709)>0,FALSE,TRUE),TRUE)","v":false},{"$f":"IFERROR(IF(SEARCH(\"65+\",A709)>0,FALSE,TRUE),TRUE)","v":true},{"$f":"IFERROR(IF(SEARCH(\"70\",A709)>0,FALSE,TRUE),TRUE)","v":true},{"$f":"AND(E709:G709)","v":false}]
[" 40 - 44 ",2708,1393,1315,false,true,true,false]
[" 45 - 49 ",2571,1312,1259,false,true,true,false]
[" 50 - 54 ",2696,1386,1310,false,true,true,false]
[" 55 - 59 ",2761,1441,1320,false,true,true,false]
[" 60 - 64 ",2426,1173,1253,false,true,true,false]
[" 65 - 69 ",2068,929,1139,false,true,true,false]
[" 70 i więcej",4378,1560,2818,true,true,false,false]
["65+",{"$f":"SUM(B715:B716)","v":6446},{"$f":"SUM(C715:C716)","v":2489},{"$f":"SUM(D715:D716)","v":3957},true,false,true,false]
[" żyrardowski ",76049,36368,39681,true,true,true,true]
[" 0 - 4 ",3976,2021,1955,false,true,true,false]
[" 5 - 9 ",4423,2291,2132,false,true,true,false]
[" 10 - 14 ",3660,1828,1832,false,true,true,false]
[" 15 - 19 ",3756,1921,1835,false,true,true,false]
[" 20 - 24 ",4496,2266,2230,false,true,true,false]
[" 25 - 29 ",5052,2592,2460,false,true,true,false]
[" 30 - 34 ",6098,3071,3027,false,true,true,false]
[" 35 - 39 ",6420,3228,3192,false,true,true,false]
[" 40 - 44 ",5491,2775,2716,false,true,true,false]
[" 45 - 49 ",4635,2338,2297,false,true,true,false]
[" 50 - 54 ",4460,2139,2321,false,true,true,false]
[" 55 - 59 ",5481,2570,2911,false,true,true,false]
[" 60 - 64 ",5776,2620,3156,false,true,true,false]
[" 65 - 69 ",4598,2021,2577,false,true,true,false]
[" 70 i więcej",7727,2687,5040,true,true,false,false]
["65+",{"$f":"SUM(B732:B733)","v":12325},{"$f":"SUM(C732:C733)","v":4708},{"$f":"SUM(D732:D733)","v":7617},true,false,true,false]

{"sheet":"Opolskie","index":13,"n_rows":224,"n_cols":8,"rows_kept":224,"cut":false,"hidden":true,"merged":[[0,0,2,0],[0,1,2,1],[0,2,2,2],[0,3,2,3]]}
["Województwa\nPowiaty\nGrupy wieku ","Ogółem","Mężczyźni","Kobiety "]
[]
[]
["Opolskie ",994489,481132,513357,{"$f":"IFERROR(IF(SEARCH(\" - \",A4)>0,FALSE,TRUE),TRUE)","v":true},{"$f":"IFERROR(IF(SEARCH(\"65+\",A4)>0,FALSE,TRUE),TRUE)","v":true},{"$f":"IFERROR(IF(SEARCH(\"70\",A4)>0,FALSE,TRUE),TRUE)","v":true},{"$f":"AND(E4:G4)","v":true}]
[" 0 - 4 ",42351,21883,20468,{"$f":"IFERROR(IF(SEARCH(\" - \",A5)>0,FALSE,TRUE),TRUE)","v":false},{"$f":"IFERROR(IF(SEARCH(\"65+\",A5)>0,FALSE,TRUE),TRUE)","v":true},{"$f":"IFERROR(IF(SEARCH(\"70\",A5)>0,FALSE,TRUE),TRUE)","v":true},{"$f":"AND(E5:G5)","v":false}]
[" 5 - 9 ",46166,23707,22459,false,true,true,false]
[" 10 - 14 ",42165,21720,20445,false,true,true,false]
[" 15 - 19 ",48470,24807,23663,false,true,true,false]
[" 20 - 24 ",59368,30093,29275,false,true,true,false]
[" 25 - 29 ",73771,37421,36350,false,true,true,false]
[" 30 - 34 ",81810,40990,40820,false,true,true,false]
[" 35 - 39 ",77788,39064,38724,false,true,true,false]
[" 40 - 44 ",71684,35964,35720,false,true,true,false]
[" 45 - 49 ",66909,33540,33369,false,true,true,false]
[" 50 - 54 ",70341,35579,34762,false,true,true,false]
[" 55 - 59 ",76059,37429,38630,false,true,true,false]
[" 60 - 64 ",70933,33575,37358,false,true,true,false]
[" 65 - 69 ",56763,25478,31285,false,true,true,false]
[" 70 i więcej",109911,39882,70029,true,true,false,false]
["65+",{"$f":"SUM(B18:B19)","v":166674},{"$f":"SUM(C18:C19)","v":65360},{"$f":"SUM(D18:D19)","v":101314},true,false,true,false]
[" Opole ",118938,55811,63127,true,true,true,true]
[" 0 - 4 ",5308,2755,2553,false,true,true,false]
[" 5 - 9 ",5470,2756,2714,false,true,true,false]
[" 10 - 14 ",4455,2289,2166,false,true,true,false]
[" 15 - 19 ",4660,2382,2278,false,true,true,false]
[" 20 - 24 ",5439,2810,2629,false,true,true,false]
[" 25 - 29 ",7847,3881,3966,false,true,true,false]
[" 30 - 34 ",10961,5345,5616,false,true,true,false]
[" 35 - 39 ",10598,5220,5378,false,true,true,false]
[" 40 - 44 ",8893,4341,4552,false,true,true,false]
[" 45 - 49 ",7111,3485,3626,false,true,true,false]
[" 50 - 54 ",7233,3449,3784,false,true,true,false]
[" 55 - 59 ",8925,4057,4868,false,true,true,false]
[" 60 - 64 ",9514,4243,5271,false,true,true,false]
[" 65 - 69 ",8124,3463,4661,false,true,true,false]
[" 70 i więcej",14400,5335,9065,true,true,false,false]
["65+",{"$f":"SUM(B35:B36)","v":22524},{"$f":"SUM(C35:C36)","v":8798},{"$f":"SUM(D35:D36)","v":13726},true,false,true,false]
[" brzeski ",91044,44328,46716,true,true,true,true]
[" 0 - 4 ",4082,2114,1968,false,true,true,false]
[" 5 - 9 ",5005,2596,2409,false,true,true,false]
[" 10 - 14 ",4132,2203,1929,false,true,true,false]
[" 15 - 19 ",4658,2315,2343,false,true,true,false]
[" 20 - 24 ",5733,2881,2852,false,true,true,false]
[" 25 - 29 ",6669,3422,3247,false,true,true,false]
[" 30 - 34 ",7613,3912,3701,false,true,true,false]
[" 35 - 39 ",7176,3659,3517,false,true,true,false]
[" 40 - 44 ",6536,3343,3193,false,true,true,false]
[" 45 - 49 ",5548,2854,2694,false,true,true,false]
[" 50 - 54 ",5791,2902,2889,false,true,true,false]
[" 55 - 59 ",6952,3432,3520,false,true,true,false]
[" 60 - 64 ",6653,3119,3534,false,true,true,false]
[" 65 - 69 ",5515,2528,2987,false,true,true,false]
[" 70 i więcej",8981,3048,5933,true,true,false,false]
["65+",{"$f":"SUM(B52:B53)","v":14496},{"$f":"SUM(C52:C53)","v":5576},{"$f":"SUM(D52:D53)","v":8920},true,false,true,false]
[" głubczycki ",46695,22783,23912,true,true,true,true]
[" 0 - 4 ",1887,980,907,false,true,true,false]
[" 5 - 9 ",2188,1106,1082,false,true,true,false]
[" 10 - 14 ",2090,1062,1028,false,true,true,false]
[" 15 - 19 ",2360,1220,1140,false,true,true,false]
[" 20 - 24 ",2967,1515,1452,false,true,true,false]
[" 25 - 29 ",3439,1738,1701,false,true,true,false]
[" 30 - 34 ",3717,1958,1759,false,true,true,false]
[" 35 - 39 ",3301,1726,1575,false,true,true,false]
[" 40 - 44 ",3158,1618,1540,false,true,true,false]
[" 45 - 49 ",2972,1528,1444,false,true,true,false]
[" 50 - 54 ",3220,1621,1599,false,true,true,false]
[" 55 - 59 ",3748,1901,1847,false,true,true,false]
[" 60 - 64 ",3522,1743,1779,false,true,true,false]
[" 65 - 69 ",3014,1385,1629,{"$f":"IFERROR(IF(SEARCH(\" - \",A69)>0,FALSE,TRUE),TRUE)","v":false},{"$f":"IFERROR(IF(SEARCH(\"65+\",A69)>0,FALSE,TRUE),TRUE)","v":true},{"$f":"IFERROR(IF(SEARCH(\"70\",A69)>0,FALSE,TRUE),TRUE)","v":true},{"$f":"AND(E69:G69)","v":false}]
[" 70 i więcej",5112,1682,3430,true,true,false,false]
["65+",{"$f":"SUM(B69:B70)","v":8126},{"$f":"SUM(C69:C70)","v":3067},{"$f":"SUM(D69:D70)","v":5059},true,false,true,false]
[" kędzierzyńsko-kozielski ",95888,46293,49595,true,true,true,true]
[" 0 - 4 ",3840,2025,1815,false,true,true,false]
[" 5 - 9 ",4246,2180,2066,false,true,true,false]
[" 10 - 14 ",3946,2029,1917,false,true,true,false]
[" 15 - 19 ",4576,2438,2138,false,true,true,false]
[" 20 - 24 ",5482,2776,2706,false,true,true,false]
[" 25 - 29 ",7103,3542,3561,false,true,true,false]
[" 30 - 34 ",7456,3701,3755,false,true,true,false]
[" 35 - 39 ",7114,3531,3583,false,true,true,false]
[" 40 - 44 ",6788,3331,3457,false,true,true,false]
[" 45 - 49 ",6992,3522,3470,false,true,true,false]
[" 50 - 54 ",7135,3692,3443,false,true,true,false]
[" 55 - 59 ",7377,3636,3741,false,true,true,false]
[" 60 - 64 ",6456,3066,3390,false,true,true,false]
[" 65 - 69 ",5582,2435,3147,false,true,true,false]
[" 70 i więcej",11795,4389,7406,true,true,false,false]
["65+",{"$f":"SUM(B86:B87)","v":17377},{"$f":"SUM(C86:C87)","v":6824},{"$f":"SUM(D86:D87)","v":10553},true,false,true,false]
[" kluczborski ",66503,32450,34053,true,true,true,true]
[" 0 - 4 ",2726,1465,1261,false,true,true,false]
[" 5 - 9 ",2979,1576,1403,false,true,true,false]
[" 10 - 14 ",2824,1455,1369,false,true,true,false]
[" 15 - 19 ",3447,1771,1676,false,true,true,false]
[" 20 - 24 ",4313,2202,2111,false,true,true,false]
[" 25 - 29 ",5245,2681,2564,false,true,true,false]
[" 30 - 34 ",5571,2834,2737,false,true,true,false]
[" 35 - 39 ",5129,2611,2518,false,true,true,false]
[" 40 - 44 ",4704,2379,2325,false,true,true,false]
[" 45 - 49 ",4475,2228,2247,false,true,true,false]
[" 50 - 54 ",4719,2392,2327,false,true,true,false]
[" 55 - 59 ",5005,2452,2553,false,true,true,false]
[" 60 - 64 ",4481,2136,2345,false,true,true,false]
[" 65 - 69 ",3690,1651,2039,false,true,true,false]
[" 70 i więcej",7195,2617,4578,true,true,false,false]
["65+",{"$f":"SUM(B103:B104)","v":10885},{"$f":"SUM(C103:C104)","v":4268},{"$f":"SUM(D103:D104)","v":6617},true,false,true,false]
[" krapkowicki ",64463,31179,33284,true,true,true,true]
[" 0 - 4 ",2770,1392,1378,false,true,true,false]
[" 5 - 9 ",2781,1410,1371,false,true,true,false]
[" 10 - 14 ",2707,1409,1298,false,true,true,false]
[" 15 - 19 ",3088,1591,1497,false,true,true,false]
[" 20 - 24 ",3942,2053,1889,false,true,true,false]
[" 25 - 29 ",4896,2481,2415,false,true,true,false]
[" 30 - 34 ",5135,2498,2637,false,true,true,false]
[" 35 - 39 ",5052,2482,2570,false,true,true,false]
[" 40 - 44 ",4707,2329,2378,false,true,true,false]
[" 45 - 49 ",4828,2376,2452,false,true,true,false]
[" 50 - 54 ",4967,2532,2435,false,true,true,false]
[" 55 - 59 ",4898,2445,2453,false,true,true,false]
[" 60 - 64 ",4358,2042,2316,false,true,true,false]
[" 65 - 69 ",3198,1442,1756,false,true,true,false]
[" 70 i więcej",7136,2697,4439,true,true,false,false]
["65+",{"$f":"SUM(B120:B121)","v":10334},{"$f":"SUM(C120:C121)","v":4139},{"$f":"SUM(D120:D121)","v":6195},true,false,true,false]
[" namysłowski ",42665,20865,21800,true,true,true,true]
[" 0 - 4 ",1923,1001,922,false,true,true,false]
[" 5 - 9 ",2306,1205,1101,false,true,true,false]
[" 10 - 14 ",1964,1035,929,false,true,true,false]
[" 15 - 19 ",2300,1162,1138,false,true,true,false]
[" 20 - 24 ",2741,1338,1403,false,true,true,false]
[" 25 - 29 ",3193,1677,1516,false,true,true,false]
[" 30 - 34 ",3565,1822,1743,false,true,true,false]
[" 35 - 39 ",3431,1732,1699,false,true,true,false]
[" 40 - 44 ",2885,1466,1419,false,true,true,false]
[" 45 - 49 ",2568,1330,1238,{"$f":"IFERROR(IF(SEARCH(\" - \",A133)>0,FALSE,TRUE),TRUE)","v":false},{"$f":"IFERROR(IF(SEARCH(\"65+\",A133)>0,FALSE,TRUE),TRUE)","v":true},{"$f":"IFERROR(IF(SEARCH(\"70\",A133)>0,FALSE,TRUE),TRUE)","v":true},{"$f":"AND(E133:G133)","v":false}]
[" 50 - 54 ",2875,1431,1444,false,true,true,false]
[" 55 - 59 ",3327,1654,1673,false,true,true,false]
[" 60 - 64 ",3020,1435,1585,false,true,true,false]
[" 65 - 69 ",2505,1182,1323,false,true,true,false]
[" 70 i więcej",4062,1395,2667,true,true,false,false]
["65+",{"$f":"SUM(B137:B138)","v":6567},{"$f":"SUM(C137:C138)","v":2577},{"$f":"SUM(D137:D138)","v":3990},true,false,true,false]
[" nyski ",138548,67374,71174,true,true,true,true]
[" 0 - 4 ",5425,2751,2674,false,true,true,false]
[" 5 - 9 ",6420,3290,3130,false,true,true,false]
[" 10 - 14 ",5874,2990,2884,false,true,true,false]
[" 15 - 19 ",7015,3568,3447,false,true,true,false]
[" 20 - 24 ",8795,4493,4302,false,true,true,false]
[" 25 - 29 ",10243,5393,4850,false,true,true,false]
[" 30 - 34 ",11237,5825,5412,false,true,true,false]
[" 35 - 39 ",10825,5556,5269,false,true,true,false]
[" 40 - 44 ",9800,4998,4802,false,true,true,false]
[" 45 - 49 ",8570,4302,4268,false,true,true,false]
[" 50 - 54 ",9144,4616,4528,false,true,true,false]
[" 55 - 59 ",10891,5301,5590,false,true,true,false]
[" 60 - 64 ",10804,5151,5653,false,true,true,false]
[" 65 - 69 ",8955,4039,4916,false,true,true,false]
[" 70 i więcej",14550,5101,9449,true,true,false,false]
["65+",{"$f":"SUM(B154:B155)","v":23505},{"$f":"SUM(C154:C155)","v":9140},{"$f":"SUM(D154:D155)","v":14365},true,false,true,false]
[" oleski ",65181,31769,33412,true,true,true,true]
[" 0 - 4 ",2831,1458,1373,false,true,true,false]
[" 5 - 9 ",2882,1474,1408,false,true,true,false]
[" 10 - 14 ",2814,1431,1383,false,true,true,false]
[" 15 - 19 ",3344,1709,1635,false,true,true,false]
[" 20 - 24 ",4047,1993,2054,false,true,true,false]
[" 25 - 29 ",5043,2567,2476,false,true,true,false]
[" 30 - 34 ",5045,2581,2464,false,true,true,false]
[" 35 - 39 ",4789,2376,2413,false,true,true,false]
[" 40 - 44 ",4624,2315,2309,false,true,true,false]
[" 45 - 49 ",4566,2317,2249,false,true,true,false]
[" 50 - 54 ",4975,2574,2401,false,true,true,false]
[" 55 - 59 ",4873,2453,2420,false,true,true,false]
[" 60 - 64 ",4560,2187,2373,false,true,true,false]
[" 65 - 69 ",3346,1525,1821,false,true,true,false]
[" 70 i więcej",7442,2809,4633,true,true,false,false]
["65+",{"$f":"SUM(B171:B172)","v":10788},{"$f":"SUM(C171:C172)","v":4334},{"$f":"SUM(D171:D172)","v":6454},true,false,true,false]
[" opolski ",133197,64625,68572,true,true,true,true]
[" 0 - 4 ",5697,2932,2765,false,true,true,false]
[" 5 - 9 ",5978,3110,2868,false,true,true,false]
[" 10 - 14 ",5752,2926,2826,false,true,true,false]
[" 15 - 19 ",6592,3408,3184,false,true,true,false]
[" 20 - 24 ",7689,3835,3854,false,true,true,false]
[" 25 - 29 ",9679,4820,4859,false,true,true,false]
[" 30 - 34 ",10835,5186,5649,false,true,true,false]
[" 35 - 39 ",10676,5223,5453,false,true,true,false]
[" 40 - 44 ",10290,5202,5088,false,true,true,false]
[" 45 - 49 ",10142,5020,5122,false,true,true,false]
[" 50 - 54 ",10482,5419,5063,false,true,true,false]
[" 55 - 59 ",10192,5110,5082,false,true,true,false]
[" 60 - 64 ",8804,4263,4541,false,true,true,false]
[" 65 - 69 ",6178,2875,3303,false,true,true,false]
[" 70 i więcej",14211,5296,8915,true,true,false,false]
["65+",{"$f":"SUM(B188:B189)","v":20389},{"$f":"SUM(C188:C189)","v":8171},{"$f":"SUM(D188:D189)","v":12218},true,false,true,false]
[" prudnicki ",56043,26987,29056,true,true,true,true]
[" 0 - 4 ",2385,1255,1130,false,true,true,false]
[" 5 - 9 ",2642,1353,1289,false,true,true,false]
[" 10 - 14 ",2497,1243,1254,false,true,true,false]
[" 15 - 19 ",2822,1444,1378,false,true,true,false]
[" 20 - 24 ",3638,1908,1730,false,true,true,false]
[" 25 - 29 ",4329,2177,2152,{"$f":"IFERROR(IF(SEARCH(\" - \",A197)>0,FALSE,TRUE),TRUE)","v":false},{"$f":"IFERROR(IF(SEARCH(\"65+\",A197)>0,FALSE,TRUE),TRUE)","v":true},{"$f":"IFERROR(IF(SEARCH(\"70\",A197)>0,FALSE,TRUE),TRUE)","v":true},{"$f":"AND(E197:G197)","v":false}]
[" 30 - 34 ",4408,2177,2231,false,true,true,false]
[" 35 - 39 ",4061,2060,2001,false,true,true,false]
[" 40 - 44 ",3867,1950,1917,false,true,true,false]
[" 45 - 49 ",3686,1823,1863,false,true,true,false]
[" 50 - 54 ",3925,1958,1967,false,true,true,false]
[" 55 - 59 ",4227,2128,2099,false,true,true,false]
[" 60 - 64 ",3949,1889,2060,false,true,true,false]
[" 65 - 69 ",3116,1363,1753,false,true,true,false]
[" 70 i więcej",6491,2259,4232,true,true,false,false]
["65+",{"$f":"SUM(B205:B206)","v":9607},{"$f":"SUM(C205:C206)","v":3622},{"$f":"SUM(D205:D206)","v":5985},true,false,true,false]
[" strzelecki ",75324,36668,38656,true,true,true,true]
[" 0 - 4 ",3477,1755,1722,false,true,true,false]
[" 5 - 9 ",3269,1651,1618,false,true,true,false]
[" 10 - 14 ",3110,1648,1462,false,true,true,false]
[" 15 - 19 ",3608,1799,1809,false,true,true,false]
[" 20 - 24 ",4582,2289,2293,false,true,true,false]
[" 25 - 29 ",6085,3042,3043,false,true,true,false]
[" 30 - 34 ",6267,3151,3116,false,true,true,false]
[" 35 - 39 ",5636,2888,2748,false,true,true,false]
[" 40 - 44 ",5432,2692,2740,false,true,true,false]
[" 45 - 49 ",5451,2755,2696,false,true,true,false]
[" 50 - 54 ",5875,2993,2882,false,true,true,false]
[" 55 - 59 ",5644,2860,2784,false,true,true,false]
[" 60 - 64 ",4812,2301,2511,false,true,true,false]
[" 65 - 69 ",3540,1590,1950,false,true,true,false]
[" 70 i więcej",8536,3254,5282,true,true,false,false]
["65+",{"$f":"SUM(B222:B223)","v":12076},{"$f":"SUM(C222:C223)","v":4844},{"$f":"SUM(D222:D223)","v":7232},true,false,true,false]

{"sheet":"Podkarpackie","index":14,"n_rows":445,"n_cols":8,"rows_kept":445,"cut":false,"hidden":true,"merged":[[0,0,2,0],[0,1,2,1],[0,2,2,2],[0,3,2,3]]}
["Województwa\nPowiaty\nGrupy wieku ","Ogółem","Mężczyźni","Kobiety "]
[]
[]
["Podkarpackie ",2126824,1041429,1085395,{"$f":"IFERROR(IF(SEARCH(\" - \",A4)>0,FALSE,TRUE),TRUE)","v":true},{"$f":"IFERROR(IF(SEARCH(\"65+\",A4)>0,FALSE,TRUE),TRUE)","v":true},{"$f":"IFERROR(IF(SEARCH(\"70\",A4)>0,FALSE,TRUE),TRUE)","v":true},{"$f":"AND(E4:G4)","v":true}]
[" 0 - 4 ",101422,52004,49418,{"$f":"IFERROR(IF(SEARCH(\" - \",A5)>0,FALSE,TRUE),TRUE)","v":false},{"$f":"IFERROR(IF(SEARCH(\"65+\",A5)>0,FALSE,TRUE),TRUE)","v":true},{"$f":"IFERROR(IF(SEARCH(\"70\",A5)>0,FALSE,TRUE),TRUE)","v":true},{"$f":"AND(E5:G5)","v":false}]
[" 5 - 9 ",113556,58139,55417,false,true,true,false]
[" 10 - 14 ",106780,54848,51932,false,true,true,false]
[" 15 - 19 ",121608,62415,59193,false,true,true,false]
[" 20 - 24 ",146339,74443,71896,false,true,true,false]
[" 25 - 29 ",167060,86056,81004,false,true,true,false]
[" 30 - 34 ",176985,90681,86304,false,true,true,false]
[" 35 - 39 ",167143,85299,81844,false,true,true,false]
[" 40 - 44 ",152060,77314,74746,false,true,true,false]
[" 45 - 49 ",133841,67387,66454,false,true,true,false]
[" 50 - 54 ",135910,68492,67418,false,true,true,false]
[" 55 - 59 ",146343,72156,74187,false,true,true,false]
[" 60 - 64 ",136040,64709,71331,false,true,true,false]
[" 65 - 69 ",108022,48939,59083,false,true,true,false]
[" 70 i więcej",213715,78547,135168,true,true,false,false]
["65+",{"$f":"SUM(B18:B19)","v":321737},{"$f":"SUM(C18:C19)","v":127486},{"$f":"SUM(D18:D19)","v":194251},true,false,true,false]
[" Krosno ",46695,22085,24610,true,true,true,true]
[" 0 - 4 ",2029,1035,994,false,true,true,false]
[" 5 - 9 ",2314,1198,1116,false,true,true,false]
[" 10 - 14 ",2032,1012,1020,false,true,true,false]
[" 15 - 19 ",2341,1231,1110,false,true,true,false]
[" 20 - 24 ",2411,1188,1223,false,true,true,false]
[" 25 - 29 ",3218,1631,1587,false,true,true,false]
[" 30 - 34 ",3881,1926,1955,false,true,true,false]
[" 35 - 39 ",3991,2050,1941,false,true,true,false]
[" 40 - 44 ",3331,1689,1642,false,true,true,false]
[" 45 - 49 ",2609,1258,1351,false,true,true,false]
[" 50 - 54 ",2865,1301,1564,false,true,true,false]
[" 55 - 59 ",3535,1598,1937,false,true,true,false]
[" 60 - 64 ",3803,1665,2138,false,true,true,false]
[" 65 - 69 ",3097,1336,1761,false,true,true,false]
[" 70 i więcej",5238,1967,3271,true,true,false,false]
["65+",{"$f":"SUM(B35:B36)","v":8335},{"$f":"SUM(C35:C36)","v":3303},{"$f":"SUM(D35:D36)","v":5032},true,false,true,false]
[" Przemyśl ",62485,29355,33130,true,true,true,true]
[" 0 - 4 ",2546,1312,1234,false,true,true,false]
[" 5 - 9 ",2999,1536,1463,false,true,true,false]
[" 10 - 14 ",2773,1412,1361,false,true,true,false]
[" 15 - 19 ",3098,1606,1492,false,true,true,false]
[" 20 - 24 ",3567,1830,1737,false,true,true,false]
[" 25 - 29 ",4272,2149,2123,false,true,true,false]
[" 30 - 34 ",5020,2540,2480,false,true,true,false]
[" 35 - 39 ",5002,2548,2454,false,true,true,false]
[" 40 - 44 ",4392,2176,2216,false,true,true,false]
[" 45 - 49 ",3754,1845,1909,false,true,true,false]
[" 50 - 54 ",4057,1882,2175,false,true,true,false]
[" 55 - 59 ",4892,2164,2728,false,true,true,false]
[" 60 - 64 ",4900,2147,2753,false,true,true,false]
[" 65 - 69 ",3824,1587,2237,false,true,true,false]
[" 70 i więcej",7389,2621,4768,true,true,false,false]
["65+",{"$f":"SUM(B52:B53)","v":11213},{"$f":"SUM(C52:C53)","v":4208},{"$f":"SUM(D52:D53)","v":7005},true,false,true,false]
[" Rzeszów ",187027,88381,98646,true,true,true,true]
[" 0 - 4 ",10322,5353,4969,false,true,true,false]
[" 5 - 9 ",9675,4902,4773,false,true,true,false]
[" 10 - 14 ",7761,3899,3862,false,true,true,false]
[" 15 - 19 ",9647,4759,4888,false,true,true,false]
[" 20 - 24 ",11416,5692,5724,false,true,true,false]
[" 25 - 29 ",15796,7724,8072,false,true,true,false]
[" 30 - 34 ",18604,9200,9404,false,true,true,false]
[" 35 - 39 ",16018,7890,8128,false,true,true,false]
[" 40 - 44 ",12693,6309,6384,false,true,true,false]
[" 45 - 49 ",10026,4770,5256,false,true,true,false]
[" 50 - 54 ",10498,4877,5621,false,true,true,false]
[" 55 - 59 ",12736,5790,6946,false,true,true,false]
[" 60 - 64 ",13202,5926,7276,false,true,true,false]
[" 65 - 69 ",9905,4292,5613,{"$f":"IFERROR(IF(SEARCH(\" - \",A69)>0,FALSE,TRUE),TRUE)","v":false},{"$f":"IFERROR(IF(SEARCH(\"65+\",A69)>0,FALSE,TRUE),TRUE)","v":true},{"$f":"IFERROR(IF(SEARCH(\"70\",A69)>0,FALSE,TRUE),TRUE)","v":true},{"$f":"AND(E69:G69)","v":false}]
[" 70 i więcej",18728,6998,11730,true,true,false,false]
["65+",{"$f":"SUM(B69:B70)","v":28633},{"$f":"SUM(C69:C70)","v":11290},{"$f":"SUM(D69:D70)","v":17343},true,false,true,false]
[" Tarnobrzeg ",47658,22870,24788,true,true,true,true]
[" 0 - 4 ",1781,918,863,false,true,true,false]
[" 5 - 9 ",2212,1122,1090,false,true,true,false]
[" 10 - 14 ",2168,1137,1031,false,true,true,false]
[" 15 - 19 ",2342,1200,1142,false,true,true,false]
[" 20 - 24 ",2814,1439,1375,false,true,true,false]
[" 25 - 29 ",3243,1703,1540,false,true,true,false]
[" 30 - 34 ",3555,1826,1729,false,true,true,false]
[" 35 - 39 ",3734,1901,1833,false,true,true,false]
[" 40 - 44 ",3617,1792,1825,false,true,true,false]
[" 45 - 49 ",3296,1649,1647,false,true,true,false]
[" 50 - 54 ",3285,1537,1748,false,true,true,false]
[" 55 - 59 ",3570,1698,1872,false,true,true,false]
[" 60 - 64 ",3598,1537,2061,false,true,true,false]
[" 65 - 69 ",3220,1357,1863,false,true,true,false]
[" 70 i więcej",5223,2054,3169,true,true,false,false]
["65+",{"$f":"SUM(B86:B87)","v":8443},{"$f":"SUM(C86:C87)","v":3411},{"$f":"SUM(D86:D87)","v":5032},true,false,true,false]
[" bieszczadzki ",22032,10902,11130,true,true,true,true]
[" 0 - 4 ",987,486,501,false,true,true,false]
[" 5 - 9 ",1147,584,563,false,true,true,false]
[" 10 - 14 ",1127,569,558,false,true,true,false]
[" 15 - 19 ",1052,531,521,false,true,true,false]
[" 20 - 24 ",1638,827,811,false,true,true,false]
[" 25 - 29 ",1668,850,818,false,true,true,false]
[" 30 - 34 ",1887,986,901,false,true,true,false]
[" 35 - 39 ",1798,942,856,false,true,true,false]
[" 40 - 44 ",1522,780,742,false,true,true,false]
[" 45 - 49 ",1396,709,687,false,true,true,false]
[" 50 - 54 ",1457,736,721,false,true,true,false]
[" 55 - 59 ",1795,875,920,false,true,true,false]
[" 60 - 64 ",1502,743,759,false,true,true,false]
[" 65 - 69 ",1130,555,575,false,true,true,false]
[" 70 i więcej",1926,729,1197,true,true,false,false]
["65+",{"$f":"SUM(B103:B104)","v":3056},{"$f":"SUM(C103:C104)","v":1284},{"$f":"SUM(D103:D104)","v":1772},true,false,true,false]
[" brzozowski ",66004,32657,33347,true,true,true,true]
[" 0 - 4 ",3349,1707,1642,false,true,true,false]
[" 5 - 9 ",3741,1960,1781,false,true,true,false]
[" 10 - 14 ",3657,1890,1767,false,true,true,false]
[" 15 - 19 ",3975,2021,1954,false,true,true,false]
[" 20 - 24 ",4826,2429,2397,false,true,true,false]
[" 25 - 29 ",5365,2790,2575,false,true,true,false]
[" 30 - 34 ",5161,2673,2488,false,true,true,false]
[" 35 - 39 ",4991,2572,2419,false,true,true,false]
[" 40 - 44 ",4656,2357,2299,false,true,true,false]
[" 45 - 49 ",4151,2068,2083,false,true,true,false]
[" 50 - 54 ",4123,2188,1935,false,true,true,false]
[" 55 - 59 ",4391,2230,2161,false,true,true,false]
[" 60 - 64 ",3853,1869,1984,false,true,true,false]
[" 65 - 69 ",3138,1475,1663,false,true,true,false]
[" 70 i więcej",6627,2428,4199,true,true,false,false]
["65+",{"$f":"SUM(B120:B121)","v":9765},{"$f":"SUM(C120:C121)","v":3903},{"$f":"SUM(D120:D121)","v":5862},true,false,true,false]
[" dębicki ",135242,66829,68413,true,true,true,true]
[" 0 - 4 ",6820,3412,3408,false,true,true,false]
[" 5 - 9 ",7713,3968,3745,false,true,true,false]
[" 10 - 14 ",7070,3620,3450,false,true,true,false]
[" 15 - 19 ",7767,4045,3722,false,true,true,false]
[" 20 - 24 ",9532,4947,4585,false,true,true,false]
[" 25 - 29 ",11129,5804,5325,false,true,true,false]
[" 30 - 34 ",11496,5993,5503,false,true,true,false]
[" 35 - 39 ",10443,5386,5057,false,true,true,false]
[" 40 - 44 ",9345,4755,4590,false,true,true,false]
[" 45 - 49 ",8553,4354,4199,{"$f":"IFERROR(IF(SEARCH(\" - \",A133)>0,FALSE,TRUE),TRUE)","v":false},{"$f":"IFERROR(IF(SEARCH(\"65+\",A133)>0,FALSE,TRUE),TRUE)","v":true},{"$f":"IFERROR(IF(SEARCH(\"70\",A133)>0,FALSE,TRUE),TRUE)","v":true},{"$f":"AND(E133:G133)","v":false}]
[" 50 - 54 ",8839,4463,4376,false,true,true,false]
[" 55 - 59 ",9284,4599,4685,false,true,true,false]
[" 60 - 64 ",8097,3889,4208,false,true,true,false]
[" 65 - 69 ",6230,2813,3417,false,true,true,false]
[" 70 i więcej",12924,4781,8143,true,true,false,false]
["65+",{"$f":"SUM(B137:B138)","v":19154},{"$f":"SUM(C137:C138)","v":7594},{"$f":"SUM(D137:D138)","v":11560},true,false,true,false]
[" jarosławski ",121374,59186,62188,true,true,true,true]
[" 0 - 4 ",5776,2934,2842,false,true,true,false]
[" 5 - 9 ",6406,3254,3152,false,true,true,false]
[" 10 - 14 ",6066,3102,2964,false,true,true,false]
[" 15 - 19 ",7392,3782,3610,false,true,true,false]
[" 20 - 24 ",8548,4415,4133,false,true,true,false]
[" 25 - 29 ",9627,4915,4712,false,true,true,false]
[" 30 - 34 ",10116,5146,4970,false,true,true,false]
[" 35 - 39 ",9374,4834,4540,false,true,true,false]
[" 40 - 44 ",8441,4288,4153,false,true,true,false]
[" 45 - 49 ",7597,3807,3790,false,true,true,false]
[" 50 - 54 ",7642,3810,3832,false,true,true,false]
[" 55 - 59 ",8417,4154,4263,false,true,true,false]
[" 60 - 64 ",7929,3717,4212,false,true,true,false]
[" 65 - 69 ",6233,2786,3447,false,true,true,false]
[" 70 i więcej",11810,4242,7568,true,true,false,false]
["65+",{"$f":"SUM(B154:B155)","v":18043},{"$f":"SUM(C154:C155)","v":7028},{"$f":"SUM(D154:D155)","v":11015},true,false,true,false]
[" jasielski ",114533,56224,58309,true,true,true,true]
[" 0 - 4 ",5033,2622,2411,false,true,true,false]
[" 5 - 9 ",5828,3057,2771,false,true,true,false]
[" 10 - 14 ",5678,2828,2850,false,true,true,false]
[" 15 - 19 ",6545,3382,3163,false,true,true,false]
[" 20 - 24 ",7998,4012,3986,false,true,true,false]
[" 25 - 29 ",8888,4642,4246,false,true,true,false]
[" 30 - 34 ",9131,4733,4398,false,true,true,false]
[" 35 - 39 ",8761,4509,4252,false,true,true,false]
[" 40 - 44 ",8273,4248,4025,false,true,true,false]
[" 45 - 49 ",7597,3856,3741,false,true,true,false]
[" 50 - 54 ",7811,4002,3809,false,true,true,false]
[" 55 - 59 ",8087,4001,4086,false,true,true,false]
[" 60 - 64 ",7304,3561,3743,false,true,true,false]
[" 65 - 69 ",5713,2562,3151,false,true,true,false]
[" 70 i więcej",11886,4209,7677,true,true,false,false]
["65+",{"$f":"SUM(B171:B172)","v":17599},{"$f":"SUM(C171:C172)","v":6771},{"$f":"SUM(D171:D172)","v":10828},true,false,true,false]
[" kolbuszowski ",62412,31091,31321,true,true,true,true]
[" 0 - 4 ",2809,1418,1391,false,true,true,false]
[" 5 - 9 ",3329,1762,1567,false,true,true,false]
[" 10 - 14 ",3375,1729,1646,false,true,true,false]
[" 15 - 19 ",3852,2003,1849,false,true,true,false]
[" 20 - 24 ",4817,2439,2378,false,true,true,false]
[" 25 - 29 ",5078,2661,2417,false,true,true,false]
[" 30 - 34 ",5176,2680,2496,false,true,true,false]
[" 35 - 39 ",4875,2470,2405,false,true,true,false]
[" 40 - 44 ",4618,2387,2231,false,true,true,false]
[" 45 - 49 ",4199,2121,2078,false,true,true,false]
[" 50 - 54 ",4184,2189,1995,false,true,true,false]
[" 55 - 59 ",3876,2011,1865,false,true,true,false]
[" 60 - 64 ",3352,1638,1714,false,true,true,false]
[" 65 - 69 ",2773,1278,1495,false,true,true,false]
[" 70 i więcej",6099,2305,3794,true,true,false,false]
["65+",{"$f":"SUM(B188:B189)","v":8872},{"$f":"SUM(C188:C189)","v":3583},{"$f":"SUM(D188:D189)","v":5289},true,false,true,false]
[" krośnieński ",112081,55129,56952,true,true,true,true]
[" 0 - 4 ",5504,2851,2653,false,true,true,false]
[" 5 - 9 ",6257,3186,3071,false,true,true,false]
[" 10 - 14 ",5741,2962,2779,false,true,true,false]
[" 15 - 19 ",7080,3643,3437,false,true,true,false]
[" 20 - 24 ",7674,3957,3717,false,true,true,false]
[" 25 - 29 ",8461,4384,4077,{"$f":"IFERROR(IF(SEARCH(\" - \",A197)>0,FALSE,TRUE),TRUE)","v":false},{"$f":"IFERROR(IF(SEARCH(\"65+\",A197)>0,FALSE,TRUE),TRUE)","v":true},{"$f":"IFERROR(IF(SEARCH(\"70\",A197)>0,FALSE,TRUE),TRUE)","v":true},{"$f":"AND(E197:G197)","v":false}]
[" 30 - 34 ",8788,4578,4210,false,true,true,false]
[" 35 - 39 ",8563,4377,4186,false,true,true,false]
[" 40 - 44 ",7926,4064,3862,false,true,true,false]
[" 45 - 49 ",7252,3701,3551,false,true,true,false]
[" 50 - 54 ",7254,3693,3561,false,true,true,false]
[" 55 - 59 ",7614,3782,3832,false,true,true,false]
[" 60 - 64 ",6935,3363,3572,false,true,true,false]
[" 65 - 69 ",5630,2563,3067,false,true,true,false]
[" 70 i więcej",11402,4025,7377,true,true,false,false]
["65+",{"$f":"SUM(B205:B206)","v":17032},{"$f":"SUM(C205:C206)","v":6588},{"$f":"SUM(D205:D206)","v":10444},true,false,true,false]
[" leżajski ",69588,34406,35182,true,true,true,true]
[" 0 - 4 ",3202,1587,1615,false,true,true,false]
[" 5 - 9 ",3682,1910,1772,false,true,true,false]
[" 10 - 14 ",3704,1919,1785,false,true,true,false]
[" 15 - 19 ",4273,2226,2047,false,true,true,false]
[" 20 - 24 ",4980,2577,2403,false,true,true,false]
[" 25 - 29 ",5454,2880,2574,false,true,true,false]
[" 30 - 34 ",5634,2880,2754,false,true,true,false]
[" 35 - 39 ",5400,2822,2578,false,true,true,false]
[" 40 - 44 ",5001,2532,2469,false,true,true,false]
[" 45 - 49 ",4515,2226,2289,false,true,true,false]
[" 50 - 54 ",4479,2347,2132,false,true,true,false]
[" 55 - 59 ",4689,2333,2356,false,true,true,false]
[" 60 - 64 ",4343,2116,2227,false,true,true,false]
[" 65 - 69 ",3482,1587,1895,false,true,true,false]
[" 70 i więcej",6750,2464,4286,true,true,false,false]
["65+",{"$f":"SUM(B222:B223)","v":10232},{"$f":"SUM(C222:C223)","v":4051},{"$f":"SUM(D222:D223)","v":6181},true,false,true,false]
[" lubaczowski ",56376,28022,28354,true,true,true,true]
[" 0 - 4 ",2438,1214,1224,false,true,true,false]
[" 5 - 9 ",2924,1501,1423,false,true,true,false]
[" 10 - 14 ",2880,1523,1357,false,true,true,false]
[" 15 - 19 ",3074,1596,1478,false,true,true,false]
[" 20 - 24 ",4196,2130,2066,false,true,true,false]
[" 25 - 29 ",4478,2367,2111,false,true,true,false]
[" 30 - 34 ",4597,2373,2224,false,true,true,false]
[" 35 - 39 ",4223,2215,2008,false,true,true,false]
[" 40 - 44 ",4011,2039,1972,false,true,true,false]
[" 45 - 49 ",3558,1864,1694,false,true,true,false]
[" 50 - 54 ",3848,2034,1814,false,true,true,false]
[" 55 - 59 ",3976,2042,1934,false,true,true,false]
[" 60 - 64 ",3459,1716,1743,false,true,true,false]
[" 65 - 69 ",2879,1335,1544,false,true,true,false]
[" 70 i więcej",5835,2073,3762,true,true,false,false]
["65+",{"$f":"SUM(B239:B240)","v":8714},{"$f":"SUM(C239:C240)","v":3408},{"$f":"SUM(D239:D240)","v":5306},true,false,true,false]
[" łańcucki ",80216,39280,40936,true,true,true,true]
[" 0 - 4 ",4310,2187,2123,false,true,true,false]
[" 5 - 9 ",4651,2394,2257,false,true,true,false]
[" 10 - 14 ",4152,2176,1976,false,true,true,false]
[" 15 - 19 ",4705,2458,2247,false,true,true,false]
[" 20 - 24 ",5479,2777,2702,false,true,true,false]
[" 25 - 29 ",6215,3160,3055,false,true,true,false]
[" 30 - 34 ",6658,3422,3236,false,true,true,false]
[" 35 - 39 ",6213,3179,3034,false,true,true,false]
[" 40 - 44 ",5687,2884,2803,false,true,true,false]
[" 45 - 49 ",4857,2446,2411,false,true,true,false]
[" 50 - 54 ",4951,2470,2481,false,true,true,false]
[" 55 - 59 ",5142,2573,2569,false,true,true,false]
[" 60 - 64 ",4755,2278,2477,false,true,true,false]
[" 65 - 69 ",3919,1757,2162,false,true,true,false]
[" 70 i więcej",8522,3119,5403,true,true,false,false]
["65+",{"$f":"SUM(B256:B257)","v":12441},{"$f":"SUM(C256:C257)","v":4876},{"$f":"SUM(D256:D257)","v":7565},true,false,true,false]
[" mielecki ",136280,67176,69104,true,true,true,true]
[" 0 - 4 ",6727,3566,3161,false,true,true,false]
[" 5 - 9 ",7465,3787,3678,{"$f":"IFERROR(IF(SEARCH(\" - \",A261)>0,FALSE,TRUE),TRUE)","v":false},{"$f":"IFERROR(IF(SEARCH(\"65+\",A261)>0,FALSE,TRUE),TRUE)","v":true},{"$f":"IFERROR(IF(SEARCH(\"70\",A261)>0,FALSE,TRUE),TRUE)","v":true},{"$f":"AND(E261:G261)","v":false}]
[" 10 - 14 ",6954,3598,3356,false,true,true,false]
[" 15 - 19 ",7636,3873,3763,false,true,true,false]
[" 20 - 24 ",9391,4810,4581,false,true,true,false]
[" 25 - 29 ",10785,5507,5278,false,true,true,false]
[" 30 - 34 ",11464,5894,5570,false,true,true,false]
[" 35 - 39 ",10953,5612,5341,false,true,true,false]
[" 40 - 44 ",9491,4855,4636,false,true,true,false]
[" 45 - 49 ",8414,4267,4147,false,true,true,false]
[" 50 - 54 ",8650,4385,4265,false,true,true,false]
[" 55 - 59 ",9231,4550,4681,false,true,true,false]
[" 60 - 64 ",8595,4084,4511,false,true,true,false]
[" 65 - 69 ",6733,3129,3604,false,true,true,false]
[" 70 i więcej",13791,5259,8532,true,true,false,false]
["65+",{"$f":"SUM(B273:B274)","v":20524},{"$f":"SUM(C273:C274)","v":8388},{"$f":"SUM(D273:D274)","v":12136},true,false,true,false]
[" niżański ",67068,33224,33844,true,true,true,true]
[" 0 - 4 ",2714,1392,1322,false,true,true,false]
[" 5 - 9 ",3348,1714,1634,false,true,true,false]
[" 10 - 14 ",3362,1746,1616,false,true,true,false]
[" 15 - 19 ",3843,1964,1879,false,true,true,false]
[" 20 - 24 ",5132,2647,2485,false,true,true,false]
[" 25 - 29 ",5695,2958,2737,false,true,true,false]
[" 30 - 34 ",5553,2882,2671,false,true,true,false]
[" 35 - 39 ",4897,2556,2341,false,true,true,false]
[" 40 - 44 ",4793,2451,2342,false,true,true,false]
[" 45 - 49 ",4498,2249,2249,false,true,true,false]
[" 50 - 54 ",4790,2447,2343,false,true,true,false]
[" 55 - 59 ",4878,2507,2371,false,true,true,false]
[" 60 - 64 ",3968,1986,1982,false,true,true,false]
[" 65 - 69 ",3163,1477,1686,false,true,true,false]
[" 70 i więcej",6434,2248,4186,true,true,false,false]
["65+",{"$f":"SUM(B290:B291)","v":9597},{"$f":"SUM(C290:C291)","v":3725},{"$f":"SUM(D290:D291)","v":5872},true,false,true,false]
[" przemyski ",74215,37225,36990,true,true,true,true]
[" 0 - 4 ",3503,1764,1739,false,true,true,false]
[" 5 - 9 ",4035,2093,1942,false,true,true,false]
[" 10 - 14 ",3938,2054,1884,false,true,true,false]
[" 15 - 19 ",4625,2403,2222,false,true,true,false]
[" 20 - 24 ",5916,3074,2842,false,true,true,false]
[" 25 - 29 ",6035,3173,2862,false,true,true,false]
[" 30 - 34 ",5956,3191,2765,false,true,true,false]
[" 35 - 39 ",5532,2840,2692,false,true,true,false]
[" 40 - 44 ",5352,2716,2636,false,true,true,false]
[" 45 - 49 ",4938,2547,2391,false,true,true,false]
[" 50 - 54 ",4875,2595,2280,false,true,true,false]
[" 55 - 59 ",5015,2613,2402,false,true,true,false]
[" 60 - 64 ",4294,2162,2132,false,true,true,false]
[" 65 - 69 ",3218,1517,1701,false,true,true,false]
[" 70 i więcej",6983,2483,4500,true,true,false,false]
["65+",{"$f":"SUM(B307:B308)","v":10201},{"$f":"SUM(C307:C308)","v":4000},{"$f":"SUM(D307:D308)","v":6201},true,false,true,false]
[" przeworski ",78830,38799,40031,true,true,true,true]
[" 0 - 4 ",3796,1945,1851,false,true,true,false]
[" 5 - 9 ",4362,2174,2188,false,true,true,false]
[" 10 - 14 ",4131,2101,2030,false,true,true,false]
[" 15 - 19 ",4486,2290,2196,false,true,true,false]
[" 20 - 24 ",5809,2940,2869,false,true,true,false]
[" 25 - 29 ",6300,3337,2963,false,true,true,false]
[" 30 - 34 ",6364,3267,3097,false,true,true,false]
[" 35 - 39 ",5916,3057,2859,false,true,true,false]
[" 40 - 44 ",5650,2863,2787,false,true,true,false]
[" 45 - 49 ",4824,2446,2378,false,true,true,false]
[" 50 - 54 ",5077,2579,2498,false,true,true,false]
[" 55 - 59 ",5348,2762,2586,false,true,true,false]
[" 60 - 64 ",4772,2323,2449,false,true,true,false]
[" 65 - 69 ",3822,1730,2092,false,true,true,false]
[" 70 i więcej",8173,2985,5188,{"$f":"IFERROR(IF(SEARCH(\" - \",A325)>0,FALSE,TRUE),TRUE)","v":true},{"$f":"IFERROR(IF(SEARCH(\"65+\",A325)>0,FALSE,TRUE),TRUE)","v":true},{"$f":"IFERROR(IF(SEARCH(\"70\",A325)>0,FALSE,TRUE),TRUE)","v":false},{"$f":"AND(E325:G325)","v":false}]
["65+",{"$f":"SUM(B324:B325)","v":11995},{"$f":"SUM(C324:C325)","v":4715},{"$f":"SUM(D324:D325)","v":7280},true,false,true,false]
[" ropczycko-sędziszowski ",73773,36462,37311,true,true,true,true]
[" 0 - 4 ",3980,2071,1909,false,true,true,false]
[" 5 - 9 ",4284,2150,2134,false,true,true,false]
[" 10 - 14 ",4127,2097,2030,false,true,true,false]
[" 15 - 19 ",4472,2318,2154,false,true,true,false]
[" 20 - 24 ",5334,2668,2666,false,true,true,false]
[" 25 - 29 ",5959,3082,2877,false,true,true,false]
[" 30 - 34 ",6047,3131,2916,false,true,true,false]
[" 35 - 39 ",5847,2938,2909,false,true,true,false]
[" 40 - 44 ",5302,2710,2592,false,true,true,false]
[" 45 - 49 ",4767,2438,2329,false,true,true,false]
[" 50 - 54 ",4555,2344,2211,false,true,true,false]
[" 55 - 59 ",4518,2338,2180,false,true,true,false]
[" 60 - 64 ",4196,2038,2158,false,true,true,false]
[" 65 - 69 ",3380,1551,1829,false,true,true,false]
[" 70 i więcej",7005,2588,4417,true,true,false,false]
["65+",{"$f":"SUM(B341:B342)","v":10385},{"$f":"SUM(C341:C342)","v":4139},{"$f":"SUM(D341:D342)","v":6246},true,false,true,false]
[" rzeszowski ",167638,82796,84842,true,true,true,true]
[" 0 - 4 ",8854,4574,4280,false,true,true,false]
[" 5 - 9 ",9752,4993,4759,false,true,true,false]
[" 10 - 14 ",9094,4664,4430,false,true,true,false]
[" 15 - 19 ",9875,5064,4811,false,true,true,false]
[" 20 - 24 ",11918,5990,5928,false,true,true,false]
[" 25 - 29 ",13223,6899,6324,false,true,true,false]
[" 30 - 34 ",13770,7016,6754,false,true,true,false]
[" 35 - 39 ",13075,6625,6450,false,true,true,false]
[" 40 - 44 ",12598,6406,6192,false,true,true,false]
[" 45 - 49 ",11267,5699,5568,false,true,true,false]
[" 50 - 54 ",10605,5488,5117,false,true,true,false]
[" 55 - 59 ",10478,5366,5112,false,true,true,false]
[" 60 - 64 ",9064,4439,4625,false,true,true,false]
[" 65 - 69 ",7484,3459,4025,false,true,true,false]
[" 70 i więcej",16581,6114,10467,true,true,false,false]
["65+",{"$f":"SUM(B358:B359)","v":24065},{"$f":"SUM(C358:C359)","v":9573},{"$f":"SUM(D358:D359)","v":14492},true,false,true,false]
[" sanocki ",95548,46761,48787,true,true,true,true]
[" 0 - 4 ",4258,2191,2067,false,true,true,false]
[" 5 - 9 ",5070,2598,2472,false,true,true,false]
[" 10 - 14 ",4800,2479,2321,false,true,true,false]
[" 15 - 19 ",5417,2748,2669,false,true,true,false]
[" 20 - 24 ",6134,3066,3068,false,true,true,false]
[" 25 - 29 ",7218,3709,3509,false,true,true,false]
[" 30 - 34 ",7902,4083,3819,false,true,true,false]
[" 35 - 39 ",7554,3819,3735,false,true,true,false]
[" 40 - 44 ",6870,3511,3359,false,true,true,false]
[" 45 - 49 ",5840,2993,2847,false,true,true,false]
[" 50 - 54 ",6266,3148,3118,false,true,true,false]
[" 55 - 59 ",7054,3394,3660,false,true,true,false]
[" 60 - 64 ",6563,3090,3473,false,true,true,false]
[" 65 - 69 ",5403,2488,2915,false,true,true,false]
[" 70 i więcej",9199,3444,5755,true,true,false,false]
["65+",{"$f":"SUM(B375:B376)","v":14602},{"$f":"SUM(C375:C376)","v":5932},{"$f":"SUM(D375:D376)","v":8670},true,false,true,false]
[" stalowowolski ",107675,52385,55290,true,true,true,true]
[" 0 - 4 ",4440,2296,2144,false,true,true,false]
[" 5 - 9 ",5182,2626,2556,false,true,true,false]
[" 10 - 14 ",5011,2571,2440,false,true,true,false]
[" 15 - 19 ",5755,2917,2838,false,true,true,false]
[" 20 - 24 ",6916,3552,3364,false,true,true,false]
[" 25 - 29 ",7994,4013,3981,false,true,true,false]
[" 30 - 34 ",8859,4498,4361,false,true,true,false]
[" 35 - 39 ",8861,4536,4325,false,true,true,false]
[" 40 - 44 ",7764,3953,3811,false,true,true,false]
[" 45 - 49 ",6605,3290,3315,false,true,true,false]
[" 50 - 54 ",6580,3242,3338,{"$f":"IFERROR(IF(SEARCH(\" - \",A389)>0,FALSE,TRUE),TRUE)","v":false},{"$f":"IFERROR(IF(SEARCH(\"65+\",A389)>0,FALSE,TRUE),TRUE)","v":true},{"$f":"IFERROR(IF(SEARCH(\"70\",A389)>0,FALSE,TRUE),TRUE)","v":true},{"$f":"AND(E389:G389)","v":false}]
[" 55 - 59 ",7985,3828,4157,false,true,true,false]
[" 60 - 64 ",8577,4014,4563,false,true,true,false]
[" 65 - 69 ",6544,3023,3521,false,true,true,false]
[" 70 i więcej",10602,4026,6576,true,true,false,false]
["65+",{"$f":"SUM(B392:B393)","v":17146},{"$f":"SUM(C392:C393)","v":7049},{"$f":"SUM(D392:D393)","v":10097},true,false,true,false]
[" strzyżowski ",61757,30624,31133,true,true,true,true]
[" 0 - 4 ",2897,1462,1435,false,true,true,false]
[" 5 - 9 ",3198,1630,1568,false,true,true,false]
[" 10 - 14 ",3244,1727,1517,false,true,true,false]
[" 15 - 19 ",3667,1915,1752,false,true,true,false]
[" 20 - 24 ",4431,2280,2151,false,true,true,false]
[" 25 - 29 ",4823,2499,2324,false,true,true,false]
[" 30 - 34 ",4923,2506,2417,false,true,true,false]
[" 35 - 39 ",4812,2454,2358,false,true,true,false]
[" 40 - 44 ",4606,2416,2190,false,true,true,false]
[" 45 - 49 ",4040,2060,1980,false,true,true,false]
[" 50 - 54 ",4102,2130,1972,false,true,true,false]
[" 55 - 59 ",4024,2088,1936,false,true,true,false]
[" 60 - 64 ",3630,1831,1799,false,true,true,false]
[" 65 - 69 ",2826,1289,1537,false,true,true,false]
[" 70 i więcej",6534,2337,4197,true,true,false,false]
["65+",{"$f":"SUM(B409:B410)","v":9360},{"$f":"SUM(C409:C410)","v":3626},{"$f":"SUM(D409:D410)","v":5734},true,false,true,false]
[" tarnobrzeski ",53613,26361,27252,true,true,true,true]
[" 0 - 4 ",2196,1144,1052,false,true,true,false]
[" 5 - 9 ",2627,1342,1285,false,true,true,false]
[" 10 - 14 ",2671,1393,1278,false,true,true,false]
[" 15 - 19 ",3162,1648,1514,false,true,true,false]
[" 20 - 24 ",3689,1868,1821,false,true,true,false]
[" 25 - 29 ",4153,2191,1962,false,true,true,false]
[" 30 - 34 ",4369,2198,2171,false,true,true,false]
[" 35 - 39 ",4172,2104,2068,false,true,true,false]
[" 40 - 44 ",4130,2117,2013,false,true,true,false]
[" 45 - 49 ",3535,1808,1727,false,true,true,false]
[" 50 - 54 ",3311,1677,1634,false,true,true,false]
[" 55 - 59 ",3877,1894,1983,false,true,true,false]
[" 60 - 64 ",3579,1720,1859,false,true,true,false]
[" 65 - 69 ",2837,1306,1531,false,true,true,false]
[" 70 i więcej",5305,1951,3354,true,true,false,false]
["65+",{"$f":"SUM(B426:B427)","v":8142},{"$f":"SUM(C426:C427)","v":3257},{"$f":"SUM(D426:D427)","v":4885},true,false,true,false]
[" leski ",26704,13199,13505,true,true,true,true]
[" 0 - 4 ",1151,563,588,false,true,true,false]
[" 5 - 9 ",1355,698,657,false,true,true,false]
[" 10 - 14 ",1264,640,624,false,true,true,false]
[" 15 - 19 ",1527,792,735,false,true,true,false]
[" 20 - 24 ",1773,889,884,false,true,true,false]
[" 25 - 29 ",1983,1028,955,false,true,true,false]
[" 30 - 34 ",2074,1059,1015,false,true,true,false]
[" 35 - 39 ",2138,1063,1075,false,true,true,false]
[" 40 - 44 ",1991,1016,975,false,true,true,false]
[" 45 - 49 ",1753,916,837,false,true,true,false]
[" 50 - 54 ",1806,928,878,false,true,true,false]
[" 55 - 59 ",1931,966,965,false,true,true,false]
[" 60 - 64 ",1770,857,913,false,true,true,false]
[" 65 - 69 ",1439,687,752,false,true,true,false]
[" 70 i więcej",2749,1097,1652,true,true,false,false]
["65+",{"$f":"SUM(B443:B444)","v":4188},{"$f":"SUM(C443:C444)","v":1784},{"$f":"SUM(D443:D444)","v":2404},true,false,true,false]

{"sheet":"Podlaskie","index":15,"n_rows":309,"n_cols":8,"rows_kept":309,"cut":false,"hidden":true,"merged":[[0,0,2,0],[0,1,2,1],[0,2,2,2],[0,3,2,3]]}
["Województwa\nPowiaty\nGrupy wieku ","Ogółem","Mężczyźni","Kobiety "]
[]
[]
["Podlaskie ",1187587,578856,608731,{"$f":"IFERROR(IF(SEARCH(\" - \",A4)>0,FALSE,TRUE),TRUE)","v":true},{"$f":"IFERROR(IF(SEARCH(\"65+\",A4)>0,FALSE,TRUE),TRUE)","v":true},{"$f":"IFERROR(IF(SEARCH(\"70\",A4)>0,FALSE,TRUE),TRUE)","v":true},{"$f":"AND(E4:G4)","v":true}]
[" 0 - 4 ",54281,28090,26191,{"$f":"IFERROR(IF(SEARCH(\" - \",A5)>0,FALSE,TRUE),TRUE)","v":false},{"$f":"IFERROR(IF(SEARCH(\"65+\",A5)>0,FALSE,TRUE),TRUE)","v":true},{"$f":"IFERROR(IF(SEARCH(\"70\",A5)>0,FALSE,TRUE),TRUE)","v":true},{"$f":"AND(E5:G5)","v":false}]
[" 5 - 9 ",60397,31071,29326,false,true,true,false]
[" 10 - 14 ",55700,28431,27269,false,true,true,false]
[" 15 - 19 ",63180,32362,30818,false,true,true,false]
[" 20 - 24 ",79775,40758,39017,false,true,true,false]
[" 25 - 29 ",91281,47239,44042,false,true,true,false]
[" 30 - 34 ",97394,50741,46653,false,true,true,false]
[" 35 - 39 ",88784,45482,43302,false,true,true,false]
[" 40 - 44 ",82519,41891,40628,false,true,true,false]
[" 45 - 49 ",76507,38521,37986,false,true,true,false]
[" 50 - 54 ",79671,39823,39848,false,true,true,false]
[" 55 - 59 ",88047,43327,44720,false,true,true,false]
[" 60 - 64 ",76658,36426,40232,false,true,true,false]
[" 65 - 69 ",59818,26469,33349,false,true,true,false]
[" 70 i więcej",133575,48225,85350,true,true,false,false]
["65+",{"$f":"SUM(B18:B19)","v":193393},{"$f":"SUM(C18:C19)","v":74694},{"$f":"SUM(D18:D19)","v":118699},true,false,true,false]
[" Białystok ",296310,139023,157287,true,true,true,true]
[" 0 - 4 ",14682,7540,7142,false,true,true,false]
[" 5 - 9 ",15121,7830,7291,false,true,true,false]
[" 10 - 14 ",12501,6351,6150,false,true,true,false]
[" 15 - 19 ",13924,7115,6809,false,true,true,false]
[" 20 - 24 ",15765,7852,7913,false,true,true,false]
[" 25 - 29 ",24278,11809,12469,false,true,true,false]
[" 30 - 34 ",27552,13739,13813,false,true,true,false]
[" 35 - 39 ",24702,12296,12406,false,true,true,false]
[" 40 - 44 ",21792,10620,11172,false,true,true,false]
[" 45 - 49 ",18567,9006,9561,false,true,true,false]
[" 50 - 54 ",18607,8804,9803,false,true,true,false]
[" 55 - 59 ",21931,9935,11996,false,true,true,false]
[" 60 - 64 ",19982,8873,11109,false,true,true,false]
[" 65 - 69 ",15340,6237,9103,false,true,true,false]
[" 70 i więcej",31566,11016,20550,true,true,false,false]
["65+",{"$f":"SUM(B35:B36)","v":46906},{"$f":"SUM(C35:C36)","v":17253},{"$f":"SUM(D35:D36)","v":29653},true,false,true,false]
[" Łomża ",62716,30065,32651,true,true,true,true]
[" 0 - 4 ",2799,1450,1349,false,true,true,false]
[" 5 - 9 ",3133,1629,1504,false,true,true,false]
[" 10 - 14 ",2727,1389,1338,false,true,true,false]
[" 15 - 19 ",3706,1800,1906,false,true,true,false]
[" 20 - 24 ",3756,1933,1823,false,true,true,false]
[" 25 - 29 ",4844,2499,2345,false,true,true,false]
[" 30 - 34 ",5670,2899,2771,false,true,true,false]
[" 35 - 39 ",4946,2514,2432,false,true,true,false]
[" 40 - 44 ",4159,2078,2081,false,true,true,false]
[" 45 - 49 ",3849,1826,2023,false,true,true,false]
[" 50 - 54 ",4431,2020,2411,false,true,true,false]
[" 55 - 59 ",5276,2417,2859,false,true,true,false]
[" 60 - 64 ",4727,2120,2607,false,true,true,false]
[" 65 - 69 ",3302,1443,1859,false,true,true,false]
[" 70 i więcej",5391,2048,3343,true,true,false,false]
["65+",{"$f":"SUM(B52:B53)","v":8693},{"$f":"SUM(C52:C53)","v":3491},{"$f":"SUM(D52:D53)","v":5202},true,false,true,false]
[" Suwałki ",69543,33240,36303,true,true,true,true]
[" 0 - 4 ",3337,1707,1630,false,true,true,false]
[" 5 - 9 ",3994,2047,1947,false,true,true,false]
[" 10 - 14 ",3508,1782,1726,false,true,true,false]
[" 15 - 19 ",3895,1952,1943,false,true,true,false]
[" 20 - 24 ",4852,2440,2412,false,true,true,false]
[" 25 - 29 ",5484,2786,2698,false,true,true,false]
[" 30 - 34 ",6065,3045,3020,false,true,true,false]
[" 35 - 39 ",5215,2621,2594,false,true,true,false]
[" 40 - 44 ",4720,2285,2435,false,true,true,false]
[" 45 - 49 ",4387,2071,2316,false,true,true,false]
[" 50 - 54 ",4988,2344,2644,false,true,true,false]
[" 55 - 59 ",5554,2605,2949,false,true,true,false]
[" 60 - 64 ",4553,2097,2456,false,true,true,false]
[" 65 - 69 ",3392,1490,1902,{"$f":"IFERROR(IF(SEARCH(\" - \",A69)>0,FALSE,TRUE),TRUE)","v":false},{"$f":"IFERROR(IF(SEARCH(\"65+\",A69)>0,FALSE,TRUE),TRUE)","v":true},{"$f":"IFERROR(IF(SEARCH(\"70\",A69)>0,FALSE,TRUE),TRUE)","v":true},{"$f":"AND(E69:G69)","v":false}]
[" 70 i więcej",5599,1968,3631,true,true,false,false]
["65+",{"$f":"SUM(B69:B70)","v":8991},{"$f":"SUM(C69:C70)","v":3458},{"$f":"SUM(D69:D70)","v":5533},true,false,true,false]
[" augustowski ",58998,28906,30092,true,true,true,true]
[" 0 - 4 ",2576,1377,1199,false,true,true,false]
[" 5 - 9 ",2973,1505,1468,false,true,true,false]
[" 10 - 14 ",2977,1548,1429,false,true,true,false]
[" 15 - 19 ",3255,1681,1574,false,true,true,false]
[" 20 - 24 ",4277,2163,2114,false,true,true,false]
[" 25 - 29 ",4460,2349,2111,false,true,true,false]
[" 30 - 34 ",4497,2349,2148,false,true,true,false]
[" 35 - 39 ",4232,2140,2092,false,true,true,false]
[" 40 - 44 ",4202,2143,2059,false,true,true,false]
[" 45 - 49 ",3967,2028,1939,false,true,true,false]
[" 50 - 54 ",4043,2025,2018,false,true,true,false]
[" 55 - 59 ",4234,2102,2132,false,true,true,false]
[" 60 - 64 ",3569,1687,1882,false,true,true,false]
[" 65 - 69 ",3045,1370,1675,false,true,true,false]
[" 70 i więcej",6691,2439,4252,true,true,false,false]
["65+",{"$f":"SUM(B86:B87)","v":9736},{"$f":"SUM(C86:C87)","v":3809},{"$f":"SUM(D86:D87)","v":5927},true,false,true,false]
[" białostocki ",145874,71865,74009,true,true,true,true]
[" 0 - 4 ",6735,3498,3237,false,true,true,false]
[" 5 - 9 ",7851,3995,3856,false,true,true,false]
[" 10 - 14 ",7069,3515,3554,false,true,true,false]
[" 15 - 19 ",7764,3989,3775,false,true,true,false]
[" 20 - 24 ",9910,5105,4805,false,true,true,false]
[" 25 - 29 ",10998,5746,5252,false,true,true,false]
[" 30 - 34 ",11789,6132,5657,false,true,true,false]
[" 35 - 39 ",11235,5722,5513,false,true,true,false]
[" 40 - 44 ",10519,5475,5044,false,true,true,false]
[" 45 - 49 ",9719,4936,4783,false,true,true,false]
[" 50 - 54 ",10027,5108,4919,false,true,true,false]
[" 55 - 59 ",10512,5382,5130,false,true,true,false]
[" 60 - 64 ",9193,4433,4760,false,true,true,false]
[" 65 - 69 ",7075,3274,3801,false,true,true,false]
[" 70 i więcej",15478,5555,9923,true,true,false,false]
["65+",{"$f":"SUM(B103:B104)","v":22553},{"$f":"SUM(C103:C104)","v":8829},{"$f":"SUM(D103:D104)","v":13724},true,false,true,false]
[" bielski ",56259,27839,28420,true,true,true,true]
[" 0 - 4 ",2390,1264,1126,false,true,true,false]
[" 5 - 9 ",2659,1399,1260,false,true,true,false]
[" 10 - 14 ",2464,1222,1242,false,true,true,false]
[" 15 - 19 ",2768,1417,1351,false,true,true,false]
[" 20 - 24 ",3698,1914,1784,false,true,true,false]
[" 25 - 29 ",4071,2178,1893,false,true,true,false]
[" 30 - 34 ",4185,2274,1911,false,true,true,false]
[" 35 - 39 ",3652,1901,1751,false,true,true,false]
[" 40 - 44 ",3482,1861,1621,false,true,true,false]
[" 45 - 49 ",3481,1800,1681,false,true,true,false]
[" 50 - 54 ",3773,1905,1868,false,true,true,false]
[" 55 - 59 ",4265,2207,2058,false,true,true,false]
[" 60 - 64 ",3693,1810,1883,false,true,true,false]
[" 65 - 69 ",2955,1356,1599,false,true,true,false]
[" 70 i więcej",8723,3331,5392,true,true,false,false]
["65+",{"$f":"SUM(B120:B121)","v":11678},{"$f":"SUM(C120:C121)","v":4687},{"$f":"SUM(D120:D121)","v":6991},true,false,true,false]
[" grajewski ",48228,23956,24272,true,true,true,true]
[" 0 - 4 ",2188,1149,1039,false,true,true,false]
[" 5 - 9 ",2525,1326,1199,false,true,true,false]
[" 10 - 14 ",2518,1302,1216,false,true,true,false]
[" 15 - 19 ",2654,1382,1272,false,true,true,false]
[" 20 - 24 ",3567,1867,1700,false,true,true,false]
[" 25 - 29 ",3672,1950,1722,false,true,true,false]
[" 30 - 34 ",3847,2033,1814,false,true,true,false]
[" 35 - 39 ",3622,1850,1772,false,true,true,false]
[" 40 - 44 ",3345,1740,1605,false,true,true,false]
[" 45 - 49 ",3185,1584,1601,{"$f":"IFERROR(IF(SEARCH(\" - \",A133)>0,FALSE,TRUE),TRUE)","v":false},{"$f":"IFERROR(IF(SEARCH(\"65+\",A133)>0,FALSE,TRUE),TRUE)","v":true},{"$f":"IFERROR(IF(SEARCH(\"70\",A133)>0,FALSE,TRUE),TRUE)","v":true},{"$f":"AND(E133:G133)","v":false}]
[" 50 - 54 ",3294,1655,1639,false,true,true,false]
[" 55 - 59 ",3619,1838,1781,false,true,true,false]
[" 60 - 64 ",3035,1509,1526,false,true,true,false]
[" 65 - 69 ",2350,1046,1304,false,true,true,false]
[" 70 i więcej",4807,1725,3082,true,true,false,false]
["65+",{"$f":"SUM(B137:B138)","v":7157},{"$f":"SUM(C137:C138)","v":2771},{"$f":"SUM(D137:D138)","v":4386},true,false,true,false]
[" hajnowski ",44322,21467,22855,true,true,true,true]
[" 0 - 4 ",1621,836,785,false,true,true,false]
[" 5 - 9 ",1725,852,873,false,true,true,false]
[" 10 - 14 ",1732,890,842,false,true,true,false]
[" 15 - 19 ",2008,1042,966,false,true,true,false]
[" 20 - 24 ",2634,1288,1346,false,true,true,false]
[" 25 - 29 ",2851,1495,1356,false,true,true,false]
[" 30 - 34 ",3150,1746,1404,false,true,true,false]
[" 35 - 39 ",2999,1617,1382,false,true,true,false]
[" 40 - 44 ",2648,1407,1241,false,true,true,false]
[" 45 - 49 ",2528,1334,1194,false,true,true,false]
[" 50 - 54 ",3111,1577,1534,false,true,true,false]
[" 55 - 59 ",3820,1924,1896,false,true,true,false]
[" 60 - 64 ",3433,1635,1798,false,true,true,false]
[" 65 - 69 ",2711,1215,1496,false,true,true,false]
[" 70 i więcej",7351,2609,4742,true,true,false,false]
["65+",{"$f":"SUM(B154:B155)","v":10062},{"$f":"SUM(C154:C155)","v":3824},{"$f":"SUM(D154:D155)","v":6238},true,false,true,false]
[" kolneński ",39068,19555,19513,true,true,true,true]
[" 0 - 4 ",1793,932,861,false,true,true,false]
[" 5 - 9 ",2084,1096,988,false,true,true,false]
[" 10 - 14 ",2132,1108,1024,false,true,true,false]
[" 15 - 19 ",2313,1163,1150,false,true,true,false]
[" 20 - 24 ",3320,1647,1673,false,true,true,false]
[" 25 - 29 ",3100,1621,1479,false,true,true,false]
[" 30 - 34 ",2894,1538,1356,false,true,true,false]
[" 35 - 39 ",2804,1465,1339,false,true,true,false]
[" 40 - 44 ",2730,1414,1316,false,true,true,false]
[" 45 - 49 ",2726,1441,1285,false,true,true,false]
[" 50 - 54 ",2719,1476,1243,false,true,true,false]
[" 55 - 59 ",2620,1378,1242,false,true,true,false]
[" 60 - 64 ",2076,1027,1049,false,true,true,false]
[" 65 - 69 ",1702,775,927,false,true,true,false]
[" 70 i więcej",4055,1474,2581,true,true,false,false]
["65+",{"$f":"SUM(B171:B172)","v":5757},{"$f":"SUM(C171:C172)","v":2249},{"$f":"SUM(D171:D172)","v":3508},true,false,true,false]
[" łomżyński ",51363,25941,25422,true,true,true,true]
[" 0 - 4 ",2501,1308,1193,false,true,true,false]
[" 5 - 9 ",2772,1413,1359,false,true,true,false]
[" 10 - 14 ",2730,1439,1291,false,true,true,false]
[" 15 - 19 ",3173,1682,1491,false,true,true,false]
[" 20 - 24 ",4146,2122,2024,false,true,true,false]
[" 25 - 29 ",3961,2112,1849,false,true,true,false]
[" 30 - 34 ",3843,2078,1765,false,true,true,false]
[" 35 - 39 ",3701,1929,1772,false,true,true,false]
[" 40 - 44 ",3589,1817,1772,false,true,true,false]
[" 45 - 49 ",3507,1830,1677,false,true,true,false]
[" 50 - 54 ",3462,1869,1593,false,true,true,false]
[" 55 - 59 ",3378,1816,1562,false,true,true,false]
[" 60 - 64 ",2897,1501,1396,false,true,true,false]
[" 65 - 69 ",2224,1046,1178,false,true,true,false]
[" 70 i więcej",5479,1979,3500,true,true,false,false]
["65+",{"$f":"SUM(B188:B189)","v":7703},{"$f":"SUM(C188:C189)","v":3025},{"$f":"SUM(D188:D189)","v":4678},true,false,true,false]
[" moniecki ",41439,20588,20851,true,true,true,true]
[" 0 - 4 ",1650,832,818,false,true,true,false]
[" 5 - 9 ",1944,1011,933,false,true,true,false]
[" 10 - 14 ",1952,1008,944,false,true,true,false]
[" 15 - 19 ",2276,1159,1117,false,true,true,false]
[" 20 - 24 ",3336,1734,1602,false,true,true,false]
[" 25 - 29 ",3289,1775,1514,{"$f":"IFERROR(IF(SEARCH(\" - \",A197)>0,FALSE,TRUE),TRUE)","v":false},{"$f":"IFERROR(IF(SEARCH(\"65+\",A197)>0,FALSE,TRUE),TRUE)","v":true},{"$f":"IFERROR(IF(SEARCH(\"70\",A197)>0,FALSE,TRUE),TRUE)","v":true},{"$f":"AND(E197:G197)","v":false}]
[" 30 - 34 ",3226,1707,1519,false,true,true,false]
[" 35 - 39 ",2898,1543,1355,false,true,true,false]
[" 40 - 44 ",2769,1400,1369,false,true,true,false]
[" 45 - 49 ",2777,1414,1363,false,true,true,false]
[" 50 - 54 ",2846,1469,1377,false,true,true,false]
[" 55 - 59 ",2877,1512,1365,false,true,true,false]
[" 60 - 64 ",2508,1252,1256,false,true,true,false]
[" 65 - 69 ",1997,939,1058,false,true,true,false]
[" 70 i więcej",5094,1833,3261,true,true,false,false]
["65+",{"$f":"SUM(B205:B206)","v":7091},{"$f":"SUM(C205:C206)","v":2772},{"$f":"SUM(D205:D206)","v":4319},true,false,true,false]
[" sejneński ",20531,10230,10301,true,true,true,true]
[" 0 - 4 ",877,432,445,false,true,true,false]
[" 5 - 9 ",999,516,483,false,true,true,false]
[" 10 - 14 ",957,485,472,false,true,true,false]
[" 15 - 19 ",1192,631,561,false,true,true,false]
[" 20 - 24 ",1487,762,725,false,true,true,false]
[" 25 - 29 ",1428,767,661,false,true,true,false]
[" 30 - 34 ",1563,836,727,false,true,true,false]
[" 35 - 39 ",1450,785,665,false,true,true,false]
[" 40 - 44 ",1452,741,711,false,true,true,false]
[" 45 - 49 ",1318,689,629,false,true,true,false]
[" 50 - 54 ",1384,714,670,false,true,true,false]
[" 55 - 59 ",1504,774,730,false,true,true,false]
[" 60 - 64 ",1330,662,668,false,true,true,false]
[" 65 - 69 ",1068,506,562,false,true,true,false]
[" 70 i więcej",2522,930,1592,true,true,false,false]
["65+",{"$f":"SUM(B222:B223)","v":3590},{"$f":"SUM(C222:C223)","v":1436},{"$f":"SUM(D222:D223)","v":2154},true,false,true,false]
[" siemiatycki ",45817,22527,23290,true,true,true,true]
[" 0 - 4 ",1681,876,805,false,true,true,false]
[" 5 - 9 ",2010,1014,996,false,true,true,false]
[" 10 - 14 ",2101,1100,1001,false,true,true,false]
[" 15 - 19 ",2387,1213,1174,false,true,true,false]
[" 20 - 24 ",3535,1825,1710,false,true,true,false]
[" 25 - 29 ",3203,1703,1500,false,true,true,false]
[" 30 - 34 ",3263,1755,1508,false,true,true,false]
[" 35 - 39 ",2966,1472,1494,false,true,true,false]
[" 40 - 44 ",3094,1594,1500,false,true,true,false]
[" 45 - 49 ",3108,1633,1475,false,true,true,false]
[" 50 - 54 ",3087,1582,1505,false,true,true,false]
[" 55 - 59 ",3537,1807,1730,false,true,true,false]
[" 60 - 64 ",2968,1461,1507,false,true,true,false]
[" 65 - 69 ",2387,1092,1295,false,true,true,false]
[" 70 i więcej",6490,2400,4090,true,true,false,false]
["65+",{"$f":"SUM(B239:B240)","v":8877},{"$f":"SUM(C239:C240)","v":3492},{"$f":"SUM(D239:D240)","v":5385},true,false,true,false]
[" sokólski ",69002,34098,34904,true,true,true,true]
[" 0 - 4 ",2774,1462,1312,false,true,true,false]
[" 5 - 9 ",3227,1643,1584,false,true,true,false]
[" 10 - 14 ",3302,1615,1687,false,true,true,false]
[" 15 - 19 ",3539,1837,1702,false,true,true,false]
[" 20 - 24 ",5088,2643,2445,false,true,true,false]
[" 25 - 29 ",5003,2678,2325,false,true,true,false]
[" 30 - 34 ",5213,2811,2402,false,true,true,false]
[" 35 - 39 ",4896,2602,2294,false,true,true,false]
[" 40 - 44 ",4715,2459,2256,false,true,true,false]
[" 45 - 49 ",4634,2444,2190,false,true,true,false]
[" 50 - 54 ",4716,2478,2238,false,true,true,false]
[" 55 - 59 ",5070,2637,2433,false,true,true,false]
[" 60 - 64 ",4470,2162,2308,false,true,true,false]
[" 65 - 69 ",3610,1608,2002,false,true,true,false]
[" 70 i więcej",8745,3019,5726,true,true,false,false]
["65+",{"$f":"SUM(B256:B257)","v":12355},{"$f":"SUM(C256:C257)","v":4627},{"$f":"SUM(D256:D257)","v":7728},true,false,true,false]
[" suwalski ",35870,18328,17542,true,true,true,true]
[" 0 - 4 ",1763,887,876,false,true,true,false]
[" 5 - 9 ",1946,1018,928,{"$f":"IFERROR(IF(SEARCH(\" - \",A261)>0,FALSE,TRUE),TRUE)","v":false},{"$f":"IFERROR(IF(SEARCH(\"65+\",A261)>0,FALSE,TRUE),TRUE)","v":true},{"$f":"IFERROR(IF(SEARCH(\"70\",A261)>0,FALSE,TRUE),TRUE)","v":true},{"$f":"AND(E261:G261)","v":false}]
[" 10 - 14 ",1975,1051,924,false,true,true,false]
[" 15 - 19 ",2295,1184,1111,false,true,true,false]
[" 20 - 24 ",2949,1511,1438,false,true,true,false]
[" 25 - 29 ",2881,1585,1296,false,true,true,false]
[" 30 - 34 ",2669,1434,1235,false,true,true,false]
[" 35 - 39 ",2333,1239,1094,false,true,true,false]
[" 40 - 44 ",2430,1296,1134,false,true,true,false]
[" 45 - 49 ",2364,1252,1112,false,true,true,false]
[" 50 - 54 ",2324,1244,1080,false,true,true,false]
[" 55 - 59 ",2428,1319,1109,false,true,true,false]
[" 60 - 64 ",2050,1080,970,false,true,true,false]
[" 65 - 69 ",1656,794,862,false,true,true,false]
[" 70 i więcej",3807,1434,2373,true,true,false,false]
["65+",{"$f":"SUM(B273:B274)","v":5463},{"$f":"SUM(C273:C274)","v":2228},{"$f":"SUM(D273:D274)","v":3235},true,false,true,false]
[" wysokomazowiecki ",57997,29279,28718,true,true,true,true]
[" 0 - 4 ",2833,1460,1373,false,true,true,false]
[" 5 - 9 ",3050,1566,1484,false,true,true,false]
[" 10 - 14 ",2850,1486,1364,false,true,true,false]
[" 15 - 19 ",3425,1761,1664,false,true,true,false]
[" 20 - 24 ",4352,2334,2018,false,true,true,false]
[" 25 - 29 ",4374,2372,2002,false,true,true,false]
[" 30 - 34 ",4372,2397,1975,false,true,true,false]
[" 35 - 39 ",3992,2151,1841,false,true,true,false]
[" 40 - 44 ",3866,2004,1862,false,true,true,false]
[" 45 - 49 ",3576,1816,1760,false,true,true,false]
[" 50 - 54 ",3741,1963,1778,false,true,true,false]
[" 55 - 59 ",4120,2096,2024,false,true,true,false]
[" 60 - 64 ",3493,1768,1725,false,true,true,false]
[" 65 - 69 ",2943,1363,1580,false,true,true,false]
[" 70 i więcej",7010,2742,4268,true,true,false,false]
["65+",{"$f":"SUM(B290:B291)","v":9953},{"$f":"SUM(C290:C291)","v":4105},{"$f":"SUM(D290:D291)","v":5848},true,false,true,false]
[" zambrowski ",44250,21949,22301,true,true,true,true]
[" 0 - 4 ",2081,1080,1001,false,true,true,false]
[" 5 - 9 ",2384,1211,1173,false,true,true,false]
[" 10 - 14 ",2205,1140,1065,false,true,true,false]
[" 15 - 19 ",2606,1354,1252,false,true,true,false]
[" 20 - 24 ",3103,1618,1485,false,true,true,false]
[" 25 - 29 ",3384,1814,1570,false,true,true,false]
[" 30 - 34 ",3596,1968,1628,false,true,true,false]
[" 35 - 39 ",3141,1635,1506,false,true,true,false]
[" 40 - 44 ",3007,1557,1450,false,true,true,false]
[" 45 - 49 ",2814,1417,1397,false,true,true,false]
[" 50 - 54 ",3118,1590,1528,false,true,true,false]
[" 55 - 59 ",3302,1578,1724,false,true,true,false]
[" 60 - 64 ",2681,1349,1332,false,true,true,false]
[" 65 - 69 ",2061,915,1146,false,true,true,false]
[" 70 i więcej",4767,1723,3044,true,true,false,false]
["65+",{"$f":"SUM(B307:B308)","v":6828},{"$f":"SUM(C307:C308)","v":2638},{"$f":"SUM(D307:D308)","v":4190},true,false,true,false]

{"sheet":"Pomorskie","index":16,"n_rows":360,"n_cols":8,"rows_kept":360,"cut":false,"hidden":true,"merged":[[0,0,2,0],[0,1,2,1],[0,2,2,2],[0,3,2,3]]}
["Województwa\nPowiaty\nGrupy wieku ","Ogółem","Mężczyźni","Kobiety "]
[]
[]
["Pomorskie ",2311469,1126016,1185453,{"$f":"IFERROR(IF(SEARCH(\" - \",A4)>0,FALSE,TRUE),TRUE)","v":true},{"$f":"IFERROR(IF(SEARCH(\"65+\",A4)>0,FALSE,TRUE),TRUE)","v":true},{"$f":"IFERROR(IF(SEARCH(\"70\",A4)>0,FALSE,TRUE),TRUE)","v":true},{"$f":"AND(E4:G4)","v":true}]
[" 0 - 4 ",124693,63966,60727,{"$f":"IFERROR(IF(SEARCH(\" - \",A5)>0,FALSE,TRUE),TRUE)","v":false},{"$f":"IFERROR(IF(SEARCH(\"65+\",A5)>0,FALSE,TRUE),TRUE)","v":true},{"$f":"IFERROR(IF(SEARCH(\"70\",A5)>0,FALSE,TRUE),TRUE)","v":true},{"$f":"AND(E5:G5)","v":false}]
[" 5 - 9 ",136854,70440,66414,false,true,true,false]
[" 10 - 14 ",116207,59603,56604,false,true,true,false]
[" 15 - 19 ",121243,62063,59180,false,true,true,false]
[" 20 - 24 ",141829,72394,69435,false,true,true,false]
[" 25 - 29 ",172971,87238,85733,false,true,true,false]
[" 30 - 34 ",198437,99395,99042,false,true,true,false]
[" 35 - 39 ",187925,94808,93117,false,true,true,false]
[" 40 - 44 ",168404,84778,83626,false,true,true,false]
[" 45 - 49 ",138582,70007,68575,false,true,true,false]
[" 50 - 54 ",138157,68623,69534,false,true,true,false]
[" 55 - 59 ",159825,77528,82297,false,true,true,false]
[" 60 - 64 ",160227,75130,85097,false,true,true,false]
[" 65 - 69 ",131471,59710,71761,false,true,true,false]
[" 70 i więcej",214644,80333,134311,true,true,false,false]
["65+",{"$f":"SUM(B18:B19)","v":346115},{"$f":"SUM(C18:C19)","v":140043},{"$f":"SUM(D18:D19)","v":206072},true,false,true,false]
[" Gdańsk ",462996,219264,243732,true,true,true,true]
[" 0 - 4 ",23816,12249,11567,false,true,true,false]
[" 5 - 9 ",23383,12118,11265,false,true,true,false]
[" 10 - 14 ",18491,9494,8997,false,true,true,false]
[" 15 - 19 ",18567,9468,9099,false,true,true,false]
[" 20 - 24 ",23162,11390,11772,false,true,true,false]
[" 25 - 29 ",34295,16718,17577,false,true,true,false]
[" 30 - 34 ",42222,20590,21632,false,true,true,false]
[" 35 - 39 ",40219,19975,20244,false,true,true,false]
[" 40 - 44 ",34363,17194,17169,false,true,true,false]
[" 45 - 49 ",26831,13363,13468,false,true,true,false]
[" 50 - 54 ",24928,12098,12830,false,true,true,false]
[" 55 - 59 ",30698,14236,16462,false,true,true,false]
[" 60 - 64 ",35397,15823,19574,false,true,true,false]
[" 65 - 69 ",31373,13790,17583,false,true,true,false]
[" 70 i więcej",55251,20758,34493,true,true,false,false]
["65+",{"$f":"SUM(B35:B36)","v":86624},{"$f":"SUM(C35:C36)","v":34548},{"$f":"SUM(D35:D36)","v":52076},true,false,true,false]
[" Gdynia ",247329,117004,130325,true,true,true,true]
[" 0 - 4 ",11320,5728,5592,false,true,true,false]
[" 5 - 9 ",11956,6131,5825,false,true,true,false]
[" 10 - 14 ",10311,5314,4997,false,true,true,false]
[" 15 - 19 ",10425,5316,5109,false,true,true,false]
[" 20 - 24 ",12416,6355,6061,false,true,true,false]
[" 25 - 29 ",16171,7900,8271,false,true,true,false]
[" 30 - 34 ",21046,10295,10751,false,true,true,false]
[" 35 - 39 ",20710,10195,10515,false,true,true,false]
[" 40 - 44 ",18964,9302,9662,false,true,true,false]
[" 45 - 49 ",14603,7282,7321,false,true,true,false]
[" 50 - 54 ",14083,6829,7254,false,true,true,false]
[" 55 - 59 ",17237,8029,9208,false,true,true,false]
[" 60 - 64 ",19318,8638,10680,false,true,true,false]
[" 65 - 69 ",17324,7627,9697,false,true,true,false]
[" 70 i więcej",31445,12063,19382,true,true,false,false]
["65+",{"$f":"SUM(B52:B53)","v":48769},{"$f":"SUM(C52:C53)","v":19690},{"$f":"SUM(D52:D53)","v":29079},true,false,true,false]
[" Słupsk ",92170,43486,48684,true,true,true,true]
[" 0 - 4 ",4063,2072,1991,false,true,true,false]
[" 5 - 9 ",4429,2282,2147,false,true,true,false]
[" 10 - 14 ",3820,1963,1857,false,true,true,false]
[" 15 - 19 ",4061,2084,1977,false,true,true,false]
[" 20 - 24 ",4824,2434,2390,false,true,true,false]
[" 25 - 29 ",6121,3154,2967,false,true,true,false]
[" 30 - 34 ",7849,3987,3862,false,true,true,false]
[" 35 - 39 ",7451,3755,3696,false,true,true,false]
[" 40 - 44 ",6458,3177,3281,false,true,true,false]
[" 45 - 49 ",5372,2572,2800,false,true,true,false]
[" 50 - 54 ",5820,2724,3096,false,true,true,false]
[" 55 - 59 ",7295,3391,3904,false,true,true,false]
[" 60 - 64 ",7699,3386,4313,false,true,true,false]
[" 65 - 69 ",6521,2783,3738,{"$f":"IFERROR(IF(SEARCH(\" - \",A69)>0,FALSE,TRUE),TRUE)","v":false},{"$f":"IFERROR(IF(SEARCH(\"65+\",A69)>0,FALSE,TRUE),TRUE)","v":true},{"$f":"IFERROR(IF(SEARCH(\"70\",A69)>0,FALSE,TRUE),TRUE)","v":true},{"$f":"AND(E69:G69)","v":false}]
[" 70 i więcej",10387,3722,6665,true,true,false,false]
["65+",{"$f":"SUM(B69:B70)","v":16908},{"$f":"SUM(C69:C70)","v":6505},{"$f":"SUM(D69:D70)","v":10403},true,false,true,false]
[" Sopot ",37089,17207,19882,true,true,true,true]
[" 0 - 4 ",1348,687,661,false,true,true,false]
[" 5 - 9 ",1344,709,635,false,true,true,false]
[" 10 - 14 ",1166,581,585,false,true,true,false]
[" 15 - 19 ",1203,620,583,false,true,true,false]
[" 20 - 24 ",1784,895,889,false,true,true,false]
[" 25 - 29 ",2527,1287,1240,false,true,true,false]
[" 30 - 34 ",3099,1529,1570,false,true,true,false]
[" 35 - 39 ",2797,1417,1380,false,true,true,false]
[" 40 - 44 ",2601,1250,1351,false,true,true,false]
[" 45 - 49 ",2144,1064,1080,false,true,true,false]
[" 50 - 54 ",2058,987,1071,false,true,true,false]
[" 55 - 59 ",2700,1212,1488,false,true,true,false]
[" 60 - 64 ",3149,1429,1720,false,true,true,false]
[" 65 - 69 ",3004,1259,1745,false,true,true,false]
[" 70 i więcej",6165,2281,3884,true,true,false,false]
["65+",{"$f":"SUM(B86:B87)","v":9169},{"$f":"SUM(C86:C87)","v":3540},{"$f":"SUM(D86:D87)","v":5629},true,false,true,false]
[" bytowski ",78805,39262,39543,true,true,true,true]
[" 0 - 4 ",4496,2337,2159,false,true,true,false]
[" 5 - 9 ",4765,2459,2306,false,true,true,false]
[" 10 - 14 ",4328,2216,2112,false,true,true,false]
[" 15 - 19 ",4796,2440,2356,false,true,true,false]
[" 20 - 24 ",5815,3014,2801,false,true,true,false]
[" 25 - 29 ",6387,3269,3118,false,true,true,false]
[" 30 - 34 ",6444,3323,3121,false,true,true,false]
[" 35 - 39 ",5787,2904,2883,false,true,true,false]
[" 40 - 44 ",5372,2795,2577,false,true,true,false]
[" 45 - 49 ",4812,2365,2447,false,true,true,false]
[" 50 - 54 ",5034,2551,2483,false,true,true,false]
[" 55 - 59 ",5652,2916,2736,false,true,true,false]
[" 60 - 64 ",5111,2498,2613,false,true,true,false]
[" 65 - 69 ",4048,1901,2147,false,true,true,false]
[" 70 i więcej",5958,2274,3684,true,true,false,false]
["65+",{"$f":"SUM(B103:B104)","v":10006},{"$f":"SUM(C103:C104)","v":4175},{"$f":"SUM(D103:D104)","v":5831},true,false,true,false]
[" chojnicki ",96697,47719,48978,true,true,true,true]
[" 0 - 4 ",5246,2726,2520,false,true,true,false]
[" 5 - 9 ",6256,3208,3048,false,true,true,false]
[" 10 - 14 ",5393,2732,2661,false,true,true,false]
[" 15 - 19 ",5890,3046,2844,false,true,true,false]
[" 20 - 24 ",6671,3442,3229,false,true,true,false]
[" 25 - 29 ",7321,3738,3583,false,true,true,false]
[" 30 - 34 ",7875,3989,3886,false,true,true,false]
[" 35 - 39 ",7245,3686,3559,false,true,true,false]
[" 40 - 44 ",6929,3502,3427,false,true,true,false]
[" 45 - 49 ",5878,3038,2840,false,true,true,false]
[" 50 - 54 ",6064,3086,2978,false,true,true,false]
[" 55 - 59 ",6559,3241,3318,false,true,true,false]
[" 60 - 64 ",6374,3047,3327,false,true,true,false]
[" 65 - 69 ",4948,2250,2698,false,true,true,false]
[" 70 i więcej",8048,2988,5060,true,true,false,false]
["65+",{"$f":"SUM(B120:B121)","v":12996},{"$f":"SUM(C120:C121)","v":5238},{"$f":"SUM(D120:D121)","v":7758},true,false,true,false]
[" człuchowski ",56807,28090,28717,true,true,true,true]
[" 0 - 4 ",2805,1457,1348,false,true,true,false]
[" 5 - 9 ",3226,1641,1585,false,true,true,false]
[" 10 - 14 ",3020,1474,1546,false,true,true,false]
[" 15 - 19 ",3218,1669,1549,false,true,true,false]
[" 20 - 24 ",3892,1982,1910,false,true,true,false]
[" 25 - 29 ",4414,2189,2225,false,true,true,false]
[" 30 - 34 ",4661,2467,2194,false,true,true,false]
[" 35 - 39 ",4366,2265,2101,false,true,true,false]
[" 40 - 44 ",3824,1963,1861,false,true,true,false]
[" 45 - 49 ",3300,1677,1623,{"$f":"IFERROR(IF(SEARCH(\" - \",A133)>0,FALSE,TRUE),TRUE)","v":false},{"$f":"IFERROR(IF(SEARCH(\"65+\",A133)>0,FALSE,TRUE),TRUE)","v":true},{"$f":"IFERROR(IF(SEARCH(\"70\",A133)>0,FALSE,TRUE),TRUE)","v":true},{"$f":"AND(E133:G133)","v":false}]
[" 50 - 54 ",3738,1914,1824,false,true,true,false]
[" 55 - 59 ",4561,2217,2344,false,true,true,false]
[" 60 - 64 ",4093,2028,2065,false,true,true,false]
[" 65 - 69 ",3135,1498,1637,false,true,true,false]
[" 70 i więcej",4554,1649,2905,true,true,false,false]
["65+",{"$f":"SUM(B137:B138)","v":7689},{"$f":"SUM(C137:C138)","v":3147},{"$f":"SUM(D137:D138)","v":4542},true,false,true,false]
[" gdański ",110666,54458,56208,true,true,true,true]
[" 0 - 4 ",6874,3457,3417,false,true,true,false]
[" 5 - 9 ",7821,3957,3864,false,true,true,false]
[" 10 - 14 ",6272,3295,2977,false,true,true,false]
[" 15 - 19 ",6163,3144,3019,false,true,true,false]
[" 20 - 24 ",6783,3414,3369,false,true,true,false]
[" 25 - 29 ",8355,4185,4170,false,true,true,false]
[" 30 - 34 ",10520,5162,5358,false,true,true,false]
[" 35 - 39 ",10377,5146,5231,false,true,true,false]
[" 40 - 44 ",9031,4537,4494,false,true,true,false]
[" 45 - 49 ",6698,3442,3256,false,true,true,false]
[" 50 - 54 ",6289,3138,3151,false,true,true,false]
[" 55 - 59 ",6915,3389,3526,false,true,true,false]
[" 60 - 64 ",6442,3092,3350,false,true,true,false]
[" 65 - 69 ",5046,2374,2672,false,true,true,false]
[" 70 i więcej",7080,2726,4354,true,true,false,false]
["65+",{"$f":"SUM(B154:B155)","v":12126},{"$f":"SUM(C154:C155)","v":5100},{"$f":"SUM(D154:D155)","v":7026},true,false,true,false]
[" kartuski ",129996,65033,64963,true,true,true,true]
[" 0 - 4 ",9323,4798,4525,false,true,true,false]
[" 5 - 9 ",10018,5192,4826,false,true,true,false]
[" 10 - 14 ",8759,4460,4299,false,true,true,false]
[" 15 - 19 ",8653,4418,4235,false,true,true,false]
[" 20 - 24 ",9394,4790,4604,false,true,true,false]
[" 25 - 29 ",10365,5258,5107,false,true,true,false]
[" 30 - 34 ",10392,5215,5177,false,true,true,false]
[" 35 - 39 ",9911,4963,4948,false,true,true,false]
[" 40 - 44 ",9266,4668,4598,false,true,true,false]
[" 45 - 49 ",7936,4067,3869,false,true,true,false]
[" 50 - 54 ",7798,3984,3814,false,true,true,false]
[" 55 - 59 ",7746,3888,3858,false,true,true,false]
[" 60 - 64 ",6772,3440,3332,false,true,true,false]
[" 65 - 69 ",5065,2408,2657,false,true,true,false]
[" 70 i więcej",8598,3484,5114,true,true,false,false]
["65+",{"$f":"SUM(B171:B172)","v":13663},{"$f":"SUM(C171:C172)","v":5892},{"$f":"SUM(D171:D172)","v":7771},true,false,true,false]
[" kościerski ",71738,35852,35886,true,true,true,true]
[" 0 - 4 ",4337,2236,2101,false,true,true,false]
[" 5 - 9 ",4848,2506,2342,false,true,true,false]
[" 10 - 14 ",4308,2199,2109,false,true,true,false]
[" 15 - 19 ",4401,2225,2176,false,true,true,false]
[" 20 - 24 ",4961,2599,2362,false,true,true,false]
[" 25 - 29 ",5666,2880,2786,false,true,true,false]
[" 30 - 34 ",5739,3019,2720,false,true,true,false]
[" 35 - 39 ",5363,2722,2641,false,true,true,false]
[" 40 - 44 ",4998,2571,2427,false,true,true,false]
[" 45 - 49 ",4373,2251,2122,false,true,true,false]
[" 50 - 54 ",4508,2296,2212,false,true,true,false]
[" 55 - 59 ",4802,2395,2407,false,true,true,false]
[" 60 - 64 ",4271,2100,2171,false,true,true,false]
[" 65 - 69 ",3514,1649,1865,false,true,true,false]
[" 70 i więcej",5649,2204,3445,true,true,false,false]
["65+",{"$f":"SUM(B188:B189)","v":9163},{"$f":"SUM(C188:C189)","v":3853},{"$f":"SUM(D188:D189)","v":5310},true,false,true,false]
[" kwidzyński ",83457,41422,42035,true,true,true,true]
[" 0 - 4 ",4325,2247,2078,false,true,true,false]
[" 5 - 9 ",5160,2641,2519,false,true,true,false]
[" 10 - 14 ",4701,2439,2262,false,true,true,false]
[" 15 - 19 ",4915,2498,2417,false,true,true,false]
[" 20 - 24 ",5697,2915,2782,false,true,true,false]
[" 25 - 29 ",6141,3218,2923,{"$f":"IFERROR(IF(SEARCH(\" - \",A197)>0,FALSE,TRUE),TRUE)","v":false},{"$f":"IFERROR(IF(SEARCH(\"65+\",A197)>0,FALSE,TRUE),TRUE)","v":true},{"$f":"IFERROR(IF(SEARCH(\"70\",A197)>0,FALSE,TRUE),TRUE)","v":true},{"$f":"AND(E197:G197)","v":false}]
[" 30 - 34 ",7152,3657,3495,false,true,true,false]
[" 35 - 39 ",6997,3650,3347,false,true,true,false]
[" 40 - 44 ",6038,3044,2994,false,true,true,false]
[" 45 - 49 ",5026,2577,2449,false,true,true,false]
[" 50 - 54 ",5129,2646,2483,false,true,true,false]
[" 55 - 59 ",5942,2911,3031,false,true,true,false]
[" 60 - 64 ",5790,2816,2974,false,true,true,false]
[" 65 - 69 ",4356,2041,2315,false,true,true,false]
[" 70 i więcej",6088,2122,3966,true,true,false,false]
["65+",{"$f":"SUM(B205:B206)","v":10444},{"$f":"SUM(C205:C206)","v":4163},{"$f":"SUM(D205:D206)","v":6281},true,false,true,false]
[" lęborski ",66163,32597,33566,true,true,true,true]
[" 0 - 4 ",3459,1793,1666,false,true,true,false]
[" 5 - 9 ",3988,2026,1962,false,true,true,false]
[" 10 - 14 ",3452,1806,1646,false,true,true,false]
[" 15 - 19 ",3730,1937,1793,false,true,true,false]
[" 20 - 24 ",4557,2356,2201,false,true,true,false]
[" 25 - 29 ",5160,2693,2467,false,true,true,false]
[" 30 - 34 ",5406,2740,2666,false,true,true,false]
[" 35 - 39 ",5023,2597,2426,false,true,true,false]
[" 40 - 44 ",4555,2309,2246,false,true,true,false]
[" 45 - 49 ",4041,2040,2001,false,true,true,false]
[" 50 - 54 ",4082,1983,2099,false,true,true,false]
[" 55 - 59 ",4949,2419,2530,false,true,true,false]
[" 60 - 64 ",4784,2267,2517,false,true,true,false]
[" 65 - 69 ",3649,1695,1954,false,true,true,false]
[" 70 i więcej",5328,1936,3392,true,true,false,false]
["65+",{"$f":"SUM(B222:B223)","v":8977},{"$f":"SUM(C222:C223)","v":3631},{"$f":"SUM(D222:D223)","v":5346},true,false,true,false]
[" malborski ",64189,31384,32805,true,true,true,true]
[" 0 - 4 ",3045,1524,1521,false,true,true,false]
[" 5 - 9 ",3678,1898,1780,false,true,true,false]
[" 10 - 14 ",3157,1637,1520,false,true,true,false]
[" 15 - 19 ",3546,1808,1738,false,true,true,false]
[" 20 - 24 ",4109,2093,2016,false,true,true,false]
[" 25 - 29 ",4624,2326,2298,false,true,true,false]
[" 30 - 34 ",5372,2783,2589,false,true,true,false]
[" 35 - 39 ",5120,2644,2476,false,true,true,false]
[" 40 - 44 ",4441,2222,2219,false,true,true,false]
[" 45 - 49 ",3929,1994,1935,false,true,true,false]
[" 50 - 54 ",4094,2067,2027,false,true,true,false]
[" 55 - 59 ",4961,2405,2556,false,true,true,false]
[" 60 - 64 ",4774,2355,2419,false,true,true,false]
[" 65 - 69 ",3585,1638,1947,false,true,true,false]
[" 70 i więcej",5754,1990,3764,true,true,false,false]
["65+",{"$f":"SUM(B239:B240)","v":9339},{"$f":"SUM(C239:C240)","v":3628},{"$f":"SUM(D239:D240)","v":5711},true,false,true,false]
[" nowodworski ",36107,17915,18192,true,true,true,true]
[" 0 - 4 ",1781,914,867,false,true,true,false]
[" 5 - 9 ",2087,1084,1003,false,true,true,false]
[" 10 - 14 ",1811,916,895,false,true,true,false]
[" 15 - 19 ",2011,1019,992,false,true,true,false]
[" 20 - 24 ",2555,1324,1231,false,true,true,false]
[" 25 - 29 ",2754,1462,1292,false,true,true,false]
[" 30 - 34 ",2969,1581,1388,false,true,true,false]
[" 35 - 39 ",2761,1428,1333,false,true,true,false]
[" 40 - 44 ",2536,1307,1229,false,true,true,false]
[" 45 - 49 ",2177,1084,1093,false,true,true,false]
[" 50 - 54 ",2437,1225,1212,false,true,true,false]
[" 55 - 59 ",2735,1361,1374,false,true,true,false]
[" 60 - 64 ",2695,1324,1371,false,true,true,false]
[" 65 - 69 ",1876,885,991,false,true,true,false]
[" 70 i więcej",2922,1001,1921,true,true,false,false]
["65+",{"$f":"SUM(B256:B257)","v":4798},{"$f":"SUM(C256:C257)","v":1886},{"$f":"SUM(D256:D257)","v":2912},true,false,true,false]
[" pucki ",83433,41380,42053,true,true,true,true]
[" 0 - 4 ",4726,2378,2348,false,true,true,false]
[" 5 - 9 ",5559,2865,2694,{"$f":"IFERROR(IF(SEARCH(\" - \",A261)>0,FALSE,TRUE),TRUE)","v":false},{"$f":"IFERROR(IF(SEARCH(\"65+\",A261)>0,FALSE,TRUE),TRUE)","v":true},{"$f":"IFERROR(IF(SEARCH(\"70\",A261)>0,FALSE,TRUE),TRUE)","v":true},{"$f":"AND(E261:G261)","v":false}]
[" 10 - 14 ",4919,2513,2406,false,true,true,false]
[" 15 - 19 ",5031,2596,2435,false,true,true,false]
[" 20 - 24 ",5510,2850,2660,false,true,true,false]
[" 25 - 29 ",6330,3176,3154,false,true,true,false]
[" 30 - 34 ",6952,3493,3459,false,true,true,false]
[" 35 - 39 ",6533,3327,3206,false,true,true,false]
[" 40 - 44 ",6310,3177,3133,false,true,true,false]
[" 45 - 49 ",5323,2702,2621,false,true,true,false]
[" 50 - 54 ",5379,2737,2642,false,true,true,false]
[" 55 - 59 ",5641,2857,2784,false,true,true,false]
[" 60 - 64 ",5093,2439,2654,false,true,true,false]
[" 65 - 69 ",4065,1919,2146,false,true,true,false]
[" 70 i więcej",6062,2351,3711,true,true,false,false]
["65+",{"$f":"SUM(B273:B274)","v":10127},{"$f":"SUM(C273:C274)","v":4270},{"$f":"SUM(D273:D274)","v":5857},true,false,true,false]
[" słupski ",98249,49129,49120,true,true,true,true]
[" 0 - 4 ",4903,2476,2427,false,true,true,false]
[" 5 - 9 ",5844,3030,2814,false,true,true,false]
[" 10 - 14 ",5104,2637,2467,false,true,true,false]
[" 15 - 19 ",5850,2977,2873,false,true,true,false]
[" 20 - 24 ",6650,3456,3194,false,true,true,false]
[" 25 - 29 ",7415,3848,3567,false,true,true,false]
[" 30 - 34 ",8319,4238,4081,false,true,true,false]
[" 35 - 39 ",7732,4022,3710,false,true,true,false]
[" 40 - 44 ",7078,3709,3369,false,true,true,false]
[" 45 - 49 ",5970,3165,2805,false,true,true,false]
[" 50 - 54 ",6187,3112,3075,false,true,true,false]
[" 55 - 59 ",7629,3842,3787,false,true,true,false]
[" 60 - 64 ",7139,3517,3622,false,true,true,false]
[" 65 - 69 ",5150,2489,2661,false,true,true,false]
[" 70 i więcej",7279,2611,4668,true,true,false,false]
["65+",{"$f":"SUM(B290:B291)","v":12429},{"$f":"SUM(C290:C291)","v":5100},{"$f":"SUM(D290:D291)","v":7329},true,false,true,false]
[" starogardzki ",127339,62711,64628,true,true,true,true]
[" 0 - 4 ",6987,3563,3424,false,true,true,false]
[" 5 - 9 ",8291,4211,4080,false,true,true,false]
[" 10 - 14 ",6911,3548,3363,false,true,true,false]
[" 15 - 19 ",7487,3808,3679,false,true,true,false]
[" 20 - 24 ",8816,4550,4266,false,true,true,false]
[" 25 - 29 ",10418,5337,5081,false,true,true,false]
[" 30 - 34 ",10792,5550,5242,false,true,true,false]
[" 35 - 39 ",9454,4855,4599,false,true,true,false]
[" 40 - 44 ",8769,4444,4325,false,true,true,false]
[" 45 - 49 ",7830,3955,3875,false,true,true,false]
[" 50 - 54 ",8150,4022,4128,false,true,true,false]
[" 55 - 59 ",8870,4471,4399,false,true,true,false]
[" 60 - 64 ",8061,3868,4193,false,true,true,false]
[" 65 - 69 ",6332,2877,3455,false,true,true,false]
[" 70 i więcej",10171,3652,6519,true,true,false,false]
["65+",{"$f":"SUM(B307:B308)","v":16503},{"$f":"SUM(C307:C308)","v":6529},{"$f":"SUM(D307:D308)","v":9974},true,false,true,false]
[" tczewski ",115581,56867,58714,true,true,true,true]
[" 0 - 4 ",6116,3127,2989,false,true,true,false]
[" 5 - 9 ",7212,3715,3497,false,true,true,false]
[" 10 - 14 ",6048,3118,2930,false,true,true,false]
[" 15 - 19 ",6536,3381,3155,false,true,true,false]
[" 20 - 24 ",7390,3793,3597,false,true,true,false]
[" 25 - 29 ",8998,4645,4353,false,true,true,false]
[" 30 - 34 ",9611,4848,4763,false,true,true,false]
[" 35 - 39 ",9190,4690,4500,false,true,true,false]
[" 40 - 44 ",8387,4278,4109,false,true,true,false]
[" 45 - 49 ",7158,3664,3494,false,true,true,false]
[" 50 - 54 ",7004,3479,3525,false,true,true,false]
[" 55 - 59 ",8093,3999,4094,false,true,true,false]
[" 60 - 64 ",7703,3637,4066,false,true,true,false]
[" 65 - 69 ",6342,2880,3462,false,true,true,false]
[" 70 i więcej",9793,3613,6180,{"$f":"IFERROR(IF(SEARCH(\" - \",A325)>0,FALSE,TRUE),TRUE)","v":true},{"$f":"IFERROR(IF(SEARCH(\"65+\",A325)>0,FALSE,TRUE),TRUE)","v":true},{"$f":"IFERROR(IF(SEARCH(\"70\",A325)>0,FALSE,TRUE),TRUE)","v":false},{"$f":"AND(E325:G325)","v":false}]
["65+",{"$f":"SUM(B324:B325)","v":16135},{"$f":"SUM(C324:C325)","v":6493},{"$f":"SUM(D324:D325)","v":9642},true,false,true,false]
[" wejherowski ",210374,104213,106161,true,true,true,true]
[" 0 - 4 ",13519,7080,6439,false,true,true,false]
[" 5 - 9 ",14514,7472,7042,false,true,true,false]
[" 10 - 14 ",11978,6139,5839,false,true,true,false]
[" 15 - 19 ",12253,6299,5954,false,true,true,false]
[" 20 - 24 ",13788,7112,6676,false,true,true,false]
[" 25 - 29 ",16194,8205,7989,false,true,true,false]
[" 30 - 34 ",18511,9106,9405,false,true,true,false]
[" 35 - 39 ",17678,8926,8752,false,true,true,false]
[" 40 - 44 ",15482,7854,7628,false,true,true,false]
[" 45 - 49 ",12607,6381,6226,false,true,true,false]
[" 50 - 54 ",12644,6362,6282,false,true,true,false]
[" 55 - 59 ",13602,6726,6876,false,true,true,false]
[" 60 - 64 ",12607,5996,6611,false,true,true,false]
[" 65 - 69 ",9970,4702,5268,false,true,true,false]
[" 70 i więcej",15027,5853,9174,true,true,false,false]
["65+",{"$f":"SUM(B341:B342)","v":24997},{"$f":"SUM(C341:C342)","v":10555},{"$f":"SUM(D341:D342)","v":14442},true,false,true,false]
[" sztumski ",42284,21023,21261,true,true,true,true]
[" 0 - 4 ",2204,1117,1087,false,true,true,false]
[" 5 - 9 ",2475,1295,1180,false,true,true,false]
[" 10 - 14 ",2258,1122,1136,false,true,true,false]
[" 15 - 19 ",2507,1310,1197,false,true,true,false]
[" 20 - 24 ",3055,1630,1425,false,true,true,false]
[" 25 - 29 ",3315,1750,1565,false,true,true,false]
[" 30 - 34 ",3506,1823,1683,false,true,true,false]
[" 35 - 39 ",3211,1641,1570,false,true,true,false]
[" 40 - 44 ",3002,1475,1527,false,true,true,false]
[" 45 - 49 ",2574,1324,1250,false,true,true,false]
[" 50 - 54 ",2731,1383,1348,false,true,true,false]
[" 55 - 59 ",3238,1623,1615,false,true,true,false]
[" 60 - 64 ",2955,1430,1525,false,true,true,false]
[" 65 - 69 ",2168,1045,1123,false,true,true,false]
[" 70 i więcej",3085,1055,2030,true,true,false,false]
["65+",{"$f":"SUM(B358:B359)","v":5253},{"$f":"SUM(C358:C359)","v":2100},{"$f":"SUM(D358:D359)","v":3153},true,false,true,false]

{"sheet":"Śląskie","index":17,"n_rows":632,"n_cols":8,"rows_kept":632,"cut":false,"hidden":true,"merged":[[0,0,2,0],[0,1,2,1],[0,2,2,2],[0,3,2,3]]}
["Województwa\nPowiaty\nGrupy wieku ","Ogółem","Mężczyźni","Kobiety "]
[]
[]
["Śląskie ",4564394,2201696,2362698,{"$f":"IFERROR(IF(SEARCH(\" - \",A4)>0,FALSE,TRUE),TRUE)","v":true},{"$f":"IFERROR(IF(SEARCH(\"65+\",A4)>0,FALSE,TRUE),TRUE)","v":true},{"$f":"IFERROR(IF(SEARCH(\"70\",A4)>0,FALSE,TRUE),TRUE)","v":true},{"$f":"AND(E4:G4)","v":true}]
[" 0 - 4 ",214460,110065,104395,{"$f":"IFERROR(IF(SEARCH(\" - \",A5)>0,FALSE,TRUE),TRUE)","v":false},{"$f":"IFERROR(IF(SEARCH(\"65+\",A5)>0,FALSE,TRUE),TRUE)","v":true},{"$f":"IFERROR(IF(SEARCH(\"70\",A5)>0,FALSE,TRUE),TRUE)","v":true},{"$f":"AND(E5:G5)","v":false}]
[" 5 - 9 ",231709,118473,113236,false,true,true,false]
[" 10 - 14 ",197464,100947,96517,false,true,true,false]
[" 15 - 19 ",211760,108411,103349,false,true,true,false]
[" 20 - 24 ",259456,132380,127076,false,true,true,false]
[" 25 - 29 ",321552,163817,157735,false,true,true,false]
[" 30 - 34 ",377091,191155,185936,false,true,true,false]
[" 35 - 39 ",367327,185494,181833,false,true,true,false]
[" 40 - 44 ",326606,164565,162041,false,true,true,false]
[" 45 - 49 ",288086,143445,144641,false,true,true,false]
[" 50 - 54 ",300867,148241,152626,false,true,true,false]
[" 55 - 59 ",351834,168182,183652,false,true,true,false]
[" 60 - 64 ",340158,157376,182782,false,true,true,false]
[" 65 - 69 ",270615,120273,150342,false,true,true,false]
[" 70 i więcej",505409,188872,316537,true,true,false,false]
["65+",{"$f":"SUM(B18:B19)","v":776024},{"$f":"SUM(C18:C19)","v":309145},{"$f":"SUM(D18:D19)","v":466879},true,false,true,false]
[" Bielsko-Biała ",172407,81365,91042,true,true,true,true]
[" 0 - 4 ",8533,4427,4106,false,true,true,false]
[" 5 - 9 ",8881,4527,4354,false,true,true,false]
[" 10 - 14 ",7223,3687,3536,false,true,true,false]
[" 15 - 19 ",7663,3897,3766,false,true,true,false]
[" 20 - 24 ",8804,4511,4293,false,true,true,false]
[" 25 - 29 ",11249,5695,5554,false,true,true,false]
[" 30 - 34 ",14452,7197,7255,false,true,true,false]
[" 35 - 39 ",14745,7397,7348,false,true,true,false]
[" 40 - 44 ",12215,6084,6131,false,true,true,false]
[" 45 - 49 ",10074,4900,5174,false,true,true,false]
[" 50 - 54 ",10117,4854,5263,false,true,true,false]
[" 55 - 59 ",12288,5456,6832,false,true,true,false]
[" 60 - 64 ",13780,6059,7721,false,true,true,false]
[" 65 - 69 ",11781,5129,6652,false,true,true,false]
[" 70 i więcej",20602,7545,13057,true,true,false,false]
["65+",{"$f":"SUM(B35:B36)","v":32383},{"$f":"SUM(C35:C36)","v":12674},{"$f":"SUM(D35:D36)","v":19709},true,false,true,false]
[" Bytom ",170059,81291,88768,true,true,true,true]
[" 0 - 4 ",7468,3723,3745,false,true,true,false]
[" 5 - 9 ",8010,4081,3929,false,true,true,false]
[" 10 - 14 ",7033,3627,3406,false,true,true,false]
[" 15 - 19 ",7631,3875,3756,false,true,true,false]
[" 20 - 24 ",9630,4990,4640,false,true,true,false]
[" 25 - 29 ",12489,6411,6078,false,true,true,false]
[" 30 - 34 ",13929,7064,6865,false,true,true,false]
[" 35 - 39 ",13249,6682,6567,false,true,true,false]
[" 40 - 44 ",12092,6121,5971,false,true,true,false]
[" 45 - 49 ",11227,5644,5583,false,true,true,false]
[" 50 - 54 ",11375,5594,5781,false,true,true,false]
[" 55 - 59 ",12952,6205,6747,false,true,true,false]
[" 60 - 64 ",12069,5403,6666,false,true,true,false]
[" 65 - 69 ",9865,4113,5752,false,true,true,false]
[" 70 i więcej",21040,7758,13282,true,true,false,false]
["65+",{"$f":"SUM(B52:B53)","v":30905},{"$f":"SUM(C52:C53)","v":11871},{"$f":"SUM(D52:D53)","v":19034},true,false,true,false]
[" Chorzów ",109541,52107,57434,true,true,true,true]
[" 0 - 4 ",5275,2655,2620,false,true,true,false]
[" 5 - 9 ",5623,2915,2708,false,true,true,false]
[" 10 - 14 ",4640,2408,2232,false,true,true,false]
[" 15 - 19 ",5082,2609,2473,false,true,true,false]
[" 20 - 24 ",6109,3053,3056,false,true,true,false]
[" 25 - 29 ",7599,3861,3738,false,true,true,false]
[" 30 - 34 ",8766,4365,4401,false,true,true,false]
[" 35 - 39 ",8646,4243,4403,false,true,true,false]
[" 40 - 44 ",8350,4198,4152,false,true,true,false]
[" 45 - 49 ",7517,3813,3704,false,true,true,false]
[" 50 - 54 ",6809,3474,3335,false,true,true,false]
[" 55 - 59 ",7401,3563,3838,false,true,true,false]
[" 60 - 64 ",7344,3301,4043,false,true,true,false]
[" 65 - 69 ",6604,2741,3863,{"$f":"IFERROR(IF(SEARCH(\" - \",A69)>0,FALSE,TRUE),TRUE)","v":false},{"$f":"IFERROR(IF(SEARCH(\"65+\",A69)>0,FALSE,TRUE),TRUE)","v":true},{"$f":"IFERROR(IF(SEARCH(\"70\",A69)>0,FALSE,TRUE),TRUE)","v":true},{"$f":"AND(E69:G69)","v":false}]
[" 70 i więcej",13776,4908,8868,true,true,false,false]
["65+",{"$f":"SUM(B69:B70)","v":20380},{"$f":"SUM(C69:C70)","v":7649},{"$f":"SUM(D69:D70)","v":12731},true,false,true,false]
[" Częstochowa ",227270,106803,120467,true,true,true,true]
[" 0 - 4 ",9291,4786,4505,false,true,true,false]
[" 5 - 9 ",10336,5297,5039,false,true,true,false]
[" 10 - 14 ",8896,4442,4454,false,true,true,false]
[" 15 - 19 ",9923,5085,4838,false,true,true,false]
[" 20 - 24 ",11965,6179,5786,false,true,true,false]
[" 25 - 29 ",14217,7267,6950,false,true,true,false]
[" 30 - 34 ",17962,9210,8752,false,true,true,false]
[" 35 - 39 ",18080,9108,8972,false,true,true,false]
[" 40 - 44 ",16073,8062,8011,false,true,true,false]
[" 45 - 49 ",13594,6535,7059,false,true,true,false]
[" 50 - 54 ",14603,6951,7652,false,true,true,false]
[" 55 - 59 ",18751,8500,10251,false,true,true,false]
[" 60 - 64 ",19844,8952,10892,false,true,true,false]
[" 65 - 69 ",15720,6728,8992,false,true,true,false]
[" 70 i więcej",28015,9701,18314,true,true,false,false]
["65+",{"$f":"SUM(B86:B87)","v":43735},{"$f":"SUM(C86:C87)","v":16429},{"$f":"SUM(D86:D87)","v":27306},true,false,true,false]
[" Dąbrowa Górnicza ",122451,58832,63619,true,true,true,true]
[" 0 - 4 ",5162,2672,2490,false,true,true,false]
[" 5 - 9 ",5986,3098,2888,false,true,true,false]
[" 10 - 14 ",4799,2446,2353,false,true,true,false]
[" 15 - 19 ",4850,2492,2358,false,true,true,false]
[" 20 - 24 ",5576,2847,2729,false,true,true,false]
[" 25 - 29 ",7769,3951,3818,false,true,true,false]
[" 30 - 34 ",10529,5411,5118,false,true,true,false]
[" 35 - 39 ",11507,5863,5644,false,true,true,false]
[" 40 - 44 ",8769,4496,4273,false,true,true,false]
[" 45 - 49 ",6807,3313,3494,false,true,true,false]
[" 50 - 54 ",7274,3461,3813,false,true,true,false]
[" 55 - 59 ",10433,4693,5740,false,true,true,false]
[" 60 - 64 ",11971,5644,6327,false,true,true,false]
[" 65 - 69 ",8442,3893,4549,false,true,true,false]
[" 70 i więcej",12577,4552,8025,true,true,false,false]
["65+",{"$f":"SUM(B103:B104)","v":21019},{"$f":"SUM(C103:C104)","v":8445},{"$f":"SUM(D103:D104)","v":12574},true,false,true,false]
[" Gliwice ",182969,87999,94970,true,true,true,true]
[" 0 - 4 ",8684,4382,4302,false,true,true,false]
[" 5 - 9 ",8810,4468,4342,false,true,true,false]
[" 10 - 14 ",7074,3537,3537,false,true,true,false]
[" 15 - 19 ",7600,3961,3639,false,true,true,false]
[" 20 - 24 ",11253,6001,5252,false,true,true,false]
[" 25 - 29 ",11477,5735,5742,false,true,true,false]
[" 30 - 34 ",16042,8202,7840,false,true,true,false]
[" 35 - 39 ",15140,7681,7459,false,true,true,false]
[" 40 - 44 ",12866,6499,6367,false,true,true,false]
[" 45 - 49 ",10944,5427,5517,false,true,true,false]
[" 50 - 54 ",11312,5537,5775,false,true,true,false]
[" 55 - 59 ",14126,6624,7502,false,true,true,false]
[" 60 - 64 ",14634,6679,7955,false,true,true,false]
[" 65 - 69 ",11285,4922,6363,false,true,true,false]
[" 70 i więcej",21722,8344,13378,true,true,false,false]
["65+",{"$f":"SUM(B120:B121)","v":33007},{"$f":"SUM(C120:C121)","v":13266},{"$f":"SUM(D120:D121)","v":19741},true,false,true,false]
[" Jastrzębie-Zdrój ",90089,44088,46001,true,true,true,true]
[" 0 - 4 ",4078,2108,1970,false,true,true,false]
[" 5 - 9 ",4702,2365,2337,false,true,true,false]
[" 10 - 14 ",4215,2167,2048,false,true,true,false]
[" 15 - 19 ",4570,2300,2270,false,true,true,false]
[" 20 - 24 ",5756,2906,2850,false,true,true,false]
[" 25 - 29 ",6466,3394,3072,false,true,true,false]
[" 30 - 34 ",6764,3531,3233,false,true,true,false]
[" 35 - 39 ",6355,3241,3114,false,true,true,false]
[" 40 - 44 ",7422,3771,3651,false,true,true,false]
[" 45 - 49 ",6627,3406,3221,{"$f":"IFERROR(IF(SEARCH(\" - \",A133)>0,FALSE,TRUE),TRUE)","v":false},{"$f":"IFERROR(IF(SEARCH(\"65+\",A133)>0,FALSE,TRUE),TRUE)","v":true},{"$f":"IFERROR(IF(SEARCH(\"70\",A133)>0,FALSE,TRUE),TRUE)","v":true},{"$f":"AND(E133:G133)","v":false}]
[" 50 - 54 ",5602,2848,2754,false,true,true,false]
[" 55 - 59 ",5525,2744,2781,false,true,true,false]
[" 60 - 64 ",5538,2353,3185,false,true,true,false]
[" 65 - 69 ",6928,2916,4012,false,true,true,false]
[" 70 i więcej",9541,4038,5503,true,true,false,false]
["65+",{"$f":"SUM(B137:B138)","v":16469},{"$f":"SUM(C137:C138)","v":6954},{"$f":"SUM(D137:D138)","v":9515},true,false,true,false]
[" Jaworzno ",92618,44903,47715,true,true,true,true]
[" 0 - 4 ",4116,2121,1995,false,true,true,false]
[" 5 - 9 ",4500,2287,2213,false,true,true,false]
[" 10 - 14 ",3815,1955,1860,false,true,true,false]
[" 15 - 19 ",4097,2141,1956,false,true,true,false]
[" 20 - 24 ",5230,2639,2591,false,true,true,false]
[" 25 - 29 ",6891,3550,3341,false,true,true,false]
[" 30 - 34 ",7892,4094,3798,false,true,true,false]
[" 35 - 39 ",7166,3649,3517,false,true,true,false]
[" 40 - 44 ",6306,3231,3075,false,true,true,false]
[" 45 - 49 ",6033,2992,3041,false,true,true,false]
[" 50 - 54 ",6656,3260,3396,false,true,true,false]
[" 55 - 59 ",7926,3828,4098,false,true,true,false]
[" 60 - 64 ",6651,3145,3506,false,true,true,false]
[" 65 - 69 ",5140,2280,2860,false,true,true,false]
[" 70 i więcej",10199,3731,6468,true,true,false,false]
["65+",{"$f":"SUM(B154:B155)","v":15339},{"$f":"SUM(C154:C155)","v":6011},{"$f":"SUM(D154:D155)","v":9328},true,false,true,false]
[" Katowice ",299012,142135,156877,true,true,true,true]
[" 0 - 4 ",12792,6562,6230,false,true,true,false]
[" 5 - 9 ",12902,6572,6330,false,true,true,false]
[" 10 - 14 ",10806,5506,5300,false,true,true,false]
[" 15 - 19 ",11642,5947,5695,false,true,true,false]
[" 20 - 24 ",15742,8035,7707,false,true,true,false]
[" 25 - 29 ",21189,10740,10449,false,true,true,false]
[" 30 - 34 ",25644,13008,12636,false,true,true,false]
[" 35 - 39 ",23005,11588,11417,false,true,true,false]
[" 40 - 44 ",20089,9963,10126,false,true,true,false]
[" 45 - 49 ",18744,9266,9478,false,true,true,false]
[" 50 - 54 ",19837,9715,10122,false,true,true,false]
[" 55 - 59 ",23775,11374,12401,false,true,true,false]
[" 60 - 64 ",22965,10367,12598,false,true,true,false]
[" 65 - 69 ",19260,8256,11004,false,true,true,false]
[" 70 i więcej",40620,15236,25384,true,true,false,false]
["65+",{"$f":"SUM(B171:B172)","v":59880},{"$f":"SUM(C171:C172)","v":23492},{"$f":"SUM(D171:D172)","v":36388},true,false,true,false]
[" Mysłowice ",74711,36162,38549,true,true,true,true]
[" 0 - 4 ",3740,1903,1837,false,true,true,false]
[" 5 - 9 ",4006,2030,1976,false,true,true,false]
[" 10 - 14 ",3340,1732,1608,false,true,true,false]
[" 15 - 19 ",3305,1665,1640,false,true,true,false]
[" 20 - 24 ",4193,2142,2051,false,true,true,false]
[" 25 - 29 ",5684,2844,2840,false,true,true,false]
[" 30 - 34 ",6605,3370,3235,false,true,true,false]
[" 35 - 39 ",5821,2972,2849,false,true,true,false]
[" 40 - 44 ",5062,2576,2486,false,true,true,false]
[" 45 - 49 ",4630,2278,2352,false,true,true,false]
[" 50 - 54 ",5466,2580,2886,false,true,true,false]
[" 55 - 59 ",6305,3126,3179,false,true,true,false]
[" 60 - 64 ",5079,2368,2711,false,true,true,false]
[" 65 - 69 ",4001,1727,2274,false,true,true,false]
[" 70 i więcej",7474,2849,4625,true,true,false,false]
["65+",{"$f":"SUM(B188:B189)","v":11475},{"$f":"SUM(C188:C189)","v":4576},{"$f":"SUM(D188:D189)","v":6899},true,false,true,false]
[" Piekary Śląskie ",56126,26900,29226,true,true,true,true]
[" 0 - 4 ",2594,1319,1275,false,true,true,false]
[" 5 - 9 ",2817,1455,1362,false,true,true,false]
[" 10 - 14 ",2264,1158,1106,false,true,true,false]
[" 15 - 19 ",2515,1267,1248,false,true,true,false]
[" 20 - 24 ",3106,1568,1538,false,true,true,false]
[" 25 - 29 ",4133,2061,2072,{"$f":"IFERROR(IF(SEARCH(\" - \",A197)>0,FALSE,TRUE),TRUE)","v":false},{"$f":"IFERROR(IF(SEARCH(\"65+\",A197)>0,FALSE,TRUE),TRUE)","v":true},{"$f":"IFERROR(IF(SEARCH(\"70\",A197)>0,FALSE,TRUE),TRUE)","v":true},{"$f":"AND(E197:G197)","v":false}]
[" 30 - 34 ",4721,2437,2284,false,true,true,false]
[" 35 - 39 ",4316,2190,2126,false,true,true,false]
[" 40 - 44 ",3808,1930,1878,false,true,true,false]
[" 45 - 49 ",3409,1720,1689,false,true,true,false]
[" 50 - 54 ",3765,1835,1930,false,true,true,false]
[" 55 - 59 ",4763,2265,2498,false,true,true,false]
[" 60 - 64 ",4230,1975,2255,false,true,true,false]
[" 65 - 69 ",3137,1373,1764,false,true,true,false]
[" 70 i więcej",6548,2347,4201,true,true,false,false]
["65+",{"$f":"SUM(B205:B206)","v":9685},{"$f":"SUM(C205:C206)","v":3720},{"$f":"SUM(D205:D206)","v":5965},true,false,true,false]
[" Ruda Śląska ",139412,67467,71945,true,true,true,true]
[" 0 - 4 ",6973,3543,3430,false,true,true,false]
[" 5 - 9 ",7369,3804,3565,false,true,true,false]
[" 10 - 14 ",6200,3201,2999,false,true,true,false]
[" 15 - 19 ",6612,3329,3283,false,true,true,false]
[" 20 - 24 ",8075,4235,3840,false,true,true,false]
[" 25 - 29 ",10097,5110,4987,false,true,true,false]
[" 30 - 34 ",11551,5822,5729,false,true,true,false]
[" 35 - 39 ",11008,5567,5441,false,true,true,false]
[" 40 - 44 ",9662,4870,4792,false,true,true,false]
[" 45 - 49 ",8617,4282,4335,false,true,true,false]
[" 50 - 54 ",9645,4715,4930,false,true,true,false]
[" 55 - 59 ",11108,5399,5709,false,true,true,false]
[" 60 - 64 ",10005,4689,5316,false,true,true,false]
[" 65 - 69 ",7690,3390,4300,false,true,true,false]
[" 70 i więcej",14800,5511,9289,true,true,false,false]
["65+",{"$f":"SUM(B222:B223)","v":22490},{"$f":"SUM(C222:C223)","v":8901},{"$f":"SUM(D222:D223)","v":13589},true,false,true,false]
[" Rybnik ",139540,68064,71476,true,true,true,true]
[" 0 - 4 ",7375,3817,3558,false,true,true,false]
[" 5 - 9 ",7611,3835,3776,false,true,true,false]
[" 10 - 14 ",6280,3227,3053,false,true,true,false]
[" 15 - 19 ",6542,3317,3225,false,true,true,false]
[" 20 - 24 ",7967,4036,3931,false,true,true,false]
[" 25 - 29 ",10379,5252,5127,false,true,true,false]
[" 30 - 34 ",11987,6149,5838,false,true,true,false]
[" 35 - 39 ",11638,5955,5683,false,true,true,false]
[" 40 - 44 ",9744,4993,4751,false,true,true,false]
[" 45 - 49 ",8520,4238,4282,false,true,true,false]
[" 50 - 54 ",9335,4607,4728,false,true,true,false]
[" 55 - 59 ",10700,5131,5569,false,true,true,false]
[" 60 - 64 ",9964,4645,5319,false,true,true,false]
[" 65 - 69 ",7608,3473,4135,false,true,true,false]
[" 70 i więcej",13890,5389,8501,true,true,false,false]
["65+",{"$f":"SUM(B239:B240)","v":21498},{"$f":"SUM(C239:C240)","v":8862},{"$f":"SUM(D239:D240)","v":12636},true,false,true,false]
[" Siemianowice Śląskie ",68011,32496,35515,true,true,true,true]
[" 0 - 4 ",3176,1621,1555,false,true,true,false]
[" 5 - 9 ",3336,1668,1668,false,true,true,false]
[" 10 - 14 ",2729,1349,1380,false,true,true,false]
[" 15 - 19 ",2871,1442,1429,false,true,true,false]
[" 20 - 24 ",3549,1849,1700,false,true,true,false]
[" 25 - 29 ",4688,2375,2313,false,true,true,false]
[" 30 - 34 ",5749,2923,2826,false,true,true,false]
[" 35 - 39 ",5383,2739,2644,false,true,true,false]
[" 40 - 44 ",4765,2357,2408,false,true,true,false]
[" 45 - 49 ",4228,2149,2079,false,true,true,false]
[" 50 - 54 ",4399,2092,2307,false,true,true,false]
[" 55 - 59 ",5614,2636,2978,false,true,true,false]
[" 60 - 64 ",5253,2426,2827,false,true,true,false]
[" 65 - 69 ",4319,1867,2452,false,true,true,false]
[" 70 i więcej",7952,3003,4949,true,true,false,false]
["65+",{"$f":"SUM(B256:B257)","v":12271},{"$f":"SUM(C256:C257)","v":4870},{"$f":"SUM(D256:D257)","v":7401},true,false,true,false]
[" Sosnowiec ",206516,97791,108725,true,true,true,true]
[" 0 - 4 ",8246,4201,4045,false,true,true,false]
[" 5 - 9 ",9029,4581,4448,{"$f":"IFERROR(IF(SEARCH(\" - \",A261)>0,FALSE,TRUE),TRUE)","v":false},{"$f":"IFERROR(IF(SEARCH(\"65+\",A261)>0,FALSE,TRUE),TRUE)","v":true},{"$f":"IFERROR(IF(SEARCH(\"70\",A261)>0,FALSE,TRUE),TRUE)","v":true},{"$f":"AND(E261:G261)","v":false}]
[" 10 - 14 ",7366,3753,3613,false,true,true,false]
[" 15 - 19 ",8027,4077,3950,false,true,true,false]
[" 20 - 24 ",10129,5124,5005,false,true,true,false]
[" 25 - 29 ",12838,6578,6260,false,true,true,false]
[" 30 - 34 ",16921,8747,8174,false,true,true,false]
[" 35 - 39 ",17962,9154,8808,false,true,true,false]
[" 40 - 44 ",14880,7587,7293,false,true,true,false]
[" 45 - 49 ",11975,5820,6155,false,true,true,false]
[" 50 - 54 ",12781,6142,6639,false,true,true,false]
[" 55 - 59 ",17111,7693,9418,false,true,true,false]
[" 60 - 64 ",19677,8856,10821,false,true,true,false]
[" 65 - 69 ",15501,6827,8674,false,true,true,false]
[" 70 i więcej",24073,8651,15422,true,true,false,false]
["65+",{"$f":"SUM(B273:B274)","v":39574},{"$f":"SUM(C273:C274)","v":15478},{"$f":"SUM(D273:D274)","v":24096},true,false,true,false]
[" Świętochłowice ",50750,24401,26349,true,true,true,true]
[" 0 - 4 ",2321,1209,1112,false,true,true,false]
[" 5 - 9 ",2558,1298,1260,false,true,true,false]
[" 10 - 14 ",2308,1172,1136,false,true,true,false]
[" 15 - 19 ",2257,1097,1160,false,true,true,false]
[" 20 - 24 ",2861,1477,1384,false,true,true,false]
[" 25 - 29 ",3492,1780,1712,false,true,true,false]
[" 30 - 34 ",4116,2027,2089,false,true,true,false]
[" 35 - 39 ",4030,2020,2010,false,true,true,false]
[" 40 - 44 ",3525,1837,1688,false,true,true,false]
[" 45 - 49 ",3323,1687,1636,false,true,true,false]
[" 50 - 54 ",3256,1575,1681,false,true,true,false]
[" 55 - 59 ",3977,1884,2093,false,true,true,false]
[" 60 - 64 ",3970,1815,2155,false,true,true,false]
[" 65 - 69 ",3020,1344,1676,false,true,true,false]
[" 70 i więcej",5736,2179,3557,true,true,false,false]
["65+",{"$f":"SUM(B290:B291)","v":8756},{"$f":"SUM(C290:C291)","v":3523},{"$f":"SUM(D290:D291)","v":5233},true,false,true,false]
[" Tychy ",128415,61896,66519,true,true,true,true]
[" 0 - 4 ",6538,3325,3213,false,true,true,false]
[" 5 - 9 ",6824,3517,3307,false,true,true,false]
[" 10 - 14 ",5379,2724,2655,false,true,true,false]
[" 15 - 19 ",5085,2579,2506,false,true,true,false]
[" 20 - 24 ",6250,3201,3049,false,true,true,false]
[" 25 - 29 ",8916,4476,4440,false,true,true,false]
[" 30 - 34 ",11860,6059,5801,false,true,true,false]
[" 35 - 39 ",12010,6088,5922,false,true,true,false]
[" 40 - 44 ",8739,4517,4222,false,true,true,false]
[" 45 - 49 ",6488,3194,3294,false,true,true,false]
[" 50 - 54 ",7380,3550,3830,false,true,true,false]
[" 55 - 59 ",11075,4983,6092,false,true,true,false]
[" 60 - 64 ",11561,5383,6178,false,true,true,false]
[" 65 - 69 ",7938,3674,4264,false,true,true,false]
[" 70 i więcej",12372,4626,7746,true,true,false,false]
["65+",{"$f":"SUM(B307:B308)","v":20310},{"$f":"SUM(C307:C308)","v":8300},{"$f":"SUM(D307:D308)","v":12010},true,false,true,false]
[" Zabrze ",175882,84854,91028,true,true,true,true]
[" 0 - 4 ",7548,3877,3671,false,true,true,false]
[" 5 - 9 ",8264,4241,4023,false,true,true,false]
[" 10 - 14 ",7035,3700,3335,false,true,true,false]
[" 15 - 19 ",7914,4113,3801,false,true,true,false]
[" 20 - 24 ",10017,5079,4938,false,true,true,false]
[" 25 - 29 ",13305,6770,6535,false,true,true,false]
[" 30 - 34 ",14488,7018,7470,false,true,true,false]
[" 35 - 39 ",13114,6310,6804,false,true,true,false]
[" 40 - 44 ",12469,6095,6374,false,true,true,false]
[" 45 - 49 ",11947,5855,6092,false,true,true,false]
[" 50 - 54 ",12714,6418,6296,false,true,true,false]
[" 55 - 59 ",14474,7205,7269,false,true,true,false]
[" 60 - 64 ",11851,5574,6277,false,true,true,false]
[" 65 - 69 ",9352,4183,5169,false,true,true,false]
[" 70 i więcej",21390,8416,12974,{"$f":"IFERROR(IF(SEARCH(\" - \",A325)>0,FALSE,TRUE),TRUE)","v":true},{"$f":"IFERROR(IF(SEARCH(\"65+\",A325)>0,FALSE,TRUE),TRUE)","v":true},{"$f":"IFERROR(IF(SEARCH(\"70\",A325)>0,FALSE,TRUE),TRUE)","v":false},{"$f":"AND(E325:G325)","v":false}]
["65+",{"$f":"SUM(B324:B325)","v":30742},{"$f":"SUM(C324:C325)","v":12599},{"$f":"SUM(D324:D325)","v":18143},true,false,true,false]
[" Żory ",61942,30340,31602,true,true,true,true]
[" 0 - 4 ",3360,1753,1607,false,true,true,false]
[" 5 - 9 ",3725,1898,1827,false,true,true,false]
[" 10 - 14 ",3054,1595,1459,false,true,true,false]
[" 15 - 19 ",2942,1478,1464,false,true,true,false]
[" 20 - 24 ",3170,1600,1570,false,true,true,false]
[" 25 - 29 ",4141,2034,2107,false,true,true,false]
[" 30 - 34 ",5655,2871,2784,false,true,true,false]
[" 35 - 39 ",6208,3140,3068,false,true,true,false]
[" 40 - 44 ",4933,2544,2389,false,true,true,false]
[" 45 - 49 ",3074,1587,1487,false,true,true,false]
[" 50 - 54 ",3117,1494,1623,false,true,true,false]
[" 55 - 59 ",4696,2040,2656,false,true,true,false]
[" 60 - 64 ",5556,2544,3012,false,true,true,false]
[" 65 - 69 ",4131,1970,2161,false,true,true,false]
[" 70 i więcej",4180,1792,2388,true,true,false,false]
["65+",{"$f":"SUM(B341:B342)","v":8311},{"$f":"SUM(C341:C342)","v":3762},{"$f":"SUM(D341:D342)","v":4549},true,false,true,false]
[" będziński ",149955,71532,78423,true,true,true,true]
[" 0 - 4 ",6381,3289,3092,false,true,true,false]
[" 5 - 9 ",7399,3775,3624,false,true,true,false]
[" 10 - 14 ",6301,3284,3017,false,true,true,false]
[" 15 - 19 ",6328,3287,3041,false,true,true,false]
[" 20 - 24 ",7212,3597,3615,false,true,true,false]
[" 25 - 29 ",8920,4601,4319,false,true,true,false]
[" 30 - 34 ",12089,5990,6099,false,true,true,false]
[" 35 - 39 ",13237,6671,6566,false,true,true,false]
[" 40 - 44 ",11497,5803,5694,false,true,true,false]
[" 45 - 49 ",9158,4609,4549,false,true,true,false]
[" 50 - 54 ",8937,4335,4602,false,true,true,false]
[" 55 - 59 ",12113,5664,6449,false,true,true,false]
[" 60 - 64 ",12701,5805,6896,false,true,true,false]
[" 65 - 69 ",10293,4570,5723,false,true,true,false]
[" 70 i więcej",17389,6252,11137,true,true,false,false]
["65+",{"$f":"SUM(B358:B359)","v":27682},{"$f":"SUM(C358:C359)","v":10822},{"$f":"SUM(D358:D359)","v":16860},true,false,true,false]
[" bielski ",162495,79318,83177,true,true,true,true]
[" 0 - 4 ",8559,4518,4041,false,true,true,false]
[" 5 - 9 ",9367,4856,4511,false,true,true,false]
[" 10 - 14 ",8070,4062,4008,false,true,true,false]
[" 15 - 19 ",8599,4405,4194,false,true,true,false]
[" 20 - 24 ",10110,5117,4993,false,true,true,false]
[" 25 - 29 ",12100,6154,5946,false,true,true,false]
[" 30 - 34 ",13222,6644,6578,false,true,true,false]
[" 35 - 39 ",13219,6698,6521,false,true,true,false]
[" 40 - 44 ",11860,5987,5873,false,true,true,false]
[" 45 - 49 ",10300,5050,5250,false,true,true,false]
[" 50 - 54 ",10585,5282,5303,false,true,true,false]
[" 55 - 59 ",11468,5526,5942,false,true,true,false]
[" 60 - 64 ",10979,5199,5780,false,true,true,false]
[" 65 - 69 ",8470,3850,4620,false,true,true,false]
[" 70 i więcej",15587,5970,9617,true,true,false,false]
["65+",{"$f":"SUM(B375:B376)","v":24057},{"$f":"SUM(C375:C376)","v":9820},{"$f":"SUM(D375:D376)","v":14237},true,false,true,false]
[" cieszyński ",177604,86207,91397,true,true,true,true]
[" 0 - 4 ",9359,4926,4433,false,true,true,false]
[" 5 - 9 ",9942,5152,4790,false,true,true,false]
[" 10 - 14 ",8681,4458,4223,false,true,true,false]
[" 15 - 19 ",9323,4793,4530,false,true,true,false]
[" 20 - 24 ",10891,5559,5332,false,true,true,false]
[" 25 - 29 ",12459,6373,6086,false,true,true,false]
[" 30 - 34 ",13826,6932,6894,false,true,true,false]
[" 35 - 39 ",14142,7110,7032,false,true,true,false]
[" 40 - 44 ",12690,6305,6385,false,true,true,false]
[" 45 - 49 ",11193,5499,5694,false,true,true,false]
[" 50 - 54 ",11535,5712,5823,{"$f":"IFERROR(IF(SEARCH(\" - \",A389)>0,FALSE,TRUE),TRUE)","v":false},{"$f":"IFERROR(IF(SEARCH(\"65+\",A389)>0,FALSE,TRUE),TRUE)","v":true},{"$f":"IFERROR(IF(SEARCH(\"70\",A389)>0,FALSE,TRUE),TRUE)","v":true},{"$f":"AND(E389:G389)","v":false}]
[" 55 - 59 ",12531,6044,6487,false,true,true,false]
[" 60 - 64 ",12808,5886,6922,false,true,true,false]
[" 65 - 69 ",10161,4538,5623,false,true,true,false]
[" 70 i więcej",18063,6920,11143,true,true,false,false]
["65+",{"$f":"SUM(B392:B393)","v":28224},{"$f":"SUM(C392:C393)","v":11458},{"$f":"SUM(D392:D393)","v":16766},true,false,true,false]
[" częstochowski ",135517,66361,69156,true,true,true,true]
[" 0 - 4 ",5770,2889,2881,false,true,true,false]
[" 5 - 9 ",6892,3547,3345,false,true,true,false]
[" 10 - 14 ",6264,3186,3078,false,true,true,false]
[" 15 - 19 ",7002,3606,3396,false,true,true,false]
[" 20 - 24 ",8888,4618,4270,false,true,true,false]
[" 25 - 29 ",9477,4931,4546,false,true,true,false]
[" 30 - 34 ",10440,5359,5081,false,true,true,false]
[" 35 - 39 ",10550,5375,5175,false,true,true,false]
[" 40 - 44 ",10162,5142,5020,false,true,true,false]
[" 45 - 49 ",9006,4607,4399,false,true,true,false]
[" 50 - 54 ",9062,4549,4513,false,true,true,false]
[" 55 - 59 ",10246,5137,5109,false,true,true,false]
[" 60 - 64 ",9754,4782,4972,false,true,true,false]
[" 65 - 69 ",7562,3534,4028,false,true,true,false]
[" 70 i więcej",14442,5099,9343,true,true,false,false]
["65+",{"$f":"SUM(B409:B410)","v":22004},{"$f":"SUM(C409:C410)","v":8633},{"$f":"SUM(D409:D410)","v":13371},true,false,true,false]
[" gliwicki ",115261,55840,59421,true,true,true,true]
[" 0 - 4 ",5740,2968,2772,false,true,true,false]
[" 5 - 9 ",6138,3091,3047,false,true,true,false]
[" 10 - 14 ",5196,2641,2555,false,true,true,false]
[" 15 - 19 ",5518,2788,2730,false,true,true,false]
[" 20 - 24 ",6780,3398,3382,false,true,true,false]
[" 25 - 29 ",8417,4213,4204,false,true,true,false]
[" 30 - 34 ",9611,4727,4884,false,true,true,false]
[" 35 - 39 ",9103,4546,4557,false,true,true,false]
[" 40 - 44 ",8369,4194,4175,false,true,true,false]
[" 45 - 49 ",7809,3908,3901,false,true,true,false]
[" 50 - 54 ",8228,4191,4037,false,true,true,false]
[" 55 - 59 ",8672,4278,4394,false,true,true,false]
[" 60 - 64 ",7640,3557,4083,false,true,true,false]
[" 65 - 69 ",5790,2629,3161,false,true,true,false]
[" 70 i więcej",12250,4711,7539,true,true,false,false]
["65+",{"$f":"SUM(B426:B427)","v":18040},{"$f":"SUM(C426:C427)","v":7340},{"$f":"SUM(D426:D427)","v":10700},true,false,true,false]
[" kłobucki ",85137,41975,43162,true,true,true,true]
[" 0 - 4 ",3764,1982,1782,false,true,true,false]
[" 5 - 9 ",4326,2198,2128,false,true,true,false]
[" 10 - 14 ",4007,2084,1923,false,true,true,false]
[" 15 - 19 ",4561,2395,2166,false,true,true,false]
[" 20 - 24 ",5690,2936,2754,false,true,true,false]
[" 25 - 29 ",6258,3247,3011,false,true,true,false]
[" 30 - 34 ",6453,3280,3173,false,true,true,false]
[" 35 - 39 ",6427,3318,3109,false,true,true,false]
[" 40 - 44 ",6344,3188,3156,false,true,true,false]
[" 45 - 49 ",5841,3001,2840,false,true,true,false]
[" 50 - 54 ",5641,2869,2772,false,true,true,false]
[" 55 - 59 ",6190,3197,2993,false,true,true,false]
[" 60 - 64 ",5640,2788,2852,false,true,true,false]
[" 65 - 69 ",4650,2091,2559,false,true,true,false]
[" 70 i więcej",9345,3401,5944,true,true,false,false]
["65+",{"$f":"SUM(B443:B444)","v":13995},{"$f":"SUM(C443:C444)","v":5492},{"$f":"SUM(D443:D444)","v":8503},true,false,true,false]
[" lubliniecki ",76872,37841,39031,true,true,true,true]
[" 0 - 4 ",3639,1868,1771,false,true,true,false]
[" 5 - 9 ",4047,2076,1971,false,true,true,false]
[" 10 - 14 ",3649,1880,1769,false,true,true,false]
[" 15 - 19 ",3953,2099,1854,false,true,true,false]
[" 20 - 24 ",4737,2389,2348,false,true,true,false]
[" 25 - 29 ",5922,3003,2919,false,true,true,false]
[" 30 - 34 ",6376,3225,3151,{"$f":"IFERROR(IF(SEARCH(\" - \",A453)>0,FALSE,TRUE),TRUE)","v":false},{"$f":"IFERROR(IF(SEARCH(\"65+\",A453)>0,FALSE,TRUE),TRUE)","v":true},{"$f":"IFERROR(IF(SEARCH(\"70\",A453)>0,FALSE,TRUE),TRUE)","v":true},{"$f":"AND(E453:G453)","v":false}]
[" 35 - 39 ",5998,3080,2918,false,true,true,false]
[" 40 - 44 ",5563,2846,2717,false,true,true,false]
[" 45 - 49 ",5220,2666,2554,false,true,true,false]
[" 50 - 54 ",5536,2829,2707,false,true,true,false]
[" 55 - 59 ",5586,2783,2803,false,true,true,false]
[" 60 - 64 ",4941,2361,2580,false,true,true,false]
[" 65 - 69 ",3821,1760,2061,false,true,true,false]
[" 70 i więcej",7884,2976,4908,true,true,false,false]
["65+",{"$f":"SUM(B460:B461)","v":11705},{"$f":"SUM(C460:C461)","v":4736},{"$f":"SUM(D460:D461)","v":6969},true,false,true,false]
[" mikołowski ",96727,47094,49633,true,true,true,true]
[" 0 - 4 ",5193,2710,2483,false,true,true,false]
[" 5 - 9 ",5581,2850,2731,false,true,true,false]
[" 10 - 14 ",4664,2374,2290,false,true,true,false]
[" 15 - 19 ",4678,2404,2274,false,true,true,false]
[" 20 - 24 ",5674,2903,2771,false,true,true,false]
[" 25 - 29 ",7025,3523,3502,false,true,true,false]
[" 30 - 34 ",8230,4160,4070,false,true,true,false]
[" 35 - 39 ",7904,3904,4000,false,true,true,false]
[" 40 - 44 ",7041,3587,3454,false,true,true,false]
[" 45 - 49 ",6279,3161,3118,false,true,true,false]
[" 50 - 54 ",6381,3169,3212,false,true,true,false]
[" 55 - 59 ",7126,3423,3703,false,true,true,false]
[" 60 - 64 ",6562,3100,3462,false,true,true,false]
[" 65 - 69 ",4836,2203,2633,false,true,true,false]
[" 70 i więcej",9553,3623,5930,true,true,false,false]
["65+",{"$f":"SUM(B477:B478)","v":14389},{"$f":"SUM(C477:C478)","v":5826},{"$f":"SUM(D477:D478)","v":8563},true,false,true,false]
[" myszkowski ",71705,34735,36970,true,true,true,true]
[" 0 - 4 ",3267,1670,1597,false,true,true,false]
[" 5 - 9 ",3525,1833,1692,false,true,true,false]
[" 10 - 14 ",3233,1608,1625,false,true,true,false]
[" 15 - 19 ",3404,1784,1620,false,true,true,false]
[" 20 - 24 ",4097,2095,2002,false,true,true,false]
[" 25 - 29 ",4921,2549,2372,false,true,true,false]
[" 30 - 34 ",5642,2890,2752,false,true,true,false]
[" 35 - 39 ",5723,2966,2757,false,true,true,false]
[" 40 - 44 ",5175,2597,2578,false,true,true,false]
[" 45 - 49 ",4475,2240,2235,false,true,true,false]
[" 50 - 54 ",4737,2307,2430,false,true,true,false]
[" 55 - 59 ",5617,2712,2905,false,true,true,false]
[" 60 - 64 ",5493,2533,2960,false,true,true,false]
[" 65 - 69 ",4316,1967,2349,false,true,true,false]
[" 70 i więcej",8080,2984,5096,true,true,false,false]
["65+",{"$f":"SUM(B494:B495)","v":12396},{"$f":"SUM(C494:C495)","v":4951},{"$f":"SUM(D494:D495)","v":7445},true,false,true,false]
[" pszczyński ",109954,53880,56074,true,true,true,true]
[" 0 - 4 ",6529,3261,3268,false,true,true,false]
[" 5 - 9 ",6776,3479,3297,false,true,true,false]
[" 10 - 14 ",5596,2834,2762,false,true,true,false]
[" 15 - 19 ",6124,3107,3017,false,true,true,false]
[" 20 - 24 ",6953,3469,3484,false,true,true,false]
[" 25 - 29 ",8879,4523,4356,false,true,true,false]
[" 30 - 34 ",9619,4939,4680,false,true,true,false]
[" 35 - 39 ",8460,4250,4210,false,true,true,false]
[" 40 - 44 ",7432,3692,3740,false,true,true,false]
[" 45 - 49 ",7172,3540,3632,false,true,true,false]
[" 50 - 54 ",8115,3921,4194,false,true,true,false]
[" 55 - 59 ",8379,4244,4135,false,true,true,false]
[" 60 - 64 ",6524,3174,3350,false,true,true,false]
[" 65 - 69 ",4665,2107,2558,false,true,true,false]
[" 70 i więcej",8731,3340,5391,true,true,false,false]
["65+",{"$f":"SUM(B511:B512)","v":13396},{"$f":"SUM(C511:C512)","v":5447},{"$f":"SUM(D511:D512)","v":7949},true,false,true,false]
[" raciborski ",109065,52510,56555,true,true,true,true]
[" 0 - 4 ",4664,2387,2277,false,true,true,false]
[" 5 - 9 ",4877,2500,2377,false,true,true,false]
[" 10 - 14 ",4682,2392,2290,{"$f":"IFERROR(IF(SEARCH(\" - \",A517)>0,FALSE,TRUE),TRUE)","v":false},{"$f":"IFERROR(IF(SEARCH(\"65+\",A517)>0,FALSE,TRUE),TRUE)","v":true},{"$f":"IFERROR(IF(SEARCH(\"70\",A517)>0,FALSE,TRUE),TRUE)","v":true},{"$f":"AND(E517:G517)","v":false}]
[" 15 - 19 ",5303,2800,2503,false,true,true,false]
[" 20 - 24 ",6393,3208,3185,false,true,true,false]
[" 25 - 29 ",8341,4210,4131,false,true,true,false]
[" 30 - 34 ",9060,4495,4565,false,true,true,false]
[" 35 - 39 ",8582,4244,4338,false,true,true,false]
[" 40 - 44 ",7797,3838,3959,false,true,true,false]
[" 45 - 49 ",7615,3742,3873,false,true,true,false]
[" 50 - 54 ",8512,4286,4226,false,true,true,false]
[" 55 - 59 ",8458,4056,4402,false,true,true,false]
[" 60 - 64 ",7417,3507,3910,false,true,true,false]
[" 65 - 69 ",5317,2418,2899,false,true,true,false]
[" 70 i więcej",12047,4427,7620,true,true,false,false]
["65+",{"$f":"SUM(B528:B529)","v":17364},{"$f":"SUM(C528:C529)","v":6845},{"$f":"SUM(D528:D529)","v":10519},true,false,true,false]
[" rybnicki ",77539,38233,39306,true,true,true,true]
[" 0 - 4 ",4234,2204,2030,false,true,true,false]
[" 5 - 9 ",4454,2279,2175,false,true,true,false]
[" 10 - 14 ",3820,1978,1842,false,true,true,false]
[" 15 - 19 ",3986,2046,1940,false,true,true,false]
[" 20 - 24 ",4800,2541,2259,false,true,true,false]
[" 25 - 29 ",6084,3116,2968,false,true,true,false]
[" 30 - 34 ",6642,3323,3319,false,true,true,false]
[" 35 - 39 ",5908,2988,2920,false,true,true,false]
[" 40 - 44 ",5425,2726,2699,false,true,true,false]
[" 45 - 49 ",5068,2588,2480,false,true,true,false]
[" 50 - 54 ",5408,2756,2652,false,true,true,false]
[" 55 - 59 ",5845,2871,2974,false,true,true,false]
[" 60 - 64 ",4773,2327,2446,false,true,true,false]
[" 65 - 69 ",3597,1665,1932,false,true,true,false]
[" 70 i więcej",7495,2825,4670,true,true,false,false]
["65+",{"$f":"SUM(B545:B546)","v":11092},{"$f":"SUM(C545:C546)","v":4490},{"$f":"SUM(D545:D546)","v":6602},true,false,true,false]
[" tarnogórski ",138975,67572,71403,true,true,true,true]
[" 0 - 4 ",6311,3243,3068,false,true,true,false]
[" 5 - 9 ",6963,3570,3393,false,true,true,false]
[" 10 - 14 ",5962,3065,2897,false,true,true,false]
[" 15 - 19 ",6790,3552,3238,false,true,true,false]
[" 20 - 24 ",7788,3951,3837,false,true,true,false]
[" 25 - 29 ",9727,4992,4735,false,true,true,false]
[" 30 - 34 ",11344,5684,5660,false,true,true,false]
[" 35 - 39 ",11148,5623,5525,false,true,true,false]
[" 40 - 44 ",10345,5174,5171,false,true,true,false]
[" 45 - 49 ",9169,4641,4528,false,true,true,false]
[" 50 - 54 ",9329,4667,4662,false,true,true,false]
[" 55 - 59 ",10447,5042,5405,false,true,true,false]
[" 60 - 64 ",9936,4589,5347,false,true,true,false]
[" 65 - 69 ",7823,3539,4284,false,true,true,false]
[" 70 i więcej",15893,6240,9653,true,true,false,false]
["65+",{"$f":"SUM(B562:B563)","v":23716},{"$f":"SUM(C562:C563)","v":9779},{"$f":"SUM(D562:D563)","v":13937},true,false,true,false]
[" bieruńsko-lędziński ",59044,29129,29915,true,true,true,true]
[" 0 - 4 ",3234,1661,1573,false,true,true,false]
[" 5 - 9 ",3423,1746,1677,false,true,true,false]
[" 10 - 14 ",2884,1482,1402,false,true,true,false]
[" 15 - 19 ",2979,1524,1455,false,true,true,false]
[" 20 - 24 ",3702,1900,1802,false,true,true,false]
[" 25 - 29 ",4684,2358,2326,false,true,true,false]
[" 30 - 34 ",5055,2560,2495,false,true,true,false]
[" 35 - 39 ",4504,2270,2234,false,true,true,false]
[" 40 - 44 ",4123,2074,2049,false,true,true,false]
[" 45 - 49 ",4032,2018,2014,false,true,true,false]
[" 50 - 54 ",4313,2174,2139,false,true,true,false]
[" 55 - 59 ",4684,2420,2264,false,true,true,false]
[" 60 - 64 ",3622,1750,1872,false,true,true,false]
[" 65 - 69 ",2633,1216,1417,false,true,true,false]
[" 70 i więcej",5172,1976,3196,true,true,false,false]
["65+",{"$f":"SUM(B579:B580)","v":7805},{"$f":"SUM(C579:C580)","v":3192},{"$f":"SUM(D579:D580)","v":4613},{"$f":"IFERROR(IF(SEARCH(\" - \",A581)>0,FALSE,TRUE),TRUE)","v":true},{"$f":"IFERROR(IF(SEARCH(\"65+\",A581)>0,FALSE,TRUE),TRUE)","v":false},{"$f":"IFERROR(IF(SEARCH(\"70\",A581)>0,FALSE,TRUE),TRUE)","v":true},{"$f":"AND(E581:G581)","v":false}]
[" wodzisławski ",157845,76828,81017,true,true,true,true]
[" 0 - 4 ",7860,3999,3861,false,true,true,false]
[" 5 - 9 ",8624,4435,4189,false,true,true,false]
[" 10 - 14 ",7324,3777,3547,false,true,true,false]
[" 15 - 19 ",7818,3960,3858,false,true,true,false]
[" 20 - 24 ",9312,4689,4623,false,true,true,false]
[" 25 - 29 ",11821,5987,5834,false,true,true,false]
[" 30 - 34 ",12822,6494,6328,false,true,true,false]
[" 35 - 39 ",12036,6083,5953,false,true,true,false]
[" 40 - 44 ",11176,5588,5588,false,true,true,false]
[" 45 - 49 ",10426,5275,5151,false,true,true,false]
[" 50 - 54 ",11245,5603,5642,false,true,true,false]
[" 55 - 59 ",11431,5635,5796,false,true,true,false]
[" 60 - 64 ",10061,4646,5415,false,true,true,false]
[" 65 - 69 ",8555,3860,4695,false,true,true,false]
[" 70 i więcej",17334,6797,10537,true,true,false,false]
["65+",{"$f":"SUM(B596:B597)","v":25889},{"$f":"SUM(C596:C597)","v":10657},{"$f":"SUM(D596:D597)","v":15232},true,false,true,false]
[" zawierciański ",119952,57988,61964,true,true,true,true]
[" 0 - 4 ",5057,2608,2449,false,true,true,false]
[" 5 - 9 ",5698,2941,2757,false,true,true,false]
[" 10 - 14 ",5084,2643,2441,false,true,true,false]
[" 15 - 19 ",5526,2734,2792,false,true,true,false]
[" 20 - 24 ",6720,3403,3317,false,true,true,false]
[" 25 - 29 ",7824,4098,3726,false,true,true,false]
[" 30 - 34 ",9020,4693,4327,false,true,true,false]
[" 35 - 39 ",9501,4892,4609,false,true,true,false]
[" 40 - 44 ",8803,4477,4326,false,true,true,false]
[" 45 - 49 ",7518,3777,3741,false,true,true,false]
[" 50 - 54 ",7706,3751,3955,false,true,true,false]
[" 55 - 59 ",9394,4461,4933,false,true,true,false]
[" 60 - 64 ",9723,4629,5094,false,true,true,false]
[" 65 - 69 ",8386,3814,4572,false,true,true,false]
[" 70 i więcej",13992,5067,8925,true,true,false,false]
["65+",{"$f":"SUM(B613:B614)","v":22378},{"$f":"SUM(C613:C614)","v":8881},{"$f":"SUM(D613:D614)","v":13497},true,false,true,false]
[" żywiecki ",153026,74759,78267,true,true,true,true]
[" 0 - 4 ",7629,3878,3751,false,true,true,false]
[" 5 - 9 ",8388,4208,4180,false,true,true,false]
[" 10 - 14 ",7591,3813,3778,false,true,true,false]
[" 15 - 19 ",8740,4456,4284,false,true,true,false]
[" 20 - 24 ",10327,5135,5192,false,true,true,false]
[" 25 - 29 ",11674,6055,5619,false,true,true,false]
[" 30 - 34 ",12007,6255,5752,false,true,true,false]
[" 35 - 39 ",11502,5889,5613,false,true,true,false]
[" 40 - 44 ",11035,5616,5419,false,true,true,false]
[" 45 - 49 ",10027,5017,5010,false,true,true,false]
[" 50 - 54 ",10154,5138,5016,false,true,true,false]
[" 55 - 59 ",10647,5340,5307,false,true,true,false]
[" 60 - 64 ",9642,4565,5077,false,true,true,false]
[" 65 - 69 ",8018,3706,4312,false,true,true,false]
[" 70 i więcej",15645,5688,9957,true,true,false,false]
["65+",{"$f":"SUM(B630:B631)","v":23663},{"$f":"SUM(C630:C631)","v":9394},{"$f":"SUM(D630:D631)","v":14269},true,false,true,false]

{"sheet":"Świętokrzyskie","index":18,"n_rows":258,"n_cols":8,"rows_kept":258,"cut":false,"hidden":true,"merged":[[0,0,2,0],[0,1,2,1],[0,2,2,2],[0,3,2,3]]}
["Województwa\nPowiaty\nGrupy wieku ","Ogółem","Mężczyźni","Kobiety "]
[]
[]
["Świętokrzyskie ",1254505,611902,642603,{"$f":"IFERROR(IF(SEARCH(\" - \",A4)>0,FALSE,TRUE),TRUE)","v":true},{"$f":"IFERROR(IF(SEARCH(\"65+\",A4)>0,FALSE,TRUE),TRUE)","v":true},{"$f":"IFERROR(IF(SEARCH(\"70\",A4)>0,FALSE,TRUE),TRUE)","v":true},{"$f":"AND(E4:G4)","v":true}]
[" 0 - 4 ",54180,27871,26309,{"$f":"IFERROR(IF(SEARCH(\" - \",A5)>0,FALSE,TRUE),TRUE)","v":false},{"$f":"IFERROR(IF(SEARCH(\"65+\",A5)>0,FALSE,TRUE),TRUE)","v":true},{"$f":"IFERROR(IF(SEARCH(\"70\",A5)>0,FALSE,TRUE),TRUE)","v":true},{"$f":"AND(E5:G5)","v":false}]
[" 5 - 9 ",61836,31766,30070,false,true,true,false]
[" 10 - 14 ",56798,28981,27817,false,true,true,false]
[" 15 - 19 ",64928,33333,31595,false,true,true,false]
[" 20 - 24 ",80450,40984,39466,false,true,true,false]
[" 25 - 29 ",89434,46484,42950,false,true,true,false]
[" 30 - 34 ",100118,51955,48163,false,true,true,false]
[" 35 - 39 ",96562,49953,46609,false,true,true,false]
[" 40 - 44 ",87694,45129,42565,false,true,true,false]
[" 45 - 49 ",76109,38452,37657,false,true,true,false]
[" 50 - 54 ",78652,39479,39173,false,true,true,false]
[" 55 - 59 ",94782,46750,48032,false,true,true,false]
[" 60 - 64 ",93689,44824,48865,false,true,true,false]
[" 65 - 69 ",76135,34536,41599,false,true,true,false]
[" 70 i więcej",143138,51405,91733,true,true,false,false]
["65+",{"$f":"SUM(B18:B19)","v":219273},{"$f":"SUM(C18:C19)","v":85941},{"$f":"SUM(D18:D19)","v":133332},true,false,true,false]
[" Kielce ",197724,92826,104898,true,true,true,true]
[" 0 - 4 ",8986,4584,4402,false,true,true,false]
[" 5 - 9 ",9402,4758,4644,false,true,true,false]
[" 10 - 14 ",7751,4061,3690,false,true,true,false]
[" 15 - 19 ",8027,4047,3980,false,true,true,false]
[" 20 - 24 ",9688,4919,4769,false,true,true,false]
[" 25 - 29 ",14270,7056,7214,false,true,true,false]
[" 30 - 34 ",17323,8626,8697,false,true,true,false]
[" 35 - 39 ",16532,8353,8179,false,true,true,false]
[" 40 - 44 ",14224,7086,7138,false,true,true,false]
[" 45 - 49 ",11284,5458,5826,false,true,true,false]
[" 50 - 54 ",11591,5407,6184,false,true,true,false]
[" 55 - 59 ",14665,6571,8094,false,true,true,false]
[" 60 - 64 ",16081,7017,9064,false,true,true,false]
[" 65 - 69 ",13990,5913,8077,false,true,true,false]
[" 70 i więcej",23910,8970,14940,true,true,false,false]
["65+",{"$f":"SUM(B35:B36)","v":37900},{"$f":"SUM(C35:C36)","v":14883},{"$f":"SUM(D35:D36)","v":23017},true,false,true,false]
[" buski ",72921,35566,37355,true,true,true,true]
[" 0 - 4 ",3017,1588,1429,false,true,true,false]
[" 5 - 9 ",3562,1770,1792,false,true,true,false]
[" 10 - 14 ",3346,1712,1634,false,true,true,false]
[" 15 - 19 ",3809,1922,1887,false,true,true,false]
[" 20 - 24 ",4728,2430,2298,false,true,true,false]
[" 25 - 29 ",4863,2510,2353,false,true,true,false]
[" 30 - 34 ",5651,2912,2739,false,true,true,false]
[" 35 - 39 ",5402,2769,2633,false,true,true,false]
[" 40 - 44 ",5309,2706,2603,false,true,true,false]
[" 45 - 49 ",4534,2345,2189,false,true,true,false]
[" 50 - 54 ",4467,2309,2158,false,true,true,false]
[" 55 - 59 ",5449,2795,2654,false,true,true,false]
[" 60 - 64 ",5144,2505,2639,false,true,true,false]
[" 65 - 69 ",4446,2076,2370,false,true,true,false]
[" 70 i więcej",9194,3217,5977,true,true,false,false]
["65+",{"$f":"SUM(B52:B53)","v":13640},{"$f":"SUM(C52:C53)","v":5293},{"$f":"SUM(D52:D53)","v":8347},true,false,true,false]
[" jędrzejowski ",86945,43055,43890,true,true,true,true]
[" 0 - 4 ",4037,2121,1916,false,true,true,false]
[" 5 - 9 ",4610,2361,2249,false,true,true,false]
[" 10 - 14 ",4257,2185,2072,false,true,true,false]
[" 15 - 19 ",4651,2391,2260,false,true,true,false]
[" 20 - 24 ",5788,2930,2858,false,true,true,false]
[" 25 - 29 ",6085,3175,2910,false,true,true,false]
[" 30 - 34 ",6875,3605,3270,false,true,true,false]
[" 35 - 39 ",6877,3561,3316,false,true,true,false]
[" 40 - 44 ",5953,3183,2770,false,true,true,false]
[" 45 - 49 ",4979,2605,2374,false,true,true,false]
[" 50 - 54 ",4982,2508,2474,false,true,true,false]
[" 55 - 59 ",6380,3200,3180,false,true,true,false]
[" 60 - 64 ",6612,3218,3394,false,true,true,false]
[" 65 - 69 ",5371,2508,2863,{"$f":"IFERROR(IF(SEARCH(\" - \",A69)>0,FALSE,TRUE),TRUE)","v":false},{"$f":"IFERROR(IF(SEARCH(\"65+\",A69)>0,FALSE,TRUE),TRUE)","v":true},{"$f":"IFERROR(IF(SEARCH(\"70\",A69)>0,FALSE,TRUE),TRUE)","v":true},{"$f":"AND(E69:G69)","v":false}]
[" 70 i więcej",9488,3504,5984,true,true,false,false]
["65+",{"$f":"SUM(B69:B70)","v":14859},{"$f":"SUM(C69:C70)","v":6012},{"$f":"SUM(D69:D70)","v":8847},true,false,true,false]
[" kazimierski ",34322,16864,17458,true,true,true,true]
[" 0 - 4 ",1246,624,622,false,true,true,false]
[" 5 - 9 ",1533,785,748,false,true,true,false]
[" 10 - 14 ",1471,741,730,false,true,true,false]
[" 15 - 19 ",1692,860,832,false,true,true,false]
[" 20 - 24 ",2310,1165,1145,false,true,true,false]
[" 25 - 29 ",2415,1289,1126,false,true,true,false]
[" 30 - 34 ",2703,1436,1267,false,true,true,false]
[" 35 - 39 ",2564,1323,1241,false,true,true,false]
[" 40 - 44 ",2374,1250,1124,false,true,true,false]
[" 45 - 49 ",2221,1117,1104,false,true,true,false]
[" 50 - 54 ",2283,1156,1127,false,true,true,false]
[" 55 - 59 ",2552,1308,1244,false,true,true,false]
[" 60 - 64 ",2526,1272,1254,false,true,true,false]
[" 65 - 69 ",1975,929,1046,false,true,true,false]
[" 70 i więcej",4457,1609,2848,true,true,false,false]
["65+",{"$f":"SUM(B86:B87)","v":6432},{"$f":"SUM(C86:C87)","v":2538},{"$f":"SUM(D86:D87)","v":3894},true,false,true,false]
[" kielecki ",208798,104177,104621,true,true,true,true]
[" 0 - 4 ",10307,5308,4999,false,true,true,false]
[" 5 - 9 ",11702,6018,5684,false,true,true,false]
[" 10 - 14 ",10687,5382,5305,false,true,true,false]
[" 15 - 19 ",12854,6636,6218,false,true,true,false]
[" 20 - 24 ",15586,7922,7664,false,true,true,false]
[" 25 - 29 ",16578,8587,7991,false,true,true,false]
[" 30 - 34 ",17280,9034,8246,false,true,true,false]
[" 35 - 39 ",16450,8410,8040,false,true,true,false]
[" 40 - 44 ",15200,7791,7409,false,true,true,false]
[" 45 - 49 ",13389,6919,6470,false,true,true,false]
[" 50 - 54 ",13262,6938,6324,false,true,true,false]
[" 55 - 59 ",14659,7600,7059,false,true,true,false]
[" 60 - 64 ",12831,6493,6338,false,true,true,false]
[" 65 - 69 ",9765,4729,5036,false,true,true,false]
[" 70 i więcej",18248,6410,11838,true,true,false,false]
["65+",{"$f":"SUM(B103:B104)","v":28013},{"$f":"SUM(C103:C104)","v":11139},{"$f":"SUM(D103:D104)","v":16874},true,false,true,false]
[" konecki ",82092,40460,41632,true,true,true,true]
[" 0 - 4 ",3402,1750,1652,false,true,true,false]
[" 5 - 9 ",3874,1984,1890,false,true,true,false]
[" 10 - 14 ",3673,1878,1795,false,true,true,false]
[" 15 - 19 ",4251,2181,2070,false,true,true,false]
[" 20 - 24 ",5347,2710,2637,false,true,true,false]
[" 25 - 29 ",5563,2965,2598,false,true,true,false]
[" 30 - 34 ",6297,3291,3006,false,true,true,false]
[" 35 - 39 ",6079,3261,2818,false,true,true,false]
[" 40 - 44 ",5821,3118,2703,false,true,true,false]
[" 45 - 49 ",5131,2674,2457,false,true,true,false]
[" 50 - 54 ",5252,2766,2486,false,true,true,false]
[" 55 - 59 ",6239,3133,3106,false,true,true,false]
[" 60 - 64 ",6091,2910,3181,false,true,true,false]
[" 65 - 69 ",5240,2429,2811,false,true,true,false]
[" 70 i więcej",9832,3410,6422,true,true,false,false]
["65+",{"$f":"SUM(B120:B121)","v":15072},{"$f":"SUM(C120:C121)","v":5839},{"$f":"SUM(D120:D121)","v":9233},true,false,true,false]
[" opatowski ",53581,26591,26990,true,true,true,true]
[" 0 - 4 ",2161,1146,1015,false,true,true,false]
[" 5 - 9 ",2567,1342,1225,false,true,true,false]
[" 10 - 14 ",2582,1294,1288,false,true,true,false]
[" 15 - 19 ",2933,1469,1464,false,true,true,false]
[" 20 - 24 ",3792,1960,1832,false,true,true,false]
[" 25 - 29 ",3715,1996,1719,false,true,true,false]
[" 30 - 34 ",4024,2116,1908,false,true,true,false]
[" 35 - 39 ",3953,2083,1870,false,true,true,false]
[" 40 - 44 ",3690,1892,1798,false,true,true,false]
[" 45 - 49 ",3215,1619,1596,{"$f":"IFERROR(IF(SEARCH(\" - \",A133)>0,FALSE,TRUE),TRUE)","v":false},{"$f":"IFERROR(IF(SEARCH(\"65+\",A133)>0,FALSE,TRUE),TRUE)","v":true},{"$f":"IFERROR(IF(SEARCH(\"70\",A133)>0,FALSE,TRUE),TRUE)","v":true},{"$f":"AND(E133:G133)","v":false}]
[" 50 - 54 ",3527,1828,1699,false,true,true,false]
[" 55 - 59 ",3966,2075,1891,false,true,true,false]
[" 60 - 64 ",4213,2144,2069,false,true,true,false]
[" 65 - 69 ",3048,1426,1622,false,true,true,false]
[" 70 i więcej",6195,2201,3994,true,true,false,false]
["65+",{"$f":"SUM(B137:B138)","v":9243},{"$f":"SUM(C137:C138)","v":3627},{"$f":"SUM(D137:D138)","v":5616},true,false,true,false]
[" ostrowiecki ",112036,53742,58294,true,true,true,true]
[" 0 - 4 ",4124,2085,2039,false,true,true,false]
[" 5 - 9 ",5120,2693,2427,false,true,true,false]
[" 10 - 14 ",4753,2378,2375,false,true,true,false]
[" 15 - 19 ",5611,2906,2705,false,true,true,false]
[" 20 - 24 ",6490,3268,3222,false,true,true,false]
[" 25 - 29 ",7223,3847,3376,false,true,true,false]
[" 30 - 34 ",8656,4548,4108,false,true,true,false]
[" 35 - 39 ",8736,4449,4287,false,true,true,false]
[" 40 - 44 ",7638,3901,3737,false,true,true,false]
[" 45 - 49 ",6531,3210,3321,false,true,true,false]
[" 50 - 54 ",7351,3517,3834,false,true,true,false]
[" 55 - 59 ",9576,4497,5079,false,true,true,false]
[" 60 - 64 ",9496,4459,5037,false,true,true,false]
[" 65 - 69 ",7475,3295,4180,false,true,true,false]
[" 70 i więcej",13256,4689,8567,true,true,false,false]
["65+",{"$f":"SUM(B154:B155)","v":20731},{"$f":"SUM(C154:C155)","v":7984},{"$f":"SUM(D154:D155)","v":12747},true,false,true,false]
[" pińczowski ",39922,19731,20191,true,true,true,true]
[" 0 - 4 ",1632,826,806,false,true,true,false]
[" 5 - 9 ",1773,907,866,false,true,true,false]
[" 10 - 14 ",1771,897,874,false,true,true,false]
[" 15 - 19 ",2093,1104,989,false,true,true,false]
[" 20 - 24 ",2653,1350,1303,false,true,true,false]
[" 25 - 29 ",2819,1442,1377,false,true,true,false]
[" 30 - 34 ",2973,1597,1376,false,true,true,false]
[" 35 - 39 ",2809,1539,1270,false,true,true,false]
[" 40 - 44 ",2605,1341,1264,false,true,true,false]
[" 45 - 49 ",2478,1278,1200,false,true,true,false]
[" 50 - 54 ",2583,1307,1276,false,true,true,false]
[" 55 - 59 ",3090,1629,1461,false,true,true,false]
[" 60 - 64 ",3130,1584,1546,false,true,true,false]
[" 65 - 69 ",2484,1144,1340,false,true,true,false]
[" 70 i więcej",5029,1786,3243,true,true,false,false]
["65+",{"$f":"SUM(B171:B172)","v":7513},{"$f":"SUM(C171:C172)","v":2930},{"$f":"SUM(D171:D172)","v":4583},true,false,true,false]
[" sandomierski ",79082,38547,40535,true,true,true,true]
[" 0 - 4 ",3187,1636,1551,false,true,true,false]
[" 5 - 9 ",3756,1937,1819,false,true,true,false]
[" 10 - 14 ",3686,1895,1791,false,true,true,false]
[" 15 - 19 ",4278,2236,2042,false,true,true,false]
[" 20 - 24 ",5343,2712,2631,false,true,true,false]
[" 25 - 29 ",5725,2971,2754,false,true,true,false]
[" 30 - 34 ",6039,3124,2915,false,true,true,false]
[" 35 - 39 ",5823,3029,2794,false,true,true,false]
[" 40 - 44 ",5543,2825,2718,false,true,true,false]
[" 45 - 49 ",5007,2484,2523,false,true,true,false]
[" 50 - 54 ",5064,2513,2551,false,true,true,false]
[" 55 - 59 ",5693,2813,2880,false,true,true,false]
[" 60 - 64 ",5640,2740,2900,false,true,true,false]
[" 65 - 69 ",4758,2150,2608,false,true,true,false]
[" 70 i więcej",9540,3482,6058,true,true,false,false]
["65+",{"$f":"SUM(B188:B189)","v":14298},{"$f":"SUM(C188:C189)","v":5632},{"$f":"SUM(D188:D189)","v":8666},true,false,true,false]
[" skarżyski ",76664,36907,39757,true,true,true,true]
[" 0 - 4 ",2995,1542,1453,false,true,true,false]
[" 5 - 9 ",3340,1730,1610,false,true,true,false]
[" 10 - 14 ",2980,1538,1442,false,true,true,false]
[" 15 - 19 ",3586,1827,1759,false,true,true,false]
[" 20 - 24 ",4514,2360,2154,false,true,true,false]
[" 25 - 29 ",5148,2727,2421,{"$f":"IFERROR(IF(SEARCH(\" - \",A197)>0,FALSE,TRUE),TRUE)","v":false},{"$f":"IFERROR(IF(SEARCH(\"65+\",A197)>0,FALSE,TRUE),TRUE)","v":true},{"$f":"IFERROR(IF(SEARCH(\"70\",A197)>0,FALSE,TRUE),TRUE)","v":true},{"$f":"AND(E197:G197)","v":false}]
[" 30 - 34 ",5992,3150,2842,false,true,true,false]
[" 35 - 39 ",5788,3056,2732,false,true,true,false]
[" 40 - 44 ",5133,2661,2472,false,true,true,false]
[" 45 - 49 ",4547,2254,2293,false,true,true,false]
[" 50 - 54 ",4899,2410,2489,false,true,true,false]
[" 55 - 59 ",6520,3099,3421,false,true,true,false]
[" 60 - 64 ",6505,2993,3512,false,true,true,false]
[" 65 - 69 ",5056,2220,2836,false,true,true,false]
[" 70 i więcej",9661,3340,6321,true,true,false,false]
["65+",{"$f":"SUM(B205:B206)","v":14717},{"$f":"SUM(C205:C206)","v":5560},{"$f":"SUM(D205:D206)","v":9157},true,false,true,false]
[" starachowicki ",91780,44474,47306,true,true,true,true]
[" 0 - 4 ",3751,1894,1857,false,true,true,false]
[" 5 - 9 ",4477,2323,2154,false,true,true,false]
[" 10 - 14 ",4055,2064,1991,false,true,true,false]
[" 15 - 19 ",4532,2332,2200,false,true,true,false]
[" 20 - 24 ",5874,3042,2832,false,true,true,false]
[" 25 - 29 ",6363,3317,3046,false,true,true,false]
[" 30 - 34 ",7119,3728,3391,false,true,true,false]
[" 35 - 39 ",6691,3506,3185,false,true,true,false]
[" 40 - 44 ",6078,3156,2922,false,true,true,false]
[" 45 - 49 ",5518,2789,2729,false,true,true,false]
[" 50 - 54 ",5954,2985,2969,false,true,true,false]
[" 55 - 59 ",7182,3477,3705,false,true,true,false]
[" 60 - 64 ",6968,3274,3694,false,true,true,false]
[" 65 - 69 ",5587,2462,3125,false,true,true,false]
[" 70 i więcej",11631,4125,7506,true,true,false,false]
["65+",{"$f":"SUM(B222:B223)","v":17218},{"$f":"SUM(C222:C223)","v":6587},{"$f":"SUM(D222:D223)","v":10631},true,false,true,false]
[" staszowski ",72857,36119,36738,true,true,true,true]
[" 0 - 4 ",3319,1720,1599,false,true,true,false]
[" 5 - 9 ",3791,1941,1850,false,true,true,false]
[" 10 - 14 ",3477,1763,1714,false,true,true,false]
[" 15 - 19 ",4138,2172,1966,false,true,true,false]
[" 20 - 24 ",5146,2578,2568,false,true,true,false]
[" 25 - 29 ",5305,2815,2490,false,true,true,false]
[" 30 - 34 ",5633,2942,2691,false,true,true,false]
[" 35 - 39 ",5484,2838,2646,false,true,true,false]
[" 40 - 44 ",5036,2596,2440,false,true,true,false]
[" 45 - 49 ",4482,2259,2223,false,true,true,false]
[" 50 - 54 ",4580,2287,2293,false,true,true,false]
[" 55 - 59 ",5536,2859,2677,false,true,true,false]
[" 60 - 64 ",5210,2609,2601,false,true,true,false]
[" 65 - 69 ",4203,1982,2221,false,true,true,false]
[" 70 i więcej",7517,2758,4759,true,true,false,false]
["65+",{"$f":"SUM(B239:B240)","v":11720},{"$f":"SUM(C239:C240)","v":4740},{"$f":"SUM(D239:D240)","v":6980},true,false,true,false]
[" włoszczowski ",45781,22843,22938,true,true,true,true]
[" 0 - 4 ",2016,1047,969,false,true,true,false]
[" 5 - 9 ",2329,1217,1112,false,true,true,false]
[" 10 - 14 ",2309,1193,1116,false,true,true,false]
[" 15 - 19 ",2473,1250,1223,false,true,true,false]
[" 20 - 24 ",3191,1638,1553,false,true,true,false]
[" 25 - 29 ",3362,1787,1575,false,true,true,false]
[" 30 - 34 ",3553,1846,1707,false,true,true,false]
[" 35 - 39 ",3374,1776,1598,false,true,true,false]
[" 40 - 44 ",3090,1623,1467,false,true,true,false]
[" 45 - 49 ",2793,1441,1352,false,true,true,false]
[" 50 - 54 ",2857,1548,1309,false,true,true,false]
[" 55 - 59 ",3275,1694,1581,false,true,true,false]
[" 60 - 64 ",3242,1606,1636,false,true,true,false]
[" 65 - 69 ",2737,1273,1464,false,true,true,false]
[" 70 i więcej",5180,1904,3276,true,true,false,false]
["65+",{"$f":"SUM(B256:B257)","v":7917},{"$f":"SUM(C256:C257)","v":3177},{"$f":"SUM(D256:D257)","v":4740},true,false,true,false]

{"sheet":"Warmińsko-mazurskie","index":19,"n_rows":377,"n_cols":8,"rows_kept":377,"cut":false,"hidden":true,"merged":[[0,0,2,0],[0,1,2,1],[0,2,2,2],[0,3,2,3]]}
["Województwa\nPowiaty\nGrupy wieku ","Ogółem","Mężczyźni","Kobiety "]
[]
[]
["Warmińsko-mazurskie ",1437812,703919,733893,{"$f":"IFERROR(IF(SEARCH(\" - \",A4)>0,FALSE,TRUE),TRUE)","v":true},{"$f":"IFERROR(IF(SEARCH(\"65+\",A4)>0,FALSE,TRUE),TRUE)","v":true},{"$f":"IFERROR(IF(SEARCH(\"70\",A4)>0,FALSE,TRUE),TRUE)","v":true},{"$f":"AND(E4:G4)","v":true}]
[" 0 - 4 ",69095,35610,33485,{"$f":"IFERROR(IF(SEARCH(\" - \",A5)>0,FALSE,TRUE),TRUE)","v":false},{"$f":"IFERROR(IF(SEARCH(\"65+\",A5)>0,FALSE,TRUE),TRUE)","v":true},{"$f":"IFERROR(IF(SEARCH(\"70\",A5)>0,FALSE,TRUE),TRUE)","v":true},{"$f":"AND(E5:G5)","v":false}]
[" 5 - 9 ",79667,41008,38659,false,true,true,false]
[" 10 - 14 ",71488,36834,34654,false,true,true,false]
[" 15 - 19 ",78496,40128,38368,false,true,true,false]
[" 20 - 24 ",95810,48935,46875,false,true,true,false]
[" 25 - 29 ",107819,55735,52084,false,true,true,false]
[" 30 - 34 ",121023,62549,58474,false,true,true,false]
[" 35 - 39 ",113666,58356,55310,false,true,true,false]
[" 40 - 44 ",101688,52173,49515,false,true,true,false]
[" 45 - 49 ",88021,44275,43746,false,true,true,false]
[" 50 - 54 ",93879,46923,46956,false,true,true,false]
[" 55 - 59 ",109312,53476,55836,false,true,true,false]
[" 60 - 64 ",101376,47783,53593,false,true,true,false]
[" 65 - 69 ",77720,35256,42464,false,true,true,false]
[" 70 i więcej",128752,44878,83874,true,true,false,false]
["65+",{"$f":"SUM(B18:B19)","v":206472},{"$f":"SUM(C18:C19)","v":80134},{"$f":"SUM(D18:D19)","v":126338},true,false,true,false]
[" Elbląg ",121412,58151,63261,true,true,true,true]
[" 0 - 4 ",4871,2490,2381,false,true,true,false]
[" 5 - 9 ",6065,3177,2888,false,true,true,false]
[" 10 - 14 ",5400,2771,2629,false,true,true,false]
[" 15 - 19 ",6131,3101,3030,false,true,true,false]
[" 20 - 24 ",7045,3631,3414,false,true,true,false]
[" 25 - 29 ",8265,4293,3972,false,true,true,false]
[" 30 - 34 ",10347,5375,4972,false,true,true,false]
[" 35 - 39 ",9853,4958,4895,false,true,true,false]
[" 40 - 44 ",8964,4558,4406,false,true,true,false]
[" 45 - 49 ",7263,3557,3706,false,true,true,false]
[" 50 - 54 ",7416,3526,3890,false,true,true,false]
[" 55 - 59 ",9639,4428,5211,false,true,true,false]
[" 60 - 64 ",10255,4625,5630,false,true,true,false]
[" 65 - 69 ",7951,3518,4433,false,true,true,false]
[" 70 i więcej",11947,4143,7804,true,true,false,false]
["65+",{"$f":"SUM(B35:B36)","v":19898},{"$f":"SUM(C35:C36)","v":7661},{"$f":"SUM(D35:D36)","v":12237},true,false,true,false]
[" Olsztyn ",173599,80753,92846,true,true,true,true]
[" 0 - 4 ",8240,4292,3948,false,true,true,false]
[" 5 - 9 ",9016,4704,4312,false,true,true,false]
[" 10 - 14 ",7235,3758,3477,false,true,true,false]
[" 15 - 19 ",8040,3973,4067,false,true,true,false]
[" 20 - 24 ",8721,4316,4405,false,true,true,false]
[" 25 - 29 ",12904,5993,6911,false,true,true,false]
[" 30 - 34 ",16760,8004,8756,false,true,true,false]
[" 35 - 39 ",15328,7482,7846,false,true,true,false]
[" 40 - 44 ",12745,6213,6532,false,true,true,false]
[" 45 - 49 ",10026,4759,5267,false,true,true,false]
[" 50 - 54 ",10285,4819,5466,false,true,true,false]
[" 55 - 59 ",12620,5760,6860,false,true,true,false]
[" 60 - 64 ",13246,5736,7510,false,true,true,false]
[" 65 - 69 ",10847,4596,6251,false,true,true,false]
[" 70 i więcej",17586,6348,11238,true,true,false,false]
["65+",{"$f":"SUM(B52:B53)","v":28433},{"$f":"SUM(C52:C53)","v":10944},{"$f":"SUM(D52:D53)","v":17489},true,false,true,false]
[" bartoszycki ",59132,28888,30244,true,true,true,true]
[" 0 - 4 ",2666,1376,1290,false,true,true,false]
[" 5 - 9 ",3150,1597,1553,false,true,true,false]
[" 10 - 14 ",2862,1450,1412,false,true,true,false]
[" 15 - 19 ",3061,1563,1498,false,true,true,false]
[" 20 - 24 ",3976,2047,1929,false,true,true,false]
[" 25 - 29 ",4420,2335,2085,false,true,true,false]
[" 30 - 34 ",4868,2601,2267,false,true,true,false]
[" 35 - 39 ",4510,2310,2200,false,true,true,false]
[" 40 - 44 ",4057,2126,1931,false,true,true,false]
[" 45 - 49 ",3612,1805,1807,false,true,true,false]
[" 50 - 54 ",4215,2117,2098,false,true,true,false]
[" 55 - 59 ",4732,2327,2405,false,true,true,false]
[" 60 - 64 ",4231,1937,2294,false,true,true,false]
[" 65 - 69 ",3190,1441,1749,{"$f":"IFERROR(IF(SEARCH(\" - \",A69)>0,FALSE,TRUE),TRUE)","v":false},{"$f":"IFERROR(IF(SEARCH(\"65+\",A69)>0,FALSE,TRUE),TRUE)","v":true},{"$f":"IFERROR(IF(SEARCH(\"70\",A69)>0,FALSE,TRUE),TRUE)","v":true},{"$f":"AND(E69:G69)","v":false}]
[" 70 i więcej",5582,1856,3726,true,true,false,false]
["65+",{"$f":"SUM(B69:B70)","v":8772},{"$f":"SUM(C69:C70)","v":3297},{"$f":"SUM(D69:D70)","v":5475},true,false,true,false]
[" braniewski ",42026,20989,21037,true,true,true,true]
[" 0 - 4 ",1959,994,965,false,true,true,false]
[" 5 - 9 ",2145,1126,1019,false,true,true,false]
[" 10 - 14 ",1987,1010,977,false,true,true,false]
[" 15 - 19 ",2336,1192,1144,false,true,true,false]
[" 20 - 24 ",3188,1597,1591,false,true,true,false]
[" 25 - 29 ",3240,1740,1500,false,true,true,false]
[" 30 - 34 ",3415,1768,1647,false,true,true,false]
[" 35 - 39 ",3138,1690,1448,false,true,true,false]
[" 40 - 44 ",2990,1624,1366,false,true,true,false]
[" 45 - 49 ",2684,1432,1252,false,true,true,false]
[" 50 - 54 ",2950,1544,1406,false,true,true,false]
[" 55 - 59 ",3332,1656,1676,false,true,true,false]
[" 60 - 64 ",2887,1395,1492,false,true,true,false]
[" 65 - 69 ",2232,1024,1208,false,true,true,false]
[" 70 i więcej",3543,1197,2346,true,true,false,false]
["65+",{"$f":"SUM(B86:B87)","v":5775},{"$f":"SUM(C86:C87)","v":2221},{"$f":"SUM(D86:D87)","v":3554},true,false,true,false]
[" działdowski ",65965,32455,33510,true,true,true,true]
[" 0 - 4 ",3424,1813,1611,false,true,true,false]
[" 5 - 9 ",3892,1965,1927,false,true,true,false]
[" 10 - 14 ",3522,1823,1699,false,true,true,false]
[" 15 - 19 ",3926,1973,1953,false,true,true,false]
[" 20 - 24 ",4700,2387,2313,false,true,true,false]
[" 25 - 29 ",4994,2616,2378,false,true,true,false]
[" 30 - 34 ",5208,2705,2503,false,true,true,false]
[" 35 - 39 ",4895,2492,2403,false,true,true,false]
[" 40 - 44 ",4596,2352,2244,false,true,true,false]
[" 45 - 49 ",4212,2130,2082,false,true,true,false]
[" 50 - 54 ",4435,2200,2235,false,true,true,false]
[" 55 - 59 ",4791,2377,2414,false,true,true,false]
[" 60 - 64 ",4429,2125,2304,false,true,true,false]
[" 65 - 69 ",3354,1549,1805,false,true,true,false]
[" 70 i więcej",5587,1948,3639,true,true,false,false]
["65+",{"$f":"SUM(B103:B104)","v":8941},{"$f":"SUM(C103:C104)","v":3497},{"$f":"SUM(D103:D104)","v":5444},true,false,true,false]
[" elbląski ",58136,29084,29052,true,true,true,true]
[" 0 - 4 ",2909,1490,1419,false,true,true,false]
[" 5 - 9 ",3308,1667,1641,false,true,true,false]
[" 10 - 14 ",3150,1685,1465,false,true,true,false]
[" 15 - 19 ",3596,1900,1696,false,true,true,false]
[" 20 - 24 ",4116,2087,2029,false,true,true,false]
[" 25 - 29 ",4394,2322,2072,false,true,true,false]
[" 30 - 34 ",4837,2479,2358,false,true,true,false]
[" 35 - 39 ",4521,2362,2159,false,true,true,false]
[" 40 - 44 ",4001,2053,1948,false,true,true,false]
[" 45 - 49 ",3498,1795,1703,false,true,true,false]
[" 50 - 54 ",3741,1914,1827,false,true,true,false]
[" 55 - 59 ",4481,2337,2144,false,true,true,false]
[" 60 - 64 ",4072,2075,1997,false,true,true,false]
[" 65 - 69 ",2736,1298,1438,false,true,true,false]
[" 70 i więcej",4776,1620,3156,true,true,false,false]
["65+",{"$f":"SUM(B120:B121)","v":7512},{"$f":"SUM(C120:C121)","v":2918},{"$f":"SUM(D120:D121)","v":4594},true,false,true,false]
[" ełcki ",90160,44277,45883,true,true,true,true]
[" 0 - 4 ",4579,2343,2236,false,true,true,false]
[" 5 - 9 ",5299,2696,2603,false,true,true,false]
[" 10 - 14 ",4729,2393,2336,false,true,true,false]
[" 15 - 19 ",5417,2796,2621,false,true,true,false]
[" 20 - 24 ",6089,3158,2931,false,true,true,false]
[" 25 - 29 ",7211,3800,3411,false,true,true,false]
[" 30 - 34 ",8082,4218,3864,false,true,true,false]
[" 35 - 39 ",7371,3810,3561,false,true,true,false]
[" 40 - 44 ",6194,3159,3035,false,true,true,false]
[" 45 - 49 ",5453,2702,2751,{"$f":"IFERROR(IF(SEARCH(\" - \",A133)>0,FALSE,TRUE),TRUE)","v":false},{"$f":"IFERROR(IF(SEARCH(\"65+\",A133)>0,FALSE,TRUE),TRUE)","v":true},{"$f":"IFERROR(IF(SEARCH(\"70\",A133)>0,FALSE,TRUE),TRUE)","v":true},{"$f":"AND(E133:G133)","v":false}]
[" 50 - 54 ",5725,2818,2907,false,true,true,false]
[" 55 - 59 ",6603,3185,3418,false,true,true,false]
[" 60 - 64 ",5803,2736,3067,false,true,true,false]
[" 65 - 69 ",4323,1961,2362,false,true,true,false]
[" 70 i więcej",7282,2502,4780,true,true,false,false]
["65+",{"$f":"SUM(B137:B138)","v":11605},{"$f":"SUM(C137:C138)","v":4463},{"$f":"SUM(D137:D138)","v":7142},true,false,true,false]
[" giżycki ",57200,28024,29176,true,true,true,true]
[" 0 - 4 ",2563,1288,1275,false,true,true,false]
[" 5 - 9 ",3064,1584,1480,false,true,true,false]
[" 10 - 14 ",2750,1400,1350,false,true,true,false]
[" 15 - 19 ",3066,1526,1540,false,true,true,false]
[" 20 - 24 ",3752,1960,1792,false,true,true,false]
[" 25 - 29 ",4181,2208,1973,false,true,true,false]
[" 30 - 34 ",4504,2368,2136,false,true,true,false]
[" 35 - 39 ",4435,2292,2143,false,true,true,false]
[" 40 - 44 ",4061,2081,1980,false,true,true,false]
[" 45 - 49 ",3574,1813,1761,false,true,true,false]
[" 50 - 54 ",3898,1984,1914,false,true,true,false]
[" 55 - 59 ",4601,2293,2308,false,true,true,false]
[" 60 - 64 ",4089,1872,2217,false,true,true,false]
[" 65 - 69 ",3142,1423,1719,false,true,true,false]
[" 70 i więcej",5520,1932,3588,true,true,false,false]
["65+",{"$f":"SUM(B154:B155)","v":8662},{"$f":"SUM(C154:C155)","v":3355},{"$f":"SUM(D154:D155)","v":5307},true,false,true,false]
[" iławski ",92735,45954,46781,true,true,true,true]
[" 0 - 4 ",4806,2517,2289,false,true,true,false]
[" 5 - 9 ",5630,2927,2703,false,true,true,false]
[" 10 - 14 ",5028,2588,2440,false,true,true,false]
[" 15 - 19 ",5357,2736,2621,false,true,true,false]
[" 20 - 24 ",6452,3352,3100,false,true,true,false]
[" 25 - 29 ",6959,3629,3330,false,true,true,false]
[" 30 - 34 ",7603,3938,3665,false,true,true,false]
[" 35 - 39 ",7394,3875,3519,false,true,true,false]
[" 40 - 44 ",6416,3296,3120,false,true,true,false]
[" 45 - 49 ",5526,2804,2722,false,true,true,false]
[" 50 - 54 ",5752,2830,2922,false,true,true,false]
[" 55 - 59 ",6879,3388,3491,false,true,true,false]
[" 60 - 64 ",6372,3093,3279,false,true,true,false]
[" 65 - 69 ",4870,2251,2619,false,true,true,false]
[" 70 i więcej",7691,2730,4961,true,true,false,false]
["65+",{"$f":"SUM(B171:B172)","v":12561},{"$f":"SUM(C171:C172)","v":4981},{"$f":"SUM(D171:D172)","v":7580},true,false,true,false]
[" kętrzyński ",64197,31562,32635,true,true,true,true]
[" 0 - 4 ",2856,1453,1403,false,true,true,false]
[" 5 - 9 ",3292,1691,1601,false,true,true,false]
[" 10 - 14 ",3022,1591,1431,false,true,true,false]
[" 15 - 19 ",3228,1747,1481,false,true,true,false]
[" 20 - 24 ",4238,2215,2023,false,true,true,false]
[" 25 - 29 ",4720,2500,2220,false,true,true,false]
[" 30 - 34 ",5173,2753,2420,false,true,true,false]
[" 35 - 39 ",4998,2590,2408,false,true,true,false]
[" 40 - 44 ",4345,2255,2090,false,true,true,false]
[" 45 - 49 ",3843,1921,1922,false,true,true,false]
[" 50 - 54 ",4464,2235,2229,false,true,true,false]
[" 55 - 59 ",5344,2630,2714,false,true,true,false]
[" 60 - 64 ",4780,2251,2529,false,true,true,false]
[" 65 - 69 ",3682,1695,1987,false,true,true,false]
[" 70 i więcej",4114,1368,2746,true,true,false,false]
["65+",{"$f":"SUM(B188:B189)","v":7796},{"$f":"SUM(C188:C189)","v":3063},{"$f":"SUM(D188:D189)","v":4733},true,false,true,false]
[" lidzbarski ",42171,20813,21358,true,true,true,true]
[" 0 - 4 ",2006,1062,944,false,true,true,false]
[" 5 - 9 ",2299,1173,1126,false,true,true,false]
[" 10 - 14 ",1986,1064,922,false,true,true,false]
[" 15 - 19 ",2218,1143,1075,false,true,true,false]
[" 20 - 24 ",2966,1500,1466,false,true,true,false]
[" 25 - 29 ",3196,1681,1515,{"$f":"IFERROR(IF(SEARCH(\" - \",A197)>0,FALSE,TRUE),TRUE)","v":false},{"$f":"IFERROR(IF(SEARCH(\"65+\",A197)>0,FALSE,TRUE),TRUE)","v":true},{"$f":"IFERROR(IF(SEARCH(\"70\",A197)>0,FALSE,TRUE),TRUE)","v":true},{"$f":"AND(E197:G197)","v":false}]
[" 30 - 34 ",3417,1827,1590,false,true,true,false]
[" 35 - 39 ",3153,1655,1498,false,true,true,false]
[" 40 - 44 ",2927,1555,1372,false,true,true,false]
[" 45 - 49 ",2613,1309,1304,false,true,true,false]
[" 50 - 54 ",2920,1497,1423,false,true,true,false]
[" 55 - 59 ",3169,1553,1616,false,true,true,false]
[" 60 - 64 ",2942,1400,1542,false,true,true,false]
[" 65 - 69 ",2245,1026,1219,false,true,true,false]
[" 70 i więcej",4114,1368,2746,true,true,false,false]
["65+",{"$f":"SUM(B205:B206)","v":6359},{"$f":"SUM(C205:C206)","v":2394},{"$f":"SUM(D205:D206)","v":3965},true,false,true,false]
[" mrągowski ",50623,24829,25794,true,true,true,true]
[" 0 - 4 ",2356,1211,1145,false,true,true,false]
[" 5 - 9 ",2751,1427,1324,false,true,true,false]
[" 10 - 14 ",2574,1250,1324,false,true,true,false]
[" 15 - 19 ",2723,1375,1348,false,true,true,false]
[" 20 - 24 ",3393,1739,1654,false,true,true,false]
[" 25 - 29 ",3819,2069,1750,false,true,true,false]
[" 30 - 34 ",4192,2165,2027,false,true,true,false]
[" 35 - 39 ",3931,1976,1955,false,true,true,false]
[" 40 - 44 ",3498,1797,1701,false,true,true,false]
[" 45 - 49 ",3168,1602,1566,false,true,true,false]
[" 50 - 54 ",3658,1805,1853,false,true,true,false]
[" 55 - 59 ",4155,2026,2129,false,true,true,false]
[" 60 - 64 ",3427,1659,1768,false,true,true,false]
[" 65 - 69 ",2602,1189,1413,false,true,true,false]
[" 70 i więcej",4376,1539,2837,true,true,false,false]
["65+",{"$f":"SUM(B222:B223)","v":6978},{"$f":"SUM(C222:C223)","v":2728},{"$f":"SUM(D222:D223)","v":4250},true,false,true,false]
[" nidzicki ",33558,16688,16870,true,true,true,true]
[" 0 - 4 ",1599,800,799,false,true,true,false]
[" 5 - 9 ",1822,949,873,false,true,true,false]
[" 10 - 14 ",1850,968,882,false,true,true,false]
[" 15 - 19 ",1992,1033,959,false,true,true,false]
[" 20 - 24 ",2448,1208,1240,false,true,true,false]
[" 25 - 29 ",2478,1283,1195,false,true,true,false]
[" 30 - 34 ",2626,1434,1192,false,true,true,false]
[" 35 - 39 ",2601,1395,1206,false,true,true,false]
[" 40 - 44 ",2386,1241,1145,false,true,true,false]
[" 45 - 49 ",2209,1143,1066,false,true,true,false]
[" 50 - 54 ",2200,1124,1076,false,true,true,false]
[" 55 - 59 ",2471,1234,1237,false,true,true,false]
[" 60 - 64 ",2238,1071,1167,false,true,true,false]
[" 65 - 69 ",1750,815,935,false,true,true,false]
[" 70 i więcej",2888,990,1898,true,true,false,false]
["65+",{"$f":"SUM(B239:B240)","v":4638},{"$f":"SUM(C239:C240)","v":1805},{"$f":"SUM(D239:D240)","v":2833},true,false,true,false]
[" nowomiejski ",44237,21979,22258,true,true,true,true]
[" 0 - 4 ",2471,1284,1187,false,true,true,false]
[" 5 - 9 ",2795,1430,1365,false,true,true,false]
[" 10 - 14 ",2452,1245,1207,false,true,true,false]
[" 15 - 19 ",2774,1431,1343,false,true,true,false]
[" 20 - 24 ",3246,1626,1620,false,true,true,false]
[" 25 - 29 ",3386,1750,1636,false,true,true,false]
[" 30 - 34 ",3472,1849,1623,false,true,true,false]
[" 35 - 39 ",3270,1690,1580,false,true,true,false]
[" 40 - 44 ",3083,1587,1496,false,true,true,false]
[" 45 - 49 ",2735,1406,1329,false,true,true,false]
[" 50 - 54 ",2828,1446,1382,false,true,true,false]
[" 55 - 59 ",2974,1515,1459,false,true,true,false]
[" 60 - 64 ",2682,1334,1348,false,true,true,false]
[" 65 - 69 ",2250,1010,1240,false,true,true,false]
[" 70 i więcej",3819,1376,2443,true,true,false,false]
["65+",{"$f":"SUM(B256:B257)","v":6069},{"$f":"SUM(C256:C257)","v":2386},{"$f":"SUM(D256:D257)","v":3683},true,false,true,false]
[" olecki ",34694,17339,17355,true,true,true,true]
[" 0 - 4 ",1784,932,852,false,true,true,false]
[" 5 - 9 ",1949,986,963,{"$f":"IFERROR(IF(SEARCH(\" - \",A261)>0,FALSE,TRUE),TRUE)","v":false},{"$f":"IFERROR(IF(SEARCH(\"65+\",A261)>0,FALSE,TRUE),TRUE)","v":true},{"$f":"IFERROR(IF(SEARCH(\"70\",A261)>0,FALSE,TRUE),TRUE)","v":true},{"$f":"AND(E261:G261)","v":false}]
[" 10 - 14 ",1890,965,925,false,true,true,false]
[" 15 - 19 ",1949,982,967,false,true,true,false]
[" 20 - 24 ",2584,1356,1228,false,true,true,false]
[" 25 - 29 ",2826,1480,1346,false,true,true,false]
[" 30 - 34 ",2928,1597,1331,false,true,true,false]
[" 35 - 39 ",2529,1343,1186,false,true,true,false]
[" 40 - 44 ",2227,1166,1061,false,true,true,false]
[" 45 - 49 ",1982,1040,942,false,true,true,false]
[" 50 - 54 ",2215,1141,1074,false,true,true,false]
[" 55 - 59 ",2620,1304,1316,false,true,true,false]
[" 60 - 64 ",2311,1125,1186,false,true,true,false]
[" 65 - 69 ",1786,809,977,false,true,true,false]
[" 70 i więcej",3114,1113,2001,true,true,false,false]
["65+",{"$f":"SUM(B273:B274)","v":4900},{"$f":"SUM(C273:C274)","v":1922},{"$f":"SUM(D273:D274)","v":2978},true,false,true,false]
[" olsztyński ",123775,61176,62599,true,true,true,true]
[" 0 - 4 ",6255,3223,3032,false,true,true,false]
[" 5 - 9 ",7083,3616,3467,false,true,true,false]
[" 10 - 14 ",6436,3335,3101,false,true,true,false]
[" 15 - 19 ",6834,3486,3348,false,true,true,false]
[" 20 - 24 ",8416,4335,4081,false,true,true,false]
[" 25 - 29 ",9107,4668,4439,false,true,true,false]
[" 30 - 34 ",10491,5301,5190,false,true,true,false]
[" 35 - 39 ",10240,5199,5041,false,true,true,false]
[" 40 - 44 ",9338,4777,4561,false,true,true,false]
[" 45 - 49 ",7999,4028,3971,false,true,true,false]
[" 50 - 54 ",8276,4152,4124,false,true,true,false]
[" 55 - 59 ",9473,4715,4758,false,true,true,false]
[" 60 - 64 ",8465,4146,4319,false,true,true,false]
[" 65 - 69 ",6027,2874,3153,false,true,true,false]
[" 70 i więcej",9335,3321,6014,true,true,false,false]
["65+",{"$f":"SUM(B290:B291)","v":15362},{"$f":"SUM(C290:C291)","v":6195},{"$f":"SUM(D290:D291)","v":9167},true,false,true,false]
[" ostródzki ",105768,52125,53643,true,true,true,true]
[" 0 - 4 ",5216,2652,2564,false,true,true,false]
[" 5 - 9 ",6108,3097,3011,false,true,true,false]
[" 10 - 14 ",5368,2771,2597,false,true,true,false]
[" 15 - 19 ",5875,3001,2874,false,true,true,false]
[" 20 - 24 ",7313,3691,3622,false,true,true,false]
[" 25 - 29 ",7961,4122,3839,false,true,true,false]
[" 30 - 34 ",8581,4498,4083,false,true,true,false]
[" 35 - 39 ",8157,4258,3899,false,true,true,false]
[" 40 - 44 ",7385,3828,3557,false,true,true,false]
[" 45 - 49 ",6280,3213,3067,false,true,true,false]
[" 50 - 54 ",6871,3474,3397,false,true,true,false]
[" 55 - 59 ",8118,4027,4091,false,true,true,false]
[" 60 - 64 ",7529,3582,3947,false,true,true,false]
[" 65 - 69 ",5771,2658,3113,false,true,true,false]
[" 70 i więcej",9235,3253,5982,true,true,false,false]
["65+",{"$f":"SUM(B307:B308)","v":15006},{"$f":"SUM(C307:C308)","v":5911},{"$f":"SUM(D307:D308)","v":9095},true,false,true,false]
[" piski ",57445,28711,28734,true,true,true,true]
[" 0 - 4 ",2682,1358,1324,false,true,true,false]
[" 5 - 9 ",3156,1637,1519,false,true,true,false]
[" 10 - 14 ",3051,1583,1468,false,true,true,false]
[" 15 - 19 ",3434,1821,1613,false,true,true,false]
[" 20 - 24 ",4322,2259,2063,false,true,true,false]
[" 25 - 29 ",4618,2463,2155,false,true,true,false]
[" 30 - 34 ",4633,2481,2152,false,true,true,false]
[" 35 - 39 ",4086,2116,1970,false,true,true,false]
[" 40 - 44 ",4051,2101,1950,false,true,true,false]
[" 45 - 49 ",3751,1906,1845,false,true,true,false]
[" 50 - 54 ",3922,2059,1863,false,true,true,false]
[" 55 - 59 ",4098,2067,2031,false,true,true,false]
[" 60 - 64 ",3572,1737,1835,false,true,true,false]
[" 65 - 69 ",2759,1253,1506,false,true,true,false]
[" 70 i więcej",5310,1870,3440,{"$f":"IFERROR(IF(SEARCH(\" - \",A325)>0,FALSE,TRUE),TRUE)","v":true},{"$f":"IFERROR(IF(SEARCH(\"65+\",A325)>0,FALSE,TRUE),TRUE)","v":true},{"$f":"IFERROR(IF(SEARCH(\"70\",A325)>0,FALSE,TRUE),TRUE)","v":false},{"$f":"AND(E325:G325)","v":false}]
["65+",{"$f":"SUM(B324:B325)","v":8069},{"$f":"SUM(C324:C325)","v":3123},{"$f":"SUM(D324:D325)","v":4946},true,false,true,false]
[" szczycieński ",70459,34936,35523,true,true,true,true]
[" 0 - 4 ",3323,1702,1621,false,true,true,false]
[" 5 - 9 ",4031,2087,1944,false,true,true,false]
[" 10 - 14 ",3704,1960,1744,false,true,true,false]
[" 15 - 19 ",3988,2047,1941,false,true,true,false]
[" 20 - 24 ",5307,2680,2627,false,true,true,false]
[" 25 - 29 ",5365,2812,2553,false,true,true,false]
[" 30 - 34 ",5690,2934,2756,false,true,true,false]
[" 35 - 39 ",5494,2911,2583,false,true,true,false]
[" 40 - 44 ",4882,2501,2381,false,true,true,false]
[" 45 - 49 ",4505,2302,2203,false,true,true,false]
[" 50 - 54 ",4775,2489,2286,false,true,true,false]
[" 55 - 59 ",5294,2665,2629,false,true,true,false]
[" 60 - 64 ",4589,2176,2413,false,true,true,false]
[" 65 - 69 ",3506,1587,1919,false,true,true,false]
[" 70 i więcej",6006,2083,3923,true,true,false,false]
["65+",{"$f":"SUM(B341:B342)","v":9512},{"$f":"SUM(C341:C342)","v":3670},{"$f":"SUM(D341:D342)","v":5842},true,false,true,false]
[" gołdapski ",27191,13514,13677,true,true,true,true]
[" 0 - 4 ",1443,765,678,false,true,true,false]
[" 5 - 9 ",1638,841,797,false,true,true,false]
[" 10 - 14 ",1431,691,740,false,true,true,false]
[" 15 - 19 ",1415,722,693,false,true,true,false]
[" 20 - 24 ",1985,996,989,false,true,true,false]
[" 25 - 29 ",2155,1114,1041,false,true,true,false]
[" 30 - 34 ",2312,1246,1066,false,true,true,false]
[" 35 - 39 ",2065,1060,1005,false,true,true,false]
[" 40 - 44 ",1896,1010,886,false,true,true,false]
[" 45 - 49 ",1637,856,781,false,true,true,false]
[" 50 - 54 ",1767,919,848,false,true,true,false]
[" 55 - 59 ",1984,999,985,false,true,true,false]
[" 60 - 64 ",1741,857,884,false,true,true,false]
[" 65 - 69 ",1335,622,713,false,true,true,false]
[" 70 i więcej",2387,816,1571,true,true,false,false]
["65+",{"$f":"SUM(B358:B359)","v":3722},{"$f":"SUM(C358:C359)","v":1438},{"$f":"SUM(D358:D359)","v":2284},true,false,true,false]
[" węgorzewski ",23329,11672,11657,true,true,true,true]
[" 0 - 4 ",1087,565,522,false,true,true,false]
[" 5 - 9 ",1174,631,543,false,true,true,false]
[" 10 - 14 ",1061,533,528,false,true,true,false]
[" 15 - 19 ",1136,580,556,false,true,true,false]
[" 20 - 24 ",1553,795,758,false,true,true,false]
[" 25 - 29 ",1620,857,763,false,true,true,false]
[" 30 - 34 ",1884,1008,876,false,true,true,false]
[" 35 - 39 ",1697,892,805,false,true,true,false]
[" 40 - 44 ",1646,893,753,false,true,true,false]
[" 45 - 49 ",1451,752,699,false,true,true,false]
[" 50 - 54 ",1566,830,736,false,true,true,false]
[" 55 - 59 ",1934,990,944,false,true,true,false]
[" 60 - 64 ",1716,851,865,false,true,true,false]
[" 65 - 69 ",1362,657,705,false,true,true,false]
[" 70 i więcej",2442,838,1604,true,true,false,false]
["65+",{"$f":"SUM(B375:B376)","v":3804},{"$f":"SUM(C375:C376)","v":1495},{"$f":"SUM(D375:D376)","v":2309},true,false,true,false]

{"sheet":"Wielkopolskie","index":20,"n_rows":615,"n_cols":8,"rows_kept":615,"cut":false,"hidden":true,"merged":[[0,0,2,0],[0,1,2,1],[0,2,2,2],[0,3,2,3]]}
["Województwa\nPowiaty\nGrupy wieku ","Ogółem","Mężczyźni","Kobiety "]
[]
[]
["Wielkopolskie ",3477755,1692178,1785577,{"$f":"IFERROR(IF(SEARCH(\" - \",A4)>0,FALSE,TRUE),TRUE)","v":true},{"$f":"IFERROR(IF(SEARCH(\"65+\",A4)>0,FALSE,TRUE),TRUE)","v":true},{"$f":"IFERROR(IF(SEARCH(\"70\",A4)>0,FALSE,TRUE),TRUE)","v":true},{"$f":"AND(E4:G4)","v":true}]
[" 0 - 4 ",185329,95402,89927,{"$f":"IFERROR(IF(SEARCH(\" - \",A5)>0,FALSE,TRUE),TRUE)","v":false},{"$f":"IFERROR(IF(SEARCH(\"65+\",A5)>0,FALSE,TRUE),TRUE)","v":true},{"$f":"IFERROR(IF(SEARCH(\"70\",A5)>0,FALSE,TRUE),TRUE)","v":true},{"$f":"AND(E5:G5)","v":false}]
[" 5 - 9 ",202165,104233,97932,false,true,true,false]
[" 10 - 14 ",171958,88579,83379,false,true,true,false]
[" 15 - 19 ",181862,93456,88406,false,true,true,false]
[" 20 - 24 ",217093,111182,105911,false,true,true,false]
[" 25 - 29 ",260501,132122,128379,false,true,true,false]
[" 30 - 34 ",300389,152026,148363,false,true,true,false]
[" 35 - 39 ",287317,145697,141620,false,true,true,false]
[" 40 - 44 ",255257,128836,126421,false,true,true,false]
[" 45 - 49 ",210510,105417,105093,false,true,true,false]
[" 50 - 54 ",208401,102829,105572,false,true,true,false]
[" 55 - 59 ",242211,116665,125546,false,true,true,false]
[" 60 - 64 ",236290,110085,126205,false,true,true,false]
[" 65 - 69 ",203634,90875,112759,false,true,true,false]
[" 70 i więcej",314838,114774,200064,true,true,false,false]
["65+",{"$f":"SUM(B18:B19)","v":518472},{"$f":"SUM(C18:C19)","v":205649},{"$f":"SUM(D18:D19)","v":312823},true,false,true,false]
[" Kalisz ",102575,47754,54821,true,true,true,true]
[" 0 - 4 ",4607,2357,2250,false,true,true,false]
[" 5 - 9 ",5077,2586,2491,false,true,true,false]
[" 10 - 14 ",4500,2290,2210,false,true,true,false]
[" 15 - 19 ",5067,2519,2548,false,true,true,false]
[" 20 - 24 ",5705,2899,2806,false,true,true,false]
[" 25 - 29 ",6279,3179,3100,false,true,true,false]
[" 30 - 34 ",7823,3930,3893,false,true,true,false]
[" 35 - 39 ",8146,4101,4045,false,true,true,false]
[" 40 - 44 ",7780,3858,3922,false,true,true,false]
[" 45 - 49 ",6474,3074,3400,false,true,true,false]
[" 50 - 54 ",6083,2874,3209,false,true,true,false]
[" 55 - 59 ",7342,3282,4060,false,true,true,false]
[" 60 - 64 ",8111,3480,4631,false,true,true,false]
[" 65 - 69 ",7354,3018,4336,false,true,true,false]
[" 70 i więcej",12227,4307,7920,true,true,false,false]
["65+",{"$f":"SUM(B35:B36)","v":19581},{"$f":"SUM(C35:C36)","v":7325},{"$f":"SUM(D35:D36)","v":12256},true,false,true,false]
[" Konin ",75607,35780,39827,true,true,true,true]
[" 0 - 4 ",3145,1622,1523,false,true,true,false]
[" 5 - 9 ",3524,1813,1711,false,true,true,false]
[" 10 - 14 ",3011,1554,1457,false,true,true,false]
[" 15 - 19 ",3695,1860,1835,false,true,true,false]
[" 20 - 24 ",4526,2302,2224,false,true,true,false]
[" 25 - 29 ",5006,2622,2384,false,true,true,false]
[" 30 - 34 ",5892,2957,2935,false,true,true,false]
[" 35 - 39 ",5894,2973,2921,false,true,true,false]
[" 40 - 44 ",5459,2701,2758,false,true,true,false]
[" 45 - 49 ",5025,2449,2576,false,true,true,false]
[" 50 - 54 ",4695,2247,2448,false,true,true,false]
[" 55 - 59 ",5583,2551,3032,false,true,true,false]
[" 60 - 64 ",5958,2584,3374,false,true,true,false]
[" 65 - 69 ",5537,2324,3213,false,true,true,false]
[" 70 i więcej",8657,3221,5436,true,true,false,false]
["65+",{"$f":"SUM(B52:B53)","v":14194},{"$f":"SUM(C52:C53)","v":5545},{"$f":"SUM(D52:D53)","v":8649},true,false,true,false]
[" Leszno ",64468,30822,33646,true,true,true,true]
[" 0 - 4 ",3227,1684,1543,false,true,true,false]
[" 5 - 9 ",3552,1792,1760,false,true,true,false]
[" 10 - 14 ",3012,1519,1493,false,true,true,false]
[" 15 - 19 ",3206,1628,1578,false,true,true,false]
[" 20 - 24 ",3593,1857,1736,false,true,true,false]
[" 25 - 29 ",4431,2260,2171,false,true,true,false]
[" 30 - 34 ",5595,2813,2782,false,true,true,false]
[" 35 - 39 ",5403,2703,2700,false,true,true,false]
[" 40 - 44 ",4680,2268,2412,false,true,true,false]
[" 45 - 49 ",3778,1898,1880,false,true,true,false]
[" 50 - 54 ",3811,1814,1997,false,true,true,false]
[" 55 - 59 ",4574,2122,2452,false,true,true,false]
[" 60 - 64 ",4840,2144,2696,false,true,true,false]
[" 65 - 69 ",4391,1921,2470,{"$f":"IFERROR(IF(SEARCH(\" - \",A69)>0,FALSE,TRUE),TRUE)","v":false},{"$f":"IFERROR(IF(SEARCH(\"65+\",A69)>0,FALSE,TRUE),TRUE)","v":true},{"$f":"IFERROR(IF(SEARCH(\"70\",A69)>0,FALSE,TRUE),TRUE)","v":true},{"$f":"AND(E69:G69)","v":false}]
[" 70 i więcej",6375,2399,3976,true,true,false,false]
["65+",{"$f":"SUM(B69:B70)","v":10766},{"$f":"SUM(C69:C70)","v":4320},{"$f":"SUM(D69:D70)","v":6446},true,false,true,false]
[" Poznań ",541561,252522,289039,true,true,true,true]
[" 0 - 4 ",27833,14336,13497,false,true,true,false]
[" 5 - 9 ",26267,13438,12829,false,true,true,false]
[" 10 - 14 ",20439,10500,9939,false,true,true,false]
[" 15 - 19 ",20478,10458,10020,false,true,true,false]
[" 20 - 24 ",25150,12713,12437,false,true,true,false]
[" 25 - 29 ",42574,20235,22339,false,true,true,false]
[" 30 - 34 ",54634,26739,27895,false,true,true,false]
[" 35 - 39 ",48162,23958,24204,false,true,true,false]
[" 40 - 44 ",39353,19401,19952,false,true,true,false]
[" 45 - 49 ",29337,14183,15154,false,true,true,false]
[" 50 - 54 ",28700,13758,14942,false,true,true,false]
[" 55 - 59 ",36196,16462,19734,false,true,true,false]
[" 60 - 64 ",40775,17570,23205,false,true,true,false]
[" 65 - 69 ",37698,15938,21760,false,true,true,false]
[" 70 i więcej",63965,22833,41132,true,true,false,false]
["65+",{"$f":"SUM(B86:B87)","v":101663},{"$f":"SUM(C86:C87)","v":38771},{"$f":"SUM(D86:D87)","v":62892},true,false,true,false]
[" chodzieski ",47444,23314,24130,true,true,true,true]
[" 0 - 4 ",2326,1195,1131,false,true,true,false]
[" 5 - 9 ",2800,1499,1301,false,true,true,false]
[" 10 - 14 ",2466,1295,1171,false,true,true,false]
[" 15 - 19 ",2755,1412,1343,false,true,true,false]
[" 20 - 24 ",3097,1594,1503,false,true,true,false]
[" 25 - 29 ",3337,1744,1593,false,true,true,false]
[" 30 - 34 ",3944,2040,1904,false,true,true,false]
[" 35 - 39 ",4008,2020,1988,false,true,true,false]
[" 40 - 44 ",3473,1811,1662,false,true,true,false]
[" 45 - 49 ",2732,1371,1361,false,true,true,false]
[" 50 - 54 ",2844,1390,1454,false,true,true,false]
[" 55 - 59 ",3460,1688,1772,false,true,true,false]
[" 60 - 64 ",3336,1518,1818,false,true,true,false]
[" 65 - 69 ",2910,1330,1580,false,true,true,false]
[" 70 i więcej",3956,1407,2549,true,true,false,false]
["65+",{"$f":"SUM(B103:B104)","v":6866},{"$f":"SUM(C103:C104)","v":2737},{"$f":"SUM(D103:D104)","v":4129},true,false,true,false]
[" czarnkowsko-trzcianecki ",87755,43444,44311,true,true,true,true]
[" 0 - 4 ",4490,2272,2218,false,true,true,false]
[" 5 - 9 ",5277,2734,2543,false,true,true,false]
[" 10 - 14 ",4548,2312,2236,false,true,true,false]
[" 15 - 19 ",5161,2654,2507,false,true,true,false]
[" 20 - 24 ",5799,2982,2817,false,true,true,false]
[" 25 - 29 ",6402,3303,3099,false,true,true,false]
[" 30 - 34 ",7058,3672,3386,false,true,true,false]
[" 35 - 39 ",6871,3537,3334,false,true,true,false]
[" 40 - 44 ",6405,3281,3124,false,true,true,false]
[" 45 - 49 ",5520,2842,2678,false,true,true,false]
[" 50 - 54 ",5361,2771,2590,false,true,true,false]
[" 55 - 59 ",6313,3150,3163,false,true,true,false]
[" 60 - 64 ",6052,2944,3108,false,true,true,false]
[" 65 - 69 ",5121,2378,2743,false,true,true,false]
[" 70 i więcej",7377,2612,4765,true,true,false,false]
["65+",{"$f":"SUM(B120:B121)","v":12498},{"$f":"SUM(C120:C121)","v":4990},{"$f":"SUM(D120:D121)","v":7508},true,false,true,false]
[" gnieźnieński ",145104,71188,73916,true,true,true,true]
[" 0 - 4 ",7914,4105,3809,false,true,true,false]
[" 5 - 9 ",8724,4546,4178,false,true,true,false]
[" 10 - 14 ",7419,3864,3555,false,true,true,false]
[" 15 - 19 ",7697,3966,3731,false,true,true,false]
[" 20 - 24 ",9256,4658,4598,false,true,true,false]
[" 25 - 29 ",10768,5538,5230,false,true,true,false]
[" 30 - 34 ",12273,6260,6013,false,true,true,false]
[" 35 - 39 ",11933,6158,5775,false,true,true,false]
[" 40 - 44 ",10524,5427,5097,false,true,true,false]
[" 45 - 49 ",8581,4335,4246,{"$f":"IFERROR(IF(SEARCH(\" - \",A133)>0,FALSE,TRUE),TRUE)","v":false},{"$f":"IFERROR(IF(SEARCH(\"65+\",A133)>0,FALSE,TRUE),TRUE)","v":true},{"$f":"IFERROR(IF(SEARCH(\"70\",A133)>0,FALSE,TRUE),TRUE)","v":true},{"$f":"AND(E133:G133)","v":false}]
[" 50 - 54 ",8634,4236,4398,false,true,true,false]
[" 55 - 59 ",10287,4944,5343,false,true,true,false]
[" 60 - 64 ",10151,4731,5420,false,true,true,false]
[" 65 - 69 ",8582,3900,4682,false,true,true,false]
[" 70 i więcej",12361,4520,7841,true,true,false,false]
["65+",{"$f":"SUM(B137:B138)","v":20943},{"$f":"SUM(C137:C138)","v":8420},{"$f":"SUM(D137:D138)","v":12523},true,false,true,false]
[" gostyński ",76105,37645,38460,true,true,true,true]
[" 0 - 4 ",4230,2177,2053,false,true,true,false]
[" 5 - 9 ",4433,2344,2089,false,true,true,false]
[" 10 - 14 ",3806,1955,1851,false,true,true,false]
[" 15 - 19 ",4144,2144,2000,false,true,true,false]
[" 20 - 24 ",5425,2735,2690,false,true,true,false]
[" 25 - 29 ",6240,3270,2970,false,true,true,false]
[" 30 - 34 ",6323,3294,3029,false,true,true,false]
[" 35 - 39 ",5622,2926,2696,false,true,true,false]
[" 40 - 44 ",5182,2638,2544,false,true,true,false]
[" 45 - 49 ",4596,2274,2322,false,true,true,false]
[" 50 - 54 ",5075,2567,2508,false,true,true,false]
[" 55 - 59 ",5461,2735,2726,false,true,true,false]
[" 60 - 64 ",4806,2301,2505,false,true,true,false]
[" 65 - 69 ",3987,1860,2127,false,true,true,false]
[" 70 i więcej",6775,2425,4350,true,true,false,false]
["65+",{"$f":"SUM(B154:B155)","v":10762},{"$f":"SUM(C154:C155)","v":4285},{"$f":"SUM(D154:D155)","v":6477},true,false,true,false]
[" grodziski ",51500,25651,25849,true,true,true,true]
[" 0 - 4 ",3069,1611,1458,false,true,true,false]
[" 5 - 9 ",3276,1643,1633,false,true,true,false]
[" 10 - 14 ",2871,1471,1400,false,true,true,false]
[" 15 - 19 ",3060,1614,1446,false,true,true,false]
[" 20 - 24 ",3753,1872,1881,false,true,true,false]
[" 25 - 29 ",4223,2150,2073,false,true,true,false]
[" 30 - 34 ",4453,2332,2121,false,true,true,false]
[" 35 - 39 ",3900,1997,1903,false,true,true,false]
[" 40 - 44 ",3581,1832,1749,false,true,true,false]
[" 45 - 49 ",3100,1574,1526,false,true,true,false]
[" 50 - 54 ",3177,1587,1590,false,true,true,false]
[" 55 - 59 ",3491,1748,1743,false,true,true,false]
[" 60 - 64 ",3248,1655,1593,false,true,true,false]
[" 65 - 69 ",2532,1154,1378,false,true,true,false]
[" 70 i więcej",3766,1411,2355,true,true,false,false]
["65+",{"$f":"SUM(B171:B172)","v":6298},{"$f":"SUM(C171:C172)","v":2565},{"$f":"SUM(D171:D172)","v":3733},true,false,true,false]
[" jarociński ",71761,35014,36747,true,true,true,true]
[" 0 - 4 ",3891,1990,1901,false,true,true,false]
[" 5 - 9 ",4185,2138,2047,false,true,true,false]
[" 10 - 14 ",3558,1812,1746,false,true,true,false]
[" 15 - 19 ",4001,2062,1939,false,true,true,false]
[" 20 - 24 ",4693,2366,2327,false,true,true,false]
[" 25 - 29 ",5620,2917,2703,false,true,true,false]
[" 30 - 34 ",5984,3050,2934,false,true,true,false]
[" 35 - 39 ",5391,2768,2623,false,true,true,false]
[" 40 - 44 ",4935,2499,2436,false,true,true,false]
[" 45 - 49 ",4437,2248,2189,false,true,true,false]
[" 50 - 54 ",4463,2163,2300,false,true,true,false]
[" 55 - 59 ",5274,2535,2739,false,true,true,false]
[" 60 - 64 ",4843,2293,2550,false,true,true,false]
[" 65 - 69 ",4083,1841,2242,false,true,true,false]
[" 70 i więcej",6403,2332,4071,true,true,false,false]
["65+",{"$f":"SUM(B188:B189)","v":10486},{"$f":"SUM(C188:C189)","v":4173},{"$f":"SUM(D188:D189)","v":6313},true,false,true,false]
[" kaliski ",82925,40795,42130,true,true,true,true]
[" 0 - 4 ",4346,2213,2133,false,true,true,false]
[" 5 - 9 ",4606,2374,2232,false,true,true,false]
[" 10 - 14 ",4307,2175,2132,false,true,true,false]
[" 15 - 19 ",4877,2461,2416,false,true,true,false]
[" 20 - 24 ",5823,3018,2805,false,true,true,false]
[" 25 - 29 ",6296,3178,3118,{"$f":"IFERROR(IF(SEARCH(\" - \",A197)>0,FALSE,TRUE),TRUE)","v":false},{"$f":"IFERROR(IF(SEARCH(\"65+\",A197)>0,FALSE,TRUE),TRUE)","v":true},{"$f":"IFERROR(IF(SEARCH(\"70\",A197)>0,FALSE,TRUE),TRUE)","v":true},{"$f":"AND(E197:G197)","v":false}]
[" 30 - 34 ",6402,3310,3092,false,true,true,false]
[" 35 - 39 ",6347,3272,3075,false,true,true,false]
[" 40 - 44 ",6109,3114,2995,false,true,true,false]
[" 45 - 49 ",5503,2793,2710,false,true,true,false]
[" 50 - 54 ",5379,2708,2671,false,true,true,false]
[" 55 - 59 ",5605,2873,2732,false,true,true,false]
[" 60 - 64 ",5078,2447,2631,false,true,true,false]
[" 65 - 69 ",4317,1957,2360,false,true,true,false]
[" 70 i więcej",7930,2902,5028,true,true,false,false]
["65+",{"$f":"SUM(B205:B206)","v":12247},{"$f":"SUM(C205:C206)","v":4859},{"$f":"SUM(D205:D206)","v":7388},true,false,true,false]
[" kępiński ",56412,27982,28430,true,true,true,true]
[" 0 - 4 ",2979,1499,1480,false,true,true,false]
[" 5 - 9 ",3237,1694,1543,false,true,true,false]
[" 10 - 14 ",2969,1539,1430,false,true,true,false]
[" 15 - 19 ",3152,1597,1555,false,true,true,false]
[" 20 - 24 ",3884,1983,1901,false,true,true,false]
[" 25 - 29 ",4326,2210,2116,false,true,true,false]
[" 30 - 34 ",4669,2471,2198,false,true,true,false]
[" 35 - 39 ",4406,2270,2136,false,true,true,false]
[" 40 - 44 ",4196,2158,2038,false,true,true,false]
[" 45 - 49 ",3549,1802,1747,false,true,true,false]
[" 50 - 54 ",3487,1787,1700,false,true,true,false]
[" 55 - 59 ",3894,1945,1949,false,true,true,false]
[" 60 - 64 ",3653,1748,1905,false,true,true,false]
[" 65 - 69 ",3145,1458,1687,false,true,true,false]
[" 70 i więcej",4866,1821,3045,true,true,false,false]
["65+",{"$f":"SUM(B222:B223)","v":8011},{"$f":"SUM(C222:C223)","v":3279},{"$f":"SUM(D222:D223)","v":4732},true,false,true,false]
[" kolski ",88218,43255,44963,true,true,true,true]
[" 0 - 4 ",4232,2199,2033,false,true,true,false]
[" 5 - 9 ",4882,2506,2376,false,true,true,false]
[" 10 - 14 ",4321,2215,2106,false,true,true,false]
[" 15 - 19 ",4934,2544,2390,false,true,true,false]
[" 20 - 24 ",6091,3157,2934,false,true,true,false]
[" 25 - 29 ",6391,3344,3047,false,true,true,false]
[" 30 - 34 ",6704,3458,3246,false,true,true,false]
[" 35 - 39 ",6662,3450,3212,false,true,true,false]
[" 40 - 44 ",6408,3260,3148,false,true,true,false]
[" 45 - 49 ",5582,2849,2733,false,true,true,false]
[" 50 - 54 ",5502,2731,2771,false,true,true,false]
[" 55 - 59 ",6416,3163,3253,false,true,true,false]
[" 60 - 64 ",6162,2925,3237,false,true,true,false]
[" 65 - 69 ",5228,2324,2904,false,true,true,false]
[" 70 i więcej",8703,3130,5573,true,true,false,false]
["65+",{"$f":"SUM(B239:B240)","v":13931},{"$f":"SUM(C239:C240)","v":5454},{"$f":"SUM(D239:D240)","v":8477},true,false,true,false]
[" koniński ",129330,64322,65008,true,true,true,true]
[" 0 - 4 ",6484,3411,3073,false,true,true,false]
[" 5 - 9 ",7415,3858,3557,false,true,true,false]
[" 10 - 14 ",7102,3636,3466,false,true,true,false]
[" 15 - 19 ",8033,4133,3900,false,true,true,false]
[" 20 - 24 ",10082,5100,4982,false,true,true,false]
[" 25 - 29 ",9890,5105,4785,false,true,true,false]
[" 30 - 34 ",10160,5243,4917,false,true,true,false]
[" 35 - 39 ",10050,5160,4890,false,true,true,false]
[" 40 - 44 ",9761,4965,4796,false,true,true,false]
[" 45 - 49 ",8638,4439,4199,false,true,true,false]
[" 50 - 54 ",8272,4221,4051,false,true,true,false]
[" 55 - 59 ",8846,4516,4330,false,true,true,false]
[" 60 - 64 ",7586,3793,3793,false,true,true,false]
[" 65 - 69 ",6166,2837,3329,false,true,true,false]
[" 70 i więcej",10845,3905,6940,true,true,false,false]
["65+",{"$f":"SUM(B256:B257)","v":17011},{"$f":"SUM(C256:C257)","v":6742},{"$f":"SUM(D256:D257)","v":10269},true,false,true,false]
[" kościański ",79046,38797,40249,true,true,true,true]
[" 0 - 4 ",4220,2103,2117,false,true,true,false]
[" 5 - 9 ",4480,2336,2144,{"$f":"IFERROR(IF(SEARCH(\" - \",A261)>0,FALSE,TRUE),TRUE)","v":false},{"$f":"IFERROR(IF(SEARCH(\"65+\",A261)>0,FALSE,TRUE),TRUE)","v":true},{"$f":"IFERROR(IF(SEARCH(\"70\",A261)>0,FALSE,TRUE),TRUE)","v":true},{"$f":"AND(E261:G261)","v":false}]
[" 10 - 14 ",3748,1932,1816,false,true,true,false]
[" 15 - 19 ",4369,2277,2092,false,true,true,false]
[" 20 - 24 ",5410,2793,2617,false,true,true,false]
[" 25 - 29 ",6095,3178,2917,false,true,true,false]
[" 30 - 34 ",6619,3435,3184,false,true,true,false]
[" 35 - 39 ",6132,3097,3035,false,true,true,false]
[" 40 - 44 ",5457,2754,2703,false,true,true,false]
[" 45 - 49 ",4898,2387,2511,false,true,true,false]
[" 50 - 54 ",5138,2558,2580,false,true,true,false]
[" 55 - 59 ",5765,2840,2925,false,true,true,false]
[" 60 - 64 ",5363,2545,2818,false,true,true,false]
[" 65 - 69 ",4501,2074,2427,false,true,true,false]
[" 70 i więcej",6851,2488,4363,true,true,false,false]
["65+",{"$f":"SUM(B273:B274)","v":11352},{"$f":"SUM(C273:C274)","v":4562},{"$f":"SUM(D273:D274)","v":6790},true,false,true,false]
[" krotoszyński ",77618,38165,39453,true,true,true,true]
[" 0 - 4 ",4238,2207,2031,false,true,true,false]
[" 5 - 9 ",4555,2287,2268,false,true,true,false]
[" 10 - 14 ",3991,2098,1893,false,true,true,false]
[" 15 - 19 ",4429,2318,2111,false,true,true,false]
[" 20 - 24 ",5348,2701,2647,false,true,true,false]
[" 25 - 29 ",5900,3097,2803,false,true,true,false]
[" 30 - 34 ",6468,3337,3131,false,true,true,false]
[" 35 - 39 ",5878,2970,2908,false,true,true,false]
[" 40 - 44 ",5347,2721,2626,false,true,true,false]
[" 45 - 49 ",4620,2285,2335,false,true,true,false]
[" 50 - 54 ",4923,2466,2457,false,true,true,false]
[" 55 - 59 ",5611,2756,2855,false,true,true,false]
[" 60 - 64 ",5138,2480,2658,false,true,true,false]
[" 65 - 69 ",4309,1937,2372,false,true,true,false]
[" 70 i więcej",6863,2505,4358,true,true,false,false]
["65+",{"$f":"SUM(B290:B291)","v":11172},{"$f":"SUM(C290:C291)","v":4442},{"$f":"SUM(D290:D291)","v":6730},true,false,true,false]
[" leszczyński ",55006,27481,27525,true,true,true,true]
[" 0 - 4 ",3151,1627,1524,false,true,true,false]
[" 5 - 9 ",3595,1862,1733,false,true,true,false]
[" 10 - 14 ",3187,1683,1504,false,true,true,false]
[" 15 - 19 ",3247,1682,1565,false,true,true,false]
[" 20 - 24 ",3765,1967,1798,false,true,true,false]
[" 25 - 29 ",4339,2235,2104,false,true,true,false]
[" 30 - 34 ",4539,2328,2211,false,true,true,false]
[" 35 - 39 ",4616,2325,2291,false,true,true,false]
[" 40 - 44 ",4043,2054,1989,false,true,true,false]
[" 45 - 49 ",3413,1746,1667,false,true,true,false]
[" 50 - 54 ",3256,1651,1605,false,true,true,false]
[" 55 - 59 ",3698,1838,1860,false,true,true,false]
[" 60 - 64 ",3287,1588,1699,false,true,true,false]
[" 65 - 69 ",2886,1336,1550,false,true,true,false]
[" 70 i więcej",3984,1559,2425,true,true,false,false]
["65+",{"$f":"SUM(B307:B308)","v":6870},{"$f":"SUM(C307:C308)","v":2895},{"$f":"SUM(D307:D308)","v":3975},true,false,true,false]
[" międzychodzki ",37068,18360,18708,true,true,true,true]
[" 0 - 4 ",1978,1026,952,false,true,true,false]
[" 5 - 9 ",2171,1114,1057,false,true,true,false]
[" 10 - 14 ",1894,993,901,false,true,true,false]
[" 15 - 19 ",2024,1028,996,false,true,true,false]
[" 20 - 24 ",2549,1272,1277,false,true,true,false]
[" 25 - 29 ",2771,1450,1321,false,true,true,false]
[" 30 - 34 ",3064,1586,1478,false,true,true,false]
[" 35 - 39 ",2866,1490,1376,false,true,true,false]
[" 40 - 44 ",2644,1384,1260,false,true,true,false]
[" 45 - 49 ",2214,1106,1108,false,true,true,false]
[" 50 - 54 ",2208,1093,1115,false,true,true,false]
[" 55 - 59 ",2684,1345,1339,false,true,true,false]
[" 60 - 64 ",2714,1311,1403,false,true,true,false]
[" 65 - 69 ",2249,1029,1220,false,true,true,false]
[" 70 i więcej",3038,1133,1905,{"$f":"IFERROR(IF(SEARCH(\" - \",A325)>0,FALSE,TRUE),TRUE)","v":true},{"$f":"IFERROR(IF(SEARCH(\"65+\",A325)>0,FALSE,TRUE),TRUE)","v":true},{"$f":"IFERROR(IF(SEARCH(\"70\",A325)>0,FALSE,TRUE),TRUE)","v":false},{"$f":"AND(E325:G325)","v":false}]
["65+",{"$f":"SUM(B324:B325)","v":5287},{"$f":"SUM(C324:C325)","v":2162},{"$f":"SUM(D324:D325)","v":3125},true,false,true,false]
[" nowotomyski ",74787,36719,38068,true,true,true,true]
[" 0 - 4 ",4392,2284,2108,false,true,true,false]
[" 5 - 9 ",4755,2468,2287,false,true,true,false]
[" 10 - 14 ",3952,2008,1944,false,true,true,false]
[" 15 - 19 ",4160,2100,2060,false,true,true,false]
[" 20 - 24 ",4875,2538,2337,false,true,true,false]
[" 25 - 29 ",5809,2980,2829,false,true,true,false]
[" 30 - 34 ",6551,3282,3269,false,true,true,false]
[" 35 - 39 ",6095,3126,2969,false,true,true,false]
[" 40 - 44 ",5339,2757,2582,false,true,true,false]
[" 45 - 49 ",4366,2204,2162,false,true,true,false]
[" 50 - 54 ",4438,2136,2302,false,true,true,false]
[" 55 - 59 ",5126,2564,2562,false,true,true,false]
[" 60 - 64 ",4754,2251,2503,false,true,true,false]
[" 65 - 69 ",4293,1943,2350,false,true,true,false]
[" 70 i więcej",5882,2078,3804,true,true,false,false]
["65+",{"$f":"SUM(B341:B342)","v":10175},{"$f":"SUM(C341:C342)","v":4021},{"$f":"SUM(D341:D342)","v":6154},true,false,true,false]
[" obornicki ",59525,29502,30023,true,true,true,true]
[" 0 - 4 ",3368,1728,1640,false,true,true,false]
[" 5 - 9 ",3823,1993,1830,false,true,true,false]
[" 10 - 14 ",3220,1665,1555,false,true,true,false]
[" 15 - 19 ",3229,1639,1590,false,true,true,false]
[" 20 - 24 ",3852,2029,1823,false,true,true,false]
[" 25 - 29 ",4475,2288,2187,false,true,true,false]
[" 30 - 34 ",5383,2741,2642,false,true,true,false]
[" 35 - 39 ",5004,2608,2396,false,true,true,false]
[" 40 - 44 ",4218,2187,2031,false,true,true,false]
[" 45 - 49 ",3457,1761,1696,false,true,true,false]
[" 50 - 54 ",3463,1705,1758,false,true,true,false]
[" 55 - 59 ",4266,2085,2181,false,true,true,false]
[" 60 - 64 ",4038,1890,2148,false,true,true,false]
[" 65 - 69 ",3313,1538,1775,false,true,true,false]
[" 70 i więcej",4416,1645,2771,true,true,false,false]
["65+",{"$f":"SUM(B358:B359)","v":7729},{"$f":"SUM(C358:C359)","v":3183},{"$f":"SUM(D358:D359)","v":4546},true,false,true,false]
[" ostrowski ",161445,78966,82479,true,true,true,true]
[" 0 - 4 ",8187,4229,3958,false,true,true,false]
[" 5 - 9 ",8890,4574,4316,false,true,true,false]
[" 10 - 14 ",7844,4028,3816,false,true,true,false]
[" 15 - 19 ",8573,4360,4213,false,true,true,false]
[" 20 - 24 ",10515,5353,5162,false,true,true,false]
[" 25 - 29 ",12386,6471,5915,false,true,true,false]
[" 30 - 34 ",13113,6737,6376,false,true,true,false]
[" 35 - 39 ",12678,6457,6221,false,true,true,false]
[" 40 - 44 ",11517,5848,5669,false,true,true,false]
[" 45 - 49 ",10285,5138,5147,false,true,true,false]
[" 50 - 54 ",10329,5185,5144,false,true,true,false]
[" 55 - 59 ",11521,5542,5979,false,true,true,false]
[" 60 - 64 ",10920,5199,5721,false,true,true,false]
[" 65 - 69 ",9477,4213,5264,false,true,true,false]
[" 70 i więcej",15210,5632,9578,true,true,false,false]
["65+",{"$f":"SUM(B375:B376)","v":24687},{"$f":"SUM(C375:C376)","v":9845},{"$f":"SUM(D375:D376)","v":14842},true,false,true,false]
[" ostrzeszowski ",55404,27392,28012,true,true,true,true]
[" 0 - 4 ",2839,1431,1408,false,true,true,false]
[" 5 - 9 ",3273,1685,1588,false,true,true,false]
[" 10 - 14 ",2872,1478,1394,false,true,true,false]
[" 15 - 19 ",3180,1625,1555,false,true,true,false]
[" 20 - 24 ",3923,2009,1914,false,true,true,false]
[" 25 - 29 ",4267,2224,2043,false,true,true,false]
[" 30 - 34 ",4433,2317,2116,false,true,true,false]
[" 35 - 39 ",4212,2158,2054,false,true,true,false]
[" 40 - 44 ",3939,2019,1920,false,true,true,false]
[" 45 - 49 ",3496,1774,1722,false,true,true,false]
[" 50 - 54 ",3537,1812,1725,{"$f":"IFERROR(IF(SEARCH(\" - \",A389)>0,FALSE,TRUE),TRUE)","v":false},{"$f":"IFERROR(IF(SEARCH(\"65+\",A389)>0,FALSE,TRUE),TRUE)","v":true},{"$f":"IFERROR(IF(SEARCH(\"70\",A389)>0,FALSE,TRUE),TRUE)","v":true},{"$f":"AND(E389:G389)","v":false}]
[" 55 - 59 ",3843,1891,1952,false,true,true,false]
[" 60 - 64 ",3572,1706,1866,false,true,true,false]
[" 65 - 69 ",3194,1465,1729,false,true,true,false]
[" 70 i więcej",4824,1798,3026,true,true,false,false]
["65+",{"$f":"SUM(B392:B393)","v":8018},{"$f":"SUM(C392:C393)","v":3263},{"$f":"SUM(D392:D393)","v":4755},true,false,true,false]
[" pilski ",137463,67309,70154,true,true,true,true]
[" 0 - 4 ",6588,3418,3170,false,true,true,false]
[" 5 - 9 ",7844,4070,3774,false,true,true,false]
[" 10 - 14 ",7056,3671,3385,false,true,true,false]
[" 15 - 19 ",7619,3867,3752,false,true,true,false]
[" 20 - 24 ",8917,4638,4279,false,true,true,false]
[" 25 - 29 ",10107,5261,4846,false,true,true,false]
[" 30 - 34 ",11693,5953,5740,false,true,true,false]
[" 35 - 39 ",11152,5741,5411,false,true,true,false]
[" 40 - 44 ",9691,4863,4828,false,true,true,false]
[" 45 - 49 ",8418,4200,4218,false,true,true,false]
[" 50 - 54 ",8508,4198,4310,false,true,true,false]
[" 55 - 59 ",10238,4801,5437,false,true,true,false]
[" 60 - 64 ",10002,4752,5250,false,true,true,false]
[" 65 - 69 ",7966,3614,4352,false,true,true,false]
[" 70 i więcej",11664,4262,7402,true,true,false,false]
["65+",{"$f":"SUM(B409:B410)","v":19630},{"$f":"SUM(C409:C410)","v":7876},{"$f":"SUM(D409:D410)","v":11754},true,false,true,false]
[" pleszewski ",63147,31342,31805,true,true,true,true]
[" 0 - 4 ",3238,1671,1567,false,true,true,false]
[" 5 - 9 ",3673,1939,1734,false,true,true,false]
[" 10 - 14 ",3372,1786,1586,false,true,true,false]
[" 15 - 19 ",3568,1887,1681,false,true,true,false]
[" 20 - 24 ",4308,2273,2035,false,true,true,false]
[" 25 - 29 ",4660,2418,2242,false,true,true,false]
[" 30 - 34 ",5130,2641,2489,false,true,true,false]
[" 35 - 39 ",5114,2600,2514,false,true,true,false]
[" 40 - 44 ",4617,2375,2242,false,true,true,false]
[" 45 - 49 ",4042,2053,1989,false,true,true,false]
[" 50 - 54 ",3851,1914,1937,false,true,true,false]
[" 55 - 59 ",4245,2091,2154,false,true,true,false]
[" 60 - 64 ",4262,2011,2251,false,true,true,false]
[" 65 - 69 ",3626,1641,1985,false,true,true,false]
[" 70 i więcej",5441,2042,3399,true,true,false,false]
["65+",{"$f":"SUM(B426:B427)","v":9067},{"$f":"SUM(C426:C427)","v":3683},{"$f":"SUM(D426:D427)","v":5384},true,false,true,false]
[" poznański ",369868,180223,189645,true,true,true,true]
[" 0 - 4 ",23321,11977,11344,false,true,true,false]
[" 5 - 9 ",26463,13564,12899,false,true,true,false]
[" 10 - 14 ",20793,10705,10088,false,true,true,false]
[" 15 - 19 ",18978,9828,9150,false,true,true,false]
[" 20 - 24 ",20617,10552,10065,false,true,true,false]
[" 25 - 29 ",25322,12584,12738,false,true,true,false]
[" 30 - 34 ",33863,16533,17330,false,true,true,false]
[" 35 - 39 ",35912,17509,18403,false,true,true,false]
[" 40 - 44 ",31570,15711,15859,false,true,true,false]
[" 45 - 49 ",22803,11510,11293,false,true,true,false]
[" 50 - 54 ",20949,10219,10730,false,true,true,false]
[" 55 - 59 ",23685,11279,12406,false,true,true,false]
[" 60 - 64 ",22457,10499,11958,false,true,true,false]
[" 65 - 69 ",18419,8383,10036,false,true,true,false]
[" 70 i więcej",24716,9370,15346,true,true,false,false]
["65+",{"$f":"SUM(B443:B444)","v":43135},{"$f":"SUM(C443:C444)","v":17753},{"$f":"SUM(D443:D444)","v":25382},true,false,true,false]
[" rawicki ",60255,29763,30492,true,true,true,true]
[" 0 - 4 ",3153,1620,1533,false,true,true,false]
[" 5 - 9 ",3760,1965,1795,false,true,true,false]
[" 10 - 14 ",3246,1696,1550,false,true,true,false]
[" 15 - 19 ",3287,1725,1562,false,true,true,false]
[" 20 - 24 ",3989,2032,1957,false,true,true,false]
[" 25 - 29 ",4559,2372,2187,false,true,true,false]
[" 30 - 34 ",4873,2454,2419,{"$f":"IFERROR(IF(SEARCH(\" - \",A453)>0,FALSE,TRUE),TRUE)","v":false},{"$f":"IFERROR(IF(SEARCH(\"65+\",A453)>0,FALSE,TRUE),TRUE)","v":true},{"$f":"IFERROR(IF(SEARCH(\"70\",A453)>0,FALSE,TRUE),TRUE)","v":true},{"$f":"AND(E453:G453)","v":false}]
[" 35 - 39 ",4920,2517,2403,false,true,true,false]
[" 40 - 44 ",4322,2238,2084,false,true,true,false]
[" 45 - 49 ",3500,1794,1706,false,true,true,false]
[" 50 - 54 ",3591,1784,1807,false,true,true,false]
[" 55 - 59 ",4154,2042,2112,false,true,true,false]
[" 60 - 64 ",4034,1882,2152,false,true,true,false]
[" 65 - 69 ",3616,1681,1935,false,true,true,false]
[" 70 i więcej",5251,1961,3290,true,true,false,false]
["65+",{"$f":"SUM(B460:B461)","v":8867},{"$f":"SUM(C460:C461)","v":3642},{"$f":"SUM(D460:D461)","v":5225},true,false,true,false]
[" słupecki ",59536,29603,29933,true,true,true,true]
[" 0 - 4 ",2984,1537,1447,false,true,true,false]
[" 5 - 9 ",3312,1743,1569,false,true,true,false]
[" 10 - 14 ",2909,1516,1393,false,true,true,false]
[" 15 - 19 ",3410,1818,1592,false,true,true,false]
[" 20 - 24 ",4227,2217,2010,false,true,true,false]
[" 25 - 29 ",4471,2289,2182,false,true,true,false]
[" 30 - 34 ",4739,2433,2306,false,true,true,false]
[" 35 - 39 ",4669,2376,2293,false,true,true,false]
[" 40 - 44 ",4343,2231,2112,false,true,true,false]
[" 45 - 49 ",3689,1908,1781,false,true,true,false]
[" 50 - 54 ",3695,1887,1808,false,true,true,false]
[" 55 - 59 ",4238,2118,2120,false,true,true,false]
[" 60 - 64 ",3972,1927,2045,false,true,true,false]
[" 65 - 69 ",3500,1609,1891,false,true,true,false]
[" 70 i więcej",5378,1994,3384,true,true,false,false]
["65+",{"$f":"SUM(B477:B478)","v":8878},{"$f":"SUM(C477:C478)","v":3603},{"$f":"SUM(D477:D478)","v":5275},true,false,true,false]
[" szamotulski ",90254,44284,45970,true,true,true,true]
[" 0 - 4 ",4976,2544,2432,false,true,true,false]
[" 5 - 9 ",5558,2851,2707,false,true,true,false]
[" 10 - 14 ",4680,2401,2279,false,true,true,false]
[" 15 - 19 ",4785,2497,2288,false,true,true,false]
[" 20 - 24 ",5616,2926,2690,false,true,true,false]
[" 25 - 29 ",6701,3367,3334,false,true,true,false]
[" 30 - 34 ",7947,4064,3883,false,true,true,false]
[" 35 - 39 ",7689,3966,3723,false,true,true,false]
[" 40 - 44 ",6606,3308,3298,false,true,true,false]
[" 45 - 49 ",5400,2728,2672,false,true,true,false]
[" 50 - 54 ",5316,2605,2711,false,true,true,false]
[" 55 - 59 ",6478,3110,3368,false,true,true,false]
[" 60 - 64 ",6008,2913,3095,false,true,true,false]
[" 65 - 69 ",5130,2338,2792,false,true,true,false]
[" 70 i więcej",7364,2666,4698,true,true,false,false]
["65+",{"$f":"SUM(B494:B495)","v":12494},{"$f":"SUM(C494:C495)","v":5004},{"$f":"SUM(D494:D495)","v":7490},true,false,true,false]
[" średzki ",57560,28318,29242,true,true,true,true]
[" 0 - 4 ",3396,1781,1615,false,true,true,false]
[" 5 - 9 ",3520,1818,1702,false,true,true,false]
[" 10 - 14 ",2857,1469,1388,false,true,true,false]
[" 15 - 19 ",3081,1579,1502,false,true,true,false]
[" 20 - 24 ",3800,1962,1838,false,true,true,false]
[" 25 - 29 ",4442,2269,2173,false,true,true,false]
[" 30 - 34 ",5024,2565,2459,false,true,true,false]
[" 35 - 39 ",4710,2423,2287,false,true,true,false]
[" 40 - 44 ",4133,2100,2033,false,true,true,false]
[" 45 - 49 ",3391,1742,1649,false,true,true,false]
[" 50 - 54 ",3571,1751,1820,false,true,true,false]
[" 55 - 59 ",4138,2007,2131,false,true,true,false]
[" 60 - 64 ",3768,1797,1971,false,true,true,false]
[" 65 - 69 ",3106,1410,1696,false,true,true,false]
[" 70 i więcej",4623,1645,2978,true,true,false,false]
["65+",{"$f":"SUM(B511:B512)","v":7729},{"$f":"SUM(C511:C512)","v":3055},{"$f":"SUM(D511:D512)","v":4674},true,false,true,false]
[" śremski ",60974,29973,31001,true,true,true,true]
[" 0 - 4 ",3448,1771,1677,false,true,true,false]
[" 5 - 9 ",3696,1961,1735,false,true,true,false]
[" 10 - 14 ",3194,1599,1595,{"$f":"IFERROR(IF(SEARCH(\" - \",A517)>0,FALSE,TRUE),TRUE)","v":false},{"$f":"IFERROR(IF(SEARCH(\"65+\",A517)>0,FALSE,TRUE),TRUE)","v":true},{"$f":"IFERROR(IF(SEARCH(\"70\",A517)>0,FALSE,TRUE),TRUE)","v":true},{"$f":"AND(E517:G517)","v":false}]
[" 15 - 19 ",3349,1708,1641,false,true,true,false]
[" 20 - 24 ",4041,2073,1968,false,true,true,false]
[" 25 - 29 ",4761,2431,2330,false,true,true,false]
[" 30 - 34 ",5043,2576,2467,false,true,true,false]
[" 35 - 39 ",4915,2519,2396,false,true,true,false]
[" 40 - 44 ",4390,2240,2150,false,true,true,false]
[" 45 - 49 ",3751,1879,1872,false,true,true,false]
[" 50 - 54 ",3821,1876,1945,false,true,true,false]
[" 55 - 59 ",4240,2028,2212,false,true,true,false]
[" 60 - 64 ",4051,1910,2141,false,true,true,false]
[" 65 - 69 ",3515,1602,1913,false,true,true,false]
[" 70 i więcej",4759,1800,2959,true,true,false,false]
["65+",{"$f":"SUM(B528:B529)","v":8274},{"$f":"SUM(C528:C529)","v":3402},{"$f":"SUM(D528:D529)","v":4872},true,false,true,false]
[" turecki ",84263,41215,43048,true,true,true,true]
[" 0 - 4 ",4347,2173,2174,false,true,true,false]
[" 5 - 9 ",4855,2503,2352,false,true,true,false]
[" 10 - 14 ",4277,2246,2031,false,true,true,false]
[" 15 - 19 ",4760,2403,2357,false,true,true,false]
[" 20 - 24 ",5851,3011,2840,false,true,true,false]
[" 25 - 29 ",6371,3287,3084,false,true,true,false]
[" 30 - 34 ",6760,3525,3235,false,true,true,false]
[" 35 - 39 ",6348,3260,3088,false,true,true,false]
[" 40 - 44 ",6057,3075,2982,false,true,true,false]
[" 45 - 49 ",5453,2754,2699,false,true,true,false]
[" 50 - 54 ",5390,2659,2731,false,true,true,false]
[" 55 - 59 ",5990,2956,3034,false,true,true,false]
[" 60 - 64 ",5369,2607,2762,false,true,true,false]
[" 65 - 69 ",4396,1898,2498,false,true,true,false]
[" 70 i więcej",8039,2858,5181,true,true,false,false]
["65+",{"$f":"SUM(B545:B546)","v":12435},{"$f":"SUM(C545:C546)","v":4756},{"$f":"SUM(D545:D546)","v":7679},true,false,true,false]
[" wągrowiecki ",69900,34760,35140,true,true,true,true]
[" 0 - 4 ",3801,1982,1819,false,true,true,false]
[" 5 - 9 ",4364,2230,2134,false,true,true,false]
[" 10 - 14 ",3763,1928,1835,false,true,true,false]
[" 15 - 19 ",3994,2078,1916,false,true,true,false]
[" 20 - 24 ",4829,2522,2307,false,true,true,false]
[" 25 - 29 ",5561,2859,2702,false,true,true,false]
[" 30 - 34 ",5991,3084,2907,false,true,true,false]
[" 35 - 39 ",5399,2797,2602,false,true,true,false]
[" 40 - 44 ",4749,2457,2292,false,true,true,false]
[" 45 - 49 ",4152,2116,2036,false,true,true,false]
[" 50 - 54 ",4279,2110,2169,false,true,true,false]
[" 55 - 59 ",5136,2568,2568,false,true,true,false]
[" 60 - 64 ",4542,2221,2321,false,true,true,false]
[" 65 - 69 ",3740,1760,1980,false,true,true,false]
[" 70 i więcej",5600,2048,3552,true,true,false,false]
["65+",{"$f":"SUM(B562:B563)","v":9340},{"$f":"SUM(C562:C563)","v":3808},{"$f":"SUM(D562:D563)","v":5532},true,false,true,false]
[" wolsztyński ",57105,28212,28893,true,true,true,true]
[" 0 - 4 ",3333,1700,1633,false,true,true,false]
[" 5 - 9 ",3500,1795,1705,false,true,true,false]
[" 10 - 14 ",3151,1622,1529,false,true,true,false]
[" 15 - 19 ",3358,1772,1586,false,true,true,false]
[" 20 - 24 ",3985,2060,1925,false,true,true,false]
[" 25 - 29 ",4327,2173,2154,false,true,true,false]
[" 30 - 34 ",4777,2472,2305,false,true,true,false]
[" 35 - 39 ",4504,2326,2178,false,true,true,false]
[" 40 - 44 ",4044,2041,2003,false,true,true,false]
[" 45 - 49 ",3525,1784,1741,false,true,true,false]
[" 50 - 54 ",3439,1720,1719,false,true,true,false]
[" 55 - 59 ",3780,1868,1912,false,true,true,false]
[" 60 - 64 ",3629,1728,1901,false,true,true,false]
[" 65 - 69 ",3178,1433,1745,false,true,true,false]
[" 70 i więcej",4575,1718,2857,true,true,false,false]
["65+",{"$f":"SUM(B579:B580)","v":7753},{"$f":"SUM(C579:C580)","v":3151},{"$f":"SUM(D579:D580)","v":4602},{"$f":"IFERROR(IF(SEARCH(\" - \",A581)>0,FALSE,TRUE),TRUE)","v":true},{"$f":"IFERROR(IF(SEARCH(\"65+\",A581)>0,FALSE,TRUE),TRUE)","v":false},{"$f":"IFERROR(IF(SEARCH(\"70\",A581)>0,FALSE,TRUE),TRUE)","v":true},{"$f":"AND(E581:G581)","v":false}]
[" wrzesiński ",76965,37651,39314,true,true,true,true]
[" 0 - 4 ",4086,2093,1993,false,true,true,false]
[" 5 - 9 ",4705,2419,2286,false,true,true,false]
[" 10 - 14 ",3869,1993,1876,false,true,true,false]
[" 15 - 19 ",4242,2142,2100,false,true,true,false]
[" 20 - 24 ",4788,2421,2367,false,true,true,false]
[" 25 - 29 ",5884,3009,2875,false,true,true,false]
[" 30 - 34 ",6612,3348,3264,false,true,true,false]
[" 35 - 39 ",6248,3293,2955,false,true,true,false]
[" 40 - 44 ",5601,2824,2777,false,true,true,false]
[" 45 - 49 ",4682,2368,2314,false,true,true,false]
[" 50 - 54 ",4707,2360,2347,false,true,true,false]
[" 55 - 59 ",5467,2658,2809,false,true,true,false]
[" 60 - 64 ",5115,2424,2691,false,true,true,false]
[" 65 - 69 ",4415,1949,2466,false,true,true,false]
[" 70 i więcej",6544,2350,4194,true,true,false,false]
["65+",{"$f":"SUM(B596:B597)","v":10959},{"$f":"SUM(C596:C597)","v":4299},{"$f":"SUM(D596:D597)","v":6660},true,false,true,false]
[" złotowski ",69801,34655,35146,true,true,true,true]
[" 0 - 4 ",3512,1829,1683,false,true,true,false]
[" 5 - 9 ",4118,2091,2027,false,true,true,false]
[" 10 - 14 ",3754,1925,1829,false,true,true,false]
[" 15 - 19 ",3960,2071,1889,false,true,true,false]
[" 20 - 24 ",5011,2597,2414,false,true,true,false]
[" 25 - 29 ",5510,2825,2685,false,true,true,false]
[" 30 - 34 ",5853,3046,2807,false,true,true,false]
[" 35 - 39 ",5461,2846,2615,false,true,true,false]
[" 40 - 44 ",4784,2436,2348,false,true,true,false]
[" 45 - 49 ",4103,2049,2054,false,true,true,false]
[" 50 - 54 ",4509,2286,2223,false,true,true,false]
[" 55 - 59 ",5166,2564,2602,false,true,true,false]
[" 60 - 64 ",4696,2311,2385,false,true,true,false]
[" 65 - 69 ",3754,1782,1972,false,true,true,false]
[" 70 i więcej",5610,1997,3613,true,true,false,false]
["65+",{"$f":"SUM(B613:B614)","v":9364},{"$f":"SUM(C613:C614)","v":3779},{"$f":"SUM(D613:D614)","v":5585},true,false,true,false]

{"sheet":"Zachodniopomorskie","index":21,"n_rows":377,"n_cols":8,"rows_kept":377,"cut":false,"hidden":true,"merged":[[0,0,2,0],[0,1,2,1],[0,2,2,2],[0,3,2,3]]}
["Województwa\nPowiaty\nGrupy wieku ","Ogółem","Mężczyźni","Kobiety "]
[]
[]
["Zachodniopomorskie ",1708889,831261,877628,{"$f":"IFERROR(IF(SEARCH(\" - \",A4)>0,FALSE,TRUE),TRUE)","v":true},{"$f":"IFERROR(IF(SEARCH(\"65+\",A4)>0,FALSE,TRUE),TRUE)","v":true},{"$f":"IFERROR(IF(SEARCH(\"70\",A4)>0,FALSE,TRUE),TRUE)","v":true},{"$f":"AND(E4:G4)","v":true}]
[" 0 - 4 ",77900,39824,38076,{"$f":"IFERROR(IF(SEARCH(\" - \",A5)>0,FALSE,TRUE),TRUE)","v":false},{"$f":"IFERROR(IF(SEARCH(\"65+\",A5)>0,FALSE,TRUE),TRUE)","v":true},{"$f":"IFERROR(IF(SEARCH(\"70\",A5)>0,FALSE,TRUE),TRUE)","v":true},{"$f":"AND(E5:G5)","v":false}]
[" 5 - 9 ",89484,45639,43845,false,true,true,false]
[" 10 - 14 ",78864,40708,38156,false,true,true,false]
[" 15 - 19 ",85262,43613,41649,false,true,true,false]
[" 20 - 24 ",105627,53837,51790,false,true,true,false]
[" 25 - 29 ",119618,61345,58273,false,true,true,false]
[" 30 - 34 ",142872,72962,69910,false,true,true,false]
[" 35 - 39 ",139677,71062,68615,false,true,true,false]
[" 40 - 44 ",124970,63520,61450,false,true,true,false]
[" 45 - 49 ",102015,51450,50565,false,true,true,false]
[" 50 - 54 ",104906,52279,52627,false,true,true,false]
[" 55 - 59 ",133271,64345,68926,false,true,true,false]
[" 60 - 64 ",134488,63355,71133,false,true,true,false]
[" 65 - 69 ",107949,49451,58498,false,true,true,false]
[" 70 i więcej",161986,57871,104115,true,true,false,false]
["65+",{"$f":"SUM(B18:B19)","v":269935},{"$f":"SUM(C18:C19)","v":107322},{"$f":"SUM(D18:D19)","v":162613},true,false,true,false]
[" Koszalin ",107981,50932,57049,true,true,true,true]
[" 0 - 4 ",4909,2549,2360,false,true,true,false]
[" 5 - 9 ",5236,2754,2482,false,true,true,false]
[" 10 - 14 ",4254,2205,2049,false,true,true,false]
[" 15 - 19 ",4489,2294,2195,false,true,true,false]
[" 20 - 24 ",5674,2796,2878,false,true,true,false]
[" 25 - 29 ",7103,3502,3601,false,true,true,false]
[" 30 - 34 ",9519,4751,4768,false,true,true,false]
[" 35 - 39 ",9207,4625,4582,false,true,true,false]
[" 40 - 44 ",7699,3890,3809,false,true,true,false]
[" 45 - 49 ",6069,3021,3048,false,true,true,false]
[" 50 - 54 ",6064,2888,3176,false,true,true,false]
[" 55 - 59 ",8064,3626,4438,false,true,true,false]
[" 60 - 64 ",9099,4012,5087,false,true,true,false]
[" 65 - 69 ",7998,3415,4583,false,true,true,false]
[" 70 i więcej",12597,4604,7993,true,true,false,false]
["65+",{"$f":"SUM(B35:B36)","v":20595},{"$f":"SUM(C35:C36)","v":8019},{"$f":"SUM(D35:D36)","v":12576},true,false,true,false]
[" Szczecin ",405413,192632,212781,true,true,true,true]
[" 0 - 4 ",17713,9069,8644,false,true,true,false]
[" 5 - 9 ",19330,9911,9419,false,true,true,false]
[" 10 - 14 ",16124,8254,7870,false,true,true,false]
[" 15 - 19 ",17453,8970,8483,false,true,true,false]
[" 20 - 24 ",21641,10985,10656,false,true,true,false]
[" 25 - 29 ",26075,13073,13002,false,true,true,false]
[" 30 - 34 ",35983,17857,18126,false,true,true,false]
[" 35 - 39 ",34923,17442,17481,false,true,true,false]
[" 40 - 44 ",30885,15276,15609,false,true,true,false]
[" 45 - 49 ",23392,11710,11682,false,true,true,false]
[" 50 - 54 ",22734,11116,11618,false,true,true,false]
[" 55 - 59 ",30375,14260,16115,false,true,true,false]
[" 60 - 64 ",33182,15001,18181,false,true,true,false]
[" 65 - 69 ",27963,12332,15631,false,true,true,false]
[" 70 i więcej",47640,17376,30264,true,true,false,false]
["65+",{"$f":"SUM(B52:B53)","v":75603},{"$f":"SUM(C52:C53)","v":29708},{"$f":"SUM(D52:D53)","v":45895},true,false,true,false]
[" Świnoujście ",41134,19860,21274,true,true,true,true]
[" 0 - 4 ",1463,759,704,false,true,true,false]
[" 5 - 9 ",1849,924,925,false,true,true,false]
[" 10 - 14 ",1583,799,784,false,true,true,false]
[" 15 - 19 ",1695,884,811,false,true,true,false]
[" 20 - 24 ",2146,1088,1058,false,true,true,false]
[" 25 - 29 ",2641,1357,1284,false,true,true,false]
[" 30 - 34 ",3211,1672,1539,false,true,true,false]
[" 35 - 39 ",3399,1759,1640,false,true,true,false]
[" 40 - 44 ",3158,1640,1518,false,true,true,false]
[" 45 - 49 ",2530,1247,1283,false,true,true,false]
[" 50 - 54 ",2682,1335,1347,false,true,true,false]
[" 55 - 59 ",3446,1601,1845,false,true,true,false]
[" 60 - 64 ",3599,1631,1968,false,true,true,false]
[" 65 - 69 ",3038,1372,1666,{"$f":"IFERROR(IF(SEARCH(\" - \",A69)>0,FALSE,TRUE),TRUE)","v":false},{"$f":"IFERROR(IF(SEARCH(\"65+\",A69)>0,FALSE,TRUE),TRUE)","v":true},{"$f":"IFERROR(IF(SEARCH(\"70\",A69)>0,FALSE,TRUE),TRUE)","v":true},{"$f":"AND(E69:G69)","v":false}]
[" 70 i więcej",4694,1792,2902,true,true,false,false]
["65+",{"$f":"SUM(B69:B70)","v":7732},{"$f":"SUM(C69:C70)","v":3164},{"$f":"SUM(D69:D70)","v":4568},true,false,true,false]
[" białogardzki ",48338,23718,24620,true,true,true,true]
[" 0 - 4 ",2205,1133,1072,false,true,true,false]
[" 5 - 9 ",2717,1397,1320,false,true,true,false]
[" 10 - 14 ",2382,1233,1149,false,true,true,false]
[" 15 - 19 ",2684,1393,1291,false,true,true,false]
[" 20 - 24 ",3341,1674,1667,false,true,true,false]
[" 25 - 29 ",3578,1870,1708,false,true,true,false]
[" 30 - 34 ",3980,2072,1908,false,true,true,false]
[" 35 - 39 ",3742,1905,1837,false,true,true,false]
[" 40 - 44 ",3473,1811,1662,false,true,true,false]
[" 45 - 49 ",3028,1520,1508,false,true,true,false]
[" 50 - 54 ",2927,1471,1456,false,true,true,false]
[" 55 - 59 ",3721,1856,1865,false,true,true,false]
[" 60 - 64 ",3572,1707,1865,false,true,true,false]
[" 65 - 69 ",2836,1312,1524,false,true,true,false]
[" 70 i więcej",4152,1364,2788,true,true,false,false]
["65+",{"$f":"SUM(B86:B87)","v":6988},{"$f":"SUM(C86:C87)","v":2676},{"$f":"SUM(D86:D87)","v":4312},true,false,true,false]
[" choszczeński ",49315,24650,24665,true,true,true,true]
[" 0 - 4 ",2284,1186,1098,false,true,true,false]
[" 5 - 9 ",2687,1389,1298,false,true,true,false]
[" 10 - 14 ",2462,1288,1174,false,true,true,false]
[" 15 - 19 ",2477,1302,1175,false,true,true,false]
[" 20 - 24 ",3555,1840,1715,false,true,true,false]
[" 25 - 29 ",3801,2032,1769,false,true,true,false]
[" 30 - 34 ",4030,2106,1924,false,true,true,false]
[" 35 - 39 ",3697,1928,1769,false,true,true,false]
[" 40 - 44 ",3394,1786,1608,false,true,true,false]
[" 45 - 49 ",3022,1545,1477,false,true,true,false]
[" 50 - 54 ",3179,1570,1609,false,true,true,false]
[" 55 - 59 ",3863,1954,1909,false,true,true,false]
[" 60 - 64 ",3677,1822,1855,false,true,true,false]
[" 65 - 69 ",2961,1412,1549,false,true,true,false]
[" 70 i więcej",4226,1490,2736,true,true,false,false]
["65+",{"$f":"SUM(B103:B104)","v":7187},{"$f":"SUM(C103:C104)","v":2902},{"$f":"SUM(D103:D104)","v":4285},true,false,true,false]
[" drawski ",57987,28412,29575,true,true,true,true]
[" 0 - 4 ",2852,1428,1424,false,true,true,false]
[" 5 - 9 ",3156,1603,1553,false,true,true,false]
[" 10 - 14 ",2783,1436,1347,false,true,true,false]
[" 15 - 19 ",3148,1546,1602,false,true,true,false]
[" 20 - 24 ",3884,1961,1923,false,true,true,false]
[" 25 - 29 ",4266,2195,2071,false,true,true,false]
[" 30 - 34 ",4684,2461,2223,false,true,true,false]
[" 35 - 39 ",4563,2349,2214,false,true,true,false]
[" 40 - 44 ",3973,2002,1971,false,true,true,false]
[" 45 - 49 ",3269,1631,1638,false,true,true,false]
[" 50 - 54 ",3723,1877,1846,false,true,true,false]
[" 55 - 59 ",4725,2354,2371,false,true,true,false]
[" 60 - 64 ",4415,2132,2283,false,true,true,false]
[" 65 - 69 ",3568,1665,1903,false,true,true,false]
[" 70 i więcej",4978,1772,3206,true,true,false,false]
["65+",{"$f":"SUM(B120:B121)","v":8546},{"$f":"SUM(C120:C121)","v":3437},{"$f":"SUM(D120:D121)","v":5109},true,false,true,false]
[" goleniowski ",82360,40655,41705,true,true,true,true]
[" 0 - 4 ",4056,2050,2006,false,true,true,false]
[" 5 - 9 ",4718,2419,2299,false,true,true,false]
[" 10 - 14 ",4265,2200,2065,false,true,true,false]
[" 15 - 19 ",4442,2227,2215,false,true,true,false]
[" 20 - 24 ",5430,2783,2647,false,true,true,false]
[" 25 - 29 ",5980,3098,2882,false,true,true,false]
[" 30 - 34 ",6674,3426,3248,false,true,true,false]
[" 35 - 39 ",6865,3542,3323,false,true,true,false]
[" 40 - 44 ",6196,3186,3010,false,true,true,false]
[" 45 - 49 ",4999,2587,2412,{"$f":"IFERROR(IF(SEARCH(\" - \",A133)>0,FALSE,TRUE),TRUE)","v":false},{"$f":"IFERROR(IF(SEARCH(\"65+\",A133)>0,FALSE,TRUE),TRUE)","v":true},{"$f":"IFERROR(IF(SEARCH(\"70\",A133)>0,FALSE,TRUE),TRUE)","v":true},{"$f":"AND(E133:G133)","v":false}]
[" 50 - 54 ",5036,2581,2455,false,true,true,false]
[" 55 - 59 ",6299,3084,3215,false,true,true,false]
[" 60 - 64 ",6100,2934,3166,false,true,true,false]
[" 65 - 69 ",4767,2191,2576,false,true,true,false]
[" 70 i więcej",6533,2347,4186,true,true,false,false]
["65+",{"$f":"SUM(B137:B138)","v":11300},{"$f":"SUM(C137:C138)","v":4538},{"$f":"SUM(D137:D138)","v":6762},true,false,true,false]
[" gryficki ",61187,30263,30924,true,true,true,true]
[" 0 - 4 ",2845,1459,1386,false,true,true,false]
[" 5 - 9 ",3384,1706,1678,false,true,true,false]
[" 10 - 14 ",3019,1535,1484,false,true,true,false]
[" 15 - 19 ",3242,1651,1591,false,true,true,false]
[" 20 - 24 ",4144,2101,2043,false,true,true,false]
[" 25 - 29 ",4589,2425,2164,false,true,true,false]
[" 30 - 34 ",5035,2690,2345,false,true,true,false]
[" 35 - 39 ",4852,2460,2392,false,true,true,false]
[" 40 - 44 ",4235,2188,2047,false,true,true,false]
[" 45 - 49 ",3608,1843,1765,false,true,true,false]
[" 50 - 54 ",3972,2001,1971,false,true,true,false]
[" 55 - 59 ",4928,2475,2453,false,true,true,false]
[" 60 - 64 ",4780,2362,2418,false,true,true,false]
[" 65 - 69 ",3513,1673,1840,false,true,true,false]
[" 70 i więcej",5041,1694,3347,true,true,false,false]
["65+",{"$f":"SUM(B154:B155)","v":8554},{"$f":"SUM(C154:C155)","v":3367},{"$f":"SUM(D154:D155)","v":5187},true,false,true,false]
[" gryfiński ",83303,41264,42039,true,true,true,true]
[" 0 - 4 ",3954,1972,1982,false,true,true,false]
[" 5 - 9 ",4595,2377,2218,false,true,true,false]
[" 10 - 14 ",4173,2149,2024,false,true,true,false]
[" 15 - 19 ",4313,2210,2103,false,true,true,false]
[" 20 - 24 ",5629,2891,2738,false,true,true,false]
[" 25 - 29 ",6093,3151,2942,false,true,true,false]
[" 30 - 34 ",6796,3552,3244,false,true,true,false]
[" 35 - 39 ",6788,3466,3322,false,true,true,false]
[" 40 - 44 ",6093,3151,2942,false,true,true,false]
[" 45 - 49 ",4992,2582,2410,false,true,true,false]
[" 50 - 54 ",5320,2716,2604,false,true,true,false]
[" 55 - 59 ",6517,3160,3357,false,true,true,false]
[" 60 - 64 ",6428,3166,3262,false,true,true,false]
[" 65 - 69 ",4903,2360,2543,false,true,true,false]
[" 70 i więcej",6709,2361,4348,true,true,false,false]
["65+",{"$f":"SUM(B171:B172)","v":11612},{"$f":"SUM(C171:C172)","v":4721},{"$f":"SUM(D171:D172)","v":6891},true,false,true,false]
[" kamieński ",47367,23271,24096,true,true,true,true]
[" 0 - 4 ",1935,1005,930,false,true,true,false]
[" 5 - 9 ",2340,1185,1155,false,true,true,false]
[" 10 - 14 ",2197,1121,1076,false,true,true,false]
[" 15 - 19 ",2157,1075,1082,false,true,true,false]
[" 20 - 24 ",2998,1544,1454,false,true,true,false]
[" 25 - 29 ",3483,1858,1625,false,true,true,false]
[" 30 - 34 ",3900,2012,1888,false,true,true,false]
[" 35 - 39 ",3716,1934,1782,false,true,true,false]
[" 40 - 44 ",3277,1697,1580,false,true,true,false]
[" 45 - 49 ",2748,1372,1376,false,true,true,false]
[" 50 - 54 ",3055,1558,1497,false,true,true,false]
[" 55 - 59 ",4130,1992,2138,false,true,true,false]
[" 60 - 64 ",4187,2025,2162,false,true,true,false]
[" 65 - 69 ",3121,1464,1657,false,true,true,false]
[" 70 i więcej",4123,1429,2694,true,true,false,false]
["65+",{"$f":"SUM(B188:B189)","v":7244},{"$f":"SUM(C188:C189)","v":2893},{"$f":"SUM(D188:D189)","v":4351},true,false,true,false]
[" kołobrzeski ",79519,38189,41330,true,true,true,true]
[" 0 - 4 ",3404,1733,1671,false,true,true,false]
[" 5 - 9 ",3992,2027,1965,false,true,true,false]
[" 10 - 14 ",3571,1829,1742,false,true,true,false]
[" 15 - 19 ",4346,2196,2150,false,true,true,false]
[" 20 - 24 ",4492,2302,2190,false,true,true,false]
[" 25 - 29 ",5337,2704,2633,{"$f":"IFERROR(IF(SEARCH(\" - \",A197)>0,FALSE,TRUE),TRUE)","v":false},{"$f":"IFERROR(IF(SEARCH(\"65+\",A197)>0,FALSE,TRUE),TRUE)","v":true},{"$f":"IFERROR(IF(SEARCH(\"70\",A197)>0,FALSE,TRUE),TRUE)","v":true},{"$f":"AND(E197:G197)","v":false}]
[" 30 - 34 ",6261,3141,3120,false,true,true,false]
[" 35 - 39 ",6431,3221,3210,false,true,true,false]
[" 40 - 44 ",5854,2976,2878,false,true,true,false]
[" 45 - 49 ",4935,2419,2516,false,true,true,false]
[" 50 - 54 ",5222,2541,2681,false,true,true,false]
[" 55 - 59 ",6377,3029,3348,false,true,true,false]
[" 60 - 64 ",6315,2914,3401,false,true,true,false]
[" 65 - 69 ",5258,2377,2881,false,true,true,false]
[" 70 i więcej",7724,2780,4944,true,true,false,false]
["65+",{"$f":"SUM(B205:B206)","v":12982},{"$f":"SUM(C205:C206)","v":5157},{"$f":"SUM(D205:D206)","v":7825},true,false,true,false]
[" koszaliński ",65809,32826,32983,true,true,true,true]
[" 0 - 4 ",3024,1566,1458,false,true,true,false]
[" 5 - 9 ",3571,1777,1794,false,true,true,false]
[" 10 - 14 ",3334,1696,1638,false,true,true,false]
[" 15 - 19 ",3783,1946,1837,false,true,true,false]
[" 20 - 24 ",4694,2412,2282,false,true,true,false]
[" 25 - 29 ",4894,2559,2335,false,true,true,false]
[" 30 - 34 ",5383,2815,2568,false,true,true,false]
[" 35 - 39 ",5265,2694,2571,false,true,true,false]
[" 40 - 44 ",4764,2488,2276,false,true,true,false]
[" 45 - 49 ",4162,2111,2051,false,true,true,false]
[" 50 - 54 ",4352,2245,2107,false,true,true,false]
[" 55 - 59 ",5368,2633,2735,false,true,true,false]
[" 60 - 64 ",4854,2424,2430,false,true,true,false]
[" 65 - 69 ",3477,1720,1757,false,true,true,false]
[" 70 i więcej",4884,1740,3144,true,true,false,false]
["65+",{"$f":"SUM(B222:B223)","v":8361},{"$f":"SUM(C222:C223)","v":3460},{"$f":"SUM(D222:D223)","v":4901},true,false,true,false]
[" myśliborski ",67077,32966,34111,true,true,true,true]
[" 0 - 4 ",3111,1554,1557,false,true,true,false]
[" 5 - 9 ",3654,1871,1783,false,true,true,false]
[" 10 - 14 ",3359,1779,1580,false,true,true,false]
[" 15 - 19 ",3360,1749,1611,false,true,true,false]
[" 20 - 24 ",4329,2223,2106,false,true,true,false]
[" 25 - 29 ",4922,2512,2410,false,true,true,false]
[" 30 - 34 ",5621,2943,2678,false,true,true,false]
[" 35 - 39 ",5405,2775,2630,false,true,true,false]
[" 40 - 44 ",4613,2340,2273,false,true,true,false]
[" 45 - 49 ",4009,2018,1991,false,true,true,false]
[" 50 - 54 ",4206,2173,2033,false,true,true,false]
[" 55 - 59 ",5362,2587,2775,false,true,true,false]
[" 60 - 64 ",5234,2569,2665,false,true,true,false]
[" 65 - 69 ",4048,1852,2196,false,true,true,false]
[" 70 i więcej",5844,2021,3823,true,true,false,false]
["65+",{"$f":"SUM(B239:B240)","v":9892},{"$f":"SUM(C239:C240)","v":3873},{"$f":"SUM(D239:D240)","v":6019},true,false,true,false]
[" policki ",76731,37646,39085,true,true,true,true]
[" 0 - 4 ",3930,2022,1908,false,true,true,false]
[" 5 - 9 ",4914,2440,2474,false,true,true,false]
[" 10 - 14 ",4170,2164,2006,false,true,true,false]
[" 15 - 19 ",4278,2189,2089,false,true,true,false]
[" 20 - 24 ",4423,2298,2125,false,true,true,false]
[" 25 - 29 ",5028,2531,2497,false,true,true,false]
[" 30 - 34 ",6728,3301,3427,false,true,true,false]
[" 35 - 39 ",7046,3471,3575,false,true,true,false]
[" 40 - 44 ",6695,3315,3380,false,true,true,false]
[" 45 - 49 ",5068,2511,2557,false,true,true,false]
[" 50 - 54 ",4800,2303,2497,false,true,true,false]
[" 55 - 59 ",5834,2880,2954,false,true,true,false]
[" 60 - 64 ",5519,2613,2906,false,true,true,false]
[" 65 - 69 ",4031,1960,2071,false,true,true,false]
[" 70 i więcej",4267,1648,2619,true,true,false,false]
["65+",{"$f":"SUM(B256:B257)","v":8298},{"$f":"SUM(C256:C257)","v":3608},{"$f":"SUM(D256:D257)","v":4690},true,false,true,false]
[" pyrzycki ",40129,20081,20048,true,true,true,true]
[" 0 - 4 ",1872,970,902,false,true,true,false]
[" 5 - 9 ",2225,1136,1089,{"$f":"IFERROR(IF(SEARCH(\" - \",A261)>0,FALSE,TRUE),TRUE)","v":false},{"$f":"IFERROR(IF(SEARCH(\"65+\",A261)>0,FALSE,TRUE),TRUE)","v":true},{"$f":"IFERROR(IF(SEARCH(\"70\",A261)>0,FALSE,TRUE),TRUE)","v":true},{"$f":"AND(E261:G261)","v":false}]
[" 10 - 14 ",1931,1045,886,false,true,true,false]
[" 15 - 19 ",2099,1055,1044,false,true,true,false]
[" 20 - 24 ",2757,1438,1319,false,true,true,false]
[" 25 - 29 ",2994,1554,1440,false,true,true,false]
[" 30 - 34 ",3178,1670,1508,false,true,true,false]
[" 35 - 39 ",3096,1712,1384,false,true,true,false]
[" 40 - 44 ",2855,1484,1371,false,true,true,false]
[" 45 - 49 ",2502,1309,1193,false,true,true,false]
[" 50 - 54 ",2488,1286,1202,false,true,true,false]
[" 55 - 59 ",3093,1546,1547,false,true,true,false]
[" 60 - 64 ",3022,1490,1532,false,true,true,false]
[" 65 - 69 ",2425,1130,1295,false,true,true,false]
[" 70 i więcej",3592,1256,2336,true,true,false,false]
["65+",{"$f":"SUM(B273:B274)","v":6017},{"$f":"SUM(C273:C274)","v":2386},{"$f":"SUM(D273:D274)","v":3631},true,false,true,false]
[" sławieński ",57011,28053,28958,true,true,true,true]
[" 0 - 4 ",2771,1441,1330,false,true,true,false]
[" 5 - 9 ",3071,1570,1501,false,true,true,false]
[" 10 - 14 ",2845,1444,1401,false,true,true,false]
[" 15 - 19 ",3309,1708,1601,false,true,true,false]
[" 20 - 24 ",3973,2066,1907,false,true,true,false]
[" 25 - 29 ",4180,2152,2028,false,true,true,false]
[" 30 - 34 ",4467,2335,2132,false,true,true,false]
[" 35 - 39 ",4342,2167,2175,false,true,true,false]
[" 40 - 44 ",3903,2015,1888,false,true,true,false]
[" 45 - 49 ",3500,1785,1715,false,true,true,false]
[" 50 - 54 ",3657,1855,1802,false,true,true,false]
[" 55 - 59 ",4498,2204,2294,false,true,true,false]
[" 60 - 64 ",4194,2065,2129,false,true,true,false]
[" 65 - 69 ",3357,1545,1812,false,true,true,false]
[" 70 i więcej",4944,1701,3243,true,true,false,false]
["65+",{"$f":"SUM(B290:B291)","v":8301},{"$f":"SUM(C290:C291)","v":3246},{"$f":"SUM(D290:D291)","v":5055},true,false,true,false]
[" stargardzki ",120280,58982,61298,true,true,true,true]
[" 0 - 4 ",5752,2913,2839,false,true,true,false]
[" 5 - 9 ",6525,3320,3205,false,true,true,false]
[" 10 - 14 ",5607,2913,2694,false,true,true,false]
[" 15 - 19 ",6103,3115,2988,false,true,true,false]
[" 20 - 24 ",7642,3863,3779,false,true,true,false]
[" 25 - 29 ",8827,4592,4235,false,true,true,false]
[" 30 - 34 ",10076,5196,4880,false,true,true,false]
[" 35 - 39 ",9786,5114,4672,false,true,true,false]
[" 40 - 44 ",8710,4479,4231,false,true,true,false]
[" 45 - 49 ",7116,3587,3529,false,true,true,false]
[" 50 - 54 ",7577,3721,3856,false,true,true,false]
[" 55 - 59 ",9326,4552,4774,false,true,true,false]
[" 60 - 64 ",9458,4453,5005,false,true,true,false]
[" 65 - 69 ",7363,3384,3979,false,true,true,false]
[" 70 i więcej",10412,3780,6632,true,true,false,false]
["65+",{"$f":"SUM(B307:B308)","v":17775},{"$f":"SUM(C307:C308)","v":7164},{"$f":"SUM(D307:D308)","v":10611},true,false,true,false]
[" szczecinecki ",78416,38194,40222,true,true,true,true]
[" 0 - 4 ",3431,1772,1659,false,true,true,false]
[" 5 - 9 ",4080,2063,2017,false,true,true,false]
[" 10 - 14 ",3837,2009,1828,false,true,true,false]
[" 15 - 19 ",4434,2259,2175,false,true,true,false]
[" 20 - 24 ",5349,2722,2627,false,true,true,false]
[" 25 - 29 ",5719,2926,2793,false,true,true,false]
[" 30 - 34 ",6136,3124,3012,false,true,true,false]
[" 35 - 39 ",5825,2950,2875,false,true,true,false]
[" 40 - 44 ",5407,2727,2680,false,true,true,false]
[" 45 - 49 ",4841,2419,2422,false,true,true,false]
[" 50 - 54 ",5028,2568,2460,false,true,true,false]
[" 55 - 59 ",6124,3000,3124,false,true,true,false]
[" 60 - 64 ",5973,2801,3172,false,true,true,false]
[" 65 - 69 ",4916,2282,2634,false,true,true,false]
[" 70 i więcej",7316,2572,4744,{"$f":"IFERROR(IF(SEARCH(\" - \",A325)>0,FALSE,TRUE),TRUE)","v":true},{"$f":"IFERROR(IF(SEARCH(\"65+\",A325)>0,FALSE,TRUE),TRUE)","v":true},{"$f":"IFERROR(IF(SEARCH(\"70\",A325)>0,FALSE,TRUE),TRUE)","v":false},{"$f":"AND(E325:G325)","v":false}]
["65+",{"$f":"SUM(B324:B325)","v":12232},{"$f":"SUM(C324:C325)","v":4854},{"$f":"SUM(D324:D325)","v":7378},true,false,true,false]
[" świdwiński ",47860,23600,24260,true,true,true,true]
[" 0 - 4 ",2115,1053,1062,false,true,true,false]
[" 5 - 9 ",2530,1295,1235,false,true,true,false]
[" 10 - 14 ",2327,1211,1116,false,true,true,false]
[" 15 - 19 ",2502,1305,1197,false,true,true,false]
[" 20 - 24 ",3274,1710,1564,false,true,true,false]
[" 25 - 29 ",3595,1850,1745,false,true,true,false]
[" 30 - 34 ",3795,1966,1829,false,true,true,false]
[" 35 - 39 ",3618,1856,1762,false,true,true,false]
[" 40 - 44 ",3305,1715,1590,false,true,true,false]
[" 45 - 49 ",2817,1428,1389,false,true,true,false]
[" 50 - 54 ",3067,1563,1504,false,true,true,false]
[" 55 - 59 ",3937,1954,1983,false,true,true,false]
[" 60 - 64 ",3805,1870,1935,false,true,true,false]
[" 65 - 69 ",2902,1383,1519,false,true,true,false]
[" 70 i więcej",4271,1441,2830,true,true,false,false]
["65+",{"$f":"SUM(B341:B342)","v":7173},{"$f":"SUM(C341:C342)","v":2824},{"$f":"SUM(D341:D342)","v":4349},true,false,true,false]
[" wałecki ",54059,26329,27730,true,true,true,true]
[" 0 - 4 ",2493,1282,1211,false,true,true,false]
[" 5 - 9 ",2852,1406,1446,false,true,true,false]
[" 10 - 14 ",2814,1433,1381,false,true,true,false]
[" 15 - 19 ",2908,1487,1421,false,true,true,false]
[" 20 - 24 ",3655,1823,1832,false,true,true,false]
[" 25 - 29 ",3813,1976,1837,false,true,true,false]
[" 30 - 34 ",4427,2304,2123,false,true,true,false]
[" 35 - 39 ",4245,2177,2068,false,true,true,false]
[" 40 - 44 ",3973,2018,1955,false,true,true,false]
[" 45 - 49 ",3229,1648,1581,false,true,true,false]
[" 50 - 54 ",3409,1687,1722,false,true,true,false]
[" 55 - 59 ",4243,2059,2184,false,true,true,false]
[" 60 - 64 ",4140,1930,2210,false,true,true,false]
[" 65 - 69 ",3316,1543,1773,false,true,true,false]
[" 70 i więcej",4542,1556,2986,true,true,false,false]
["65+",{"$f":"SUM(B358:B359)","v":7858},{"$f":"SUM(C358:C359)","v":3099},{"$f":"SUM(D358:D359)","v":4759},true,false,true,false]
[" łobeski ",37613,18738,18875,true,true,true,true]
[" 0 - 4 ",1781,908,873,false,true,true,false]
[" 5 - 9 ",2058,1069,989,false,true,true,false]
[" 10 - 14 ",1827,965,862,false,true,true,false]
[" 15 - 19 ",2040,1052,988,false,true,true,false]
[" 20 - 24 ",2597,1317,1280,false,true,true,false]
[" 25 - 29 ",2700,1428,1272,false,true,true,false]
[" 30 - 34 ",2988,1568,1420,false,true,true,false]
[" 35 - 39 ",2866,1515,1351,false,true,true,false]
[" 40 - 44 ",2508,1336,1172,false,true,true,false]
[" 45 - 49 ",2179,1157,1022,false,true,true,false]
[" 50 - 54 ",2408,1224,1184,false,true,true,false]
[" 55 - 59 ",3041,1539,1502,false,true,true,false]
[" 60 - 64 ",2935,1434,1501,false,true,true,false]
[" 65 - 69 ",2188,1079,1109,false,true,true,false]
[" 70 i więcej",3497,1147,2350,true,true,false,false]
["65+",{"$f":"SUM(B375:B376)","v":5685},{"$f":"SUM(C375:C376)","v":2226},{"$f":"SUM(D375:D376)","v":3459},true,false,true,false]

{"sheet":"Czynniki Ryzyka 15-","index":22,"n_rows":156,"n_cols":11,"rows_kept":156,"cut":false,"hidden":true,"merged":[[3,0,5,0],[3,2,3,9],[3,10,5,10],[5,1,5,9],[91,1,91,9]]}
["TABL.IV/16    OSOBY W WIEKU 15 LAT I WIĘCEJ WEDŁUG WIEKU ORAZ WYBRANYCH CHORÓB I DOLEGLIWOŚCI PRZEWLEKŁYCH"]
["                        PERSONS AT THE AGE OF 15 YEARS AND MORE BY AGE AND SELECTED CHRONIC DISEASES AND CONDITIONS"]
[]
["Wyszczególnienie","Ogółem","Wiek   Age",null,null,null,null,null,null,null,"Specification"]
[null,"Total","15-19 lat   years","20-29","30-39","40-49","50-59","60-69","70-79","80 lat i więcej   80 years old and more"]
[null,"W tysiącach   In thousands"]
["OGÓŁEM",32296.2,2102.3000000000002,5143.8999999999996,6111.1,5092.8999999999996,5260.8,4732,2362.3000000000002,1491.1,"TOTAL"]
["Astma (łącznie z astmą alergiczną)",null,null,null,null,null,null,null,null,null,"Asthma (including allergic asthma)"]
["tak",1306.8,82.3,106.8,150.1,132.9,217.6,304,187.2,125.9,"yes"]
["nie",30921.3,2018.1,5018.1000000000004,5956.3,4954.5,5025.6000000000004,4415.5,2172.9,1360.3,"no"]
["brak danych",68.099999999999994,1.9,19.100000000000001,4.5999999999999996,5.5,17.600000000000001,12.4,2.2000000000000002,4.8,"missing data"]
["Przewlekłe zapalenie oskrzeli, przewlekła zaporowa (obturacyjna) choroba płuc (POCHP), rozedma płuc",null,null,null,null,null,null,null,null,null,"Chronic bronchitis, chronic obstructive pulmonary disease (CODP), emphysema"]
["tak",1014.2,13.1,37.200000000000003,79,96.1,199.6,279.5,179.7,129.9,"yes"]
["nie",31235.1,2089.1999999999998,5096.8999999999996,6025.2,4993,5048.5,4444.6000000000004,2181.3000000000002,1356.3,"no"]
["brak danych",46.9,"-",9.8000000000000007,6.8,3.7,12.7,7.9,1.3,4.8,"missing data"]
["Zawał serca lub jego przewlekłe konsekwencje",null,null,null,null,null,null,null,null,null,"Myocardial infarction or its chronic consequences"]
["tak",1013.9,"-",2.8,7.2,43.6,161,319.3,277,203,"yes"]
["nie",31251.8,2102.3000000000002,5136.8,6099.2,5045.8999999999996,5096,4402,2084,1285.5,"no"]
["brak danych",30.5,"-",4.4000000000000004,4.5999999999999996,3.3,3.7,10.7,1.3,2.5,"missing data"]
["Choroba wieńcowa (choroba niedokrwienna serca) lub dusznica bolesna",null,null,null,null,null,null,null,null,null,"Coronary heart disease (ischaemic heart disease) or angina pectoris"]
["tak",2888.2,"-",4.3,45,99.3,447.6,860,804.4,627.70000000000005,"yes"]
["nie",29353.599999999999,2100.4,5129,6059.7,4989.5,4804.7,3855.7,1553.7,860.9,"no"]
["brak danych",54.3,1.9,10.7,6.3,4.0999999999999996,8.4,16.3,4.0999999999999996,2.5,"missing data"]
["Wysokie ciśnienie krwii (nadciśnienie)",null,null,null,null,null,null,null,null,null,"High blood pressure (hypertension)"]
["tak",7435.9,14.2,100.7,310.2,765.9,1736.7,2244.3000000000002,1380.2,883.6,"yes"]
["nie",24792.3,2080,5035.3,5792.8,4319.2,3509.8,2471.5,978.8,605,"no"]
["brak danych",68,8,7.9,8.1,7.8,14.3,16.2,3.2,2.5,"missing data"]
["Udar mózgu (wylew krwi do mózgu, zator mózgowy) lub jego przewlekłe konsekwencje",null,null,null,null,null,null,null,null,null,"Stroke (cerebral haemorrhage, cerebral trombosis) or its chronic consequences"]
["tak",657.2,1.8,6.6,6.3,18.2,99.3,210.5,180.6,133.9,"yes"]
["nie",31609.4,2100.5,5133.7,6100.1,5071.3,5157,4511.8,2180.4,1354.6,"no"]
["brak danych",29.7,"-",3.7,4.5999999999999996,3.3,4.5,9.6999999999999993,1.3,2.5,"missing data"]
["Choroba zwyrodnieniowa stawów (z wyłączeniem zapalenia stawów)",null,null,null,null,null,null,null,null,null,"Arthrosis (excluding arthritis)"]
["tak",4885,12.4,33.200000000000003,79.099999999999994,303.89999999999998,1049.3,1552.3,1076,778.9,"yes"]
["nie",27356.7,2088,5096.2,6022.9,4779.6000000000004,4204.7,3169,1284.2,712.1,"no"]
["brak danych",54.5,1.9,14.6,9.1,9.4,6.8,10.7,2,"-","missing data"]
["Bóle dolnej partii pleców lub inne przewlekłe dolegliwości pleców",null,null,null,null,null,null,null,null,null,"Lower back pain or other chronic back conditions"]
["tak",8052.8,66.099999999999994,404.3,862.1,1300,1844.6,1854.5,1038.3,682.7,"yes"]
["nie",24220.6,2036.2,4738.5,5244.3,3789.7,3412.4,2868.6,1322.6,808.3,"no"]
["brak danych",22.9,"-",1.1000000000000001,4.5999999999999996,3.2,3.7,8.9,1.4,"-","missing data"]
["Bóle środkowej partii pleców",null,null,null,null,null,null,null,null,null,"Middle back pain"]
["tak",5194,43.7,242.2,468,766.9,1189.2,1216.9000000000001,717.1,549.9,"yes"]
["nie",27078.400000000001,2058.6,4900.6000000000004,5638.4,4320.5,4067.8,3506.5,1644.7,941.1,"no"]
["brak danych",23.9,"-",1.1000000000000001,4.5999999999999996,5.4,3.7,8.6,0.5,"-","missing data"]
["Bóle szyi (karku) lub inne przewlekłe dolegliwości szyi (karku)",null,null,null,null,null,null,null,null,null,"Neck (nape) pain or other chronic neck (nape) conditions "]
["tak",5547.2,48.3,222.9,520.79999999999995,855.3,1352.7,1313.9,738.3,495,"yes"]
["nie",26724.1,2054,4920,5584.7,4233.5,3904.3,3410.1,1621.7,995.7,"no"]
["brak danych",25,"-",1.1000000000000001,5.5,4.0999999999999996,3.7,8,2.2999999999999998,0.3,"missing data"]
["Cukrzyca",null,null,null,null,null,null,null,null,null,"Diabetes"]
["tak",2139.3000000000002,7.3,40.9,71.400000000000006,124.5,378.1,686.8,509.9,320.3,"yes"]
["nie",30101.9,2093.1,5093.7,6033.8,4963.8,4871.7,4031.7,1846.6,1167.4000000000001,"no"]
["brak danych",55,1.9,9.3000000000000007,5.9,4.5,10.9,13.4,5.8,3.3,"missing data"]
["Alergia",null,null,null,null,null,null,null,null,null,"Allergy"]
["tak",2790.3,231.7,489.3,499.9,394.6,402.4,405,222.4,144.9,"yes"]
["nie",29453.599999999999,1868.6,4642.2,5603.4,4688.7,4850.3999999999996,4319.3999999999996,2137.1999999999998,1343.6,"no"]
["brak danych",52.4,2,12.4,7.7,9.6,8,7.5,2.7,2.5,"missing data"]
["Marskość wątroby",null,null,null,null,null,null,null,null,null,"Liver cirrhosis"]
["tak",180.8,2.2000000000000002,9.3000000000000007,14.5,15.1,37,46.6,33.700000000000003,22.4,"yes"]
["nie",32044.799999999999,2095.1,5121.6000000000004,6090.3,5069,5205.8999999999996,4673.7,2324.6999999999998,1464.7,"no"]
["brak danych",70.599999999999994,5,13.1,6.3,8.8000000000000007,17.899999999999999,11.7,3.9,3.9,"missing data"]
["Choroba wrzodowa żołądka lub dwunastnicy",null,null,null,null,null,null,null,null,null,"Stomach or duodenal ulcer"]
["tak",1346.6,10.199999999999999,52.4,138.69999999999999,180.9,279.89999999999998,351,223.1,110.3,"yes"]
["nie",{"$f":"'Czynniki Ryzyka 15-'!J21","v":627.70000000000005},2089.1,5076.5,5964.9,4902.8999999999996,4963.6000000000004,4360.8,2133.6,1376.8,"no"]
["brak danych",81.400000000000006,3,15,7.5,9,17.2,20.2,5.6,4,"missing data"]
["Nietrzymanie moczu, problemy z kontrolowaniem pęcherza moczowego",null,null,null,null,null,null,null,null,null,"Urinary incontinence, problems with controlling the bladder "]
["tak",1350.6,7.1,16,37.1,79.8,166.1,311.60000000000002,331.7,401.3,"yes"]
["nie",30910.6,2095.1999999999998,5121.2,6069.4,5009.7,5087.7,4413.8,2028.3,1085.3,"no"]
["brak danych",35,"-",6.7,4.5999999999999996,3.3,7,6.6,2.2999999999999998,4.4000000000000004,"missing data"]
["Problemy z nerkami",null,null,null,null,null,null,null,null,null,"Kidney problems"]
["tak",1309.8,11.4,77.599999999999994,136.19999999999999,137.30000000000001,250,303.7,235.5,158.30000000000001,"yes"]
["nie",30946.9,2090.9,5063.3999999999996,5970.3,4951,5005.2,4421.6000000000004,2119.3000000000002,1325.2,"no"]
["brak danych",39.5,"-",2.9,4.5999999999999996,4.5999999999999996,5.6,6.7,7.5,7.6,"missing data"]
["Silne bóle głowy (migrena)",null,null,null,null,null,null,null,null,null,"Severe headaches (migraine) "]
["tak",2937.7,75.900000000000006,268.39999999999998,494.4,480.9,626.5,507.8,301.2,182.6,"yes"]
["nie",29333.1,2026.4,4874.3999999999996,5613.5,4607,4629.7,4218,2059,1305,"no"]
["brak danych",25.5,"-",1.1000000000000001,3.2,4.9000000000000004,4.5,6.2,2.1,3.5,"missing data"]
["Depresja",null,null,null,null,null,null,null,null,null,"Depression"]
["tak",1354.3,22.8,90.9,147.19999999999999,221.1,290.7,279.89999999999998,178.9,122.8,"yes"]
["nie",30880.400000000001,2075.3000000000002,5043.3999999999996,5959.2,4865.6000000000004,4957.5,4436.5,2180.5,1362.5,"no"]
["brak danych",61.5,4.2,9.6999999999999993,4.5999999999999996,6.1,12.6,15.6,2.9,5.8,"missing data"]
["Choroby tarczycy",null,null,null,null,null,null,null,null,null,"Thyroid diseases"]
["tak",2314.8000000000002,18.899999999999999,164.4,308.10000000000002,340.2,485.8,571.9,285.60000000000002,140,"yes"]
["nie",29896.7,2080.4,4960.7,5797.2,4739.7,4760.2,4139.8999999999996,2071,1347.8,"no"]
["brak danych",84.7,3,18.899999999999999,5.8,13,14.7,20.3,5.7,3.3,"missing data"]
["Choroby prostaty (przerost gruczołu krokowego)",15428.9,1099.4000000000001,2578.6999999999998,3065,2584.3000000000002,2544.6,2172.1,927.6,457.2,"Prostate diseases (prostatic hyperplasia) "]
["tak",927.7,0.6,2.2000000000000002,7.3,12.6,105.8,314.7,297.2,187.4,"yes"]
["nie",14416.4,1095.7,2573.5,3053.4,2555.4,2416.3000000000002,1832.1,623.1,266.89999999999998,"no"]
["brak danych",84.8,3.2,3.1,4.3,16.3,22.4,25.3,7.3,3,"missing data"]
["Inne choroby",null,null,null,null,null,null,null,null,null,"Other diseases"]
["tak",4124.7,145.9,409.4,585.4,617.79999999999995,754.5,803.1,456.6,352.2,"yes"]
["nie",28045.1,1953.6,4720.6000000000004,5510.9,4469.3999999999996,4482.5,3892.8,1888.6,1126.8,"no"]
["brak danych",126.4,2.8,14,14.8,5.7,23.8,36.1,17.100000000000001,12.1,"missing data"]
[null,"W odsetkach (bez braków danych)  In percent (without missing data)"]
["OGÓŁEM",100,100,100,100,100,100,100,100,100,"TOTAL"]
["Astma (łącznie z astmą alergiczną)",null,null,null,null,null,null,null,null,null,"Asthma (including allergic asthma)"]
["tak",4.0999999999999996,3.9,2.1,2.5,2.6,4.2,6.4,7.9,8.5,"yes"]
["nie",95.9,96.1,97.9,97.5,97.4,95.8,93.6,92.1,91.5,"no"]
["Przewlekłe zapalenie oskrzeli, przewlekła zaporowa (obturacyjna) choroba płuc (POCHP), rozedma płuc",null,null,null,null,null,null,null,null,null,"Chronic bronchitis, chronic obstructive pulmonary disease (CODP), emphysema"]
["tak",3.1,0.6,0.7,1.3,1.9,3.8,5.9,7.6,8.6999999999999993,"yes"]
["nie",96.9,99.4,99.3,98.7,98.1,96.2,94.1,92.4,91.3,"no"]
["Zawał serca lub jego przewlekłe konsekwencje",null,null,null,null,null,null,null,null,null,"Myocardial infarction or its chronic consequences"]
["tak",3.1,"-",0.1,0.1,0.9,3.1,6.8,11.7,13.6,"yes"]
["nie",96.9,100,99.9,99.9,99.1,96.9,93.2,88.3,86.4,"no"]
["Choroba wieńcowa (choroba niedokrwienna serca) lub dusznica bolesna",null,null,null,null,null,null,null,null,null,"Coronary heart disease (ischaemic heart disease) or angina pectoris"]
["tak",9,"-",0.1,0.7,2,8.5,18.2,34.1,42.2,"yes"]
["nie",91,100,99.9,99.3,98,91.5,81.8,65.900000000000006,57.8,"no"]
["Wysokie ciśnienie krwii (nadciśnienie)",null,null,null,null,null,null,null,null,null,"High blood pressure (hypertension)"]
["tak",23.1,0.7,2,5.0999999999999996,15.1,33.1,47.6,58.5,59.4,"yes"]
["nie",76.900000000000006,99.3,98,94.9,84.9,66.900000000000006,52.4,41.5,40.6,"no"]
["Udar mózgu (wylew krwi do mózgu, zator mózgowy) lub jego przewlekłe konsekwencje",null,null,null,null,null,null,null,null,null,"Stroke (cerebral haemorrhage, cerebral trombosis) or its chronic consequences"]
["tak",2,0.1,0.1,0.1,0.4,1.9,4.5,7.6,9,"yes"]
["nie",98,99.9,99.9,99.9,99.6,98.1,95.5,92.4,91,"no"]
["Choroba zwyrodnieniowa stawów (z wyłączeniem zapalenia stawów)",null,null,null,null,null,null,null,null,null,"Arthrosis (excluding arthritis)"]
["tak",15.2,0.6,0.6,1.3,6,20,32.9,45.6,52.2,"yes"]
["nie",84.8,99.4,99.4,98.7,94,80,67.099999999999994,54.4,47.8,"no"]
["Bóle dolnej partii pleców lub inne przewlekłe dolegliwości pleców",null,null,null,null,null,null,null,null,null,"Lower back pain or other chronic back conditions"]
["tak",25,3.1,7.9,14.1,25.5,35.1,39.299999999999997,44,45.8,"yes"]
["nie",75,96.9,92.1,85.9,74.5,64.900000000000006,60.7,56,54.2,"no"]
["Bóle środkowej partii pleców",null,null,null,null,null,null,null,null,null,"Middle back pain"]
["tak",16.100000000000001,2.1,4.7,7.7,15.1,22.6,25.8,30.4,36.9,"yes"]
["nie",83.9,97.9,95.3,92.3,84.9,77.400000000000006,74.2,69.599999999999994,63.1,"no"]
["Bóle szyi (karku) lub inne przewlekłe dolegliwości szyi (karku)",null,null,null,null,null,null,null,null,null,"Neck (nape) pain or other chronic neck (nape) conditions "]
["tak",17.2,2.2999999999999998,4.3,8.5,16.8,25.7,27.8,31.3,33.200000000000003,"yes"]
["nie",82.8,97.7,95.7,91.5,83.2,74.3,72.2,68.7,66.8,"no"]
["Cukrzyca",null,null,null,null,null,null,null,null,null,"Diabetes"]
["tak",6.6,0.3,0.8,1.2,2.4,7.2,14.6,21.6,21.5,"yes"]
["nie",93.4,99.7,99.2,98.8,97.6,92.8,85.4,78.400000000000006,78.5,"no"]
["Alergia",null,null,null,null,null,null,null,null,null,"Allergy"]
["tak",8.6999999999999993,11,9.5,8.1999999999999993,7.8,7.7,8.6,9.4,9.6999999999999993,"yes"]
["nie",91.3,89,90.5,91.8,92.2,92.3,91.4,90.6,90.3,"no"]
["Marskość wątroby",null,null,null,null,null,null,null,null,null,"Liver cirrhosis"]
["tak",0.6,0.1,0.2,0.2,0.3,0.7,1,1.4,1.5,"yes"]
["nie",99.4,99.9,99.8,99.8,99.7,99.3,99,98.6,98.5,"no"]
["Choroba wrzodowa żołądka lub dwunastnicy",null,null,null,null,null,null,null,null,null,"Stomach or duodenal ulcer"]
["tak",4.2,0.5,1,2.2999999999999998,3.6,5.3,7.5,9.5,7.4,"yes"]
["nie",95.8,99.5,99,97.7,96.4,94.7,92.5,90.5,92.6,"no"]
["Nietrzymanie moczu, problemy z kontrolowaniem pęcherza moczowego",null,null,null,null,null,null,null,null,null,"Urinary incontinence, problems with controlling the bladder "]
["tak",4.2,0.3,0.3,0.6,1.6,3.2,6.6,14.1,27,"yes"]
["nie",95.8,99.7,99.7,99.4,98.4,96.8,93.4,85.9,73,"no"]
["Problemy z nerkami",null,null,null,null,null,null,null,null,null,"Kidney problems"]
["tak",4.0999999999999996,0.5,1.5,2.2000000000000002,2.7,4.8,6.4,10,10.7,"yes"]
["nie",95.9,99.5,98.5,97.8,97.3,95.2,93.6,90,89.3,"no"]
["Silne bóle głowy (migrena)",null,null,null,null,null,null,null,null,null,"Severe headaches (migraine) "]
["tak",9.1,3.6,5.2,8.1,9.5,11.9,10.7,12.8,12.3,"yes"]
["nie",90.9,96.4,94.8,91.9,90.5,88.1,89.3,87.2,87.7,"no"]
["Depresja",null,null,null,null,null,null,null,null,null,"Depression"]
["tak",4.2,1.1000000000000001,1.8,2.4,4.3,5.5,5.9,7.6,8.3000000000000007,"yes"]
["nie",95.8,98.9,98.2,97.6,95.7,94.5,94.1,92.4,91.7,"no"]
["Choroby tarczycy",null,null,null,null,null,null,null,null,null,"Thyroid diseases"]
["tak",7.2,0.9,3.2,5,6.7,9.3000000000000007,12.1,12.1,9.4,"yes"]
["nie",92.8,99.1,96.8,95,93.3,90.7,87.9,87.9,90.6,"no"]
["Choroby prostaty (przerost gruczołu krokowego)",null,null,null,null,null,null,null,null,null,"Prostate diseases (prostatic hyperplasia) "]
["tak",6,0.1,0.1,0.2,0.5,4.2,14.7,32.299999999999997,41.2,"yes"]
["nie",94,99.9,99.9,99.8,99.5,95.8,85.3,67.7,58.8,"no"]
["Inne choroby",null,null,null,null,null,null,null,null,null,"Other diseases"]
["tak",12.8,6.9,8,9.6,12.1,14.4,17.100000000000001,19.5,23.8,"yes"]
["nie",87.2,93.1,92,90.4,87.9,85.6,82.9,80.5,76.2,"no"]

{"sheet":"Czynniki ryzyka dzieci ","index":23,"n_rows":52,"n_cols":6,"rows_kept":52,"cut":false,"hidden":true,"merged":[[32,1,32,4],[3,0,5,0],[3,1,5,1],[3,2,3,4],[3,5,5,5],[4,2,5,2],[4,3,5,3],[4,4,5,4],[6,1,6,4]]}
["TABL. IV/19   OSOBY W WIEKU 0-14 LAT WEDŁUG WIEKU ORAZ WYBRANYCH CHORÓB I DOLEGLIWOŚCI PRZEWLEKŁYCH "]
["                        PERSONS AT THE AGE OF 0-14 YEARS BY AGE AND SELECTED CHRONIC DISEASES AND CONDITIONS"]
[]
["Wyszczególnienie","Ogółem                                      Total","Wiek   Age ",null,null,"Specification"]
[null,null,"0-4 lat   years","5-9","10-14"]
[]
[null,"W tysiącach   In thousands"]
["OGÓŁEM",5751.2,1938.3,2036.6,1776.3,"TOTAL"]
["Astma",null,null,null,null,"Asthma"]
["tak",237.4,59.8,88.5,89.1,"yes"]
["nie ",5511.3,1877.4,1946.6,1687.3,"no"]
["brak danych",2.6,1.1000000000000001,1.4,"-","missing data"]
["Alergia",null,null,null,null,"Allergy"]
["tak",834.4,234.5,324.7,275.3,"yes"]
["nie ",4909.3999999999996,1701.9,1710,1497.5,"no"]
["brak danych",7.4,1.9,1.9,3.6,"missing data"]
["Choroby oka",null,null,null,null,"Eye diseases"]
["tak",279.2,41.7,107.8,129.80000000000001,"yes"]
["nie ",5468,1895.5,1927.9,1644.7,"no"]
["brak danych",4,1.1000000000000001,0.9,1.9,"missing data"]
["Choroby kręgosłupa",null,null,null,null,"Spine diseases"]
["tak",92.5,4.9000000000000004,24.3,63.2,"yes"]
["nie ",5655.9,1933.4,2011.3,1711.3,"no"]
["brak danych",2.8,"-",0.9,1.9,"missing data"]
["Częste bóle głowy",null,null,null,null,"Frequent headaches"]
["tak",117.4,5.5,33.9,78.099999999999994,"yes"]
["nie ",5631.7,1932.8,2000.6,1698.3,"no"]
["brak danych",2.1,"-",2.1,"-","missing data"]
["Inne choroby",null,null,null,null,"Other diseases"]
["tak",491.7,136.5,178.8,176.5,"yes"]
["nie ",5256.8,1800.5,1856.8,1599.5,"no"]
["brak danych",2.7,1.3,0.9,0.4,"missing data"]
[null,"W odsetkach (bez braków danych)   In percent (without missing data)"]
["OGÓŁEM",100,100,100,100,"TOTAL"]
["Astma",null,null,null,null,"Asthma"]
["tak",4.0999999999999996,3.1,4.4000000000000004,5,"yes"]
["nie ",95.9,96.9,95.6,95,"no"]
["Alergia",null,null,null,null,"Allergy"]
["tak",14.5,12.1,16,15.5,"yes"]
["nie ",85.5,87.9,84,84.5,"no"]
["Choroby oka",null,null,null,null,"Eye diseases"]
["tak",4.9000000000000004,2.2000000000000002,5.3,7.3,"yes"]
["nie ",95.1,97.8,94.7,92.7,"no"]
["Choroby kręgosłupa",null,null,null,null,"Spine diseases"]
["tak",1.6,0.3,1.2,3.6,"yes"]
["nie ",98.4,99.7,98.8,96.4,"no"]
["Częste bóle głowy",null,null,null,null,"Frequent headaches"]
["tak",2,0.3,1.7,4.4000000000000004,"yes"]
["nie ",98,99.7,98.3,95.6,"no"]
["Inne choroby",null,null,null,null,"Other diseases"]
["tak",8.6,7,8.8000000000000007,9.9,"yes"]
["nie ",91.4,93,91.2,90.1,"no"]

{"sheet":"Ludność","index":24,"n_rows":96,"n_cols":14,"rows_kept":96,"cut":false,"hidden":true,"merged":[[3,0,5,0],[3,13,5,13],[5,1,5,12],[50,1,51,12]]}
["TABL.III/3   LUDNOŚĆ WEDŁUG WIEKU"]
["                    POPULATION BY AGE"]
[]
["Wyszczególnienie","Ogółem","0-4 lata","5-9","10-14","15-19","20-29","30-39","40-49","50-59","60-69","70-79","80 lat i więcej","Specification"]
[null,"Total","0-4 years","5-9","10-14","15-19","20-29","30-39","40-49","50-59","60-69","70-79","80 years and more"]
[null,"w tysiącach  in thousands"]
["Ogółem",38047.4,1938.3,2036.6,1776.3,2102.3000000000002,5143.8999999999996,6111.1,5092.8999999999996,5260.8,4732,2362.3000000000002,1491.1,"Total"]
["miasta",22869.200000000001,1134.5999999999999,1137.9000000000001,951.2,1074.3,2969.7,3838.4,2961.6,3232.2,3137.5,1522.8,908.9,"urban areas"]
["wieś",15178.3,803.7,898.7,825.1,1028,2174.3000000000002,2272.6999999999998,2131.1999999999998,2028.5,1594.4,839.5,582.1,"rural areas"]
["Stopień urbanizacji",null,null,null,null,null,null,null,null,null,null,null,null,"Degree of urbanization"]
["obszar gęsto zaludniony",13123.8,649.6,599.5,500.6,551.4,1861.9,2343.6999999999998,1640,1754.5,1789.3,915.9,517.6,"densely populated area"]
["obszar średnio zaludniony",9027.4,478.9,521.29999999999995,424.2,488,1090.5999999999999,1376.6,1285.8,1340.7,1110.8,554.29999999999995,356.2,"intermediate populated area"]
["obszar rzadko zaludniony",15896.2,809.8,915.8,851.6,1062.9000000000001,2191.4,2390.6999999999998,2167.1,2165.6,1832,892.1,617.29999999999995,"thinly populated area"]
["Subpopulacja",null,null,null,null,null,null,null,null,null,null,null,null,"Subpopulation"]
["dzieci",5751.2,1938.3,2036.6,1776.3,"-","-","-","-","-","-","-","-","children"]
["dorośli",32296.2,"-","-","-",2102.3000000000002,5143.8999999999996,6111.1,5092.8999999999996,5260.8,4732,2362.3000000000002,1491.1,"adults"]
["Płeć",null,null,null,null,null,null,null,null,null,null,null,null,"Sex"]
["mężczyźni",18378.5,983.5,1059,907.2,1099.4000000000001,2578.6999999999998,3065,2584.3000000000002,2544.6,2172.1,927.6,457.2,"male"]
["kobiety",19668.900000000001,954.8,977.6,869.2,1002.9,2565.1999999999998,3046.1,2508.5,2716.2,2559.9,1434.7,1033.8,"female"]
["Poziom wykształcenia (13 lat i więcej)",33012.300000000003,"-","-",716.1,2102.3000000000002,5143.8999999999996,6111.1,5092.8999999999996,5260.8,4732,2362.3000000000002,1491.1,"Education level (13 years old and more)"]
["wyższe",7115.2,"-","-","-","-",1669.4,2430.6999999999998,1203.9000000000001,788.7,604.1,287.5,130.9,"tertiary"]
["policealne, po kolegium",926.5,"-","-","-",3.1,137.30000000000001,185.3,136.5,192.6,195.2,60.1,16.399999999999999,"post-secondary, college"]
["średnie",9946.1,"-","-","-",228.1,2299.1,1820.2,1560.3,1716.6,1439.9,586.20000000000005,295.7,"secondary"]
["zasadnicze zawodowe",7980.7,"-","-","-",75.900000000000006,697.6,1306.5,1786.5,2033,1499.2,457.8,124.2,"basic vocational"]
["gimnazjalne",1650.7,"-","-","-",1397.6,225.6,7.5,8.1,1.7,1.1000000000000001,4.2,4.8,"lower secondary"]
["podstawowe",5134.6000000000004,"-","-",681.7,390.3,100.3,337.6,378.7,514.20000000000005,979.5,946,806.3,"primary"]
["bez wykształcenia",213.8,"-","-",34.4,7.3,8.3000000000000007,15.6,14,5.8,10.5,17.399999999999999,100.5,"without education "]
["brak danych",44.8,"-","-","-","-",6.4,7.8,4.8,8.1999999999999993,2.4,3.1,12.2,"missing data"]
["Stan cywilny prawny (15 lat i więcej)",32296.2,"-","-","-",2102.3000000000002,5143.8999999999996,6111.1,5092.8999999999996,5260.8,4732,2362.3000000000002,1491.1,"De jure marital status (15 years old and more)"]
["kawaler/panna",8689.5,"-","-","-",2092.3000000000002,3707.8,1546.2,616.9,390.2,220.7,75.900000000000006,39.5,"single"]
["żonaty/zamężna",18757.3,"-","-","-",10,1388.9,4252.7,4019.2,4143.5,3308.8,1234.5999999999999,399.6,"married"]
["wdowiec/wdowa",3343.2,"-","-","-","-",0.9,25.3,84.5,350.9,902.3,954.1,1025.2,"widowed"]
["rozwiedziony(a)/separowany(a)",1472,"-","-","-","-",46.4,273.5,365.1,368.7,295.3,96.3,26.7,"divorced/separated"]
["brak danych",34.200000000000003,"-","-","-","-","-",13.4,7.2,7.5,4.8,1.3,"-","missing data"]
["Stan cywilny faktyczny (15 lat i więcej)",32296.2,"-","-","-",2102.3000000000002,5143.8999999999996,6111.1,5092.8999999999996,5260.8,4732,2362.3000000000002,1491.1,"De facto marital status (15 years old and more)"]
["żyjący w związku",19508.7,"-","-","-",24.6,1727.4,4595.2,4109.5,4145.1000000000004,3292.5,1215.2,399.2,"living in couple relationship"]
["nie żyjący w związku",12783.5,"-","-","-",2077.6999999999998,3416.6,1512.4,983.4,1115.0999999999999,1439.4,1147,1091.8,"not living in couple relationship"]
["brak danych",4,"-","-","-","-","-",3.4,"-",0.6,"-","-","-","missing data"]
["Status na rynku pracy (15 lat i więcej)",32296.2,"-","-","-",2102.3000000000002,5143.8999999999996,6111.1,5092.8999999999996,5260.8,4732,2362.3000000000002,1491.1,"Current labour status (15 years old and more)"]
["pracujący",16807.099999999999,"-","-","-",112,3210.5,5011.8999999999996,4091.8,3442,852.1,75.8,11.1,"employed"]
["bezrobotni",2029.3,"-","-","-",57,637.4,463.5,364.4,429.7,77.2,"-","-","unemployed"]
["bierni zawodowo",13450.3,"-","-","-",1933.3,1296.0999999999999,635.70000000000005,634.5,1386,3800.6,2284.1999999999998,1480,"economically inactive"]
["brak danych",9.5,"-","-","-","-","-","-",2.1,3,2.1,2.2999999999999998,"-","missing data"]
["Dochód ekwiwalentny",null,null,null,null,null,null,null,null,null,null,null,null,"Equivalent income"]
["I grupa kwintylowa",5807.8,331.4,367.6,386,558.70000000000005,814.5,757.7,844.7,839,504.2,251.6,152.4,"I quintile group"]
["II grupa kwintylowa",5958.1,296.10000000000002,333.7,325.10000000000002,373.3,793.7,838.4,708.3,750.1,757.9,445.7,335.8,"II quintile group"]
["III grupa kwintylowa",5985.4,244.1,265.8,237.9,306.8,809.9,764.3,719.6,787.9,953.3,558.5,337.2,"III quintile group"]
["IV grupa kwintylowa",5918.7,316.39999999999998,356.6,255.9,187,766.5,1059.2,716.3,724.3,835.3,446.9,254.2,"IV quintile group"]
["V grupa kwintylowa",6084.4,312.39999999999998,260.39999999999998,209.8,160.30000000000001,803.7,1304,790.6,988.1,772.8,297.3,185,"V quintile group"]
["brak danych",8293.1,438,452.5,361.6,516.20000000000005,1155.7,1387.5,1313.4,1171.4000000000001,908.4,362.2,226.4,"missing data"]
[null,"w procentach  in percent"]
[]
["Ogółem",100,100,100,100,100,100,100,100,100,100,100,100,"Total"]
["miasta",60.1,58.5,55.9,53.5,51.1,57.7,62.8,58.2,61.4,66.3,64.5,61,"urban areas"]
["wieś",39.9,41.5,44.1,46.5,48.9,42.3,37.200000000000003,41.8,38.6,33.700000000000003,35.5,39,"rural areas"]
["Stopień urbanizacji",null,null,null,null,null,null,null,null,null,null,null,null,"Degree of urbanization"]
["obszar gęsto zaludniony",34.5,33.5,29.4,28.2,26.2,36.200000000000003,38.4,32.200000000000003,33.4,37.799999999999997,38.799999999999997,34.700000000000003,"densely populated area"]
["obszar średnio zaludniony",23.7,24.7,25.6,23.9,23.2,21.2,22.5,25.2,25.5,23.5,23.5,23.9,"intermediate populated area"]
["obszar rzadko zaludniony",41.8,41.8,45,47.9,50.6,42.6,39.1,42.6,41.2,38.700000000000003,37.799999999999997,41.4,"thinly populated area"]
["Subpopulacja",null,null,null,null,null,null,null,null,null,null,null,null,"Subpopulation"]
["dzieci",15.1,100,100,100,"-","-","-","-","-","-","-","-","children"]
["dorośli",84.9,"-","-","-",100,100,100,100,100,100,100,100,"adults"]
["Płeć",null,null,null,null,null,null,null,null,null,null,null,null,"Sex"]
["mężczyźni",48.3,50.7,52,51.1,52.3,50.1,50.2,50.7,48.4,45.9,39.299999999999997,30.7,"male"]
["kobiety",51.7,49.3,48,48.9,47.7,49.9,49.8,49.3,51.6,54.1,60.7,69.3,"female"]
["Poziom wykształcenia (13 lat i więcej)",null,null,null,null,null,null,null,null,null,null,null,null,"Education level (13 years old and more)"]
["wyższe",21.6,"-","-","-","-",32.5,39.799999999999997,23.6,15,12.8,12.2,8.8000000000000007,"tertiary"]
["policealne, po kolegium",2.8,"-","-","-",0.1,2.7,3,2.7,3.7,4.0999999999999996,2.5,1.1000000000000001,"post-secondary, college"]
["średnie",30.1,"-","-","-",10.9,44.7,29.8,30.6,32.6,30.4,24.8,19.8,"secondary"]
["zasadnicze zawodowe",24.2,"-","-","-",3.6,13.6,21.4,35.1,38.6,31.7,19.399999999999999,8.3000000000000007,"basic vocational"]
["gimnazjalne",5,"-","-","-",66.5,4.4000000000000004,0.1,0.2,0,0,0.2,0.3,"lower secondary"]
["podstawowe",15.6,"-","-",95.2,18.600000000000001,2,5.5,7.4,9.8000000000000007,20.7,40,54.1,"primary"]
["bez wykształcenia",0.6,"-","-",4.8,0.3,0.2,0.3,0.3,0.1,0.2,0.7,6.7,"without education "]
["brak danych",0.1,"-","-","-","-",0.1,0.1,0.1,0.2,0.1,0.1,0.8,"missing data"]
["Stan cywilny prawny (15 lat i więcej)",null,null,null,null,null,null,null,null,null,null,null,null,"De jure marital status (15 years old and more)"]
["kawaler/panna",26.9,"-","-","-",99.5,72.099999999999994,25.3,12.1,7.4,4.7,3.2,2.6,"single"]
["żonaty/zamężna",58.1,"-","-","-",0.5,27,69.599999999999994,78.900000000000006,78.8,69.900000000000006,52.3,26.8,"married"]
["wdowiec/wdowa",10.4,"-","-","-","-",0,0.4,1.7,6.7,19.100000000000001,40.4,68.8,"widowed"]
["rozwiedziony(a)/separowany(a)",4.5999999999999996,"-","-","-","-",0.9,4.5,7.2,7,6.2,4.0999999999999996,1.8,"divorced/separated"]
["brak danych",0.1,"-","-","-","-","-",0.2,0.1,0.1,0.1,0.1,"-","missing data"]
["Stan cywilny faktyczny (15 lat i więcej)",null,null,null,null,null,null,null,null,null,null,null,null,"De facto marital status (15 years old and more)"]
["żyjący w związku",60.4,"-","-","-",1.2,33.6,75.2,80.7,78.8,69.599999999999994,51.4,26.8,"living in couple relationship"]
["nie żyjący w związku",39.6,"-","-","-",98.8,66.400000000000006,24.7,19.3,21.2,30.4,48.6,73.2,"not living in couple relationship"]
["brak danych",0,"-","-","-","-","-",0.1,"-",0,"-","-","-","missing data"]
["Status na rynku pracy (15 lat i więcej)",null,null,null,null,null,null,null,null,null,null,null,null,"Current labour status (15 years old and more)"]
["pracujący",52,"-","-","-",5.3,62.4,82,80.3,65.400000000000006,18,3.2,0.7,"employed"]
["bezrobotni",6.3,"-","-","-",2.7,12.4,7.6,7.2,8.1999999999999993,1.6,"-","-","unemployed"]
["bierni zawodowo",41.6,"-","-","-",92,25.2,10.4,12.5,26.3,80.3,96.7,99.3,"economically inactive"]
["brak danych",0,"-","-","-","-","-","-",0,0.1,0,0.1,"-","missing data"]
["Dochód ekwiwalentny",null,null,null,null,null,null,null,null,null,null,null,null,"Equivalent income"]
["I grupa kwintylowa",15.3,17.100000000000001,18,21.7,26.6,15.8,12.4,16.600000000000001,15.9,10.7,10.7,10.199999999999999,"I quintile group"]
["II grupa kwintylowa",15.7,15.3,16.399999999999999,18.3,17.8,15.4,13.7,13.9,14.3,16,18.899999999999999,22.5,"II quintile group"]
["III grupa kwintylowa",15.7,12.6,13.1,13.4,14.6,15.7,12.5,14.1,15,20.100000000000001,23.6,22.6,"III quintile group"]
["IV grupa kwintylowa",15.6,16.3,17.5,14.4,8.9,14.9,17.3,14.1,13.8,17.7,18.899999999999999,17,"IV quintile group"]
["V grupa kwintylowa",16,16.100000000000001,12.8,11.8,7.6,15.6,21.3,15.5,18.8,16.3,12.6,12.4,"V quintile group"]
["brak danych",21.8,22.6,22.2,20.399999999999999,24.6,22.5,22.7,25.8,22.3,19.2,15.3,15.2,"missing data"]

{"sheet":"Ciąża","index":25,"n_rows":75,"n_cols":13,"rows_kept":75,"cut":false,"hidden":true,"merged":[[8,0,8,8],[29,0,29,8],[50,0,50,8],[6,0,7,1],[6,2,7,2],[6,3,6,5],[6,6,7,6],[6,7,7,7],[6,8,7,8]]}
["Urodzenia"]
["Births"]
[]
["TABL. 56 (83). URODZENIAa"]
["                            BIRTHSa "]
[]
["WYSZCZEGÓLNIENIE\nSPECIFICATION",null,"Ogółem\nTotal","Żywe   Live births",null,null,"Martwe\nStill births","Żywe w % ogółu urodzeń\nLive births \nas a percentage of total births","Pozamałżeńskie \nw % urodzeń żywych\nLegitimate \nas a percentage of live births"]
[null,null,null,"razem\ntotal","małżeńskie\nlegitimate","poza- małżeńskie\nillegitimate"]
["O g ó ł e m   T o t a l "]
["OGÓŁEM              ",1980,701553,695759,662556,33203,5794,99.2,4.8,null,null,null,{"$f":"C15-'Ciąża wielorakie'!U9","v":373229.25}]
["TOTAL                         ",1990,551660,547720,513685,34035,3940,99.3,6.2]
[null,2000,380476,378348,332451,45897,2128,99.4,12.1]
[null,2010,415030,413300,328215,85085,1730,99.6,20.6]
[null,2013,370962,369576,283130,86446,1386,99.6,23.4]
[null,2014,376501,375160,284459,90701,1341,99.6,24.2]
[]
["Chłopcy             ",1980,360202,357117,340073,17044,3085,99.1,4.8]
["Males                         ",1990,283723,281664,264163,17501,2059,99.3,6.2]
[null,2000,195953,194824,171331,23493,1129,99.4,12.1]
[null,2010,215324,214428,170474,43954,896,99.6,20.5]
[null,2013,190631,189917,145414,44503,714,99.6,23.4]
[null,2014,193798,193091,146371,46720,707,{"$f":"D22/C22*100","v":99.635187153634192},{"$f":"F22/D22*100","v":24.195845482181976}]
[null,null,null,null,null,null,null,null," "]
["Dziewczęta                 ",1980,341351,338642,322483,16159,2709,99.2,4.8]
["Females                      ",1990,267937,266056,249522,16534,1881,99.3,6.2]
[null,2000,184523,183524,161120,22404,999,99.5,12.2]
[null,2010,199706,198872,157741,41131,834,99.6,20.7]
[null,2013,180331,179659,137716,41943,672,99.6,23.3]
[null,2014,182703,182069,138088,43981,634,{"$f":"D29/C29*100","v":99.652988730343779},{"$f":"F29/D29*100","v":24.156226485563163}]
["Miasta   Urban areas"]
["OGÓŁEM             ",1980,386615,383387,363344,20043,3228,99.2,5.2]
["TOTAL                       ",1990,294579,292490,269698,22792,2089,99.3,7.8]
[null,2000,209453,208328,177420,30908,1125,99.5,14.8]
[null,2010,242900,241920,186033,55887,980,99.6,23.1]
[null,2013,214530,213749,158769,54980,781,99.6,25.7]
[null,2014,218475,217699,160093,57606,776,{"$f":"D36/C36*100","v":99.644810619063961},{"$f":"F36/D36*100","v":26.461306666544171}]
[]
["Chłopcy                        ",1980,198378,196678,186399,10279,1700,99.1,5.2]
["Males                    ",1990,151785,150700,138988,11712,1085,99.3,7.8]
[null,2000,108183,107590,91664,15926,593,99.5,14.8]
[null,2010,125775,125291,96457,28834,484,99.6,23]
[null,2013,110422,110023,81672,28351,399,99.6,25.8]
[null,2014,112353,111959,82227,29732,394,{"$f":"D43/C43*100","v":99.649319555330067},{"$f":"F43/D43*100","v":26.556150019203457}]
[]
["Dziewczęta               ",1980,188237,186709,176945,9764,1528,99.2,5.2]
["Females                   ",1990,142794,141790,130710,11080,1004,99.3,7.8]
[null,2000,101270,100738,85756,14982,532,99.5,14.9]
[null,2010,117125,116629,89576,27053,496,99.6,23.2]
[null,2013,104108,103726,77097,26629,382,99.6,25.7]
[null,2014,106122,105740,77866,27874,382,{"$f":"D50/C50*100","v":99.640036938617811},{"$f":"F50/D50*100","v":26.360885190088894}]
[" Wieś   Rural areas"]
["OGÓŁEM                ",1980,314938,312372,299212,13160,2566,99.2,4.2]
["TOTAL                       ",1990,257081,255230,243987,11243,1851,99.3,4.4000000000000004]
[null,2000,171023,170020,155031,14989,1003,99.4,8.8000000000000007]
[null,2010,172130,171380,142182,29198,750,99.6,17]
[null,2013,156432,155827,124361,31466,605,99.6,20.2]
[null,2014,158026,157461,124366,33095,565,{"$f":"D57/C57*100","v":99.642463898345852},{"$f":"F57/D57*100","v":21.017902845784036}]
[]
["Chłopcy                 ",1980,161824,160439,153674,6765,1385,99.1,4.2]
["Males                         ",1990,131938,130964,125175,5789,974,99.3,4.4000000000000004]
[null,2000,87770,87234,79667,7567,536,99.4,8.6999999999999993]
[null,2010,89549,89137,74017,15120,412,99.5,17]
[null,2013,80209,79894,63742,16152,315,99.6,20.100000000000001]
[null,2014,81445,81132,64144,16988,313,{"$f":"D64/C64*100","v":99.615691570998834},{"$f":"F64/D64*100","v":20.938717152295023}]
[]
["Dziewczęta                  ",1980,153114,151933,145538,6395,1181,99.2,4.2]
["Females             ",1990,125143,124266,118812,5454,877,99.3,4.4000000000000004]
[null,2000,83253,82786,75364,7422,467,99.4,9]
[null,2010,82581,82243,68165,14078,338,99.6,17.100000000000001]
[null,2013,76223,75933,60619,15314,290,99.6,20.2]
[null,2014,76581,76329,60222,16107,252,{"$f":"D71/C71*100","v":99.670936655306136},{"$f":"F71/D71*100","v":21.102071296623826}]
[]
[]
["a Patrz uwagi do działu II, punkty 18 i 32."]
["a See notes to part II, items 18 and 32. "]

{"sheet":"Ciąża wielorakie","index":26,"n_rows":66,"n_cols":21,"rows_kept":66,"cut":false,"hidden":true,"merged":[[6,0,6,11],[35,0,35,11],[64,0,64,11],[0,0,0,11],[1,0,1,11],[3,0,4,0],[3,1,4,1],[3,2,3,5],[3,6,3,10],[3,11,4,11]]}
["TABL. 81 (108). URODZENIAa W 2014 R.  Z PORODÓW WIELORAKICH WEDŁUG PŁCI NOWORODKA\n                             ORAZ WIEKU MATKI"]
["                             NEW BORN INFANTSa FROM MULTIPLE DELIVERIES BY SEX OF INFANT AND AGE\n                             OF MOTHER IN 2014"]
[]
["WIEK MATKI                  AGE OF MOTHER","Ogółem Total","Bliźnięta Twins",null,null,null,"Trojaczki Triplets",null,null,null,null,"Czwo-  raczki Quadr-  uplets"]
[null,null,"razem total","dwóch chłop- ców two boys","chłopiec         \ni dziew-  czynka \nboy and girl","dwie dziew-  czynki two girls","razem total","trzech chłop- ców three boys","dwóch chłopców \ni dziew- czynka \ntwo boys and girl","chłopiec \ni dwie dziew-  czynki \nboy and two girls","trzy dziew-  czynki     \nthree girls"]
[]
["O g ó ł e m   T o t a l"]
[]
["OGÓŁEM   TOTAL",9819,9626,3251,3337,3038,178,21,45,57,55,15,null,null,{"$f":"C9/3","v":3208.6666666666665},null,{"$f":"G9/3","v":59.333333333333336},null,{"$f":"L9/4","v":3.75},null,{"$f":"SUM(O9:S9)","v":3271.75}]
["19 lat i mniej\nUnder 20 ",160,160,72,38,50,"-","-","-","-","-","-"]
["20 - 24",969,950,370,276,304,15,"-",6,6,3,4]
["25 - 29",3028,2966,1060,961,945,55,3,12,21,19,7]
["30 - 34",3680,3601,1134,1351,1116,75,9,18,27,21,4]
["35 - 39",1739,1709,537,620,552,30,9,9,3,9,"-"]
["40 - 44",221,218,74,83,61,3,"-","-","-",3,"-"]
["45 lat i więcej\n45 and more",22,22,4,8,10,"-","-","-","-","-","-"]
[]
["Miasta\nUrban areas",5933,5831,1956,2069,1806,87,9,27,30,21,15]
["19 lat i mniej\nUnder 20 ",74,74,28,20,26,"-","-","-","-","-","-"]
["20 - 24",409,402,166,116,120,3,"-","-","-",3,4]
["25 - 29",1703,1678,613,529,536,18,"-",6,9,3,7]
["30 - 34",2389,2337,735,906,696,48,6,15,18,9,4]
["35 - 39",1193,1175,359,435,381,18,3,6,3,6,"-"]
["40 - 44",147,147,51,55,41,"-","-","-","-","-","-"]
["45 lat i więcej\n45 and more",18,18,4,8,6,"-","-","-","-","-","-"]
[]
["Wieś\nRural areas",3886,3795,1295,1268,1232,91,12,18,27,34,"-"]
["19 lat i więcej\nUnder 20",86,86,44,18,24,"-","-","-","-","-","-"]
["20 - 24",560,548,204,160,184,12,"-",6,6,"-","-"]
["25 - 29",1325,1288,447,432,409,37,3,6,12,16,"-"]
["30 - 34",1291,1264,399,445,420,27,3,3,9,12,"-"]
["35 - 39",546,534,178,185,171,12,6,3,"-",3,"-"]
["40 - 44",74,71,23,28,20,3,"-","-","-",3,"-"]
["45 lat i więcej\n45 and more",4,4,"-","-",4,"-","-","-","-","-","-"]
[]
["w tym Urodzenia żywe   of which Live births"]
[]
["RAZEM   TOTAL",9726,9537,3206,3328,3003,175,21,45,55,54,14]
["19 lat i mniej\nUnder 20 ",157,157,71,38,48,"-","-","-","-","-","-"]
["20 - 24",952,934,363,275,296,14,"-",6,5,3,4]
["25 - 29",2996,2937,1049,957,931,53,3,12,20,18,6]
["30 - 34",3654,3575,1116,1348,1111,75,9,18,27,21,4]
["35 - 39",1727,1697,531,619,547,30,9,9,3,9,"-"]
["40 - 44",219,216,73,83,60,3,"-","-","-",3,"-"]
["45 lat i więcej\n45 and more",21,21,3,8,10,"-","-","-","-","-","-"]
[]
["Miasta\nUrban areas",5875,5775,1926,2061,1788,86,9,27,30,20,14]
["19 lat i mniej\nUnder 20 ",73,73,28,20,25,"-","-","-","-","-","-"]
["20 - 24",406,399,164,116,119,3,"-","-","-",3,4]
["25 - 29",1678,1655,603,525,527,17,"-",6,9,2,6]
["30 - 34",2369,2317,722,903,692,48,6,15,18,9,4]
["35 - 39",1186,1168,356,434,378,18,3,6,3,6,"-"]
["40 - 44",146,146,50,55,41,"-","-","-","-","-","-"]
["45 lat i więcej\n45 and more",17,17,3,8,6,"-","-","-","-","-","-"]
[]
["Wieś\nRural areas",3851,3762,1280,1267,1215,89,12,18,25,34,"-"]
["19 lat i mniej\nUnder 20 ",84,84,43,18,23,"-","-","-","-","-","-"]
["20 - 24",546,535,199,159,177,11,"-",6,5,"-","-"]
["25 - 29",1318,1282,446,432,404,36,3,6,11,16,"-"]
["30 - 34",1285,1258,394,445,419,27,3,3,9,12,"-"]
["35 - 39",541,529,175,185,169,12,6,3,"-",3,"-"]
["40 - 44",73,70,23,28,19,3,"-","-","-",3,"-"]
["45 lat i więcej\n45 and more",4,4,"-","-",4,"-","-","-","-","-","-"]
[]
["a Żywe i martwe."]
["a Live births and still births. "]